{"text_format":"1","workbook":"xlsx","n_sheets":12,"sheets":["Welcome","Guidance","Guidance (Welsh)","Source reference list","Start","1","2","3","4","TOF","Questions","Output File"],"not_rendered":{"charts":0,"images":6,"macros":1,"external_links":0,"defined_names":15,"comments":0,"pivot_tables":0},"unopened":[],"bounds":{"document_bytes":16777216,"sheet_cells":100000,"rows_first":2000,"rows_last":500,"rows_between":2000,"halvings":0,"cell_chars":16384,"cell_head_chars":4096},"cells_cut":0,"cells_raw":0,"read":"whole","date_system":"1900"}

{"sheet":"Welcome","index":0,"n_rows":14,"n_cols":15,"rows_kept":14,"cut":false,"hidden":false,"merged":[]}
[]
[]
[]
[]
[]
[]
[]
[null,null,"Teachers Outcome Framework"]
[]
[]
[]
[null,null,"Welcome to the Teachers Outcome Frameworks tool",null,null,null,null,null,null,null,null,null,null,null,"Croeso i’r offeryn Fframwaith Deilliannau Athrawon"]
[null,null,"Select the appropriate area below",null,null,null,null,null,null,null,null,null,null,null,"Dewiswch y maes priodol isod"]
[null,null,"You will be able to choose questions in both English and Welsh from the same options below."]

{"sheet":"Guidance","index":1,"n_rows":0,"n_cols":0,"rows_kept":0,"cut":false,"hidden":false,"merged":[[45,1,45,11],[46,1,46,11],[51,1,51,11],[53,1,53,11]]}

{"sheet":"Guidance (Welsh)","index":2,"n_rows":0,"n_cols":0,"rows_kept":0,"cut":false,"hidden":false,"merged":[[45,1,45,11],[46,1,46,11],[51,1,51,11],[53,1,53,11]]}

{"sheet":"Source reference list","index":3,"n_rows":2,"n_cols":3,"rows_kept":2,"cut":false,"hidden":true,"merged":[]}
[null,"Question sources"]
[null,"Abbreviation","Survey and documentation"]

{"sheet":"Start","index":4,"n_rows":10,"n_cols":3,"rows_kept":10,"cut":false,"hidden":false,"merged":[]}
[]
[]
[]
[]
[]
[]
[]
[null,null,"Teachers Outcome Framework"]
[null,null,"How to use this tool:"]
[null,null,"Select the appropriate area below"]

{"sheet":"1","index":5,"n_rows":17,"n_cols":9,"rows_kept":17,"cut":false,"hidden":false,"merged":[[6,6,6,7]]}
[]
[null,null,"Teachers Outcome Framework"]
[]
[null,"School-wide Enablers"]
[null,"Please select the first question for each indicator."]
[]
[null,"Higher level outcome","Lower level outcome","Indicator","Recommended Measurement Approach","Question","Question \nNo."]
[null,"1. Allocate time during the school year/in curriculum to financial education ","Financial education learning outcomes are defined (key stage specific)","A defined plan for delivering financial education throughout the curriculum and subject areas","Documentary evidence on financial education learning outcomes coverage",null,{"$f":"Questions!D3","v":1}]
[null,"1. Allocate time during the school year/in curriculum to financial education ","Financial education learning outcomes and teaching activities are featured in timetabled lessons ","A defined plan for delivering financial education throughout the curriculum and subject areas","Documentary evidence on financial education learning outcomes coverage",null,{"$f":"Questions!D4","v":2}]
[null,"2. Give priority to financial education initiatives ","The centre has a vision and strategic planning including financial education which it will share with all stakeholders","The school has a clear strategy embedding financial education ","Self-report survey question (teacher/school level)","Q1. Does your school have an up-to-date strategic plan? A - yes/no Q2. Does you school have a vision embedding financial education? A- Yes and I am clear about our strategy / Yes but I am not clear what is in it / No / I don't know ",{"$f":"Questions!D5","v":3},null,"C1. A oes gan eich ysgol gynllun strategol cyfredol? A - oes/nac oes C2. Oes gan eich ysgol chi weledigaeth sy’n ymgorffori addysg ariannol? A- Oes, ac rydw i’n glir ynghylch ein strategaeth / Oes, ond nid ydw i'n deall yn iawn beth sydd ynddi / Nac oes / Dydw i ddim yn gwybod "]
[null,"2. Give priority to financial education initiatives ","The centre has a vision and strategic planning including financial education which it will share with all stakeholders","Record of notes, agendas and meeting minutes with mention of the vision statement and financial education ","Self-report survey question (teacher/school level)","Q - How frequently has financial education been mentioned in internal communications (meeting minutes, agendas or notes  A -  Never / Rarely / Sometimes / Often",{"$f":"Questions!D6","v":4},null,"C - Pa mor aml mae addysg ariannol wedi cael ei grybwyll mewn cyfathrebu mewnol (cofnodion cyfarfodydd, agendâu neu nodiadau A - Byth / Yn anaml / Weithiau / Yn aml"]
[null,"2. Give priority to financial education initiatives ","The centre has a vision and strategic planning including financial education which it will share with all stakeholders","Updates to senior management and governing body (in relation to the development of financial education) ","Self-report survey question (teacher/school level)","Q - How frequently has your school sent internal updates mentioning financial education development? A -  Never / Rarely  / Sometimes / Often ",{"$f":"Questions!D7","v":5},null,"C - Pa mor aml mae eich ysgol wedi anfon diweddariadau mewnol yn crybwyll datblygu addysg ariannol? A - Byth / Yn anaml / Weithiau / Yn aml "]
[null,"3. Appoint a school-based financial education lead","The centre recognises the value of a centre-wide coordinator in supporting financial education developments","The school possess a financial education lead or is in the process of appointing one","Self-report survey question (teacher/school level)","Q1 - To what extent do you think your school is likely to appoint a financial education lead? A - definitely will - probably will -  probably not - definitely not + I don't know. Q2. Do you believe your school understands the importance in appointing a financial education lead? A- strongly agree - agree - disagree - strongly disagree",{"$f":"Questions!D8","v":6},null,"C1 - I ba raddau ydych chi'n meddwl y bydd eich ysgol yn debygol o benodi arweinydd addysg ariannol? A - bydd yn gwneud hynny’n bendant - mae'n debyg y gwnaiff - mae'n debyg na wnaiff - mae’n bendant na wnaiff + dydw i ddim yn gwybod. C2. Ydych chi’n credu bod eich ysgol yn deall pwysigrwydd penodi arweinydd addysg ariannol? A- cytuno’n gryf - cytuno - anghytuno - anghytuno'n gryf"]
[null,"4. Establish links with businesses in local community and other relevant organisations  ","The centre develops a plan to showcase and share financial education practice with other centres ","Number/frequency of events (planned or past) i.e. local networking, events/conferences","Self-report survey question (teacher/school level)","Q - How frequently have events around financial education occurred over the last academic year ? A - most days / most weeks / about once a month / 2-3 times a year / almost never",{"$f":"Questions!D9","v":7},null,"C - Pa mor aml mae digwyddiadau ynghylch addysg ariannol wedi digwydd yn ystod y flwyddyn academaidd ddiwethaf? A - y rhan fwyaf o ddyddiau / y rhan fwyaf o wythnosau / tua unwaith y mis / 2-3 gwaith y flwyddyn / byth, bron"]
[null,"5. Facilitate the sharing of best practice within the school  & outside school","The centre showcases financial education on external facing outlets i.e. website","Number /frequency of events (planned or past) where other schools are invited to attend in-house learning visits","Self-report survey question (teacher/school level) + Documentary evidence ","Q - How frequently have events around financial education  occurred  with other schools over the last academic year ? A - most days / most weeks / about once a month / 2-3 times a year / almost never ",{"$f":"Questions!D10","v":8},null,"C - Pa mor aml mae digwyddiadau ynghylch addysg ariannol wedi digwydd gydag ysgolion eraill yn ystod y flwyddyn academaidd ddiwethaf? A - y rhan fwyaf o ddyddiau / y rhan fwyaf o wythnosau / tua unwaith y mis / 2-3 gwaith y flwyddyn / byth, bron "]
[null,"5. Facilitate the sharing of best practice within the school  & outside school","The centre showcases financial education implementation and development in internal information updates","Financial education mentioned in internal communications i.e. emails / year group meetings / assemblies","Self-report survey question (teacher/school level)","Q - How often is financial education mentioned in your school's internal communication?  A - always - sometimes - rarely - never",{"$f":"Questions!D11","v":9},null,"C - Pa mor aml mae addysg ariannol yn cael ei grybwyll yng ngohebiaeth fewnol eich ysgol?  A - Bob amser - weithiau - yn anaml - byth"]
[null,"5. Facilitate the sharing of best practice within the school  & outside school","The centre showcases financial education  in information to parents/carers","Financial education is mentioned in communication and meetings with parents/carers","Self-report survey question (teacher/school level)","Q - How often is financial education mentioned in communication to parents/carers? A - always - sometimes - rarely - never",{"$f":"Questions!D12","v":10},null,"C - Pa mor aml mae addysg ariannol yn cael ei grybwyll mewn gohebiaeth â rhieni/gofalwyr? A - Bob amser - weithiau - yn anaml - byth"]

{"sheet":"2","index":6,"n_rows":23,"n_cols":9,"rows_kept":23,"cut":false,"hidden":false,"merged":[]}
[]
[null,null,"Teachers Outcome Framework"]
[]
[null,"Financial education, attitudes, knowledge and practice"]
[null,"Please select the first question for each indicator."]
[]
[null,"Higher level outcome","Lower level outcome","Indicator","Recommended Measurement Approach","Question","Question No."]
[null,"Belief in the value of financial education for children and young people","Teachers recognise the importance of financial education in schools and the role that they play in delivering it","Teachers believe that financial capability is an important life skill that children and young people should be supported to develop from a young age (3+)","Self-report survey question (teacher level)","Q1 Children need to develop financial capabilities from a young age to ensure they can make informed money management decision in adulthood. Q2 I am aware of the benefits of financial education into young people (personal) development. Q3 I am aware of how young people financial capability can affect their future wellbeing (debt, income, tax payments etc.)  As - Strongly agree - agree - disagree - strongly disagree ",11,null,"C1 Mae angen i blant ddatblygu galluoedd ariannol o oedran ifanc i sicrhau y gallan nhw wneud penderfyniad gwybodus ar reoli arian pan fyddan nhw’n oedolion. C2 Rydw i'n ymwybodol o fanteision addysg ariannol i bobl ifanc o safbwynt datblygiad (personol). C3 Rydw i’n ymwybodol sut gall gallu ariannol pobl ifanc effeithio ar eu lles yn y dyfodol (dyled, incwm, taliadau treth ac ati) A - Cytuno'n gryf - cytuno - anghytuno - anghytuno'n gryf "]
[null,"Belief in the value of financial education for children and young people","Teachers recognise the importance of financial education in schools and the role that they play in delivering it","Teachers believe that schools are an important channel through which children and young people learn about how to manage money to improve financial capability, and that teachers have a vital role in the delivery of financial education ","Self-report survey question (teacher level)","Q1. I believe that schools are an important channel in delivering financial education to young people A - strongly agree - agree - disagree - strongly disagree. Q2. I recognise that teachers are a valuable intermediary in delivering financial education to young people. A: strongly agree - agree - disagree - strongly disagree ",12,null,"C1. Credaf fod ysgolion yn gyfrwng pwysig o ran cyflwyno addysg ariannol i bobl ifanc A - cytuno'n gryf - cytuno - anghytuno - anghytuno'n gryf. C2. Rydw i'n cydnabod bod athrawon yn gyfryngwyr gwerthfawr o ran darparu addysg ariannol i bobl ifanc. A: cytuno'n gryf - cytuno - anghytuno - anghytuno'n gryf "]
[null,"Financial education knowledge and practice","Teachers know and understand the financial education curriculum content","Teachers know the various financial education themes ","Self-report survey question (teacher level)","Q1 I am aware of the various strands in financial education A - strongly agree - agree - disagree - strongly disagree Q2 I understand that financial education is composed of various themes each reflecting a different dimension of money management and financial acumen (or) each reflecting various subjects and circumstances A - strongly agree - agree - disagree - strongly disagree",13,null,"C1 Rydw i’n ymwybodol o wahanol elfennau addysg ariannol A - cytuno'n gryf - cytuno - anghytuno - anghytuno'n gryf C2 Rydw i'n deall bod addysg ariannol yn cynnwys themâu amrywiol, gyda phob un yn adlewyrchu dimensiwn gwahanol o reoli arian a chraffter ariannol (neu) bob un yn adlewyrchu gwahanol bynciau ac amgylchiadau A - cytuno'n gryf - cytuno - anghytuno - anghytuno'n gryf"]
[null,"Financial education knowledge and practice","Teachers understand the most effective ways to develop children and young people’s financial capability","Teachers recognise the importance of practical learning experiences in improving pupils' financial capability and incorporate this into their lessons","Documentary evidence + Self-report survey question (teacher level)","Q1. How important do you feel providing practical learning experiences based on day to day financial matters is in developing your pupils' financial capabilities? A. very important - quite important - not very important - not important at all ",14,null,"C1. Yn eich barn chi, pa mor bwysig ydi darparu profiadau dysgu ymarferol yn seiliedig ar faterion ariannol o ddydd i ddydd wrth ddatblygu galluoedd ariannol eich disgyblion? A. pwysig iawn - eithaf pwysig - ddim yn bwysig iawn - ddim yn bwysig o gwbl "]
[null,"Financial education knowledge and practice","Teachers understand the most effective ways to develop children and young people’s financial capability","Teachers recognise the importance of making financial education fun and interactive, and incorporate engaging exercises into their lessons","Documentary evidence",null,15]
[null,"Financial education knowledge and practice","Teachers systematically integrate/embed financial education into lesson planning ","Ongoing plan enabling teachers to sustain high quality financial education intervention","Documentary evidence",null,16]
[null,"Financial education knowledge and practice","Teachers apply  knowledge of effective ways to deliver financial education in the planning and development of engaging and relevant classroom-based activities (NEW)","Teachers apply understanding of financial education themes to their lessons learning outcomes ","Documentary evidence",null,17]
[null,"Financial education knowledge and practice","Teachers apply  knowledge of effective ways to deliver financial education in the planning and development of engaging and relevant classroom-based activities (NEW)","Teachers identify areas of under-provision/knowledge in financial education and create targeted learning activities ","Documentary evidence ",null,18]
[null,"Financial education knowledge and practice","Teachers adapt activities taking into consideration their students’ socio-economic, cultural and religious background and the resulting implications for the financial issues and knowledge that will be relevant to them","Teachers consider students' socio-economic, cultural and religious  background to define financial educational needs and outcomes ","Documentary evidence &  school information (socio-economic, cultural and religious info)",null,19]
[null,"Financial education knowledge and practice"," Teachers organise the lesson content to ensure a progression in financial education learning outcomes","The financial education outcomes delivered in each KS build on past learning to ensure increasing development of knowledge, understanding, attitudes and skills. ","Documentary evidence ",null,20]
[null,"Financial education knowledge and practice","Teachers know of the various usage of modern technology in money management ","Teachers understand the importance of information and communication technologies in personal money management","Self-report survey questions (teacher level)","Q1. I recognise the importance of ICT in personal money management. A -strongly agree - agree - disagree - strongly disagree Q2. I see the importance of educating young people on ICT money management. A -strongly agree - agree - disagree - strongly disagree  ",21,null,"C1. Rydw i'n cydnabod pwysigrwydd TGCh o ran rheoli arian personol. A: cytuno'n gryf - cytuno - anghytuno - anghytuno'n gryf C2. Rydw i'n gweld pwysigrwydd addysgu pobl ifanc am TGCh rheoli arian. A: cytuno'n gryf - cytuno - anghytuno - anghytuno'n gryf  "]
[null,"Accessing and using financial education guidance, advice and resources","Teachers access and use appropriate guidance, advice and resources to support the effective teaching of financial education  ","Teachers are aware of the range of guidance and support material available to them, and know how to access it","Self-report survey question (teacher level)","Q1. Are you aware of any financial education resources and guidance hub(s)? As - yes - no -partly  > skip logic > If yes, which one? OR Q2. Have you accessed any of the following financial education supporting documents and materials? -- -- -- -- -- (multiple choice) ",22,null,"C1. Ydych chi'n ymwybodol o unrhyw adnodd addysg ariannol a chanolbwynt(iau) cyfarwyddyd? A - ydw - nac ydw - yn rhannol > sgipio rhesymeg> Os ydych chi, pa un? NEU C2. Ydych chi wedi troi at unrhyw un o'r dogfennau a deunyddiau ategol addysg ariannol a ganlyn? -- -- -- -- -- (aml-ddewis) "]
[null,"Accessing and using financial education guidance, advice and resources","Teachers access and use appropriate guidance, advice and resources to support the effective teaching of financial education  ","Teachers access and use high quality resources to support the teaching of financial capability","Self-report survey question (teacher level)","Q2. Have you applied  material accessed to guide your lesson planning? As- all of the time - most of the time - occasionally - never",23,null,"C2. Ydych chi wedi darparu'r deunydd a ddefnyddiwyd i arwain eich gwaith cynllunio gwersi? A - bob amser - y rhan fwyaf o'r amser - yn achlysurol - byth"]
[null,"Confidence in teaching financial education ","Teachers feel confident to design and deliver engaging and effective financial education lessons that meet curriculum requirements and the needs of pupils","Teachers express confidence in their ability to deliver engaging and effective financial education ","Self report survey question (teacher level) + documentary evidence ","Q1. How confident are you in designing financial education lesson plans? A - very confident - confident - unconfident - very unconfident Q2. How confident do you feel in delivering financial education to your pupils? A - very confident - confident - unconfident - very unconfident ",24,null,"C1. Pa mor hyderus ydych chi wrth gynllunio cynlluniau gwersi addysg ariannol? A - hyderus iawn - hyderus - ddim yn hyderus - ddim yn hyderus o gwbl C2. Pa mor hyderus ydych chi'n teimlo wrth gyflwyno addysg ariannol i'ch disgyblion? A - hyderus iawn - hyderus - ddim yn hyderus - ddim yn hyderus o gwbl "]
[null,"Confidence in teaching financial education ","Teachers feel confident to design and deliver engaging and effective financial education lessons that meet curriculum requirements and the needs of pupils","Teachers express confidence in their ability to meet the financial capability curriculum requirements","Self report survey question (teacher level) + documentary evidence ","Q1. How important is financial education in helping you to meet the curriculum requirements?  A - very important - important - not important - not at all important Q2. How important do you think financial education is in supporting your pupils' key skills? A - very important - important - not important - not at all important ",25,null,"C1. Pa mor bwysig yw addysg ariannol i'ch helpu chi i gwrdd â gofynion y cwricwlwm?  A - pwysig iawn - pwysig - ddim yn bwysig  - ddim yn bwysig o gwbl C2. Pa mor bwysig yn eich barn chi yw addysg ariannol o ran cefnogi sgiliau allweddol eich disgyblion? A - pwysig iawn - pwysig - ddim yn bwysig  - ddim yn bwysig o gwbl "]
[null,"Confidence in teaching financial education ","Teachers feel confident to design and deliver engaging and effective financial education lessons that meet curriculum requirements and the needs of pupils","Teachers express confidence in their understanding of the financial education needs of their pupils","Self-report survey question (teacher level)","Q1. Thinking about your pupils' characteristics and identified needs, how confident do you feel in delivering tailored financial education learning activities? A - very confident - confident - unconfident - very unconfident ",26,null,"C1. Gan feddwl am nodweddion ac anghenion a nodwyd eich disgyblion, pa mor hyderus ydych chi'n teimlo wrth gyflwyno gweithgareddau dysgu addysg ariannol wedi eu teilwra? A - hyderus iawn - hyderus - ddim yn hyderus - ddim yn hyderus o gwbl "]

{"sheet":"3","index":7,"n_rows":19,"n_cols":9,"rows_kept":19,"cut":false,"hidden":false,"merged":[]}
[]
[null,null,"Teachers Outcome Framework"]
[]
[null,"General pedagogical practice"]
[null,"Please select the first question for each indicator."]
[]
[null,"Higher level outcome","Lower level outcome","Indicator","Recommended Measurement Approach","Question","Question No."]
[null,"General pedagogical practice","Teachers design and implement teaching strategies that are appropriate to the cultural, religious and socioeconomic backgrounds of the students they teach","Teachers develop accessible and suitable teaching resources with respect to the cultural, religious or socio-economic background of young people","Self report survey question (teacher level) + documentary evidence ","Q1. To what extent have your pupils' cultural, religious and socio-economic background been considered into the financial education lesson planning? A all of the time - most of the time - occasionally - never  ",27,null,"C1. I ba raddau mae cefndiroedd diwylliannol, crefyddol ac economaidd-gymdeithasol eich disgyblion wedi cael eu hystyried wrth gynllunio gwersi addysg ariannol? A - bob amser - y rhan fwyaf o'r amser - yn achlysurol - byth  "]
[null,"General pedagogical practice","Teachers use digital technology effectively to support and embed learning","Teachers develop engaging learning activities using technology ","Documentary evidence of learning activities using a variety of technologically based resources ","Q1. Have you used technology as part of the financial education delivery? A all of the time - most of the time - occasionally - never",28,null,"C1. Ydych chi wedi defnyddio technoleg fel rhan o gyflwyno addysg ariannol? A - bob amser - y rhan fwyaf o'r amser - yn achlysurol - byth"]
[null,"General pedagogical practice","Teachers recognise the role that external agencies have in supporting teaching and learning financial education ","Teachers download external financial education resources","Survey question (teacher level) + documentary evidence","Q1. Have you accessed a directory of financial education resources? A - Y/N Q2. Have you downloaded financial education learning activities from external agencies? A - Y/N  If Yes  Q3. How important were each of the following factors when accessing/downloading this information? A. (multiple choice / very important - important - not important - not at all important) support to achieve financial education learning outcomes / fit with curriculum / prices / established relationship with the provider /  word of mouth & recommendation Q4. How frequently did you use these resources? A not at all - once - twice - 3+ times ",29,null,"C1. Ydych chi wedi defnyddio cyfeiriadur o adnoddau addysg ariannol? A - Do/Naddo C2. Ydych chi wedi llwytho i lawr unrhyw weithgaredd dysgu addysg ariannol gan asiantaethau allanol? A - Do/Naddo Os Do  C3. Pa mor bwysig oedd pob un o'r ffactorau a ganlyn wrth geisio cael mynediad at yr wybodaeth hon/ei llwytho i lawr? A. (amlddewis / pwysig iawn - pwysig - ddim yn bwysig - ddim yn bwysig o gwbl) cefnogaeth i gyflawni deilliannau dysgu addysg ariannol / cyd-fynd â'r cwricwlwm / prisiau / perthynas sefydledig â'r darparwr / ar lafar ac argymhelliad C4. Pa mor aml wnaethoch chi ddefnyddio'r adnoddau hyn? A ddim o gwbl - unwaith - dwywaith - 3 gwaith a mwy "]
[null,"Assessing and improving financial capability teaching","Teachers engage with pupils and develop and apply assessment strategies to diagnose student learning needs, and monitor appropriate learning outcomes","Teachers implement a learning framework for financial education firmly linked to identified learning needs","Documentary evidence",null,30]
[null,"Assessing and improving financial capability teaching","Teachers engage with pupils and develop and apply assessment strategies to diagnose student learning needs, and monitor appropriate learning outcomes","Teachers carry out a baseline assessment with their pupils","Documentary evidence",null,31]
[null,"Assessing and improving financial capability teaching","Teachers specify intended impacts on young people and monitor them (NEW)","Teachers monitor impact on young people","self reporting survey question (teacher level) + documentary evidence ","Q1. Which of the following best describe the impact monitoring of your pupils in your financial education intervention? A.  A continuous assessment - A sporadic assessment - A one-off assessment ",32,null,"C1. Pa un o'r rhain sy'n disgrifio orau’r gwaith monitro effaith ar eich disgyblion yn eich ymyriad addysg ariannol? A. Asesu parhaus - Asesiad achlysurol - Asesiad unwaith ac am byth "]
[null,"Assessing and improving financial capability teaching","Teachers organise assessment moderation activities to enable consistent and comparable judgment","Teachers conduct assessments (formal / informal)","self reporting survey question (teacher level) + documentary evidence ","Q1. Have you used any of the following tools to assess your pupils' financial capability? A - self-report survey - focus group - anonymous feedback (informal) - other (multiple choice)",33,null,"C1. Ydych chi wedi defnyddio unrhyw un o'r offerynnau a ganlyn i asesu gallu ariannol eich disgyblion? A - Arolwg hunan-adrodd - grŵp ffocws - adborth dienw (anffurfiol) - arall (aml-ddewis)"]
[null,"Assessing and improving financial capability teaching","Teachers seek feedback from their students about how engaging, relevant and useful their lessons are","Teachers embed formal monitoring of a young person’s reception of financial education lessons ","Documentary evidence ",null,34]
[null,"Assessing and improving financial capability teaching","Teachers use data from student assessments, along with student feedback, to evaluate the effectiveness of teaching approaches and to review and adapt their practice ","Teachers adapt plans following assessment ","Survey questions (teacher level) + Documentary evidence","Q1. To what extent have you used your pupils' ongoing assessment to inform further financial education interventions? A. all of the time - most of the time - occasionally - never",35,null,"C1. I ba raddau ydych chi wedi defnyddio'r asesiad parhaus o’ch disgyblion i lywio ymyriadau addysg ariannol pellach? A - bob amser - y rhan fwyaf o'r amser - yn achlysurol - byth"]
[null,"Assessing and improving financial capability teaching","Teachers recognise the value of external financial education qualifications for students and professional qualifications for themselves","Teachers recognise the value of financial education teaching qualification in their professional development ","Self-report survey question (teacher level)  & Documentary evidence ","Q1  Do you agree for financial education learning outcomes to be part of staff's formal performance review system? A. strongly agree - agree - disagree - strongly disagree ",36,null,"C1 Ydych chi'n cytuno y dylai deilliannau dysgu addysg ariannol fod yn rhan o system adolygu perfformiad ffurfiol staff? A. cytuno'n gryf - cytuno - anghytuno - anghytuno'n gryf "]
[null,"Assessing and improving financial capability teaching","Teachers recognise the value of external financial education qualifications for students and professional qualifications for themselves","Teachers' employers embed the take up of financial education teaching qualification in their personal development review","Documentary evidence (school)",null,37]
[null,"Assessing and improving financial capability teaching","Teachers recognise the value of external financial education qualifications for students and professional qualifications for themselves","Teachers take on an accredited qualification in teaching financial education","Self-report survey question (teacher level) + documentary evidence","Q1. How likely are you to pursue a professional certificate in teaching financial education? A - definitely will - probably will - probably not - definitely not + I don't know Q2. Have you completed or started a qualification in teaching financial education? A. Started - Completed ",38,null,"C1. Pa mor debygol ydych chi o ddilyn tystysgrif broffesiynol mewn addysgu addysg ariannol? A - byddaf yn gwneud hynny’n bendant - mae'n debyg y gwnaf - mae'n debyg na wnaf - mae’n bendant na wnaf + dydw i ddim yn gwybod C2. Ydych chi wedi cwblhau neu wedi dechrau cymhwyster mewn addysgu addysg ariannol? A. Wedi dechrau - Wedi gorffen "]

{"sheet":"4","index":8,"n_rows":21,"n_cols":9,"rows_kept":21,"cut":false,"hidden":false,"merged":[]}
[]
[null,null,"Teachers Outcome Framework"]
[]
[null,"Championing and promoting financial education"]
[null,"Please select the first question for each indicator."]
[]
[null,"Higher level outcome","Lower level outcome","Indicator","Recommended Measurement Approach","Question","Question No."]
[null,"Championing, role-modelling and sharing effective practice in financial education","Teachers champion the importance of financial education to other teachers and the wider school","Teachers act as coordinators of financial education interventions","Self-report survey question (teacher level) + documentary evidence","Q1. How important do you think the appointment of a financial education coordinator for the school is? A - very important - important - not important - not at all important  Q2. Has your school appointed a financial education coordinator? A. Yes- no - in the process ",39,null,"C1. Pa mor bwysig yn eich barn chi yw penodi cydlynydd addysg ariannol ar gyfer yr ysgol? A - pwysig iawn - pwysig - ddim yn bwysig  - ddim yn bwysig o gwbl C2. Ydi eich ysgol chi wedi penodi cydlynydd addysg ariannol? A. Do - naddo - wrthi'n gwneud hynny "]
[null,"Championing, role-modelling and sharing effective practice in financial education","Teachers champion the importance of financial education to other teachers and the wider school","Teachers provide staff briefing(s) on financial education plans/programme and provide updates during the term","Self-report survey question (teacher level) + documentary evidence","Q1. How frequently is the school's staff updated on your financial education teaching activities? A - most weeks / about once a month / 2-3 times a term / never ",40,null,"C1. Pa mor aml mae staff yr ysgol yn cael gwybod y diweddaraf am eich gweithgareddau addysgu addysg ariannol? A - y rhan fwyaf o wythnosau / tua unwaith y mis / 2-3 gwaith y tymor / byth "]
[null,"Championing, role-modelling and sharing effective practice in financial education","Teachers demonstrate exemplary teaching of financial education to colleagues using effective learning and teaching tools and activities, and support other teachers to adopt similarly effective teaching strategies","Teachers share experience and acquired learning ","Self-report survey question (teacher level) + documentary evidence","Q1. How confident are you in sharing your financial education delivery experience to colleagues? A -very much - somewhat - not really - not at all  Q2. How often do you mentor other teachers (within the school) in delivering financial education?  A -often - sometimes - rarely - never",41,null,"C1. Pa mor hyderus ydych chi wrth rannu eich profiad wrth gyflwyno addysg ariannol i gydweithwyr? A - hyderus iawn - eithaf hyderus - ddim mewn gwirionedd - ddim o gwbl  C2. Pa mor aml ydych chi'n mentora athrawon eraill (yn yr ysgol) o ran cyflwyno addysg ariannol?  A - yn aml - weithiau - yn anaml - byth"]
[null,"Championing, role-modelling and sharing effective practice in financial education","Teachers share knowledge about effective practice in financial education with other teachers, schools, and professional networks and associations","Teachers discuss young people's financial education needs with colleagues","Self-report survey question (teacher level)    ","Q1. How often do you discuss lessons plans and financial education embedment with your colleagues? A - often - sometimes - rarely - never Q2.  How often do you discuss young people's financial education needs to your colleagues? A. often - sometimes -  rarely - never ",42,null,"C1. Pa mor aml fyddwch chi'n trafod cynlluniau gwersi ac ymgorffori addysg ariannol gyda'ch cydweithwyr? A - yn aml - weithiau - yn anaml - byth C2.  Pa mor aml ydych chi'n trafod anghenion addysg ariannol pobl ifanc â'ch cydweithwyr? A - yn aml - weithiau - yn anaml - byth "]
[null,"Championing, role-modelling and sharing effective practice in financial education","Teachers share knowledge about effective practice in financial education with other teachers, schools, and professional networks and associations","Teachers share knowledge with teachers from other schools ","Self-report survey question (teacher level)    ","Q1. How often do you engage with teachers from other schools on the financial education topic? A. Very much - somewhat - not really - not at all  Q2. How often do you share knowledge about implementing financial education in the curriculum with external teachers? A. Very much - somewhat - not really - not at all",43,null,"C1. Pa mor aml ydych chi'n ymgysylltu ag athrawon o ysgolion eraill ar bwnc addysg ariannol? A - Yn aml iawn - rhywfaint - ddim mewn gwirionedd - ddim o gwbl  C2. Pa mor aml ydych chi'n rhannu gwybodaeth am weithredu addysg ariannol yn y cwricwlwm ag athrawon allanol? A - Yn aml iawn - rhywfaint - ddim mewn gwirionedd - ddim o gwbl"]
[null,"Engaging with parents/carers and local stakeholders","Teachers communicate effectively with parents/carers about the vital role they play in developing their children’s financial capability to increase the parents/carers engagement in financial education ","Teachers effectively communicate the importance of financial education from a young age to parents/carers","Self-report survey question (teacher level) + documentary evidence","Q1. How important do you think the role of parents/carers is in your pupils' financial capability? A- very much so - somewhat - not really - not at all Q2. How frequently do you engage face to face on the topic of financial education with your pupils' parents/carers? A - on every meeting occasion / once a year / 2+ times a year / never ",44,null,"C1. Yn eich barn chi, pa mor bwysig yw rôl y rhieni/gofalwyr yng ngallu ariannol eich disgyblion? A - pwysig iawn - rhywfaint - ddim mewn gwirionedd - ddim o gwbl  C2. Pa mor aml ydych chi'n ymgysylltu wyneb yn wyneb ar bwnc addysg ariannol gyda rhieni/gofalwyr eich disgyblion? A - ar bob cyfarfod neu achlysur / unwaith y flwyddyn / 2+ gwaith y flwyddyn / byth "]
[null,"Engaging with parents/carers and local stakeholders","Teachers communicate effectively with parents/carers about the vital role they play in developing their children’s financial capability to increase the parents/carers engagement in financial education ","Teachers effectively communicate with parents/carers about the vital role that parents/carers play in developing their children's financial capability","Self-report survey question (teacher level) + documentary evidence","Q1. Have you (or your school) used any of the below to communicate financial education initiatives to parents / carers? A (multiple choice) emails - newsletters - flyers - homework - networking events - other (please define)",45,null,"C1. Ydych chi (neu eich ysgol) wedi defnyddio unrhyw un o'r isod i gyfathrebu mentrau addysg ariannol i rieni / gofalwyr? A (aml-ddewis) negeseuon e-bost - newyddlenni - taflenni - gwaith cartref - digwyddiadau rhwydweithio - arall (diffiniwch)"]
[null,"Engaging with parents/carers and local stakeholders","Teachers communicate effectively with parents/carers about the vital role they play in developing their children’s financial capability to increase the parents/carers engagement in financial education ","Teachers know where to refer parents/carers for advice/guidance","Self-report survey question (teacher level) ","Q1. How often do you refer parents/carers to sources of advice and guidance on young people FinCap? A - often - sometimes - rarely - never",46,null,"C1. Pa mor aml ydych chi'n cyfeirio rhieni/gofalwyr at ffynonellau cyngor ac arweiniad ar allu ariannol pobl ifanc? A - yn aml - weithiau - yn anaml - byth"]
[null,"Engaging with parents/carers and local stakeholders","Teachers communicate effectively with parents/carers about the vital role they play in developing their children’s financial capability to increase the parents/carers engagement in financial education ","Teachers feel confident in referring parents/carers to sources of advice/guidance","Self-report survey question (teacher level) ","Q1. How confident do you feel in signposting to parents/carers to sources of advice/guidance on young people FinCap? A. very confident - confident - unconfident - very unconfident ",47,null,"C1. Pa mor hyderus ydych chi'n teimlo wrth gyfeirio rhieni/gofalwyr at ffynonellau cyngor/arweiniad ar allu ariannol pobl ifanc? A. hyderus iawn - hyderus - ddim yn hyderus - ddim yn hyderus o gwbl "]
[null,"Engaging with parents/carers and local stakeholders","Teachers communicate effectively with parents/carers about the vital role they play in developing their children’s financial capability to increase the parents/carers engagement in financial education ","Teachers provide parents/carers with practical advice about supporting their children's financial capability development in a way that complements the financial education they receive in school","Self-report survey question (teacher level) ","Q1. To what extent are you able to explain financial education teaching to parents / carers in order to further develop the following? (multiple - matrix 1-6 rating scale where 1 is am not able at all and 6 is I am fully able) personal development (autonomy) - money management - becoming a critical consumer - managing risks - managing emotions associated with money - understanding the role money plays in life. ",48,null,"C1. I ba raddau ydych chi'n gallu egluro addysgu addysg ariannol i rieni / gofalwyr er mwyn datblygu’r canlynol ymhellach? (Lluosog - matrics sgôr 1-6, lle mae 1 yn gyfystyr â nid wyf yn gallu o gwbl a 6 yn gyfystyr â rydw i’n hollol abl) datblygiad personol (ymreolaeth) - rheoli arian - dod yn ddefnyddwyr beirniadol - rheoli risgiau - rheoli emosiynau sy'n gysylltiedig ag arian - deall y rôl mae arian yn ei chwarae mewn bywyd. "]
[null,"Engaging with parents/carers and local stakeholders","Teachers communicate effectively with parents/carers about the vital role they play in developing their children’s financial capability to increase the parents/carers engagement in financial education ","Teachers set their pupils tasks/homework that encourages/supports the involvement of their parents/carers","Documentary evidence ",null,49]
[null,"Engaging with parents/carers and local stakeholders","Teachers establish positive relationships with external organisations around financial education to support and enable learning through real-world experiences","Teachers develop positive working relationships and partnerships with local businesses, banks and other financial services institutions, employers, etc. to support the teaching of financial capability","Self-report survey question (teacher level) + documentary evidence","Q1. Have you or your school externally communicated your financial education agenda / programme to parents / carers i.e. external emails newsletters etc. A- Yes - No  Q2. (skip logic > yes) If so, how often A. most weeks - about once a month - 2-3 times a year / never  Q3. To what extent have you (your school) showcased your financial education intervention to 1) local media 2) local community events 3) local schools networking events 4) regional schools networking events 5) regional media 6) other - A - very frequently - frequently  - rarely - never ",50,null,"C1. Ydych chi neu eich ysgol wedi cyfleu eich agenda / rhaglen addysg ariannol yn allanol i rieni / gofalwyr h.y. cylchlythyrau negeseuon e-bost allanol ac ati A- Ydw - Nac ydw C2. (Sgipio rhesymeg> ydw) Os felly, pa mor aml A. Y rhan fwyaf o wythnosau - tua unwaith y mis - 2-3 gwaith y flwyddyn / byth C3. I ba raddau ydych chi (eich ysgol) wedi arddangos eich ymyriad addysg ariannol 1) i’r cyfryngau lleol 2) mewn digwyddiadau cymunedol lleol 3) mewn digwyddiadau rhwydweithio ag ysgolion lleol 4) mewn digwyddiadau rhwydweithio rhanbarthol i ysgolion 5) drwy gyfryngau rhanbarthol 6) arall - A - yn aml iawn - yn aml - yn anaml - byth "]
[null,"Engaging with parents/carers and local stakeholders","Teachers establish positive relationships with external organisations around financial education to support and enable learning through real-world experiences","Teachers use relationships with other organisations to provide pupils with real-word experiences to consolidate and strengthen their financial capability learning","Self-report survey question (teacher level)     ","Q1. Is your school organising external events to showcase financial capability in real life context - yes - no -partly Q2. (skip logic >no) If not, is your school in the process of organising such type of event?  Q3. Have you (or school) engaged with external organisations aiming to provide students opportunities to 1) broadening employment horizons 2) acquiring employability key skills 3) money management knowledge 4) general real-life experience A. very frequently - frequently  - rarely - never ",51,null,"C1. Ydi eich ysgol chi’n trefnu digwyddiadau allanol i arddangos gallu ariannol yng nghyd-destun y bywyd go iawn - ydi - nac ydi - yn rhannol Q2. (Sgipio rhesymeg> nac ydi) Os nad ydi, ydi eich ysgol wrthi'n trefnu digwyddiad o'r fath?  C3. Ydych chi (neu eich ysgol) yn ymgysylltu â sefydliadau allanol gyda'r nod o ddarparu cyfleoedd i fyfyrwyr 1) ehangu gorwelion cyflogaeth 2) caffael sgiliau cyflogadwyedd allweddol 3) gwybodaeth am reoli arian 4) profiad cyffredinol o fywyd go iawn A. yn aml iawn - yn aml - yn anaml - byth "]
[null,"Engaging with parents/carers and local stakeholders","Teachers report on individual student achievement to their parents/carers, and class/year/school-level achievement to other stakeholders","Teachers provide parents/carers with individual feedback on their children's financial capability gains and report on the financial capability gains of the year group as a whole ","Self-report survey question (teacher level) ","Q1. How frequently have you included pupils' financial capability learning in school reports going to parents/carers/year group? A - very frequently - frequently - rarely - never ",52,null,"C1. Pa mor aml ydych chi wedi cynnwys addysg gallu ariannol y disgyblion mewn adroddiadau ysgol sy’n mynd at rieni/gofalwyr/grŵp blwyddyn? A - yn aml iawn - yn aml - yn anaml - byth "]

{"sheet":"TOF","index":9,"n_rows":54,"n_cols":9,"rows_kept":54,"cut":false,"hidden":true,"merged":[[0,2,0,3]]}
[null,null,"Outcomes",null,"Indicators","Recommended measurement approach","Survey measure (if relevant)","Documentary evidence","Others "]
["Question No.","Sheet","Top tier outcomes","Lower level outcomes",null,"Includes: \n• Survey-questions (at teacher or whole-school level, or parents)\n• review of documentary evidence and/or \n• lesson observation","Survey question","Documentary evidence","Others "]
[1,"School-wide enablers","1. Allocate time during the school year/in curriculum to financial education ","Financial education learning outcomes are defined (key stage specific)","A defined plan for delivering financial education throughout the curriculum and subject areas","Documentary evidence on financial education learning outcomes coverage",null,"Measurement of learning outcomes intended (baseline) and covered - highlighting progression against a well-defined planning framework"]
[2,"School-wide enablers","1. Allocate time during the school year/in curriculum to financial education ","Financial education learning outcomes and teaching activities are featured in timetabled lessons ","A defined plan for delivering financial education throughout the curriculum and subject areas","Documentary evidence on financial education learning outcomes coverage",null,"Measurement of learning outcomes intended (baseline) and covered - highlighting progression against a well-defined planning framework"]
[3,"School-wide enablers","2. Give priority to financial education initiatives ","The centre has a vision and strategic planning including financial education which it will share with all stakeholders","The school has a clear strategy embedding financial education ","Self-report suvey question (teacher/school level)","Q1. Does your school have an up-to-date strategic plan? A - yes/no Q2. Does you school have a vision embedding financial education? A- Yes and I am clear about our strategy / Yes but I am not clear what is in it / No / I don't know ","Documentary evidence outlining the school's vision with clear deliverables "]
[4,"School-wide enablers","2. Give priority to financial education initiatives ","The centre has a vision and strategic planning including financial education which it will share with all stakeholders","Record of notes, agendas and meeting minutes with mention of the vision statement and financial education ","Self-report suvey question (teacher/school level)","Q - How frequently has financial education been mentioned in internal communications (meeting minutes, agendas or notes  A -  Never / Rarely / Sometimes / Often"]
[5,"School-wide enablers","2. Give priority to financial education initiatives ","The centre has a vision and strategic planning including financial education which it will share with all stakeholders","Updates to senior management and governing body (in relation to the development of financial education) ","Self-report suvey question (teacher/school level)","Q - How frequently has your school sent internal updates mentioning financial education development? A -  Never / Rarely  / Sometimes / Often "]
[6,"School-wide enablers","3. Appoint a school-based financial education lead","The centre recognises the value of a centre-wide coordinator in supporting financial education developments","The school possess a financial education lead or is in the process of appointing one","Self-report suvey question (teacher/school level)","Q1 - To what extent do you think your school is likely to appoint a financial education lead? A - definitely will - probably will -  probably not - definitely not + I don't know. Q2. Do you believe your school understands the importance in appointing a financial education lead? A- strongly agree - agree - disagree - strongly disagree"]
[7,"School-wide enablers","4. Establish links with businesses in local community and other relevant organisations  ","The centre develops a plan to showcase and share financial education practice with other centres ","Number/frequency of events (planned or past) i.e. local networking, events/conferences","Self-report suvey question (teacher/school level)","Q - How frequently have events around financial education occurred over the last academic year ? A - most days / most weeks / about once a month / 2-3 times a year / almost never"]
[8,"School-wide enablers","5. Facilitate the sharing of best practice within the school  & outside school","The centre showcases financial education on external facing outlets i.e. website","Number /frequency of events (planned or past) where other schools are invited to attend in-house learning visits","Self-report suvey question (teacher/school level) + Documentary evidence ","Q - How frequently have events around financial education  ocurred  with other schools over the last academic year ? A - most days / most weeks / about once a month / 2-3 times a year / almost never ","Documentary evidence showcasing financial education interventions in the school"]
[9,"School-wide enablers","5. Facilitate the sharing of best practice within the school  & outside school","The centre showcases financial education implementation and development in internal information updates","Financial education mentioned in internal communications i.e. emails / year group meetings / assemblies","Self-report suvey question (teacher/school level)","Q - How often is financial education mentioned in your school's internal communication?  A - always - sometimes - rarely - never"]
[10,"School-wide enablers","5. Facilitate the sharing of best practice within the school  & outside school","The centre showcases financial education  in information to parents/carers","Financial education is mentioned in communication and meetings with parents/carers","Self-report suvey question (teacher/school level)","Q - How often is financial education mentioned in communication to parents/carers? A - always - sometimes - rarely - never"]
[11,"Financial education, attitudes, knowledge and practice","Belief in the value of financial education for children and young people","Teachers recognise the importance of financial education in schools and the role that they play in delivering it","Teachers believe that financial capability is an important life skill that children and young people should be supported to develop from a young age (3+)","Self-report suvey question (teacher level)","Q1 Children need to develop financial capabilities from a young age to ensure they can make informed money management decision in adulthood. Q2 I am aware of the benefits of financial education into young people (personal) development. Q3 I am aware of how young people financial capability can affect their future wellbeing (debt, income, tax payments etc.)  As - Strongly agree - agree - disagree - strongly disagree "]
[12,"Financial education, attitudes, knowledge and practice","Belief in the value of financial education for children and young people","Teachers recognise the importance of financial education in schools and the role that they play in delivering it","Teachers believe that schools are an important channel through which children and young people learn about how to manage money to improve financial capability, and that teachers have a vital role in the delivery of financial education ","Self-report suvey question (teacher level)","Q1. I believe that schools are an important channel in delivering financial education to young people A - strongly agree - agree - disagree - strongly disagree. Q2. I recognise that teachers are a valuable intermediary in delivering financial education to young people. A: strongly agree - agree - disagree - strongly disagree "]
[13,"Financial education, attitudes, knowledge and practice","Financial education knowledge and practice","Teachers know and understand the financial education curriculum content","Teachers know the various financial education themes ","Self-report suvey question (teacher level)","Q1 I am aware of the various strands in financial education A - strongly agree - agree - disagree - strongly disagree Q2 I understand that financial education is composed of various themes each reflecting a different dimension of money management and financial acumen (or) each reflecting various subjects and circumstances A - strongly agree - agree - disagree - strongly disagree"]
[14,"Financial education, attitudes, knowledge and practice","Financial education knowledge and practice","Teachers understand the most effective ways to develop children and young people’s financial capability","Teachers recognise the importance of practical learning experences in improving pupils' financial capability and incorporate this into their lessons","Documentary evidence + Self-report suvey question (teacher level)","Q1. How important do you feel providing pratical learning experiences based on day to day financial matters is in developing your pupils' financial capabilities? A. very important - quite important - not very important - not important at all ","Documentary evidence of lesson plans incorporating interactive teaching resources "]
[15,"Financial education, attitudes, knowledge and practice","Financial education knowledge and practice","Teachers understand the most effective ways to develop children and young people’s financial capability","Teachers recognise the importance of making financial education fun and interactive, and incorporate engaging exercises into their lessons","Documentary evidence",null,"Sample learning activities provided in the context of real life situations, involving some simulations (documented activities and intended learning outcomes)"]
[16,"Financial education, attitudes, knowledge and practice","Financial education knowledge and practice","Teachers systematically integrate/embed financial education into lesson planning ","Ongoing plan enabling teachers to sustain high quality financial education intervention","Documentary evidence",null,"Examples of coherent development of lessons plan gradually incorporating and maintaining financial education in lesson plans"]
[17,"Financial education, attitudes, knowledge and practice","Financial education knowledge and practice","Teachers apply  knowledge of effective ways to deliver financial education in the planning and development of engaging and relevant classroom-based activities (NEW)","Teachers apply understanding of financial education themes to their lessons learning outcomes ","Documentary evidence",null,"Examples of lesson plans covering a minimum of 2-3 financial education themes "]
[18,"Financial education, attitudes, knowledge and practice","Financial education knowledge and practice","Teachers apply  knowledge of effective ways to deliver financial education in the planning and development of engaging and relevant classroom-based activities (NEW)","Teachers identify areas of under-provision/knowledge in financial education and create targeted learning activities ","Documentary evidence ",null,"Baseline assessment - assessing pupils' starting point in terms of financial knowledge and skills, gather their views and seek to engage them in the planning and delivery process"]
[19,"Financial education, attitudes, knowledge and practice","Financial education knowledge and practice","Teachers adapt activities taking into consideration their students’ socio-economic, cultural and religious background and the resulting implications for the financial issues and knowledge that will be relevant to them","Teachers consider students' socio-economic, cultural and religious  background to define financial educational needs and outcomes ","Documentary evidence &  school information (socio-economic, cultural and religious info)",null,"Teachers refer to appropriate learning framework (age) "]
[20,"Financial education, attitudes, knowledge and practice","Financial education knowledge and practice"," Teachers organise the lesson content to ensure a progression in financial education learning outcomes","The financial education outcomes delivered in each KS build on past learning to ensure increasing development of knowledge, understanding, attitudes and skills. ","Documentary evidence ",null,"Pupil progress review using appropriate learning framewor. Baseline assessment groups are revisited and progress on their learning are recorded. If focus group is held > with a group of pupils in each KS to help informing the development of the financial education provision.  "]
[21,"Financial education, attitudes, knowledge and practice","Financial education knowledge and practice","Teachers know of the various usage of modern technology in money management ","Teachers understand the importance of information and communication technologies in personal money management","Self-report survey questions (teacher level)","Q1. I recognise the importance of ICT in personal money management. A -strongly agree - agree - disagree - strongly disagree Q2. I see the importance of educating young people on ICT money management. A -strongly agree - agree - disagree - strongly disagree  "]
[22,"Financial education, attitudes, knowledge and practice","Accessing and using financial education guidance, advice and resources","Teachers access and use appropriate guidance, advice and resources to support the effective teaching of financial education  ","Teachers are aware of the range of guidance and support material available to them, and know how to access it","Self-report suvey question (teacher level)","Q1. Are you aware of any financial education resources and guidance hub(s)? As - yes - no -partly  > skip logic > If yes, which one? OR Q2. Have you accessed any of the following financial education supporting documents and materials? -- -- -- -- -- (multiple choice) ","Evidence of materials accessed "]
[23,"Financial education, attitudes, knowledge and practice","Accessing and using financial education guidance, advice and resources","Teachers access and use appropriate guidance, advice and resources to support the effective teaching of financial education  ","Teachers access and use high quality resources to support the teaching of financial capability","Self-report suvey question (teacher level)","Q2. Have you applied  material accessed to guide your lesson planning? As- all of the time - most of the time - occasionaly - never","Evidence of materials used for guidance "]
[24,"Financial education, attitudes, knowledge and practice","Confidence in teaching financial education ","Teachers feel confident to design and deliver engaging and effective financial education lessons that meet curriculum requirements and the needs of pupils","Teachers express confidence in their ability to deliver engaging and effective financial education ","Self report survey question (teacher level) + documentary evidence ","Q1. How confident are you in designing financial education lesson plans? A - very confident - confident - unconfident - very unconfident Q2. How confident do you feel in delivering financial education to your pupils? A - very confident - confident - unconfident - very unconfident ","Evidence of lesson plan embedding financial education "]
[25,"Financial education, attitudes, knowledge and practice","Confidence in teaching financial education ","Teachers feel confident to design and deliver engaging and effective financial education lessons that meet curriculum requirements and the needs of pupils","Teachers express confidence in their ability to meet the financial capability curriculum requirements","Self report survey question (teacher level) + documentary evidence ","Q1. How important is financial education in helping you to meet the curriculum requirements?  A - very important - important - not important - not at all important Q2. How important do you think financial education is in supporting your pupils' key skills? A - very important - important - not important - not at all important ","Evidence at school level of financial education supporting teaching standards"]
[26,"Financial education, attitudes, knowledge and practice","Confidence in teaching financial education ","Teachers feel confident to design and deliver engaging and effective financial education lessons that meet curriculum requirements and the needs of pupils","Teachers express confidence in their understanding of the financial education needs of their pupils","Self-report suvey question (teacher level)","Q1. Thinking about your pupils' characteristics and identified needs, how confident do you feel in delivering tailored financial education learning activities? A - very confident - confident - unconfident - very unconfident "]
[27,"General pedagogical practice","General pedagogical practice","Teachers design and implement teaching strategies that are appropriate to the cultural, religious and socioeconomic backgrounds of the students they teach","Teachers develop accessible and suitable teaching resources with respect to the cultural, religious or socio-economic background of young people","Self report survey question (teacher level) + documentary evidence ","Q1. To what extent have your pupils' cultural, religious and socio-economic background been considered into the financial education lesson planning? A all of the time - most of the time - occasionally - never  ","Teachers refer to appropriate learning framework (age) and complete a diversty based questionnaire aimed at recognising the various cultural and religious perspectives on money. "]
[28,"General pedagogical practice","General pedagogical practice","Teachers use digital technology effectively to support and embed learning","Teachers develop engaging learning activities using technology ","Documentary evidence of learning activities using a variety of technologically based ressources ","Q1. Have you used technology as part of the financial education delivery? A all of the time - most of the time - occasionally - never"]
[29,"General pedagogical practice","General pedagogical practice","Teachers recognise the role that external agencies have in supporting teaching and learning financial education ","Teachers download external financial education resources","Survey question (teacher level) + documentary evidence","Q1. Have you accessed a directory of financial education resources? A - Y/N Q2. Have you downloaded financal education learning activities from external agencies? A - Y/N  If Yes  Q3. How important were each of the following factors when accessing/downloading this information? A. (mutiple choice / very important - important - not important - not at all important) support to achieve financial education learning outcomes / fit with curriculum / prices / established relationship with the provider /  word of mouth & recommendation Q4. How frequently did you use these resources? A not at all - once - twice - 3+ times ","Evidence of resources accessed and used. Name of sources"]
[30,"General pedagogical practice","Assessing and improving financial capability teaching","Teachers engage with pupils and develop and apply assessment strategies to diagnose student learning needs, and monitor appropriate learning outcomes","Teachers implement a learning framework for financial education firmly linked to identified learning needs","Documentary evidence",null,"> Evidence of a planned and quality teaching and learning programme - integrated across term and with clear learning outcomes "]
[31,"General pedagogical practice","Assessing and improving financial capability teaching","Teachers engage with pupils and develop and apply assessment strategies to diagnose student learning needs, and monitor appropriate learning outcomes","Teachers carry out a baseline assessment with their pupils","Documentary evidence",null,"> Evidence of evaluation of financial education impact on young people (questionnaires) and improvements in classroom delivery as a results. A checklist of documents supporting this exercices can be obtained from external organisations (see indicators on accessing and guidance)"]
[32,"General pedagogical practice","Assessing and improving financial capability teaching","Teachers specify intended impacts on young people and monitor them (NEW)","Teachers monitor impact on young people","self reporting survey question (teacher level) + documentary evidence ","Q1. Which of the following best describe the impact monitoring of your pupils in your financial education intervention? A.  A continuous assessment - A sporadic assessment - A one-off assessment ","Further financial education interventions are based on pupils assessments (formal) and/or feedback (informal). "]
[33,"General pedagogical practice","Assessing and improving financial capability teaching","Teachers organise assessment moderation activities to enable consistent and comparable judgment","Teachers conduct assessments (formal / informal)","self reporting survey question (teacher level) + documentary evidence ","Q1. Have you used any of the following tools to assess your pupils' financial capability? A - self-report survey - focus group - anonymous feedback (informal) - other (multiple choice)","Evidence of tools used "]
[34,"General pedagogical practice","Assessing and improving financial capability teaching","Teachers seek feedback from their students about how engaging, relevant and useful their lessons are","Teachers embed formal monitoring of a young person’s reception of financial education lessons ","Documentary evidence ",null,"Focus group testing pupils' understanding across financial education themes. "]
[35,"General pedagogical practice","Assessing and improving financial capability teaching","Teachers use data from student assessments, along with student feedback, to evaluate the effectiveness of teaching approaches and to review and adapt their practice ","Teachers adapt plans following assessment ","Survey questions (teacher level) + Documentary evidence","Q1. To what extent have you used your pupils' ongoing assessment to inform further financial education interventions? A. all of the time - most of the time - occasionally - never","Evidence of pupils assessment and improvement to lesson"]
[36,"General pedagogical practice","Assessing and improving financial capability teaching","Teachers recognise the value of external financial education qualifications for students and professional qualifications for themselves","Teachers recognise the value of financial education teaching qualification in their professional development ","Self-report suvey question (teacher level)  & Documentary evidence ","Q1  Do you agree for financial education learning outcomes to be part of staff's formal performance review system? A. strongly agree - agree - disagree - strongly disagree ","Evidence of financial education embedded in teachers' continuous personal development plan "]
[37,"General pedagogical practice","Assessing and improving financial capability teaching","Teachers recognise the value of external financial education qualifications for students and professional qualifications for themselves","Teachers' employers embed the take up of financial education teaching qualification in their personal development review","Documentary evidence (school)",null,"> Teachers'personal development plans integrate financial education teaching outcomes "]
[38,"General pedagogical practice","Assessing and improving financial capability teaching","Teachers recognise the value of external financial education qualifications for students and professional qualifications for themselves","Teachers take on an accredited qualification in teaching financial education","Self-report suvey question (teacher level) + documentary evidence","Q1. How likely are you to pursue a professional certificate in teaching financial education? A - definitely will - probably will - probably not - definitely not + I don't know Q2. Have you completed or started a qualification in teaching financial education? A. Started - Completed "]
[39,"Championing and promoting financial education","Championing, role-modelling and sharing effective practice in financial education","Teachers champion the importance of financial education to other teachers and the wider school","Teachers act as coordinators of financial education interventions","Self-report suvey question (teacher level) + documentary evidence","Q1. How important do you think the appointment of a financial education coordinator for the school is? A - very important - important - not important - not at all important  Q2. Has your school appointed a financial education coordinator? A. Yes- no - in the process ","Evidence of time allocation by teachers on financial education coordination activities at school level "," "]
[40,"Championing and promoting financial education","Championing, role-modelling and sharing effective practice in financial education","Teachers champion the importance of financial education to other teachers and the wider school","Teachers provide staff briefing(s) on financial education plans/programme and provide updates during the term","Self-report suvey question (teacher level) + documentary evidence","Q1. How frequently is the school's staff updated on your financial education teaching activities? A - most weeks / about once a month / 2-3 times a term / never ","internal newsletters and / or staff briefing mentions the financial education coordinator's work and clearly explain the possibility for others to follow suit. Evidence of financial education teaching activities across departments and year groups (sample lesson plans showcasing a range of interactive and participatory activities delivered in various educational contexts)"]
[41,"Championing and promoting financial education","Championing, role-modelling and sharing effective practice in financial education","Teachers demonstrate exemplary teaching of financial education to colleagues using effective learning and teaching tools and activities, and support other teachers to adopt similarly effective teaching strategies","Teachers share experience and acquired learning ","Self-report suvey question (teacher level) + documentary evidence","Q1. How confident are you in sharing your financial education delivery experience to colleagues? A -very much - somewhat - not really - not at all  Q2. How often do you mentor other teachers (within the school) in delivering financial education?  A -often - sometimes - rarely - never"]
[42,"Championing and promoting financial education","Championing, role-modelling and sharing effective practice in financial education","Teachers share knowledge about effective practice in financial education with other teachers, schools, and professional networks and associations","Teachers discuss young people's financial education needs with colleagues","Self-report suvey question (teacher level)    ","Q1. How often do you discuss lessons plans and financial education embeddment with your colleagues? A - often - sometimes - rarely - never Q2.  How often do you discuss young people's financial education needs to your colleagues? A. often - sometimes -  rarely - never "]
[43,"Championing and promoting financial education","Championing, role-modelling and sharing effective practice in financial education","Teachers share knowledge about effective practice in financial education with other teachers, schools, and professional networks and associations","Teachers share knowledge with teachers from other schools ","Self-report suvey question (teacher level)    ","Q1. How often do you engage with teachers from other schools on the financial education topic? A. Very much - somewhat - not really - not at all  Q2. How often do you share knowledge about implementing financial education in the curriculum with external teachers? A. Very much - somewhat - not really - not at all"]
[44,"Championing and promoting financial education","Engaging with parents/carers and local stakeholders","Teachers communicate effectively with parents/carers about the vital role they play in developing their children’s financial capability to increase the parents/carers engagement in financial education ","Teachers effectively communicate the importance of financial education from a young age to parents/carers","Self-report suvey question (teacher level) + documentary evidence","Q1. How important do you think the role of parents/carers is in your pupils's financial capability? A- very much so - somewhat - not really - not at all Q2. How frequently do you engage face to face on the topic of financial education with your pupils' parents/carers? A - on evey meeting occasion / once a year / 2+ times a year / never "]
[45,"Championing and promoting financial education","Engaging with parents/carers and local stakeholders","Teachers communicate effectively with parents/carers about the vital role they play in developing their children’s financial capability to increase the parents/carers engagement in financial education ","Teachers effectively communicate with parents/carers about the vital role that parents/carers play in developing their children's financial capability","Self-report suvey question (teacher level) + documentary evidence","Q1. Have you (or your school) used any of the below to communicate financial education initiatives to parents / carers? A (multiple choice) emails - newsletters - flyers - homeworks - networking events - other (please define)","Evidence of templates used to communicate with parents / carers"]
[46,"Championing and promoting financial education","Engaging with parents/carers and local stakeholders","Teachers communicate effectively with parents/carers about the vital role they play in developing their children’s financial capability to increase the parents/carers engagement in financial education ","Teachers know where to refer parents/carers for advice/guidance","Self-report suvey question (teacher level) ","Q1. How often do you refer parents/carers to sources of advice and guidance on young people fincap? A - often - sometimes - rarely - never"]
[47,"Championing and promoting financial education","Engaging with parents/carers and local stakeholders","Teachers communicate effectively with parents/carers about the vital role they play in developing their children’s financial capability to increase the parents/carers engagement in financial education ","Teachers feel confident in referring parents/carers to sources of advice/guidance","Self-report suvey question (teacher level) ","Q1. How confident do you feel in signposting to parents/carers to sources of advice/guidance on young people fincap? A. very confident - confident - unconfident - very unconfident "]
[48,"Championing and promoting financial education","Engaging with parents/carers and local stakeholders","Teachers communicate effectively with parents/carers about the vital role they play in developing their children’s financial capability to increase the parents/carers engagement in financial education ","Teachers provide parents/carers with practical advice about supporting their children's financial capability development in a way that complements the financial education they receive in school","Self-report suvey question (teacher level) ","Q1. To what extent are you able to explain financial education teaching to parents / carers in order to further develop the following? (multiple - matrix 1-6 rating scale where 1 is am not able at all and 6 is I am fully able) personal development (autonomy) - money management - becoming a critical consumer - managing risks - managing emotions associated with money - understanding the role money plays in life. "]
[49,"Championing and promoting financial education","Engaging with parents/carers and local stakeholders","Teachers communicate effectively with parents/carers about the vital role they play in developing their children’s financial capability to increase the parents/carers engagement in financial education ","Teachers set their pupils tasks/homework that encourages/supports the involvement of their parents/carers","Documentary evidence ",null,"Evidence of tasks/homeworks showcasing financial education intervention and application of learning by students "]
[50,"Championing and promoting financial education","Engaging with parents/carers and local stakeholders","Teachers establish positive relationships with external organisations around financial education to support and enable learning through real-world experiences","Teachers develop postitive working relationships and partnerships with local businesses, banks and other financial services institutions, employers, etc. to support the teaching of financial capability","Self-report suvey question (teacher level) + documentary evidence","Q1. Have you or your school externally communicated your financial education agenda / programme to parents / carers i.e. external emails newsletters etc. A- Yes - No  Q2. (skip logic > yes) If so, how often A. most weeks - about once a month - 2-3 times a year / never  Q3. To what extent have you (your school) showcased your financial education intervention to 1) local media 2) local community events 3) local schools networking events 4) regional schools networking events 5) regional media 6) other - A - very frequently - frequently  - rarely - never ","Evidence of material and support used to communicate your school's financial education agenda with parents / carers"]
[51,"Championing and promoting financial education","Engaging with parents/carers and local stakeholders","Teachers establish positive relationships with external organisations around financial education to support and enable learning through real-world experiences","Teachers use relationships with other organisations to provide pupils with real-word experiences to consolidate and strengthen their financial capability learning","Self-report suvey question (teacher level)     ","Q1. Is your school organising external events to showcase financial capability in real life context - yes - no -partly Q2. (skip logic >no) If not, is your school in the process of organising such type of event?  Q3. Have you (or school) engaged with external organisations aiming to provide students opportunities to 1) broadening employment horizons 2) acquiring employability key skills 3) money management knowledge 4) general real-life experience A. very frequently - frequently  - rarely - never "]
[52,"Championing and promoting financial education","Engaging with parents/carers and local stakeholders","Teachers report on individual student achievement to their parents/carers, and class/year/school-level achievement to other stakeholders","Teachers provide parents/carers with individual feedback on their children's financial capability gains and report on the financial capability gains of the year group as a whole ","Self-report suvey question (teacher level) ","Q1. How frequently have you included pupils' financial capability learning in school reports going to parents/carers/year group? A - very frequently - frequently - rarely - never "]

{"sheet":"Questions","index":10,"n_rows":517,"n_cols":23,"rows_kept":517,"cut":false,"hidden":true,"merged":[]}
[]
["In","Inc.","Sheet","QNo.","Top Tier Outcome","Lower level outcomes","Indicator","Recommended Measurement Approach","Final framework question","Final framework question - Welsh","Notes for users",null,null,null,"Question","Section","Higher level outcome","Lower level outcome","Indicator","Recommended Measurement Approach","Final framework question","Final framework question - Welsh","Notes for users"]
[false,{"$f":"IF(A3=TRUE,\"In\",\"Out\")","v":"Out"},"School-wide enablers",1,"1. Allocate time during the school year/in curriculum to financial education ","Financial education learning outcomes are defined (key stage specific)","A defined plan for delivering financial education throughout the curriculum and subject areas","Documentary evidence on financial education learning outcomes coverage",null,null,"Measurement of learning outcomes intended (baseline) and covered - highlighting progression against a well-defined planning framework",null,null,null,{"$f":"IFERROR(INDEX(D$3:D$296,SMALL(IF(B$3:B$296=\"In\",ROW(D$2:D$295)-ROW(D$2)+1),ROW(D1))),\"\")","v":3},{"$f":"IFERROR(INDEX(C$3:C$296,SMALL(IF(B$3:B$296=\"In\",ROW(C$2:C$295)-ROW(D$2)+1),ROW(D1))),\"\")","v":"School-wide enablers"},{"$f":"IFERROR(INDEX(E$3:E$296,SMALL(IF(B$3:B$296=\"In\",ROW(D$2:D$295)-ROW(D$2)+1),ROW(D1))),\"\")","v":"2. Give priority to financial education initiatives "},{"$f":"IFERROR(INDEX(F$3:F$296,SMALL(IF(B$3:B$296=\"In\",ROW(F$2:F$295)-ROW(E$2)+1),ROW(E1))),\"\")","v":"The centre has a vision and strategic planning including financial education which it will share with all stakeholders"},{"$f":"IFERROR(INDEX(G$3:G$296,SMALL(IF(B$3:B$296=\"In\",ROW(G$2:G$295)-ROW(F$2)+1),ROW(F1))),\"\")","v":"The school has a clear strategy embedding financial education "},{"$f":"IFERROR(INDEX(H$3:H$296,SMALL(IF(B$3:B$296=\"In\",ROW(H$2:H$295)-ROW(G$2)+1),ROW(G1))),\"\")","v":"Self-report survey question (teacher/school level)"},{"$f":"IFERROR(INDEX(I$3:I$296,SMALL(IF(B$3:B$296=\"In\",ROW(I$2:I$295)-ROW(H$2)+1),ROW(H1))),\"\")","v":"Q1. Does your school have an up-to-date strategic plan? A - yes/no Q2. Does you school have a vision embedding financial education? A- Yes and I am clear about our strategy / Yes but I am not clear what is in it / No / I don't know "},{"$f":"IFERROR(INDEX(J$3:J$296,SMALL(IF(B$3:B$296=\"In\",ROW(J$2:J$295)-ROW(I$2)+1),ROW(I1))),\"\")","v":"C1. A oes gan eich ysgol gynllun strategol cyfredol? A - oes/nac oes C2. Oes gan eich ysgol chi weledigaeth sy’n ymgorffori addysg ariannol? A- Oes, ac rydw i’n glir ynghylch ein strategaeth / Oes, ond nid ydw i'n deall yn iawn beth sydd ynddi / Nac oes / Dydw i ddim yn gwybod "},{"$f":"IFERROR(INDEX(K$3:K$296,SMALL(IF(B$3:B$296=\"In\",ROW(K$2:K$295)-ROW(I$2)+1),ROW(I1))),\"\")","v":"Documentary evidence outlining the school's vision with clear deliverables "}]
[false,{"$f":"IF(A4=TRUE,\"In\",\"Out\")","v":"Out"},"School-wide enablers",2,"1. Allocate time during the school year/in curriculum to financial education ","Financial education learning outcomes and teaching activities are featured in timetabled lessons ","A defined plan for delivering financial education throughout the curriculum and subject areas","Documentary evidence on financial education learning outcomes coverage",null,null,"Measurement of learning outcomes intended (baseline) and covered - highlighting progression against a well-defined planning framework",null,null,null,{"$f":"IFERROR(INDEX(D$3:D$296,SMALL(IF(B$3:B$296=\"In\",ROW(D$2:D$295)-ROW(D$2)+1),ROW(D2))),\"\")","v":4},{"$f":"IFERROR(INDEX(C$3:C$296,SMALL(IF(B$3:B$296=\"In\",ROW(C$2:C$295)-ROW(D$2)+1),ROW(D2))),\"\")","v":"School-wide enablers"},{"$f":"IFERROR(INDEX(E$3:E$296,SMALL(IF(B$3:B$296=\"In\",ROW(D$2:D$295)-ROW(D$2)+1),ROW(D2))),\"\")","v":"2. Give priority to financial education initiatives "},{"$f":"IFERROR(INDEX(F$3:F$296,SMALL(IF(B$3:B$296=\"In\",ROW(F$2:F$295)-ROW(E$2)+1),ROW(E2))),\"\")","v":"The centre has a vision and strategic planning including financial education which it will share with all stakeholders"},{"$f":"IFERROR(INDEX(G$3:G$296,SMALL(IF(B$3:B$296=\"In\",ROW(G$2:G$295)-ROW(F$2)+1),ROW(F2))),\"\")","v":"Record of notes, agendas and meeting minutes with mention of the vision statement and financial education "},{"$f":"IFERROR(INDEX(H$3:H$296,SMALL(IF(B$3:B$296=\"In\",ROW(H$2:H$295)-ROW(G$2)+1),ROW(G2))),\"\")","v":"Self-report survey question (teacher/school level)"},{"$f":"IFERROR(INDEX(I$3:I$296,SMALL(IF(B$3:B$296=\"In\",ROW(I$2:I$295)-ROW(H$2)+1),ROW(H2))),\"\")","v":"Q - How frequently has financial education been mentioned in internal communications (meeting minutes, agendas or notes  A -  Never / Rarely / Sometimes / Often"},{"$f":"IFERROR(INDEX(J$3:J$296,SMALL(IF(B$3:B$296=\"In\",ROW(J$2:J$295)-ROW(I$2)+1),ROW(I2))),\"\")","v":"C - Pa mor aml mae addysg ariannol wedi cael ei grybwyll mewn cyfathrebu mewnol (cofnodion cyfarfodydd, agendâu neu nodiadau A - Byth / Yn anaml / Weithiau / Yn aml"},{"$f":"IFERROR(INDEX(K$3:K$296,SMALL(IF(B$3:B$296=\"In\",ROW(K$2:K$295)-ROW(I$2)+1),ROW(I2))),\"\")","v":0}]
[true,"In","School-wide enablers",3,"2. Give priority to financial education initiatives ","The centre has a vision and strategic planning including financial education which it will share with all stakeholders","The school has a clear strategy embedding financial education ","Self-report survey question (teacher/school level)","Q1. Does your school have an up-to-date strategic plan? A - yes/no Q2. Does you school have a vision embedding financial education? A- Yes and I am clear about our strategy / Yes but I am not clear what is in it / No / I don't know ","C1. A oes gan eich ysgol gynllun strategol cyfredol? A - oes/nac oes C2. Oes gan eich ysgol chi weledigaeth sy’n ymgorffori addysg ariannol? A- Oes, ac rydw i’n glir ynghylch ein strategaeth / Oes, ond nid ydw i'n deall yn iawn beth sydd ynddi / Nac oes / Dydw i ddim yn gwybod ","Documentary evidence outlining the school's vision with clear deliverables ",null,null,null,{"$f":"IFERROR(INDEX(D$3:D$296,SMALL(IF(B$3:B$296=\"In\",ROW(D$2:D$295)-ROW(D$2)+1),ROW(D3))),\"\")","v":5},{"$f":"IFERROR(INDEX(C$3:C$296,SMALL(IF(B$3:B$296=\"In\",ROW(C$2:C$295)-ROW(D$2)+1),ROW(D3))),\"\")","v":"School-wide enablers"},{"$f":"IFERROR(INDEX(E$3:E$296,SMALL(IF(B$3:B$296=\"In\",ROW(D$2:D$295)-ROW(D$2)+1),ROW(D3))),\"\")","v":"2. Give priority to financial education initiatives "},{"$f":"IFERROR(INDEX(F$3:F$296,SMALL(IF(B$3:B$296=\"In\",ROW(F$2:F$295)-ROW(E$2)+1),ROW(E3))),\"\")","v":"The centre has a vision and strategic planning including financial education which it will share with all stakeholders"},{"$f":"IFERROR(INDEX(G$3:G$296,SMALL(IF(B$3:B$296=\"In\",ROW(G$2:G$295)-ROW(F$2)+1),ROW(F3))),\"\")","v":"Updates to senior management and governing body (in relation to the development of financial education) "},{"$f":"IFERROR(INDEX(H$3:H$296,SMALL(IF(B$3:B$296=\"In\",ROW(H$2:H$295)-ROW(G$2)+1),ROW(G3))),\"\")","v":"Self-report survey question (teacher/school level)"},{"$f":"IFERROR(INDEX(I$3:I$296,SMALL(IF(B$3:B$296=\"In\",ROW(I$2:I$295)-ROW(H$2)+1),ROW(H3))),\"\")","v":"Q - How frequently has your school sent internal updates mentioning financial education development? A -  Never / Rarely  / Sometimes / Often "},{"$f":"IFERROR(INDEX(J$3:J$296,SMALL(IF(B$3:B$296=\"In\",ROW(J$2:J$295)-ROW(I$2)+1),ROW(I3))),\"\")","v":"C - Pa mor aml mae eich ysgol wedi anfon diweddariadau mewnol yn crybwyll datblygu addysg ariannol? A - Byth / Yn anaml / Weithiau / Yn aml "},{"$f":"IFERROR(INDEX(K$3:K$296,SMALL(IF(B$3:B$296=\"In\",ROW(K$2:K$295)-ROW(I$2)+1),ROW(I3))),\"\")","v":0}]
[true,"In","School-wide enablers",4,"2. Give priority to financial education initiatives ","The centre has a vision and strategic planning including financial education which it will share with all stakeholders","Record of notes, agendas and meeting minutes with mention of the vision statement and financial education ","Self-report survey question (teacher/school level)","Q - How frequently has financial education been mentioned in internal communications (meeting minutes, agendas or notes  A -  Never / Rarely / Sometimes / Often","C - Pa mor aml mae addysg ariannol wedi cael ei grybwyll mewn cyfathrebu mewnol (cofnodion cyfarfodydd, agendâu neu nodiadau A - Byth / Yn anaml / Weithiau / Yn aml",null,null,null,null,{"$f":"IFERROR(INDEX(D$3:D$296,SMALL(IF(B$3:B$296=\"In\",ROW(D$2:D$295)-ROW(D$2)+1),ROW(D4))),\"\")","v":52},{"$f":"IFERROR(INDEX(C$3:C$296,SMALL(IF(B$3:B$296=\"In\",ROW(C$2:C$295)-ROW(D$2)+1),ROW(D4))),\"\")","v":"Championing and promoting financial education"},{"$f":"IFERROR(INDEX(E$3:E$296,SMALL(IF(B$3:B$296=\"In\",ROW(D$2:D$295)-ROW(D$2)+1),ROW(D4))),\"\")","v":"Engaging with parents/carers and local stakeholders"},{"$f":"IFERROR(INDEX(F$3:F$296,SMALL(IF(B$3:B$296=\"In\",ROW(F$2:F$295)-ROW(E$2)+1),ROW(E4))),\"\")","v":"Teachers report on individual student achievement to their parents/carers, and class/year/school-level achievement to other stakeholders"},{"$f":"IFERROR(INDEX(G$3:G$296,SMALL(IF(B$3:B$296=\"In\",ROW(G$2:G$295)-ROW(F$2)+1),ROW(F4))),\"\")","v":"Teachers provide parents/carers with individual feedback on their children's financial capability gains and report on the financial capability gains of the year group as a whole "},{"$f":"IFERROR(INDEX(H$3:H$296,SMALL(IF(B$3:B$296=\"In\",ROW(H$2:H$295)-ROW(G$2)+1),ROW(G4))),\"\")","v":"Self-report survey question (teacher level) "},{"$f":"IFERROR(INDEX(I$3:I$296,SMALL(IF(B$3:B$296=\"In\",ROW(I$2:I$295)-ROW(H$2)+1),ROW(H4))),\"\")","v":"Q1. How frequently have you included pupils' financial capability learning in school reports going to parents/carers/year group? A - very frequently - frequently - rarely - never "},{"$f":"IFERROR(INDEX(J$3:J$296,SMALL(IF(B$3:B$296=\"In\",ROW(J$2:J$295)-ROW(I$2)+1),ROW(I4))),\"\")","v":"C1. Pa mor aml ydych chi wedi cynnwys addysg gallu ariannol y disgyblion mewn adroddiadau ysgol sy’n mynd at rieni/gofalwyr/grŵp blwyddyn? A - yn aml iawn - yn aml - yn anaml - byth "},{"$f":"IFERROR(INDEX(K$3:K$296,SMALL(IF(B$3:B$296=\"In\",ROW(K$2:K$295)-ROW(I$2)+1),ROW(I4))),\"\")","v":0}]
[true,"In","School-wide enablers",5,"2. Give priority to financial education initiatives ","The centre has a vision and strategic planning including financial education which it will share with all stakeholders","Updates to senior management and governing body (in relation to the development of financial education) ","Self-report survey question (teacher/school level)","Q - How frequently has your school sent internal updates mentioning financial education development? A -  Never / Rarely  / Sometimes / Often ","C - Pa mor aml mae eich ysgol wedi anfon diweddariadau mewnol yn crybwyll datblygu addysg ariannol? A - Byth / Yn anaml / Weithiau / Yn aml ",null,null,null,null,{"$f":"IFERROR(INDEX(D$3:D$296,SMALL(IF(B$3:B$296=\"In\",ROW(D$2:D$295)-ROW(D$2)+1),ROW(D5))),\"\")","v":""},{"$f":"IFERROR(INDEX(C$3:C$296,SMALL(IF(B$3:B$296=\"In\",ROW(C$2:C$295)-ROW(D$2)+1),ROW(D5))),\"\")","v":""},{"$f":"IFERROR(INDEX(E$3:E$296,SMALL(IF(B$3:B$296=\"In\",ROW(D$2:D$295)-ROW(D$2)+1),ROW(D5))),\"\")","v":""},{"$f":"IFERROR(INDEX(F$3:F$296,SMALL(IF(B$3:B$296=\"In\",ROW(F$2:F$295)-ROW(E$2)+1),ROW(E5))),\"\")","v":""},{"$f":"IFERROR(INDEX(G$3:G$296,SMALL(IF(B$3:B$296=\"In\",ROW(G$2:G$295)-ROW(F$2)+1),ROW(F5))),\"\")","v":""},{"$f":"IFERROR(INDEX(H$3:H$296,SMALL(IF(B$3:B$296=\"In\",ROW(H$2:H$295)-ROW(G$2)+1),ROW(G5))),\"\")","v":""},{"$f":"IFERROR(INDEX(I$3:I$296,SMALL(IF(B$3:B$296=\"In\",ROW(I$2:I$295)-ROW(H$2)+1),ROW(H5))),\"\")","v":""},{"$f":"IFERROR(INDEX(J$3:J$296,SMALL(IF(B$3:B$296=\"In\",ROW(J$2:J$295)-ROW(I$2)+1),ROW(I5))),\"\")","v":""},{"$f":"IFERROR(INDEX(K$3:K$296,SMALL(IF(B$3:B$296=\"In\",ROW(K$2:K$295)-ROW(I$2)+1),ROW(I5))),\"\")","v":""}]
[false,"Out","School-wide enablers",6,"3. Appoint a school-based financial education lead","The centre recognises the value of a centre-wide coordinator in supporting financial education developments","The school possess a financial education lead or is in the process of appointing one","Self-report survey question (teacher/school level)","Q1 - To what extent do you think your school is likely to appoint a financial education lead? A - definitely will - probably will -  probably not - definitely not + I don't know. Q2. Do you believe your school understands the importance in appointing a financial education lead? A- strongly agree - agree - disagree - strongly disagree","C1 - I ba raddau ydych chi'n meddwl y bydd eich ysgol yn debygol o benodi arweinydd addysg ariannol? A - bydd yn gwneud hynny’n bendant - mae'n debyg y gwnaiff - mae'n debyg na wnaiff - mae’n bendant na wnaiff + dydw i ddim yn gwybod. C2. Ydych chi’n credu bod eich ysgol yn deall pwysigrwydd penodi arweinydd addysg ariannol? A- cytuno’n gryf - cytuno - anghytuno - anghytuno'n gryf",null,null,null,null,{"$f":"IFERROR(INDEX(D$3:D$296,SMALL(IF(B$3:B$296=\"In\",ROW(D$2:D$295)-ROW(D$2)+1),ROW(D6))),\"\")","v":""},{"$f":"IFERROR(INDEX(C$3:C$296,SMALL(IF(B$3:B$296=\"In\",ROW(C$2:C$295)-ROW(D$2)+1),ROW(D6))),\"\")","v":""},{"$f":"IFERROR(INDEX(E$3:E$296,SMALL(IF(B$3:B$296=\"In\",ROW(D$2:D$295)-ROW(D$2)+1),ROW(D6))),\"\")","v":""},{"$f":"IFERROR(INDEX(F$3:F$296,SMALL(IF(B$3:B$296=\"In\",ROW(F$2:F$295)-ROW(E$2)+1),ROW(E6))),\"\")","v":""},{"$f":"IFERROR(INDEX(G$3:G$296,SMALL(IF(B$3:B$296=\"In\",ROW(G$2:G$295)-ROW(F$2)+1),ROW(F6))),\"\")","v":""},{"$f":"IFERROR(INDEX(H$3:H$296,SMALL(IF(B$3:B$296=\"In\",ROW(H$2:H$295)-ROW(G$2)+1),ROW(G6))),\"\")","v":""},{"$f":"IFERROR(INDEX(I$3:I$296,SMALL(IF(B$3:B$296=\"In\",ROW(I$2:I$295)-ROW(H$2)+1),ROW(H6))),\"\")","v":""},{"$f":"IFERROR(INDEX(J$3:J$296,SMALL(IF(B$3:B$296=\"In\",ROW(J$2:J$295)-ROW(I$2)+1),ROW(I6))),\"\")","v":""},{"$f":"IFERROR(INDEX(K$3:K$296,SMALL(IF(B$3:B$296=\"In\",ROW(K$2:K$295)-ROW(I$2)+1),ROW(I6))),\"\")","v":""}]
[false,"Out","School-wide enablers",7,"4. Establish links with businesses in local community and other relevant organisations  ","The centre develops a plan to showcase and share financial education practice with other centres ","Number/frequency of events (planned or past) i.e. local networking, events/conferences","Self-report survey question (teacher/school level)","Q - How frequently have events around financial education occurred over the last academic year ? A - most days / most weeks / about once a month / 2-3 times a year / almost never","C - Pa mor aml mae digwyddiadau ynghylch addysg ariannol wedi digwydd yn ystod y flwyddyn academaidd ddiwethaf? A - y rhan fwyaf o ddyddiau / y rhan fwyaf o wythnosau / tua unwaith y mis / 2-3 gwaith y flwyddyn / byth, bron",null,null,null,null,{"$f":"IFERROR(INDEX(D$3:D$296,SMALL(IF(B$3:B$296=\"In\",ROW(D$2:D$295)-ROW(D$2)+1),ROW(D7))),\"\")","v":""},{"$f":"IFERROR(INDEX(C$3:C$296,SMALL(IF(B$3:B$296=\"In\",ROW(C$2:C$295)-ROW(D$2)+1),ROW(D7))),\"\")","v":""},{"$f":"IFERROR(INDEX(E$3:E$296,SMALL(IF(B$3:B$296=\"In\",ROW(D$2:D$295)-ROW(D$2)+1),ROW(D7))),\"\")","v":""},{"$f":"IFERROR(INDEX(F$3:F$296,SMALL(IF(B$3:B$296=\"In\",ROW(F$2:F$295)-ROW(E$2)+1),ROW(E7))),\"\")","v":""},{"$f":"IFERROR(INDEX(G$3:G$296,SMALL(IF(B$3:B$296=\"In\",ROW(G$2:G$295)-ROW(F$2)+1),ROW(F7))),\"\")","v":""},{"$f":"IFERROR(INDEX(H$3:H$296,SMALL(IF(B$3:B$296=\"In\",ROW(H$2:H$295)-ROW(G$2)+1),ROW(G7))),\"\")","v":""},{"$f":"IFERROR(INDEX(I$3:I$296,SMALL(IF(B$3:B$296=\"In\",ROW(I$2:I$295)-ROW(H$2)+1),ROW(H7))),\"\")","v":""},{"$f":"IFERROR(INDEX(J$3:J$296,SMALL(IF(B$3:B$296=\"In\",ROW(J$2:J$295)-ROW(I$2)+1),ROW(I7))),\"\")","v":""},{"$f":"IFERROR(INDEX(K$3:K$296,SMALL(IF(B$3:B$296=\"In\",ROW(K$2:K$295)-ROW(I$2)+1),ROW(I7))),\"\")","v":""}]
[false,"Out","School-wide enablers",8,"5. Facilitate the sharing of best practice within the school  & outside school","The centre showcases financial education on external facing outlets i.e. website","Number /frequency of events (planned or past) where other schools are invited to attend in-house learning visits","Self-report survey question (teacher/school level) + Documentary evidence ","Q - How frequently have events around financial education  occurred  with other schools over the last academic year ? A - most days / most weeks / about once a month / 2-3 times a year / almost never ","C - Pa mor aml mae digwyddiadau ynghylch addysg ariannol wedi digwydd gydag ysgolion eraill yn ystod y flwyddyn academaidd ddiwethaf? A - y rhan fwyaf o ddyddiau / y rhan fwyaf o wythnosau / tua unwaith y mis / 2-3 gwaith y flwyddyn / byth, bron ","Documentary evidence showcasing financial education interventions in the school",null,null,null,{"$f":"IFERROR(INDEX(D$3:D$296,SMALL(IF(B$3:B$296=\"In\",ROW(D$2:D$295)-ROW(D$2)+1),ROW(D8))),\"\")","v":""},{"$f":"IFERROR(INDEX(C$3:C$296,SMALL(IF(B$3:B$296=\"In\",ROW(C$2:C$295)-ROW(D$2)+1),ROW(D8))),\"\")","v":""},{"$f":"IFERROR(INDEX(E$3:E$296,SMALL(IF(B$3:B$296=\"In\",ROW(D$2:D$295)-ROW(D$2)+1),ROW(D8))),\"\")","v":""},{"$f":"IFERROR(INDEX(F$3:F$296,SMALL(IF(B$3:B$296=\"In\",ROW(F$2:F$295)-ROW(E$2)+1),ROW(E8))),\"\")","v":""},{"$f":"IFERROR(INDEX(G$3:G$296,SMALL(IF(B$3:B$296=\"In\",ROW(G$2:G$295)-ROW(F$2)+1),ROW(F8))),\"\")","v":""},{"$f":"IFERROR(INDEX(H$3:H$296,SMALL(IF(B$3:B$296=\"In\",ROW(H$2:H$295)-ROW(G$2)+1),ROW(G8))),\"\")","v":""},{"$f":"IFERROR(INDEX(I$3:I$296,SMALL(IF(B$3:B$296=\"In\",ROW(I$2:I$295)-ROW(H$2)+1),ROW(H8))),\"\")","v":""},{"$f":"IFERROR(INDEX(J$3:J$296,SMALL(IF(B$3:B$296=\"In\",ROW(J$2:J$295)-ROW(I$2)+1),ROW(I8))),\"\")","v":""},{"$f":"IFERROR(INDEX(K$3:K$296,SMALL(IF(B$3:B$296=\"In\",ROW(K$2:K$295)-ROW(I$2)+1),ROW(I8))),\"\")","v":""}]
[false,"Out","School-wide enablers",9,"5. Facilitate the sharing of best practice within the school  & outside school","The centre showcases financial education implementation and development in internal information updates","Financial education mentioned in internal communications i.e. emails / year group meetings / assemblies","Self-report survey question (teacher/school level)","Q - How often is financial education mentioned in your school's internal communication?  A - always - sometimes - rarely - never","C - Pa mor aml mae addysg ariannol yn cael ei grybwyll yng ngohebiaeth fewnol eich ysgol?  A - Bob amser - weithiau - yn anaml - byth",null,null,null,null,{"$f":"IFERROR(INDEX(D$3:D$296,SMALL(IF(B$3:B$296=\"In\",ROW(D$2:D$295)-ROW(D$2)+1),ROW(D9))),\"\")","v":""},{"$f":"IFERROR(INDEX(C$3:C$296,SMALL(IF(B$3:B$296=\"In\",ROW(C$2:C$295)-ROW(D$2)+1),ROW(D9))),\"\")","v":""},{"$f":"IFERROR(INDEX(E$3:E$296,SMALL(IF(B$3:B$296=\"In\",ROW(D$2:D$295)-ROW(D$2)+1),ROW(D9))),\"\")","v":""},{"$f":"IFERROR(INDEX(F$3:F$296,SMALL(IF(B$3:B$296=\"In\",ROW(F$2:F$295)-ROW(E$2)+1),ROW(E9))),\"\")","v":""},{"$f":"IFERROR(INDEX(G$3:G$296,SMALL(IF(B$3:B$296=\"In\",ROW(G$2:G$295)-ROW(F$2)+1),ROW(F9))),\"\")","v":""},{"$f":"IFERROR(INDEX(H$3:H$296,SMALL(IF(B$3:B$296=\"In\",ROW(H$2:H$295)-ROW(G$2)+1),ROW(G9))),\"\")","v":""},{"$f":"IFERROR(INDEX(I$3:I$296,SMALL(IF(B$3:B$296=\"In\",ROW(I$2:I$295)-ROW(H$2)+1),ROW(H9))),\"\")","v":""},{"$f":"IFERROR(INDEX(J$3:J$296,SMALL(IF(B$3:B$296=\"In\",ROW(J$2:J$295)-ROW(I$2)+1),ROW(I9))),\"\")","v":""},{"$f":"IFERROR(INDEX(K$3:K$296,SMALL(IF(B$3:B$296=\"In\",ROW(K$2:K$295)-ROW(I$2)+1),ROW(I9))),\"\")","v":""}]
[false,"Out","School-wide enablers",10,"5. Facilitate the sharing of best practice within the school  & outside school","The centre showcases financial education  in information to parents/carers","Financial education is mentioned in communication and meetings with parents/carers","Self-report survey question (teacher/school level)","Q - How often is financial education mentioned in communication to parents/carers? A - always - sometimes - rarely - never","C - Pa mor aml mae addysg ariannol yn cael ei grybwyll mewn gohebiaeth â rhieni/gofalwyr? A - Bob amser - weithiau - yn anaml - byth",null,null,null,null,{"$f":"IFERROR(INDEX(D$3:D$296,SMALL(IF(B$3:B$296=\"In\",ROW(D$2:D$295)-ROW(D$2)+1),ROW(D10))),\"\")","v":""},{"$f":"IFERROR(INDEX(C$3:C$296,SMALL(IF(B$3:B$296=\"In\",ROW(C$2:C$295)-ROW(D$2)+1),ROW(D10))),\"\")","v":""},{"$f":"IFERROR(INDEX(E$3:E$296,SMALL(IF(B$3:B$296=\"In\",ROW(D$2:D$295)-ROW(D$2)+1),ROW(D10))),\"\")","v":""},{"$f":"IFERROR(INDEX(F$3:F$296,SMALL(IF(B$3:B$296=\"In\",ROW(F$2:F$295)-ROW(E$2)+1),ROW(E10))),\"\")","v":""},{"$f":"IFERROR(INDEX(G$3:G$296,SMALL(IF(B$3:B$296=\"In\",ROW(G$2:G$295)-ROW(F$2)+1),ROW(F10))),\"\")","v":""},{"$f":"IFERROR(INDEX(H$3:H$296,SMALL(IF(B$3:B$296=\"In\",ROW(H$2:H$295)-ROW(G$2)+1),ROW(G10))),\"\")","v":""},{"$f":"IFERROR(INDEX(I$3:I$296,SMALL(IF(B$3:B$296=\"In\",ROW(I$2:I$295)-ROW(H$2)+1),ROW(H10))),\"\")","v":""},{"$f":"IFERROR(INDEX(J$3:J$296,SMALL(IF(B$3:B$296=\"In\",ROW(J$2:J$295)-ROW(I$2)+1),ROW(I10))),\"\")","v":""},{"$f":"IFERROR(INDEX(K$3:K$296,SMALL(IF(B$3:B$296=\"In\",ROW(K$2:K$295)-ROW(I$2)+1),ROW(I10))),\"\")","v":""}]
[false,"Out","Financial education, attitudes, knowledge and practice",11,"Belief in the value of financial education for children and young people","Teachers recognise the importance of financial education in schools and the role that they play in delivering it","Teachers believe that financial capability is an important life skill that children and young people should be supported to develop from a young age (3+)","Self-report survey question (teacher level)","Q1 Children need to develop financial capabilities from a young age to ensure they can make informed money management decision in adulthood. Q2 I am aware of the benefits of financial education into young people (personal) development. Q3 I am aware of how young people financial capability can affect their future wellbeing (debt, income, tax payments etc.)  As - Strongly agree - agree - disagree - strongly disagree ","C1 Mae angen i blant ddatblygu galluoedd ariannol o oedran ifanc i sicrhau y gallan nhw wneud penderfyniad gwybodus ar reoli arian pan fyddan nhw’n oedolion. C2 Rydw i'n ymwybodol o fanteision addysg ariannol i bobl ifanc o safbwynt datblygiad (personol). C3 Rydw i’n ymwybodol sut gall gallu ariannol pobl ifanc effeithio ar eu lles yn y dyfodol (dyled, incwm, taliadau treth ac ati) A - Cytuno'n gryf - cytuno - anghytuno - anghytuno'n gryf ",null,null,null,null,{"$f":"IFERROR(INDEX(D$3:D$296,SMALL(IF(B$3:B$296=\"In\",ROW(D$2:D$295)-ROW(D$2)+1),ROW(D11))),\"\")","v":""},{"$f":"IFERROR(INDEX(C$3:C$296,SMALL(IF(B$3:B$296=\"In\",ROW(C$2:C$295)-ROW(D$2)+1),ROW(D11))),\"\")","v":""},{"$f":"IFERROR(INDEX(E$3:E$296,SMALL(IF(B$3:B$296=\"In\",ROW(D$2:D$295)-ROW(D$2)+1),ROW(D11))),\"\")","v":""},{"$f":"IFERROR(INDEX(F$3:F$296,SMALL(IF(B$3:B$296=\"In\",ROW(F$2:F$295)-ROW(E$2)+1),ROW(E11))),\"\")","v":""},{"$f":"IFERROR(INDEX(G$3:G$296,SMALL(IF(B$3:B$296=\"In\",ROW(G$2:G$295)-ROW(F$2)+1),ROW(F11))),\"\")","v":""},{"$f":"IFERROR(INDEX(H$3:H$296,SMALL(IF(B$3:B$296=\"In\",ROW(H$2:H$295)-ROW(G$2)+1),ROW(G11))),\"\")","v":""},{"$f":"IFERROR(INDEX(I$3:I$296,SMALL(IF(B$3:B$296=\"In\",ROW(I$2:I$295)-ROW(H$2)+1),ROW(H11))),\"\")","v":""},{"$f":"IFERROR(INDEX(J$3:J$296,SMALL(IF(B$3:B$296=\"In\",ROW(J$2:J$295)-ROW(I$2)+1),ROW(I11))),\"\")","v":""},{"$f":"IFERROR(INDEX(K$3:K$296,SMALL(IF(B$3:B$296=\"In\",ROW(K$2:K$295)-ROW(I$2)+1),ROW(I11))),\"\")","v":""}]
[false,"Out","Financial education, attitudes, knowledge and practice",12,"Belief in the value of financial education for children and young people","Teachers recognise the importance of financial education in schools and the role that they play in delivering it","Teachers believe that schools are an important channel through which children and young people learn about how to manage money to improve financial capability, and that teachers have a vital role in the delivery of financial education ","Self-report survey question (teacher level)","Q1. I believe that schools are an important channel in delivering financial education to young people A - strongly agree - agree - disagree - strongly disagree. Q2. I recognise that teachers are a valuable intermediary in delivering financial education to young people. A: strongly agree - agree - disagree - strongly disagree ","C1. Credaf fod ysgolion yn gyfrwng pwysig o ran cyflwyno addysg ariannol i bobl ifanc A - cytuno'n gryf - cytuno - anghytuno - anghytuno'n gryf. C2. Rydw i'n cydnabod bod athrawon yn gyfryngwyr gwerthfawr o ran darparu addysg ariannol i bobl ifanc. A: cytuno'n gryf - cytuno - anghytuno - anghytuno'n gryf ",null,null,null,null,{"$f":"IFERROR(INDEX(D$3:D$296,SMALL(IF(B$3:B$296=\"In\",ROW(D$2:D$295)-ROW(D$2)+1),ROW(D12))),\"\")","v":""},{"$f":"IFERROR(INDEX(C$3:C$296,SMALL(IF(B$3:B$296=\"In\",ROW(C$2:C$295)-ROW(D$2)+1),ROW(D12))),\"\")","v":""},{"$f":"IFERROR(INDEX(E$3:E$296,SMALL(IF(B$3:B$296=\"In\",ROW(D$2:D$295)-ROW(D$2)+1),ROW(D12))),\"\")","v":""},{"$f":"IFERROR(INDEX(F$3:F$296,SMALL(IF(B$3:B$296=\"In\",ROW(F$2:F$295)-ROW(E$2)+1),ROW(E12))),\"\")","v":""},{"$f":"IFERROR(INDEX(G$3:G$296,SMALL(IF(B$3:B$296=\"In\",ROW(G$2:G$295)-ROW(F$2)+1),ROW(F12))),\"\")","v":""},{"$f":"IFERROR(INDEX(H$3:H$296,SMALL(IF(B$3:B$296=\"In\",ROW(H$2:H$295)-ROW(G$2)+1),ROW(G12))),\"\")","v":""},{"$f":"IFERROR(INDEX(I$3:I$296,SMALL(IF(B$3:B$296=\"In\",ROW(I$2:I$295)-ROW(H$2)+1),ROW(H12))),\"\")","v":""},{"$f":"IFERROR(INDEX(J$3:J$296,SMALL(IF(B$3:B$296=\"In\",ROW(J$2:J$295)-ROW(I$2)+1),ROW(I12))),\"\")","v":""},{"$f":"IFERROR(INDEX(K$3:K$296,SMALL(IF(B$3:B$296=\"In\",ROW(K$2:K$295)-ROW(I$2)+1),ROW(I12))),\"\")","v":""}]
[false,"Out","Financial education, attitudes, knowledge and practice",13,"Financial education knowledge and practice","Teachers know and understand the financial education curriculum content","Teachers know the various financial education themes ","Self-report survey question (teacher level)","Q1 I am aware of the various strands in financial education A - strongly agree - agree - disagree - strongly disagree Q2 I understand that financial education is composed of various themes each reflecting a different dimension of money management and financial acumen (or) each reflecting various subjects and circumstances A - strongly agree - agree - disagree - strongly disagree","C1 Rydw i’n ymwybodol o wahanol elfennau addysg ariannol A - cytuno'n gryf - cytuno - anghytuno - anghytuno'n gryf C2 Rydw i'n deall bod addysg ariannol yn cynnwys themâu amrywiol, gyda phob un yn adlewyrchu dimensiwn gwahanol o reoli arian a chraffter ariannol (neu) bob un yn adlewyrchu gwahanol bynciau ac amgylchiadau A - cytuno'n gryf - cytuno - anghytuno - anghytuno'n gryf",null,null,null,null,{"$f":"IFERROR(INDEX(D$3:D$296,SMALL(IF(B$3:B$296=\"In\",ROW(D$2:D$295)-ROW(D$2)+1),ROW(D13))),\"\")","v":""},{"$f":"IFERROR(INDEX(C$3:C$296,SMALL(IF(B$3:B$296=\"In\",ROW(C$2:C$295)-ROW(D$2)+1),ROW(D13))),\"\")","v":""},{"$f":"IFERROR(INDEX(E$3:E$296,SMALL(IF(B$3:B$296=\"In\",ROW(D$2:D$295)-ROW(D$2)+1),ROW(D13))),\"\")","v":""},{"$f":"IFERROR(INDEX(F$3:F$296,SMALL(IF(B$3:B$296=\"In\",ROW(F$2:F$295)-ROW(E$2)+1),ROW(E13))),\"\")","v":""},{"$f":"IFERROR(INDEX(G$3:G$296,SMALL(IF(B$3:B$296=\"In\",ROW(G$2:G$295)-ROW(F$2)+1),ROW(F13))),\"\")","v":""},{"$f":"IFERROR(INDEX(H$3:H$296,SMALL(IF(B$3:B$296=\"In\",ROW(H$2:H$295)-ROW(G$2)+1),ROW(G13))),\"\")","v":""},{"$f":"IFERROR(INDEX(I$3:I$296,SMALL(IF(B$3:B$296=\"In\",ROW(I$2:I$295)-ROW(H$2)+1),ROW(H13))),\"\")","v":""},{"$f":"IFERROR(INDEX(J$3:J$296,SMALL(IF(B$3:B$296=\"In\",ROW(J$2:J$295)-ROW(I$2)+1),ROW(I13))),\"\")","v":""},{"$f":"IFERROR(INDEX(K$3:K$296,SMALL(IF(B$3:B$296=\"In\",ROW(K$2:K$295)-ROW(I$2)+1),ROW(I13))),\"\")","v":""}]
[false,"Out","Financial education, attitudes, knowledge and practice",14,"Financial education knowledge and practice","Teachers understand the most effective ways to develop children and young people’s financial capability","Teachers recognise the importance of practical learning experences in improving pupils' financial capability and incorporate this into their lessons","Documentary evidence + Self-report survey question (teacher level)","Q1. How important do you feel providing practical learning experiences based on day to day financial matters is in developing your pupils' financial capabilities? A. very important - quite important - not very important - not important at all ","C1. Yn eich barn chi, pa mor bwysig ydi darparu profiadau dysgu ymarferol yn seiliedig ar faterion ariannol o ddydd i ddydd wrth ddatblygu galluoedd ariannol eich disgyblion? A. pwysig iawn - eithaf pwysig - ddim yn bwysig iawn - ddim yn bwysig o gwbl ","Documentary evidence of lesson plans incorporating interactive teaching resources ",null,null,null,{"$f":"IFERROR(INDEX(D$3:D$296,SMALL(IF(B$3:B$296=\"In\",ROW(D$2:D$295)-ROW(D$2)+1),ROW(D14))),\"\")","v":""},{"$f":"IFERROR(INDEX(C$3:C$296,SMALL(IF(B$3:B$296=\"In\",ROW(C$2:C$295)-ROW(D$2)+1),ROW(D14))),\"\")","v":""},{"$f":"IFERROR(INDEX(E$3:E$296,SMALL(IF(B$3:B$296=\"In\",ROW(D$2:D$295)-ROW(D$2)+1),ROW(D14))),\"\")","v":""},{"$f":"IFERROR(INDEX(F$3:F$296,SMALL(IF(B$3:B$296=\"In\",ROW(F$2:F$295)-ROW(E$2)+1),ROW(E14))),\"\")","v":""},{"$f":"IFERROR(INDEX(G$3:G$296,SMALL(IF(B$3:B$296=\"In\",ROW(G$2:G$295)-ROW(F$2)+1),ROW(F14))),\"\")","v":""},{"$f":"IFERROR(INDEX(H$3:H$296,SMALL(IF(B$3:B$296=\"In\",ROW(H$2:H$295)-ROW(G$2)+1),ROW(G14))),\"\")","v":""},{"$f":"IFERROR(INDEX(I$3:I$296,SMALL(IF(B$3:B$296=\"In\",ROW(I$2:I$295)-ROW(H$2)+1),ROW(H14))),\"\")","v":""},{"$f":"IFERROR(INDEX(J$3:J$296,SMALL(IF(B$3:B$296=\"In\",ROW(J$2:J$295)-ROW(I$2)+1),ROW(I14))),\"\")","v":""},{"$f":"IFERROR(INDEX(K$3:K$296,SMALL(IF(B$3:B$296=\"In\",ROW(K$2:K$295)-ROW(I$2)+1),ROW(I14))),\"\")","v":""}]
[false,"Out","Financial education, attitudes, knowledge and practice",15,"Financial education knowledge and practice","Teachers understand the most effective ways to develop children and young people’s financial capability","Teachers recognise the importance of making financial education fun and interactive, and incorporate engaging exercises into their lessons","Documentary evidence",null,null,"Sample learning activities provided in the context of real life situations, involving some simulations (documented activities and intended learning outcomes)",null,null,null,{"$f":"IFERROR(INDEX(D$3:D$296,SMALL(IF(B$3:B$296=\"In\",ROW(D$2:D$295)-ROW(D$2)+1),ROW(D15))),\"\")","v":""},{"$f":"IFERROR(INDEX(C$3:C$296,SMALL(IF(B$3:B$296=\"In\",ROW(C$2:C$295)-ROW(D$2)+1),ROW(D15))),\"\")","v":""},{"$f":"IFERROR(INDEX(E$3:E$296,SMALL(IF(B$3:B$296=\"In\",ROW(D$2:D$295)-ROW(D$2)+1),ROW(D15))),\"\")","v":""},{"$f":"IFERROR(INDEX(F$3:F$296,SMALL(IF(B$3:B$296=\"In\",ROW(F$2:F$295)-ROW(E$2)+1),ROW(E15))),\"\")","v":""},{"$f":"IFERROR(INDEX(G$3:G$296,SMALL(IF(B$3:B$296=\"In\",ROW(G$2:G$295)-ROW(F$2)+1),ROW(F15))),\"\")","v":""},{"$f":"IFERROR(INDEX(H$3:H$296,SMALL(IF(B$3:B$296=\"In\",ROW(H$2:H$295)-ROW(G$2)+1),ROW(G15))),\"\")","v":""},{"$f":"IFERROR(INDEX(I$3:I$296,SMALL(IF(B$3:B$296=\"In\",ROW(I$2:I$295)-ROW(H$2)+1),ROW(H15))),\"\")","v":""},{"$f":"IFERROR(INDEX(J$3:J$296,SMALL(IF(B$3:B$296=\"In\",ROW(J$2:J$295)-ROW(I$2)+1),ROW(I15))),\"\")","v":""},{"$f":"IFERROR(INDEX(K$3:K$296,SMALL(IF(B$3:B$296=\"In\",ROW(K$2:K$295)-ROW(I$2)+1),ROW(I15))),\"\")","v":""}]
[false,"Out","Financial education, attitudes, knowledge and practice",16,"Financial education knowledge and practice","Teachers systematically integrate/embed financial education into lesson planning ","Ongoing plan enabling teachers to sustain high quality financial education intervention","Documentary evidence",null,null,"Examples of coherent development of lessons plan gradually incorporating and maintaining financial education in lesson plans",null,null,null,{"$f":"IFERROR(INDEX(D$3:D$296,SMALL(IF(B$3:B$296=\"In\",ROW(D$2:D$295)-ROW(D$2)+1),ROW(D16))),\"\")","v":""},{"$f":"IFERROR(INDEX(C$3:C$296,SMALL(IF(B$3:B$296=\"In\",ROW(C$2:C$295)-ROW(D$2)+1),ROW(D16))),\"\")","v":""},{"$f":"IFERROR(INDEX(E$3:E$296,SMALL(IF(B$3:B$296=\"In\",ROW(D$2:D$295)-ROW(D$2)+1),ROW(D16))),\"\")","v":""},{"$f":"IFERROR(INDEX(F$3:F$296,SMALL(IF(B$3:B$296=\"In\",ROW(F$2:F$295)-ROW(E$2)+1),ROW(E16))),\"\")","v":""},{"$f":"IFERROR(INDEX(G$3:G$296,SMALL(IF(B$3:B$296=\"In\",ROW(G$2:G$295)-ROW(F$2)+1),ROW(F16))),\"\")","v":""},{"$f":"IFERROR(INDEX(H$3:H$296,SMALL(IF(B$3:B$296=\"In\",ROW(H$2:H$295)-ROW(G$2)+1),ROW(G16))),\"\")","v":""},{"$f":"IFERROR(INDEX(I$3:I$296,SMALL(IF(B$3:B$296=\"In\",ROW(I$2:I$295)-ROW(H$2)+1),ROW(H16))),\"\")","v":""},{"$f":"IFERROR(INDEX(J$3:J$296,SMALL(IF(B$3:B$296=\"In\",ROW(J$2:J$295)-ROW(I$2)+1),ROW(I16))),\"\")","v":""},{"$f":"IFERROR(INDEX(K$3:K$296,SMALL(IF(B$3:B$296=\"In\",ROW(K$2:K$295)-ROW(I$2)+1),ROW(I16))),\"\")","v":""}]
[false,"Out","Financial education, attitudes, knowledge and practice",17,"Financial education knowledge and practice","Teachers apply  knowledge of effective ways to deliver financial education in the planning and development of engaging and relevant classroom-based activities (NEW)","Teachers apply understanding of financial education themes to their lessons learning outcomes ","Documentary evidence",null,null,"Examples of lesson plans covering a minimum of 2-3 financial education themes ",null,null,null,{"$f":"IFERROR(INDEX(D$3:D$296,SMALL(IF(B$3:B$296=\"In\",ROW(D$2:D$295)-ROW(D$2)+1),ROW(D17))),\"\")","v":""},{"$f":"IFERROR(INDEX(C$3:C$296,SMALL(IF(B$3:B$296=\"In\",ROW(C$2:C$295)-ROW(D$2)+1),ROW(D17))),\"\")","v":""},{"$f":"IFERROR(INDEX(E$3:E$296,SMALL(IF(B$3:B$296=\"In\",ROW(D$2:D$295)-ROW(D$2)+1),ROW(D17))),\"\")","v":""},{"$f":"IFERROR(INDEX(F$3:F$296,SMALL(IF(B$3:B$296=\"In\",ROW(F$2:F$295)-ROW(E$2)+1),ROW(E17))),\"\")","v":""},{"$f":"IFERROR(INDEX(G$3:G$296,SMALL(IF(B$3:B$296=\"In\",ROW(G$2:G$295)-ROW(F$2)+1),ROW(F17))),\"\")","v":""},{"$f":"IFERROR(INDEX(H$3:H$296,SMALL(IF(B$3:B$296=\"In\",ROW(H$2:H$295)-ROW(G$2)+1),ROW(G17))),\"\")","v":""},{"$f":"IFERROR(INDEX(I$3:I$296,SMALL(IF(B$3:B$296=\"In\",ROW(I$2:I$295)-ROW(H$2)+1),ROW(H17))),\"\")","v":""},{"$f":"IFERROR(INDEX(J$3:J$296,SMALL(IF(B$3:B$296=\"In\",ROW(J$2:J$295)-ROW(I$2)+1),ROW(I17))),\"\")","v":""},{"$f":"IFERROR(INDEX(K$3:K$296,SMALL(IF(B$3:B$296=\"In\",ROW(K$2:K$295)-ROW(I$2)+1),ROW(I17))),\"\")","v":""}]
[false,"Out","Financial education, attitudes, knowledge and practice",18,"Financial education knowledge and practice","Teachers apply  knowledge of effective ways to deliver financial education in the planning and development of engaging and relevant classroom-based activities (NEW)","Teachers identify areas of under-provision/knowledge in financial education and create targeted learning activities ","Documentary evidence ",null,null,"Baseline assessment - assessing pupils' starting point in terms of financial knowledge and skills, gather their views and seek to engage them in the planning and delivery process",null,null,null,{"$f":"IFERROR(INDEX(D$3:D$296,SMALL(IF(B$3:B$296=\"In\",ROW(D$2:D$295)-ROW(D$2)+1),ROW(D18))),\"\")","v":""},{"$f":"IFERROR(INDEX(C$3:C$296,SMALL(IF(B$3:B$296=\"In\",ROW(C$2:C$295)-ROW(D$2)+1),ROW(D18))),\"\")","v":""},{"$f":"IFERROR(INDEX(E$3:E$296,SMALL(IF(B$3:B$296=\"In\",ROW(D$2:D$295)-ROW(D$2)+1),ROW(D18))),\"\")","v":""},{"$f":"IFERROR(INDEX(F$3:F$296,SMALL(IF(B$3:B$296=\"In\",ROW(F$2:F$295)-ROW(E$2)+1),ROW(E18))),\"\")","v":""},{"$f":"IFERROR(INDEX(G$3:G$296,SMALL(IF(B$3:B$296=\"In\",ROW(G$2:G$295)-ROW(F$2)+1),ROW(F18))),\"\")","v":""},{"$f":"IFERROR(INDEX(H$3:H$296,SMALL(IF(B$3:B$296=\"In\",ROW(H$2:H$295)-ROW(G$2)+1),ROW(G18))),\"\")","v":""},{"$f":"IFERROR(INDEX(I$3:I$296,SMALL(IF(B$3:B$296=\"In\",ROW(I$2:I$295)-ROW(H$2)+1),ROW(H18))),\"\")","v":""},{"$f":"IFERROR(INDEX(J$3:J$296,SMALL(IF(B$3:B$296=\"In\",ROW(J$2:J$295)-ROW(I$2)+1),ROW(I18))),\"\")","v":""},{"$f":"IFERROR(INDEX(K$3:K$296,SMALL(IF(B$3:B$296=\"In\",ROW(K$2:K$295)-ROW(I$2)+1),ROW(I18))),\"\")","v":""}]
[false,"Out","Financial education, attitudes, knowledge and practice",19,"Financial education knowledge and practice","Teachers adapt activities taking into consideration their students’ socio-economic, cultural and religious background and the resulting implications for the financial issues and knowledge that will be relevant to them","Teachers consider students' socio-economic, cultural and religious  background to define financial educational needs and outcomes ","Documentary evidence &  school information (socio-economic, cultural and religious info)",null,null,"Teachers refer to appropriate learning framework (age) ",null,null,null,{"$f":"IFERROR(INDEX(D$3:D$296,SMALL(IF(B$3:B$296=\"In\",ROW(D$2:D$295)-ROW(D$2)+1),ROW(D19))),\"\")","v":""},{"$f":"IFERROR(INDEX(C$3:C$296,SMALL(IF(B$3:B$296=\"In\",ROW(C$2:C$295)-ROW(D$2)+1),ROW(D19))),\"\")","v":""},{"$f":"IFERROR(INDEX(E$3:E$296,SMALL(IF(B$3:B$296=\"In\",ROW(D$2:D$295)-ROW(D$2)+1),ROW(D19))),\"\")","v":""},{"$f":"IFERROR(INDEX(F$3:F$296,SMALL(IF(B$3:B$296=\"In\",ROW(F$2:F$295)-ROW(E$2)+1),ROW(E19))),\"\")","v":""},{"$f":"IFERROR(INDEX(G$3:G$296,SMALL(IF(B$3:B$296=\"In\",ROW(G$2:G$295)-ROW(F$2)+1),ROW(F19))),\"\")","v":""},{"$f":"IFERROR(INDEX(H$3:H$296,SMALL(IF(B$3:B$296=\"In\",ROW(H$2:H$295)-ROW(G$2)+1),ROW(G19))),\"\")","v":""},{"$f":"IFERROR(INDEX(I$3:I$296,SMALL(IF(B$3:B$296=\"In\",ROW(I$2:I$295)-ROW(H$2)+1),ROW(H19))),\"\")","v":""},{"$f":"IFERROR(INDEX(J$3:J$296,SMALL(IF(B$3:B$296=\"In\",ROW(J$2:J$295)-ROW(I$2)+1),ROW(I19))),\"\")","v":""},{"$f":"IFERROR(INDEX(K$3:K$296,SMALL(IF(B$3:B$296=\"In\",ROW(K$2:K$295)-ROW(I$2)+1),ROW(I19))),\"\")","v":""}]
[false,"Out","Financial education, attitudes, knowledge and practice",20,"Financial education knowledge and practice"," Teachers organise the lesson content to ensure a progression in financial education learning outcomes","The financial education outcomes delivered in each KS build on past learning to ensure increasing development of knowledge, understanding, attitudes and skills. ","Documentary evidence ",null,null,"Pupil progress review using appropriate learning framewor. Baseline assessment groups are revisited and progress on their learning are recorded. If focus group is held > with a group of pupils in each KS to help informing the development of the financial education provision.  ",null,null,null,{"$f":"IFERROR(INDEX(D$3:D$296,SMALL(IF(B$3:B$296=\"In\",ROW(D$2:D$295)-ROW(D$2)+1),ROW(D20))),\"\")","v":""},{"$f":"IFERROR(INDEX(C$3:C$296,SMALL(IF(B$3:B$296=\"In\",ROW(C$2:C$295)-ROW(D$2)+1),ROW(D20))),\"\")","v":""},{"$f":"IFERROR(INDEX(E$3:E$296,SMALL(IF(B$3:B$296=\"In\",ROW(D$2:D$295)-ROW(D$2)+1),ROW(D20))),\"\")","v":""},{"$f":"IFERROR(INDEX(F$3:F$296,SMALL(IF(B$3:B$296=\"In\",ROW(F$2:F$295)-ROW(E$2)+1),ROW(E20))),\"\")","v":""},{"$f":"IFERROR(INDEX(G$3:G$296,SMALL(IF(B$3:B$296=\"In\",ROW(G$2:G$295)-ROW(F$2)+1),ROW(F20))),\"\")","v":""},{"$f":"IFERROR(INDEX(H$3:H$296,SMALL(IF(B$3:B$296=\"In\",ROW(H$2:H$295)-ROW(G$2)+1),ROW(G20))),\"\")","v":""},{"$f":"IFERROR(INDEX(I$3:I$296,SMALL(IF(B$3:B$296=\"In\",ROW(I$2:I$295)-ROW(H$2)+1),ROW(H20))),\"\")","v":""},{"$f":"IFERROR(INDEX(J$3:J$296,SMALL(IF(B$3:B$296=\"In\",ROW(J$2:J$295)-ROW(I$2)+1),ROW(I20))),\"\")","v":""},{"$f":"IFERROR(INDEX(K$3:K$296,SMALL(IF(B$3:B$296=\"In\",ROW(K$2:K$295)-ROW(I$2)+1),ROW(I20))),\"\")","v":""}]
[false,"Out","Financial education, attitudes, knowledge and practice",21,"Financial education knowledge and practice","Teachers know of the various usage of modern technology in money management ","Teachers understand the importance of information and communication technologies in personal money management","Self-report survey questions (teacher level)","Q1. I recognise the importance of ICT in personal money management. A -strongly agree - agree - disagree - strongly disagree Q2. I see the importance of educating young people on ICT money management. A -strongly agree - agree - disagree - strongly disagree  ","C1. Rydw i'n cydnabod pwysigrwydd TGCh o ran rheoli arian personol. A: cytuno'n gryf - cytuno - anghytuno - anghytuno'n gryf C2. Rydw i'n gweld pwysigrwydd addysgu pobl ifanc am TGCh rheoli arian. A: cytuno'n gryf - cytuno - anghytuno - anghytuno'n gryf  ",null,null,null,null,{"$f":"IFERROR(INDEX(D$3:D$296,SMALL(IF(B$3:B$296=\"In\",ROW(D$2:D$295)-ROW(D$2)+1),ROW(D21))),\"\")","v":""},{"$f":"IFERROR(INDEX(C$3:C$296,SMALL(IF(B$3:B$296=\"In\",ROW(C$2:C$295)-ROW(D$2)+1),ROW(D21))),\"\")","v":""},{"$f":"IFERROR(INDEX(E$3:E$296,SMALL(IF(B$3:B$296=\"In\",ROW(D$2:D$295)-ROW(D$2)+1),ROW(D21))),\"\")","v":""},{"$f":"IFERROR(INDEX(F$3:F$296,SMALL(IF(B$3:B$296=\"In\",ROW(F$2:F$295)-ROW(E$2)+1),ROW(E21))),\"\")","v":""},{"$f":"IFERROR(INDEX(G$3:G$296,SMALL(IF(B$3:B$296=\"In\",ROW(G$2:G$295)-ROW(F$2)+1),ROW(F21))),\"\")","v":""},{"$f":"IFERROR(INDEX(H$3:H$296,SMALL(IF(B$3:B$296=\"In\",ROW(H$2:H$295)-ROW(G$2)+1),ROW(G21))),\"\")","v":""},{"$f":"IFERROR(INDEX(I$3:I$296,SMALL(IF(B$3:B$296=\"In\",ROW(I$2:I$295)-ROW(H$2)+1),ROW(H21))),\"\")","v":""},{"$f":"IFERROR(INDEX(J$3:J$296,SMALL(IF(B$3:B$296=\"In\",ROW(J$2:J$295)-ROW(I$2)+1),ROW(I21))),\"\")","v":""},{"$f":"IFERROR(INDEX(K$3:K$296,SMALL(IF(B$3:B$296=\"In\",ROW(K$2:K$295)-ROW(I$2)+1),ROW(I21))),\"\")","v":""}]
[false,"Out","Financial education, attitudes, knowledge and practice",22,"Accessing and using financial education guidance, advice and resources","Teachers access and use appropriate guidance, advice and resources to support the effective teaching of financial education  ","Teachers are aware of the range of guidance and support material available to them, and know how to access it","Self-report survey question (teacher level)","Q1. Are you aware of any financial education resources and guidance hub(s)? As - yes - no -partly  > skip logic > If yes, which one? OR Q2. Have you accessed any of the following financial education supporting documents and materials? -- -- -- -- -- (multiple choice) ","C1. Ydych chi'n ymwybodol o unrhyw adnodd addysg ariannol a chanolbwynt(iau) cyfarwyddyd? A - ydw - nac ydw - yn rhannol > sgipio rhesymeg> Os ydych chi, pa un? NEU C2. Ydych chi wedi troi at unrhyw un o'r dogfennau a deunyddiau ategol addysg ariannol a ganlyn? -- -- -- -- -- (aml-ddewis) ","Evidence of materials accessed ",null,null,null,{"$f":"IFERROR(INDEX(D$3:D$296,SMALL(IF(B$3:B$296=\"In\",ROW(D$2:D$295)-ROW(D$2)+1),ROW(D22))),\"\")","v":""},{"$f":"IFERROR(INDEX(C$3:C$296,SMALL(IF(B$3:B$296=\"In\",ROW(C$2:C$295)-ROW(D$2)+1),ROW(D22))),\"\")","v":""},{"$f":"IFERROR(INDEX(E$3:E$296,SMALL(IF(B$3:B$296=\"In\",ROW(D$2:D$295)-ROW(D$2)+1),ROW(D22))),\"\")","v":""},{"$f":"IFERROR(INDEX(F$3:F$296,SMALL(IF(B$3:B$296=\"In\",ROW(F$2:F$295)-ROW(E$2)+1),ROW(E22))),\"\")","v":""},{"$f":"IFERROR(INDEX(G$3:G$296,SMALL(IF(B$3:B$296=\"In\",ROW(G$2:G$295)-ROW(F$2)+1),ROW(F22))),\"\")","v":""},{"$f":"IFERROR(INDEX(H$3:H$296,SMALL(IF(B$3:B$296=\"In\",ROW(H$2:H$295)-ROW(G$2)+1),ROW(G22))),\"\")","v":""},{"$f":"IFERROR(INDEX(I$3:I$296,SMALL(IF(B$3:B$296=\"In\",ROW(I$2:I$295)-ROW(H$2)+1),ROW(H22))),\"\")","v":""},{"$f":"IFERROR(INDEX(J$3:J$296,SMALL(IF(B$3:B$296=\"In\",ROW(J$2:J$295)-ROW(I$2)+1),ROW(I22))),\"\")","v":""},{"$f":"IFERROR(INDEX(K$3:K$296,SMALL(IF(B$3:B$296=\"In\",ROW(K$2:K$295)-ROW(I$2)+1),ROW(I22))),\"\")","v":""}]
[false,"Out","Financial education, attitudes, knowledge and practice",23,"Accessing and using financial education guidance, advice and resources","Teachers access and use appropriate guidance, advice and resources to support the effective teaching of financial education  ","Teachers access and use high quality resources to support the teaching of financial capability","Self-report survey question (teacher level)","Q2. Have you applied  material accessed to guide your lesson planning? As- all of the time - most of the time - occasionally - never","C2. Ydych chi wedi darparu'r deunydd a ddefnyddiwyd i arwain eich gwaith cynllunio gwersi? A - bob amser - y rhan fwyaf o'r amser - yn achlysurol - byth","Evidence of materials used for guidance ",null,null,null,{"$f":"IFERROR(INDEX(D$3:D$296,SMALL(IF(B$3:B$296=\"In\",ROW(D$2:D$295)-ROW(D$2)+1),ROW(D23))),\"\")","v":""},{"$f":"IFERROR(INDEX(C$3:C$296,SMALL(IF(B$3:B$296=\"In\",ROW(C$2:C$295)-ROW(D$2)+1),ROW(D23))),\"\")","v":""},{"$f":"IFERROR(INDEX(E$3:E$296,SMALL(IF(B$3:B$296=\"In\",ROW(D$2:D$295)-ROW(D$2)+1),ROW(D23))),\"\")","v":""},{"$f":"IFERROR(INDEX(F$3:F$296,SMALL(IF(B$3:B$296=\"In\",ROW(F$2:F$295)-ROW(E$2)+1),ROW(E23))),\"\")","v":""},{"$f":"IFERROR(INDEX(G$3:G$296,SMALL(IF(B$3:B$296=\"In\",ROW(G$2:G$295)-ROW(F$2)+1),ROW(F23))),\"\")","v":""},{"$f":"IFERROR(INDEX(H$3:H$296,SMALL(IF(B$3:B$296=\"In\",ROW(H$2:H$295)-ROW(G$2)+1),ROW(G23))),\"\")","v":""},{"$f":"IFERROR(INDEX(I$3:I$296,SMALL(IF(B$3:B$296=\"In\",ROW(I$2:I$295)-ROW(H$2)+1),ROW(H23))),\"\")","v":""},{"$f":"IFERROR(INDEX(J$3:J$296,SMALL(IF(B$3:B$296=\"In\",ROW(J$2:J$295)-ROW(I$2)+1),ROW(I23))),\"\")","v":""},{"$f":"IFERROR(INDEX(K$3:K$296,SMALL(IF(B$3:B$296=\"In\",ROW(K$2:K$295)-ROW(I$2)+1),ROW(I23))),\"\")","v":""}]
[false,"Out","Financial education, attitudes, knowledge and practice",24,"Confidence in teaching financial education ","Teachers feel confident to design and deliver engaging and effective financial education lessons that meet curriculum requirements and the needs of pupils","Teachers express confidence in their ability to deliver engaging and effective financial education ","Self report survey question (teacher level) + documentary evidence ","Q1. How confident are you in designing financial education lesson plans? A - very confident - confident - unconfident - very unconfident Q2. How confident do you feel in delivering financial education to your pupils? A - very confident - confident - unconfident - very unconfident ","C1. Pa mor hyderus ydych chi wrth gynllunio cynlluniau gwersi addysg ariannol? A - hyderus iawn - hyderus - ddim yn hyderus - ddim yn hyderus o gwbl C2. Pa mor hyderus ydych chi'n teimlo wrth gyflwyno addysg ariannol i'ch disgyblion? A - hyderus iawn - hyderus - ddim yn hyderus - ddim yn hyderus o gwbl ","Evidence of lesson plan embedding financial education ",null,null,null,{"$f":"IFERROR(INDEX(D$3:D$296,SMALL(IF(B$3:B$296=\"In\",ROW(D$2:D$295)-ROW(D$2)+1),ROW(D24))),\"\")","v":""},{"$f":"IFERROR(INDEX(C$3:C$296,SMALL(IF(B$3:B$296=\"In\",ROW(C$2:C$295)-ROW(D$2)+1),ROW(D24))),\"\")","v":""},{"$f":"IFERROR(INDEX(E$3:E$296,SMALL(IF(B$3:B$296=\"In\",ROW(D$2:D$295)-ROW(D$2)+1),ROW(D24))),\"\")","v":""},{"$f":"IFERROR(INDEX(F$3:F$296,SMALL(IF(B$3:B$296=\"In\",ROW(F$2:F$295)-ROW(E$2)+1),ROW(E24))),\"\")","v":""},{"$f":"IFERROR(INDEX(G$3:G$296,SMALL(IF(B$3:B$296=\"In\",ROW(G$2:G$295)-ROW(F$2)+1),ROW(F24))),\"\")","v":""},{"$f":"IFERROR(INDEX(H$3:H$296,SMALL(IF(B$3:B$296=\"In\",ROW(H$2:H$295)-ROW(G$2)+1),ROW(G24))),\"\")","v":""},{"$f":"IFERROR(INDEX(I$3:I$296,SMALL(IF(B$3:B$296=\"In\",ROW(I$2:I$295)-ROW(H$2)+1),ROW(H24))),\"\")","v":""},{"$f":"IFERROR(INDEX(J$3:J$296,SMALL(IF(B$3:B$296=\"In\",ROW(J$2:J$295)-ROW(I$2)+1),ROW(I24))),\"\")","v":""},{"$f":"IFERROR(INDEX(K$3:K$296,SMALL(IF(B$3:B$296=\"In\",ROW(K$2:K$295)-ROW(I$2)+1),ROW(I24))),\"\")","v":""}]
[false,"Out","Financial education, attitudes, knowledge and practice",25,"Confidence in teaching financial education ","Teachers feel confident to design and deliver engaging and effective financial education lessons that meet curriculum requirements and the needs of pupils","Teachers express confidence in their ability to meet the financial capability curriculum requirements","Self report survey question (teacher level) + documentary evidence ","Q1. How important is financial education in helping you to meet the curriculum requirements?  A - very important - important - not important - not at all important Q2. How important do you think financial education is in supporting your pupils' key skills? A - very important - important - not important - not at all important ","C1. Pa mor bwysig yw addysg ariannol i'ch helpu chi i gwrdd â gofynion y cwricwlwm?  A - pwysig iawn - pwysig - ddim yn bwysig  - ddim yn bwysig o gwbl C2. Pa mor bwysig yn eich barn chi yw addysg ariannol o ran cefnogi sgiliau allweddol eich disgyblion? A - pwysig iawn - pwysig - ddim yn bwysig  - ddim yn bwysig o gwbl ","Evidence at school level of financial education supporting teaching standards",null,null,null,{"$f":"IFERROR(INDEX(D$3:D$296,SMALL(IF(B$3:B$296=\"In\",ROW(D$2:D$295)-ROW(D$2)+1),ROW(D25))),\"\")","v":""},{"$f":"IFERROR(INDEX(C$3:C$296,SMALL(IF(B$3:B$296=\"In\",ROW(C$2:C$295)-ROW(D$2)+1),ROW(D25))),\"\")","v":""},{"$f":"IFERROR(INDEX(E$3:E$296,SMALL(IF(B$3:B$296=\"In\",ROW(D$2:D$295)-ROW(D$2)+1),ROW(D25))),\"\")","v":""},{"$f":"IFERROR(INDEX(F$3:F$296,SMALL(IF(B$3:B$296=\"In\",ROW(F$2:F$295)-ROW(E$2)+1),ROW(E25))),\"\")","v":""},{"$f":"IFERROR(INDEX(G$3:G$296,SMALL(IF(B$3:B$296=\"In\",ROW(G$2:G$295)-ROW(F$2)+1),ROW(F25))),\"\")","v":""},{"$f":"IFERROR(INDEX(H$3:H$296,SMALL(IF(B$3:B$296=\"In\",ROW(H$2:H$295)-ROW(G$2)+1),ROW(G25))),\"\")","v":""},{"$f":"IFERROR(INDEX(I$3:I$296,SMALL(IF(B$3:B$296=\"In\",ROW(I$2:I$295)-ROW(H$2)+1),ROW(H25))),\"\")","v":""},{"$f":"IFERROR(INDEX(J$3:J$296,SMALL(IF(B$3:B$296=\"In\",ROW(J$2:J$295)-ROW(I$2)+1),ROW(I25))),\"\")","v":""},{"$f":"IFERROR(INDEX(K$3:K$296,SMALL(IF(B$3:B$296=\"In\",ROW(K$2:K$295)-ROW(I$2)+1),ROW(I25))),\"\")","v":""}]
[false,"Out","Financial education, attitudes, knowledge and practice",26,"Confidence in teaching financial education ","Teachers feel confident to design and deliver engaging and effective financial education lessons that meet curriculum requirements and the needs of pupils","Teachers express confidence in their understanding of the financial education needs of their pupils","Self-report survey question (teacher level)","Q1. Thinking about your pupils' characteristics and identified needs, how confident do you feel in delivering tailored financial education learning activities? A - very confident - confident - unconfident - very unconfident ","C1. Gan feddwl am nodweddion ac anghenion a nodwyd eich disgyblion, pa mor hyderus ydych chi'n teimlo wrth gyflwyno gweithgareddau dysgu addysg ariannol wedi eu teilwra? A - hyderus iawn - hyderus - ddim yn hyderus - ddim yn hyderus o gwbl ",null,null,null,null,{"$f":"IFERROR(INDEX(D$3:D$296,SMALL(IF(B$3:B$296=\"In\",ROW(D$2:D$295)-ROW(D$2)+1),ROW(D26))),\"\")","v":""},{"$f":"IFERROR(INDEX(C$3:C$296,SMALL(IF(B$3:B$296=\"In\",ROW(C$2:C$295)-ROW(D$2)+1),ROW(D26))),\"\")","v":""},{"$f":"IFERROR(INDEX(E$3:E$296,SMALL(IF(B$3:B$296=\"In\",ROW(D$2:D$295)-ROW(D$2)+1),ROW(D26))),\"\")","v":""},{"$f":"IFERROR(INDEX(F$3:F$296,SMALL(IF(B$3:B$296=\"In\",ROW(F$2:F$295)-ROW(E$2)+1),ROW(E26))),\"\")","v":""},{"$f":"IFERROR(INDEX(G$3:G$296,SMALL(IF(B$3:B$296=\"In\",ROW(G$2:G$295)-ROW(F$2)+1),ROW(F26))),\"\")","v":""},{"$f":"IFERROR(INDEX(H$3:H$296,SMALL(IF(B$3:B$296=\"In\",ROW(H$2:H$295)-ROW(G$2)+1),ROW(G26))),\"\")","v":""},{"$f":"IFERROR(INDEX(I$3:I$296,SMALL(IF(B$3:B$296=\"In\",ROW(I$2:I$295)-ROW(H$2)+1),ROW(H26))),\"\")","v":""},{"$f":"IFERROR(INDEX(J$3:J$296,SMALL(IF(B$3:B$296=\"In\",ROW(J$2:J$295)-ROW(I$2)+1),ROW(I26))),\"\")","v":""},{"$f":"IFERROR(INDEX(K$3:K$296,SMALL(IF(B$3:B$296=\"In\",ROW(K$2:K$295)-ROW(I$2)+1),ROW(I26))),\"\")","v":""}]
[false,"Out","General pedagogical practice",27,"General pedagogical practice","Teachers design and implement teaching strategies that are appropriate to the cultural, religious and socioeconomic backgrounds of the students they teach","Teachers develop accessible and suitable teaching resources with respect to the cultural, religious or socio-economic background of young people","Self report survey question (teacher level) + documentary evidence ","Q1. To what extent have your pupils' cultural, religious and socio-economic background been considered into the financial education lesson planning? A all of the time - most of the time - occasionally - never  ","C1. I ba raddau mae cefndiroedd diwylliannol, crefyddol ac economaidd-gymdeithasol eich disgyblion wedi cael eu hystyried wrth gynllunio gwersi addysg ariannol? A - bob amser - y rhan fwyaf o'r amser - yn achlysurol - byth  ","Teachers refer to appropriate learning framework (age) and complete a diversty based questionnaire aimed at recognising the various cultural and religious perspectives on money. ",null,null,null,{"$f":"IFERROR(INDEX(D$3:D$296,SMALL(IF(B$3:B$296=\"In\",ROW(D$2:D$295)-ROW(D$2)+1),ROW(D27))),\"\")","v":""},{"$f":"IFERROR(INDEX(C$3:C$296,SMALL(IF(B$3:B$296=\"In\",ROW(C$2:C$295)-ROW(D$2)+1),ROW(D27))),\"\")","v":""},{"$f":"IFERROR(INDEX(E$3:E$296,SMALL(IF(B$3:B$296=\"In\",ROW(D$2:D$295)-ROW(D$2)+1),ROW(D27))),\"\")","v":""},{"$f":"IFERROR(INDEX(F$3:F$296,SMALL(IF(B$3:B$296=\"In\",ROW(F$2:F$295)-ROW(E$2)+1),ROW(E27))),\"\")","v":""},{"$f":"IFERROR(INDEX(G$3:G$296,SMALL(IF(B$3:B$296=\"In\",ROW(G$2:G$295)-ROW(F$2)+1),ROW(F27))),\"\")","v":""},{"$f":"IFERROR(INDEX(H$3:H$296,SMALL(IF(B$3:B$296=\"In\",ROW(H$2:H$295)-ROW(G$2)+1),ROW(G27))),\"\")","v":""},{"$f":"IFERROR(INDEX(I$3:I$296,SMALL(IF(B$3:B$296=\"In\",ROW(I$2:I$295)-ROW(H$2)+1),ROW(H27))),\"\")","v":""},{"$f":"IFERROR(INDEX(J$3:J$296,SMALL(IF(B$3:B$296=\"In\",ROW(J$2:J$295)-ROW(I$2)+1),ROW(I27))),\"\")","v":""},{"$f":"IFERROR(INDEX(K$3:K$296,SMALL(IF(B$3:B$296=\"In\",ROW(K$2:K$295)-ROW(I$2)+1),ROW(I27))),\"\")","v":""}]
[false,"Out","General pedagogical practice",28,"General pedagogical practice","Teachers use digital technology effectively to support and embed learning","Teachers develop engaging learning activities using technology ","Documentary evidence of learning activities using a variety of technologically based resources ","Q1. Have you used technology as part of the financial education delivery? A all of the time - most of the time - occasionally - never","C1. Ydych chi wedi defnyddio technoleg fel rhan o gyflwyno addysg ariannol? A - bob amser - y rhan fwyaf o'r amser - yn achlysurol - byth",null,null,null,null,{"$f":"IFERROR(INDEX(D$3:D$296,SMALL(IF(B$3:B$296=\"In\",ROW(D$2:D$295)-ROW(D$2)+1),ROW(D28))),\"\")","v":""},{"$f":"IFERROR(INDEX(C$3:C$296,SMALL(IF(B$3:B$296=\"In\",ROW(C$2:C$295)-ROW(D$2)+1),ROW(D28))),\"\")","v":""},{"$f":"IFERROR(INDEX(E$3:E$296,SMALL(IF(B$3:B$296=\"In\",ROW(D$2:D$295)-ROW(D$2)+1),ROW(D28))),\"\")","v":""},{"$f":"IFERROR(INDEX(F$3:F$296,SMALL(IF(B$3:B$296=\"In\",ROW(F$2:F$295)-ROW(E$2)+1),ROW(E28))),\"\")","v":""},{"$f":"IFERROR(INDEX(G$3:G$296,SMALL(IF(B$3:B$296=\"In\",ROW(G$2:G$295)-ROW(F$2)+1),ROW(F28))),\"\")","v":""},{"$f":"IFERROR(INDEX(H$3:H$296,SMALL(IF(B$3:B$296=\"In\",ROW(H$2:H$295)-ROW(G$2)+1),ROW(G28))),\"\")","v":""},{"$f":"IFERROR(INDEX(I$3:I$296,SMALL(IF(B$3:B$296=\"In\",ROW(I$2:I$295)-ROW(H$2)+1),ROW(H28))),\"\")","v":""},{"$f":"IFERROR(INDEX(J$3:J$296,SMALL(IF(B$3:B$296=\"In\",ROW(J$2:J$295)-ROW(I$2)+1),ROW(I28))),\"\")","v":""},{"$f":"IFERROR(INDEX(K$3:K$296,SMALL(IF(B$3:B$296=\"In\",ROW(K$2:K$295)-ROW(I$2)+1),ROW(I28))),\"\")","v":""}]
[false,"Out","General pedagogical practice",29,"General pedagogical practice","Teachers recognise the role that external agencies have in supporting teaching and learning financial education ","Teachers download external financial education resources","Survey question (teacher level) + documentary evidence","Q1. Have you accessed a directory of financial education resources? A - Y/N Q2. Have you downloaded financial education learning activities from external agencies? A - Y/N  If Yes  Q3. How important were each of the following factors when accessing/downloading this information? A. (multiple choice / very important - important - not important - not at all important) support to achieve financial education learning outcomes / fit with curriculum / prices / established relationship with the provider /  word of mouth & recommendation Q4. How frequently did you use these resources? A not at all - once - twice - 3+ times ","C1. Ydych chi wedi defnyddio cyfeiriadur o adnoddau addysg ariannol? A - Do/Naddo C2. Ydych chi wedi llwytho i lawr unrhyw weithgaredd dysgu addysg ariannol gan asiantaethau allanol? A - Do/Naddo Os Do  C3. Pa mor bwysig oedd pob un o'r ffactorau a ganlyn wrth geisio cael mynediad at yr wybodaeth hon/ei llwytho i lawr? A. (amlddewis / pwysig iawn - pwysig - ddim yn bwysig - ddim yn bwysig o gwbl) cefnogaeth i gyflawni deilliannau dysgu addysg ariannol / cyd-fynd â'r cwricwlwm / prisiau / perthynas sefydledig â'r darparwr / ar lafar ac argymhelliad C4. Pa mor aml wnaethoch chi ddefnyddio'r adnoddau hyn? A ddim o gwbl - unwaith - dwywaith - 3 gwaith a mwy ","Evidence of resources accessed and used. Name of sources",null,null,null,{"$f":"IFERROR(INDEX(D$3:D$296,SMALL(IF(B$3:B$296=\"In\",ROW(D$2:D$295)-ROW(D$2)+1),ROW(D29))),\"\")","v":""},{"$f":"IFERROR(INDEX(C$3:C$296,SMALL(IF(B$3:B$296=\"In\",ROW(C$2:C$295)-ROW(D$2)+1),ROW(D29))),\"\")","v":""},{"$f":"IFERROR(INDEX(E$3:E$296,SMALL(IF(B$3:B$296=\"In\",ROW(D$2:D$295)-ROW(D$2)+1),ROW(D29))),\"\")","v":""},{"$f":"IFERROR(INDEX(F$3:F$296,SMALL(IF(B$3:B$296=\"In\",ROW(F$2:F$295)-ROW(E$2)+1),ROW(E29))),\"\")","v":""},{"$f":"IFERROR(INDEX(G$3:G$296,SMALL(IF(B$3:B$296=\"In\",ROW(G$2:G$295)-ROW(F$2)+1),ROW(F29))),\"\")","v":""},{"$f":"IFERROR(INDEX(H$3:H$296,SMALL(IF(B$3:B$296=\"In\",ROW(H$2:H$295)-ROW(G$2)+1),ROW(G29))),\"\")","v":""},{"$f":"IFERROR(INDEX(I$3:I$296,SMALL(IF(B$3:B$296=\"In\",ROW(I$2:I$295)-ROW(H$2)+1),ROW(H29))),\"\")","v":""},{"$f":"IFERROR(INDEX(J$3:J$296,SMALL(IF(B$3:B$296=\"In\",ROW(J$2:J$295)-ROW(I$2)+1),ROW(I29))),\"\")","v":""},{"$f":"IFERROR(INDEX(K$3:K$296,SMALL(IF(B$3:B$296=\"In\",ROW(K$2:K$295)-ROW(I$2)+1),ROW(I29))),\"\")","v":""}]
[false,"Out","General pedagogical practice",30,"Assessing and improving financial capability teaching","Teachers engage with pupils and develop and apply assessment strategies to diagnose student learning needs, and monitor appropriate learning outcomes","Teachers implement a learning framework for financial education firmly linked to identified learning needs","Documentary evidence",null,null,"Evidence of a planned and quality teaching and learning programme - integrated across term and with clear learning outcomes ",null,null,null,{"$f":"IFERROR(INDEX(D$3:D$296,SMALL(IF(B$3:B$296=\"In\",ROW(D$2:D$295)-ROW(D$2)+1),ROW(D30))),\"\")","v":""},{"$f":"IFERROR(INDEX(C$3:C$296,SMALL(IF(B$3:B$296=\"In\",ROW(C$2:C$295)-ROW(D$2)+1),ROW(D30))),\"\")","v":""},{"$f":"IFERROR(INDEX(E$3:E$296,SMALL(IF(B$3:B$296=\"In\",ROW(D$2:D$295)-ROW(D$2)+1),ROW(D30))),\"\")","v":""},{"$f":"IFERROR(INDEX(F$3:F$296,SMALL(IF(B$3:B$296=\"In\",ROW(F$2:F$295)-ROW(E$2)+1),ROW(E30))),\"\")","v":""},{"$f":"IFERROR(INDEX(G$3:G$296,SMALL(IF(B$3:B$296=\"In\",ROW(G$2:G$295)-ROW(F$2)+1),ROW(F30))),\"\")","v":""},{"$f":"IFERROR(INDEX(H$3:H$296,SMALL(IF(B$3:B$296=\"In\",ROW(H$2:H$295)-ROW(G$2)+1),ROW(G30))),\"\")","v":""},{"$f":"IFERROR(INDEX(I$3:I$296,SMALL(IF(B$3:B$296=\"In\",ROW(I$2:I$295)-ROW(H$2)+1),ROW(H30))),\"\")","v":""},{"$f":"IFERROR(INDEX(J$3:J$296,SMALL(IF(B$3:B$296=\"In\",ROW(J$2:J$295)-ROW(I$2)+1),ROW(I30))),\"\")","v":""},{"$f":"IFERROR(INDEX(K$3:K$296,SMALL(IF(B$3:B$296=\"In\",ROW(K$2:K$295)-ROW(I$2)+1),ROW(I30))),\"\")","v":""}]
[false,"Out","General pedagogical practice",31,"Assessing and improving financial capability teaching","Teachers engage with pupils and develop and apply assessment strategies to diagnose student learning needs, and monitor appropriate learning outcomes","Teachers carry out a baseline assessment with their pupils","Documentary evidence",null,null,"Evidence of evaluation of financial education impact on young people (questionnaires) and improvements in classroom delivery as a results. A checklist of documents supporting this exercices can be obtained from external organisations (see indicators on accessing and guidance)",null,null,null,{"$f":"IFERROR(INDEX(D$3:D$296,SMALL(IF(B$3:B$296=\"In\",ROW(D$2:D$295)-ROW(D$2)+1),ROW(D31))),\"\")","v":""},{"$f":"IFERROR(INDEX(C$3:C$296,SMALL(IF(B$3:B$296=\"In\",ROW(C$2:C$295)-ROW(D$2)+1),ROW(D31))),\"\")","v":""},{"$f":"IFERROR(INDEX(E$3:E$296,SMALL(IF(B$3:B$296=\"In\",ROW(D$2:D$295)-ROW(D$2)+1),ROW(D31))),\"\")","v":""},{"$f":"IFERROR(INDEX(F$3:F$296,SMALL(IF(B$3:B$296=\"In\",ROW(F$2:F$295)-ROW(E$2)+1),ROW(E31))),\"\")","v":""},{"$f":"IFERROR(INDEX(G$3:G$296,SMALL(IF(B$3:B$296=\"In\",ROW(G$2:G$295)-ROW(F$2)+1),ROW(F31))),\"\")","v":""},{"$f":"IFERROR(INDEX(H$3:H$296,SMALL(IF(B$3:B$296=\"In\",ROW(H$2:H$295)-ROW(G$2)+1),ROW(G31))),\"\")","v":""},{"$f":"IFERROR(INDEX(I$3:I$296,SMALL(IF(B$3:B$296=\"In\",ROW(I$2:I$295)-ROW(H$2)+1),ROW(H31))),\"\")","v":""},{"$f":"IFERROR(INDEX(J$3:J$296,SMALL(IF(B$3:B$296=\"In\",ROW(J$2:J$295)-ROW(I$2)+1),ROW(I31))),\"\")","v":""},{"$f":"IFERROR(INDEX(K$3:K$296,SMALL(IF(B$3:B$296=\"In\",ROW(K$2:K$295)-ROW(I$2)+1),ROW(I31))),\"\")","v":""}]
[false,"Out","General pedagogical practice",32,"Assessing and improving financial capability teaching","Teachers specify intended impacts on young people and monitor them (NEW)","Teachers monitor impact on young people","self reporting survey question (teacher level) + documentary evidence ","Q1. Which of the following best describe the impact monitoring of your pupils in your financial education intervention? A.  A continuous assessment - A sporadic assessment - A one-off assessment ","C1. Pa un o'r rhain sy'n disgrifio orau’r gwaith monitro effaith ar eich disgyblion yn eich ymyriad addysg ariannol? A. Asesu parhaus - Asesiad achlysurol - Asesiad unwaith ac am byth ","Further financial education interventions are based on pupils assessments (formal) and/or feedback (informal). ",null,null,null,{"$f":"IFERROR(INDEX(D$3:D$296,SMALL(IF(B$3:B$296=\"In\",ROW(D$2:D$295)-ROW(D$2)+1),ROW(D32))),\"\")","v":""},{"$f":"IFERROR(INDEX(C$3:C$296,SMALL(IF(B$3:B$296=\"In\",ROW(C$2:C$295)-ROW(D$2)+1),ROW(D32))),\"\")","v":""},{"$f":"IFERROR(INDEX(E$3:E$296,SMALL(IF(B$3:B$296=\"In\",ROW(D$2:D$295)-ROW(D$2)+1),ROW(D32))),\"\")","v":""},{"$f":"IFERROR(INDEX(F$3:F$296,SMALL(IF(B$3:B$296=\"In\",ROW(F$2:F$295)-ROW(E$2)+1),ROW(E32))),\"\")","v":""},{"$f":"IFERROR(INDEX(G$3:G$296,SMALL(IF(B$3:B$296=\"In\",ROW(G$2:G$295)-ROW(F$2)+1),ROW(F32))),\"\")","v":""},{"$f":"IFERROR(INDEX(H$3:H$296,SMALL(IF(B$3:B$296=\"In\",ROW(H$2:H$295)-ROW(G$2)+1),ROW(G32))),\"\")","v":""},{"$f":"IFERROR(INDEX(I$3:I$296,SMALL(IF(B$3:B$296=\"In\",ROW(I$2:I$295)-ROW(H$2)+1),ROW(H32))),\"\")","v":""},{"$f":"IFERROR(INDEX(J$3:J$296,SMALL(IF(B$3:B$296=\"In\",ROW(J$2:J$295)-ROW(I$2)+1),ROW(I32))),\"\")","v":""},{"$f":"IFERROR(INDEX(K$3:K$296,SMALL(IF(B$3:B$296=\"In\",ROW(K$2:K$295)-ROW(I$2)+1),ROW(I32))),\"\")","v":""}]
[false,"Out","General pedagogical practice",33,"Assessing and improving financial capability teaching","Teachers organise assessment moderation activities to enable consistent and comparable judgment","Teachers conduct assessments (formal / informal)","self reporting survey question (teacher level) + documentary evidence ","Q1. Have you used any of the following tools to assess your pupils' financial capability? A - self-report survey - focus group - anonymous feedback (informal) - other (multiple choice)","C1. Ydych chi wedi defnyddio unrhyw un o'r offerynnau a ganlyn i asesu gallu ariannol eich disgyblion? A - Arolwg hunan-adrodd - grŵp ffocws - adborth dienw (anffurfiol) - arall (aml-ddewis)","Evidence of tools used ",null,null,null,{"$f":"IFERROR(INDEX(D$3:D$296,SMALL(IF(B$3:B$296=\"In\",ROW(D$2:D$295)-ROW(D$2)+1),ROW(D33))),\"\")","v":""},{"$f":"IFERROR(INDEX(C$3:C$296,SMALL(IF(B$3:B$296=\"In\",ROW(C$2:C$295)-ROW(D$2)+1),ROW(D33))),\"\")","v":""},{"$f":"IFERROR(INDEX(E$3:E$296,SMALL(IF(B$3:B$296=\"In\",ROW(D$2:D$295)-ROW(D$2)+1),ROW(D33))),\"\")","v":""},{"$f":"IFERROR(INDEX(F$3:F$296,SMALL(IF(B$3:B$296=\"In\",ROW(F$2:F$295)-ROW(E$2)+1),ROW(E33))),\"\")","v":""},{"$f":"IFERROR(INDEX(G$3:G$296,SMALL(IF(B$3:B$296=\"In\",ROW(G$2:G$295)-ROW(F$2)+1),ROW(F33))),\"\")","v":""},{"$f":"IFERROR(INDEX(H$3:H$296,SMALL(IF(B$3:B$296=\"In\",ROW(H$2:H$295)-ROW(G$2)+1),ROW(G33))),\"\")","v":""},{"$f":"IFERROR(INDEX(I$3:I$296,SMALL(IF(B$3:B$296=\"In\",ROW(I$2:I$295)-ROW(H$2)+1),ROW(H33))),\"\")","v":""},{"$f":"IFERROR(INDEX(J$3:J$296,SMALL(IF(B$3:B$296=\"In\",ROW(J$2:J$295)-ROW(I$2)+1),ROW(I33))),\"\")","v":""},{"$f":"IFERROR(INDEX(K$3:K$296,SMALL(IF(B$3:B$296=\"In\",ROW(K$2:K$295)-ROW(I$2)+1),ROW(I33))),\"\")","v":""}]
[false,"Out","General pedagogical practice",34,"Assessing and improving financial capability teaching","Teachers seek feedback from their students about how engaging, relevant and useful their lessons are","Teachers embed formal monitoring of a young person’s reception of financial education lessons ","Documentary evidence ",null,null,"Focus group testing pupils' understanding across financial education themes. ",null,null,null,{"$f":"IFERROR(INDEX(D$3:D$296,SMALL(IF(B$3:B$296=\"In\",ROW(D$2:D$295)-ROW(D$2)+1),ROW(D34))),\"\")","v":""},{"$f":"IFERROR(INDEX(C$3:C$296,SMALL(IF(B$3:B$296=\"In\",ROW(C$2:C$295)-ROW(D$2)+1),ROW(D34))),\"\")","v":""},{"$f":"IFERROR(INDEX(E$3:E$296,SMALL(IF(B$3:B$296=\"In\",ROW(D$2:D$295)-ROW(D$2)+1),ROW(D34))),\"\")","v":""},{"$f":"IFERROR(INDEX(F$3:F$296,SMALL(IF(B$3:B$296=\"In\",ROW(F$2:F$295)-ROW(E$2)+1),ROW(E34))),\"\")","v":""},{"$f":"IFERROR(INDEX(G$3:G$296,SMALL(IF(B$3:B$296=\"In\",ROW(G$2:G$295)-ROW(F$2)+1),ROW(F34))),\"\")","v":""},{"$f":"IFERROR(INDEX(H$3:H$296,SMALL(IF(B$3:B$296=\"In\",ROW(H$2:H$295)-ROW(G$2)+1),ROW(G34))),\"\")","v":""},{"$f":"IFERROR(INDEX(I$3:I$296,SMALL(IF(B$3:B$296=\"In\",ROW(I$2:I$295)-ROW(H$2)+1),ROW(H34))),\"\")","v":""},{"$f":"IFERROR(INDEX(J$3:J$296,SMALL(IF(B$3:B$296=\"In\",ROW(J$2:J$295)-ROW(I$2)+1),ROW(I34))),\"\")","v":""},{"$f":"IFERROR(INDEX(K$3:K$296,SMALL(IF(B$3:B$296=\"In\",ROW(K$2:K$295)-ROW(I$2)+1),ROW(I34))),\"\")","v":""}]
[false,"Out","General pedagogical practice",35,"Assessing and improving financial capability teaching","Teachers use data from student assessments, along with student feedback, to evaluate the effectiveness of teaching approaches and to review and adapt their practice ","Teachers adapt plans following assessment ","Survey questions (teacher level) + Documentary evidence","Q1. To what extent have you used your pupils' ongoing assessment to inform further financial education interventions? A. all of the time - most of the time - occasionally - never","C1. I ba raddau ydych chi wedi defnyddio'r asesiad parhaus o’ch disgyblion i lywio ymyriadau addysg ariannol pellach? A - bob amser - y rhan fwyaf o'r amser - yn achlysurol - byth","Evidence of pupils assessment and improvement to lesson",null,null,null,{"$f":"IFERROR(INDEX(D$3:D$296,SMALL(IF(B$3:B$296=\"In\",ROW(D$2:D$295)-ROW(D$2)+1),ROW(D35))),\"\")","v":""},{"$f":"IFERROR(INDEX(C$3:C$296,SMALL(IF(B$3:B$296=\"In\",ROW(C$2:C$295)-ROW(D$2)+1),ROW(D35))),\"\")","v":""},{"$f":"IFERROR(INDEX(E$3:E$296,SMALL(IF(B$3:B$296=\"In\",ROW(D$2:D$295)-ROW(D$2)+1),ROW(D35))),\"\")","v":""},{"$f":"IFERROR(INDEX(F$3:F$296,SMALL(IF(B$3:B$296=\"In\",ROW(F$2:F$295)-ROW(E$2)+1),ROW(E35))),\"\")","v":""},{"$f":"IFERROR(INDEX(G$3:G$296,SMALL(IF(B$3:B$296=\"In\",ROW(G$2:G$295)-ROW(F$2)+1),ROW(F35))),\"\")","v":""},{"$f":"IFERROR(INDEX(H$3:H$296,SMALL(IF(B$3:B$296=\"In\",ROW(H$2:H$295)-ROW(G$2)+1),ROW(G35))),\"\")","v":""},{"$f":"IFERROR(INDEX(I$3:I$296,SMALL(IF(B$3:B$296=\"In\",ROW(I$2:I$295)-ROW(H$2)+1),ROW(H35))),\"\")","v":""},{"$f":"IFERROR(INDEX(J$3:J$296,SMALL(IF(B$3:B$296=\"In\",ROW(J$2:J$295)-ROW(I$2)+1),ROW(I35))),\"\")","v":""},{"$f":"IFERROR(INDEX(K$3:K$296,SMALL(IF(B$3:B$296=\"In\",ROW(K$2:K$295)-ROW(I$2)+1),ROW(I35))),\"\")","v":""}]
[false,"Out","General pedagogical practice",36,"Assessing and improving financial capability teaching","Teachers recognise the value of external financial education qualifications for students and professional qualifications for themselves","Teachers recognise the value of financial education teaching qualification in their professional development ","Self-report survey question (teacher level)  & Documentary evidence ","Q1  Do you agree for financial education learning outcomes to be part of staff's formal performance review system? A. strongly agree - agree - disagree - strongly disagree ","C1 Ydych chi'n cytuno y dylai deilliannau dysgu addysg ariannol fod yn rhan o system adolygu perfformiad ffurfiol staff? A. cytuno'n gryf - cytuno - anghytuno - anghytuno'n gryf ","Evidence of financial education embedded in teachers' continuous personal development plan ",null,null,null,{"$f":"IFERROR(INDEX(D$3:D$296,SMALL(IF(B$3:B$296=\"In\",ROW(D$2:D$295)-ROW(D$2)+1),ROW(D36))),\"\")","v":""},{"$f":"IFERROR(INDEX(C$3:C$296,SMALL(IF(B$3:B$296=\"In\",ROW(C$2:C$295)-ROW(D$2)+1),ROW(D36))),\"\")","v":""},{"$f":"IFERROR(INDEX(E$3:E$296,SMALL(IF(B$3:B$296=\"In\",ROW(D$2:D$295)-ROW(D$2)+1),ROW(D36))),\"\")","v":""},{"$f":"IFERROR(INDEX(F$3:F$296,SMALL(IF(B$3:B$296=\"In\",ROW(F$2:F$295)-ROW(E$2)+1),ROW(E36))),\"\")","v":""},{"$f":"IFERROR(INDEX(G$3:G$296,SMALL(IF(B$3:B$296=\"In\",ROW(G$2:G$295)-ROW(F$2)+1),ROW(F36))),\"\")","v":""},{"$f":"IFERROR(INDEX(H$3:H$296,SMALL(IF(B$3:B$296=\"In\",ROW(H$2:H$295)-ROW(G$2)+1),ROW(G36))),\"\")","v":""},{"$f":"IFERROR(INDEX(I$3:I$296,SMALL(IF(B$3:B$296=\"In\",ROW(I$2:I$295)-ROW(H$2)+1),ROW(H36))),\"\")","v":""},{"$f":"IFERROR(INDEX(J$3:J$296,SMALL(IF(B$3:B$296=\"In\",ROW(J$2:J$295)-ROW(I$2)+1),ROW(I36))),\"\")","v":""},{"$f":"IFERROR(INDEX(K$3:K$296,SMALL(IF(B$3:B$296=\"In\",ROW(K$2:K$295)-ROW(I$2)+1),ROW(I36))),\"\")","v":""}]
[false,"Out","General pedagogical practice",37,"Assessing and improving financial capability teaching","Teachers recognise the value of external financial education qualifications for students and professional qualifications for themselves","Teachers' employers embed the take up of financial education teaching qualification in their personal development review","Documentary evidence (school)",null,null,"Teachers'personal development plans integrate financial education teaching outcomes ",null,null,null,{"$f":"IFERROR(INDEX(D$3:D$296,SMALL(IF(B$3:B$296=\"In\",ROW(D$2:D$295)-ROW(D$2)+1),ROW(D37))),\"\")","v":""},{"$f":"IFERROR(INDEX(C$3:C$296,SMALL(IF(B$3:B$296=\"In\",ROW(C$2:C$295)-ROW(D$2)+1),ROW(D37))),\"\")","v":""},{"$f":"IFERROR(INDEX(E$3:E$296,SMALL(IF(B$3:B$296=\"In\",ROW(D$2:D$295)-ROW(D$2)+1),ROW(D37))),\"\")","v":""},{"$f":"IFERROR(INDEX(F$3:F$296,SMALL(IF(B$3:B$296=\"In\",ROW(F$2:F$295)-ROW(E$2)+1),ROW(E37))),\"\")","v":""},{"$f":"IFERROR(INDEX(G$3:G$296,SMALL(IF(B$3:B$296=\"In\",ROW(G$2:G$295)-ROW(F$2)+1),ROW(F37))),\"\")","v":""},{"$f":"IFERROR(INDEX(H$3:H$296,SMALL(IF(B$3:B$296=\"In\",ROW(H$2:H$295)-ROW(G$2)+1),ROW(G37))),\"\")","v":""},{"$f":"IFERROR(INDEX(I$3:I$296,SMALL(IF(B$3:B$296=\"In\",ROW(I$2:I$295)-ROW(H$2)+1),ROW(H37))),\"\")","v":""},{"$f":"IFERROR(INDEX(J$3:J$296,SMALL(IF(B$3:B$296=\"In\",ROW(J$2:J$295)-ROW(I$2)+1),ROW(I37))),\"\")","v":""},{"$f":"IFERROR(INDEX(K$3:K$296,SMALL(IF(B$3:B$296=\"In\",ROW(K$2:K$295)-ROW(I$2)+1),ROW(I37))),\"\")","v":""}]
[false,"Out","General pedagogical practice",38,"Assessing and improving financial capability teaching","Teachers recognise the value of external financial education qualifications for students and professional qualifications for themselves","Teachers take on an accredited qualification in teaching financial education","Self-report survey question (teacher level) + documentary evidence","Q1. How likely are you to pursue a professional certificate in teaching financial education? A - definitely will - probably will - probably not - definitely not + I don't know Q2. Have you completed or started a qualification in teaching financial education? A. Started - Completed ","C1. Pa mor debygol ydych chi o ddilyn tystysgrif broffesiynol mewn addysgu addysg ariannol? A - byddaf yn gwneud hynny’n bendant - mae'n debyg y gwnaf - mae'n debyg na wnaf - mae’n bendant na wnaf + dydw i ddim yn gwybod C2. Ydych chi wedi cwblhau neu wedi dechrau cymhwyster mewn addysgu addysg ariannol? A. Wedi dechrau - Wedi gorffen ",null,null,null,null,{"$f":"IFERROR(INDEX(D$3:D$296,SMALL(IF(B$3:B$296=\"In\",ROW(D$2:D$295)-ROW(D$2)+1),ROW(D38))),\"\")","v":""},{"$f":"IFERROR(INDEX(C$3:C$296,SMALL(IF(B$3:B$296=\"In\",ROW(C$2:C$295)-ROW(D$2)+1),ROW(D38))),\"\")","v":""},{"$f":"IFERROR(INDEX(E$3:E$296,SMALL(IF(B$3:B$296=\"In\",ROW(D$2:D$295)-ROW(D$2)+1),ROW(D38))),\"\")","v":""},{"$f":"IFERROR(INDEX(F$3:F$296,SMALL(IF(B$3:B$296=\"In\",ROW(F$2:F$295)-ROW(E$2)+1),ROW(E38))),\"\")","v":""},{"$f":"IFERROR(INDEX(G$3:G$296,SMALL(IF(B$3:B$296=\"In\",ROW(G$2:G$295)-ROW(F$2)+1),ROW(F38))),\"\")","v":""},{"$f":"IFERROR(INDEX(H$3:H$296,SMALL(IF(B$3:B$296=\"In\",ROW(H$2:H$295)-ROW(G$2)+1),ROW(G38))),\"\")","v":""},{"$f":"IFERROR(INDEX(I$3:I$296,SMALL(IF(B$3:B$296=\"In\",ROW(I$2:I$295)-ROW(H$2)+1),ROW(H38))),\"\")","v":""},{"$f":"IFERROR(INDEX(J$3:J$296,SMALL(IF(B$3:B$296=\"In\",ROW(J$2:J$295)-ROW(I$2)+1),ROW(I38))),\"\")","v":""},{"$f":"IFERROR(INDEX(K$3:K$296,SMALL(IF(B$3:B$296=\"In\",ROW(K$2:K$295)-ROW(I$2)+1),ROW(I38))),\"\")","v":""}]
[false,"Out","Championing and promoting financial education",39,"Championing, role-modelling and sharing effective practice in financial education","Teachers champion the importance of financial education to other teachers and the wider school","Teachers act as coordinators of financial education interventions","Self-report survey question (teacher level) + documentary evidence","Q1. How important do you think the appointment of a financial education coordinator for the school is? A - very important - important - not important - not at all important  Q2. Has your school appointed a financial education coordinator? A. Yes- no - in the process ","C1. Pa mor bwysig yn eich barn chi yw penodi cydlynydd addysg ariannol ar gyfer yr ysgol? A - pwysig iawn - pwysig - ddim yn bwysig  - ddim yn bwysig o gwbl C2. Ydi eich ysgol chi wedi penodi cydlynydd addysg ariannol? A. Do - naddo - wrthi'n gwneud hynny ","Evidence of time allocation by teachers on financial education coordination activities at school level ",null,null,null,{"$f":"IFERROR(INDEX(D$3:D$296,SMALL(IF(B$3:B$296=\"In\",ROW(D$2:D$295)-ROW(D$2)+1),ROW(D39))),\"\")","v":""},{"$f":"IFERROR(INDEX(C$3:C$296,SMALL(IF(B$3:B$296=\"In\",ROW(C$2:C$295)-ROW(D$2)+1),ROW(D39))),\"\")","v":""},{"$f":"IFERROR(INDEX(E$3:E$296,SMALL(IF(B$3:B$296=\"In\",ROW(D$2:D$295)-ROW(D$2)+1),ROW(D39))),\"\")","v":""},{"$f":"IFERROR(INDEX(F$3:F$296,SMALL(IF(B$3:B$296=\"In\",ROW(F$2:F$295)-ROW(E$2)+1),ROW(E39))),\"\")","v":""},{"$f":"IFERROR(INDEX(G$3:G$296,SMALL(IF(B$3:B$296=\"In\",ROW(G$2:G$295)-ROW(F$2)+1),ROW(F39))),\"\")","v":""},{"$f":"IFERROR(INDEX(H$3:H$296,SMALL(IF(B$3:B$296=\"In\",ROW(H$2:H$295)-ROW(G$2)+1),ROW(G39))),\"\")","v":""},{"$f":"IFERROR(INDEX(I$3:I$296,SMALL(IF(B$3:B$296=\"In\",ROW(I$2:I$295)-ROW(H$2)+1),ROW(H39))),\"\")","v":""},{"$f":"IFERROR(INDEX(J$3:J$296,SMALL(IF(B$3:B$296=\"In\",ROW(J$2:J$295)-ROW(I$2)+1),ROW(I39))),\"\")","v":""},{"$f":"IFERROR(INDEX(K$3:K$296,SMALL(IF(B$3:B$296=\"In\",ROW(K$2:K$295)-ROW(I$2)+1),ROW(I39))),\"\")","v":""}]
[false,"Out","Championing and promoting financial education",40,"Championing, role-modelling and sharing effective practice in financial education","Teachers champion the importance of financial education to other teachers and the wider school","Teachers provide staff briefing(s) on financial education plans/programme and provide updates during the term","Self-report survey question (teacher level) + documentary evidence","Q1. How frequently is the school's staff updated on your financial education teaching activities? A - most weeks / about once a month / 2-3 times a term / never ","C1. Pa mor aml mae staff yr ysgol yn cael gwybod y diweddaraf am eich gweithgareddau addysgu addysg ariannol? A - y rhan fwyaf o wythnosau / tua unwaith y mis / 2-3 gwaith y tymor / byth ","Internal newsletters and / or staff briefing mentions the financial education coordinator's work and clearly explain the possibility for others to follow suit. Evidence of financial education teaching activities across departments and year groups (sample lesson plans showcasing a range of interactive and participatory activities delivered in various educational contexts)",null,null,null,{"$f":"IFERROR(INDEX(D$3:D$296,SMALL(IF(B$3:B$296=\"In\",ROW(D$2:D$295)-ROW(D$2)+1),ROW(D40))),\"\")","v":""},{"$f":"IFERROR(INDEX(C$3:C$296,SMALL(IF(B$3:B$296=\"In\",ROW(C$2:C$295)-ROW(D$2)+1),ROW(D40))),\"\")","v":""},{"$f":"IFERROR(INDEX(E$3:E$296,SMALL(IF(B$3:B$296=\"In\",ROW(D$2:D$295)-ROW(D$2)+1),ROW(D40))),\"\")","v":""},{"$f":"IFERROR(INDEX(F$3:F$296,SMALL(IF(B$3:B$296=\"In\",ROW(F$2:F$295)-ROW(E$2)+1),ROW(E40))),\"\")","v":""},{"$f":"IFERROR(INDEX(G$3:G$296,SMALL(IF(B$3:B$296=\"In\",ROW(G$2:G$295)-ROW(F$2)+1),ROW(F40))),\"\")","v":""},{"$f":"IFERROR(INDEX(H$3:H$296,SMALL(IF(B$3:B$296=\"In\",ROW(H$2:H$295)-ROW(G$2)+1),ROW(G40))),\"\")","v":""},{"$f":"IFERROR(INDEX(I$3:I$296,SMALL(IF(B$3:B$296=\"In\",ROW(I$2:I$295)-ROW(H$2)+1),ROW(H40))),\"\")","v":""},{"$f":"IFERROR(INDEX(J$3:J$296,SMALL(IF(B$3:B$296=\"In\",ROW(J$2:J$295)-ROW(I$2)+1),ROW(I40))),\"\")","v":""},{"$f":"IFERROR(INDEX(K$3:K$296,SMALL(IF(B$3:B$296=\"In\",ROW(K$2:K$295)-ROW(I$2)+1),ROW(I40))),\"\")","v":""}]
[false,"Out","Championing and promoting financial education",41,"Championing, role-modelling and sharing effective practice in financial education","Teachers demonstrate exemplary teaching of financial education to colleagues using effective learning and teaching tools and activities, and support other teachers to adopt similarly effective teaching strategies","Teachers share experience and acquired learning ","Self-report survey question (teacher level) + documentary evidence","Q1. How confident are you in sharing your financial education delivery experience to colleagues? A -very much - somewhat - not really - not at all  Q2. How often do you mentor other teachers (within the school) in delivering financial education?  A -often - sometimes - rarely - never","C1. Pa mor hyderus ydych chi wrth rannu eich profiad wrth gyflwyno addysg ariannol i gydweithwyr? A - hyderus iawn - eithaf hyderus - ddim mewn gwirionedd - ddim o gwbl  C2. Pa mor aml ydych chi'n mentora athrawon eraill (yn yr ysgol) o ran cyflwyno addysg ariannol?  A - yn aml - weithiau - yn anaml - byth",null,null,null,null,{"$f":"IFERROR(INDEX(D$3:D$296,SMALL(IF(B$3:B$296=\"In\",ROW(D$2:D$295)-ROW(D$2)+1),ROW(D41))),\"\")","v":""},{"$f":"IFERROR(INDEX(C$3:C$296,SMALL(IF(B$3:B$296=\"In\",ROW(C$2:C$295)-ROW(D$2)+1),ROW(D41))),\"\")","v":""},{"$f":"IFERROR(INDEX(E$3:E$296,SMALL(IF(B$3:B$296=\"In\",ROW(D$2:D$295)-ROW(D$2)+1),ROW(D41))),\"\")","v":""},{"$f":"IFERROR(INDEX(F$3:F$296,SMALL(IF(B$3:B$296=\"In\",ROW(F$2:F$295)-ROW(E$2)+1),ROW(E41))),\"\")","v":""},{"$f":"IFERROR(INDEX(G$3:G$296,SMALL(IF(B$3:B$296=\"In\",ROW(G$2:G$295)-ROW(F$2)+1),ROW(F41))),\"\")","v":""},{"$f":"IFERROR(INDEX(H$3:H$296,SMALL(IF(B$3:B$296=\"In\",ROW(H$2:H$295)-ROW(G$2)+1),ROW(G41))),\"\")","v":""},{"$f":"IFERROR(INDEX(I$3:I$296,SMALL(IF(B$3:B$296=\"In\",ROW(I$2:I$295)-ROW(H$2)+1),ROW(H41))),\"\")","v":""},{"$f":"IFERROR(INDEX(J$3:J$296,SMALL(IF(B$3:B$296=\"In\",ROW(J$2:J$295)-ROW(I$2)+1),ROW(I41))),\"\")","v":""},{"$f":"IFERROR(INDEX(K$3:K$296,SMALL(IF(B$3:B$296=\"In\",ROW(K$2:K$295)-ROW(I$2)+1),ROW(I41))),\"\")","v":""}]
[false,"Out","Championing and promoting financial education",42,"Championing, role-modelling and sharing effective practice in financial education","Teachers share knowledge about effective practice in financial education with other teachers, schools, and professional networks and associations","Teachers discuss young people's financial education needs with colleagues","Self-report survey question (teacher level)    ","Q1. How often do you discuss lessons plans and financial education embedment with your colleagues? A - often - sometimes - rarely - never Q2.  How often do you discuss young people's financial education needs to your colleagues? A. often - sometimes -  rarely - never ","C1. Pa mor aml fyddwch chi'n trafod cynlluniau gwersi ac ymgorffori addysg ariannol gyda'ch cydweithwyr? A - yn aml - weithiau - yn anaml - byth C2.  Pa mor aml ydych chi'n trafod anghenion addysg ariannol pobl ifanc â'ch cydweithwyr? A - yn aml - weithiau - yn anaml - byth ",null,null,null,null,{"$f":"IFERROR(INDEX(D$3:D$296,SMALL(IF(B$3:B$296=\"In\",ROW(D$2:D$295)-ROW(D$2)+1),ROW(D42))),\"\")","v":""},{"$f":"IFERROR(INDEX(C$3:C$296,SMALL(IF(B$3:B$296=\"In\",ROW(C$2:C$295)-ROW(D$2)+1),ROW(D42))),\"\")","v":""},{"$f":"IFERROR(INDEX(E$3:E$296,SMALL(IF(B$3:B$296=\"In\",ROW(D$2:D$295)-ROW(D$2)+1),ROW(D42))),\"\")","v":""},{"$f":"IFERROR(INDEX(F$3:F$296,SMALL(IF(B$3:B$296=\"In\",ROW(F$2:F$295)-ROW(E$2)+1),ROW(E42))),\"\")","v":""},{"$f":"IFERROR(INDEX(G$3:G$296,SMALL(IF(B$3:B$296=\"In\",ROW(G$2:G$295)-ROW(F$2)+1),ROW(F42))),\"\")","v":""},{"$f":"IFERROR(INDEX(H$3:H$296,SMALL(IF(B$3:B$296=\"In\",ROW(H$2:H$295)-ROW(G$2)+1),ROW(G42))),\"\")","v":""},{"$f":"IFERROR(INDEX(I$3:I$296,SMALL(IF(B$3:B$296=\"In\",ROW(I$2:I$295)-ROW(H$2)+1),ROW(H42))),\"\")","v":""},{"$f":"IFERROR(INDEX(J$3:J$296,SMALL(IF(B$3:B$296=\"In\",ROW(J$2:J$295)-ROW(I$2)+1),ROW(I42))),\"\")","v":""},{"$f":"IFERROR(INDEX(K$3:K$296,SMALL(IF(B$3:B$296=\"In\",ROW(K$2:K$295)-ROW(I$2)+1),ROW(I42))),\"\")","v":""}]
[false,"Out","Championing and promoting financial education",43,"Championing, role-modelling and sharing effective practice in financial education","Teachers share knowledge about effective practice in financial education with other teachers, schools, and professional networks and associations","Teachers share knowledge with teachers from other schools ","Self-report survey question (teacher level)    ","Q1. How often do you engage with teachers from other schools on the financial education topic? A. Very much - somewhat - not really - not at all  Q2. How often do you share knowledge about implementing financial education in the curriculum with external teachers? A. Very much - somewhat - not really - not at all","C1. Pa mor aml ydych chi'n ymgysylltu ag athrawon o ysgolion eraill ar bwnc addysg ariannol? A - Yn aml iawn - rhywfaint - ddim mewn gwirionedd - ddim o gwbl  C2. Pa mor aml ydych chi'n rhannu gwybodaeth am weithredu addysg ariannol yn y cwricwlwm ag athrawon allanol? A - Yn aml iawn - rhywfaint - ddim mewn gwirionedd - ddim o gwbl",null,null,null,null,{"$f":"IFERROR(INDEX(D$3:D$296,SMALL(IF(B$3:B$296=\"In\",ROW(D$2:D$295)-ROW(D$2)+1),ROW(D43))),\"\")","v":""},{"$f":"IFERROR(INDEX(C$3:C$296,SMALL(IF(B$3:B$296=\"In\",ROW(C$2:C$295)-ROW(D$2)+1),ROW(D43))),\"\")","v":""},{"$f":"IFERROR(INDEX(E$3:E$296,SMALL(IF(B$3:B$296=\"In\",ROW(D$2:D$295)-ROW(D$2)+1),ROW(D43))),\"\")","v":""},{"$f":"IFERROR(INDEX(F$3:F$296,SMALL(IF(B$3:B$296=\"In\",ROW(F$2:F$295)-ROW(E$2)+1),ROW(E43))),\"\")","v":""},{"$f":"IFERROR(INDEX(G$3:G$296,SMALL(IF(B$3:B$296=\"In\",ROW(G$2:G$295)-ROW(F$2)+1),ROW(F43))),\"\")","v":""},{"$f":"IFERROR(INDEX(H$3:H$296,SMALL(IF(B$3:B$296=\"In\",ROW(H$2:H$295)-ROW(G$2)+1),ROW(G43))),\"\")","v":""},{"$f":"IFERROR(INDEX(I$3:I$296,SMALL(IF(B$3:B$296=\"In\",ROW(I$2:I$295)-ROW(H$2)+1),ROW(H43))),\"\")","v":""},{"$f":"IFERROR(INDEX(J$3:J$296,SMALL(IF(B$3:B$296=\"In\",ROW(J$2:J$295)-ROW(I$2)+1),ROW(I43))),\"\")","v":""},{"$f":"IFERROR(INDEX(K$3:K$296,SMALL(IF(B$3:B$296=\"In\",ROW(K$2:K$295)-ROW(I$2)+1),ROW(I43))),\"\")","v":""}]
[false,"Out","Championing and promoting financial education",44,"Engaging with parents/carers and local stakeholders","Teachers communicate effectively with parents/carers about the vital role they play in developing their children’s financial capability to increase the parents/carers engagement in financial education ","Teachers effectively communicate the importance of financial education from a young age to parents/carers","Self-report survey question (teacher level) + documentary evidence","Q1. How important do you think the role of parents/carers is in your pupils' financial capability? A- very much so - somewhat - not really - not at all Q2. How frequently do you engage face to face on the topic of financial education with your pupils' parents/carers? A - on every meeting occasion / once a year / 2+ times a year / never ","C1. Yn eich barn chi, pa mor bwysig yw rôl y rhieni/gofalwyr yng ngallu ariannol eich disgyblion? A - pwysig iawn - rhywfaint - ddim mewn gwirionedd - ddim o gwbl  C2. Pa mor aml ydych chi'n ymgysylltu wyneb yn wyneb ar bwnc addysg ariannol gyda rhieni/gofalwyr eich disgyblion? A - ar bob cyfarfod neu achlysur / unwaith y flwyddyn / 2+ gwaith y flwyddyn / byth ",null,null,null,null,{"$f":"IFERROR(INDEX(D$3:D$296,SMALL(IF(B$3:B$296=\"In\",ROW(D$2:D$295)-ROW(D$2)+1),ROW(D44))),\"\")","v":""},{"$f":"IFERROR(INDEX(C$3:C$296,SMALL(IF(B$3:B$296=\"In\",ROW(C$2:C$295)-ROW(D$2)+1),ROW(D44))),\"\")","v":""},{"$f":"IFERROR(INDEX(E$3:E$296,SMALL(IF(B$3:B$296=\"In\",ROW(D$2:D$295)-ROW(D$2)+1),ROW(D44))),\"\")","v":""},{"$f":"IFERROR(INDEX(F$3:F$296,SMALL(IF(B$3:B$296=\"In\",ROW(F$2:F$295)-ROW(E$2)+1),ROW(E44))),\"\")","v":""},{"$f":"IFERROR(INDEX(G$3:G$296,SMALL(IF(B$3:B$296=\"In\",ROW(G$2:G$295)-ROW(F$2)+1),ROW(F44))),\"\")","v":""},{"$f":"IFERROR(INDEX(H$3:H$296,SMALL(IF(B$3:B$296=\"In\",ROW(H$2:H$295)-ROW(G$2)+1),ROW(G44))),\"\")","v":""},{"$f":"IFERROR(INDEX(I$3:I$296,SMALL(IF(B$3:B$296=\"In\",ROW(I$2:I$295)-ROW(H$2)+1),ROW(H44))),\"\")","v":""},{"$f":"IFERROR(INDEX(J$3:J$296,SMALL(IF(B$3:B$296=\"In\",ROW(J$2:J$295)-ROW(I$2)+1),ROW(I44))),\"\")","v":""},{"$f":"IFERROR(INDEX(K$3:K$296,SMALL(IF(B$3:B$296=\"In\",ROW(K$2:K$295)-ROW(I$2)+1),ROW(I44))),\"\")","v":""}]
[false,"Out","Championing and promoting financial education",45,"Engaging with parents/carers and local stakeholders","Teachers communicate effectively with parents/carers about the vital role they play in developing their children’s financial capability to increase the parents/carers engagement in financial education ","Teachers effectively communicate with parents/carers about the vital role that parents/carers play in developing their children's financial capability","Self-report survey question (teacher level) + documentary evidence","Q1. Have you (or your school) used any of the below to communicate financial education initiatives to parents / carers? A (multiple choice) emails - newsletters - flyers - homework - networking events - other (please define)","C1. Ydych chi (neu eich ysgol) wedi defnyddio unrhyw un o'r isod i gyfathrebu mentrau addysg ariannol i rieni / gofalwyr? A (aml-ddewis) negeseuon e-bost - newyddlenni - taflenni - gwaith cartref - digwyddiadau rhwydweithio - arall (diffiniwch)","Evidence of templates used to communicate with parents / carers",null,null,null,{"$f":"IFERROR(INDEX(D$3:D$296,SMALL(IF(B$3:B$296=\"In\",ROW(D$2:D$295)-ROW(D$2)+1),ROW(D45))),\"\")","v":""},{"$f":"IFERROR(INDEX(C$3:C$296,SMALL(IF(B$3:B$296=\"In\",ROW(C$2:C$295)-ROW(D$2)+1),ROW(D45))),\"\")","v":""},{"$f":"IFERROR(INDEX(E$3:E$296,SMALL(IF(B$3:B$296=\"In\",ROW(D$2:D$295)-ROW(D$2)+1),ROW(D45))),\"\")","v":""},{"$f":"IFERROR(INDEX(F$3:F$296,SMALL(IF(B$3:B$296=\"In\",ROW(F$2:F$295)-ROW(E$2)+1),ROW(E45))),\"\")","v":""},{"$f":"IFERROR(INDEX(G$3:G$296,SMALL(IF(B$3:B$296=\"In\",ROW(G$2:G$295)-ROW(F$2)+1),ROW(F45))),\"\")","v":""},{"$f":"IFERROR(INDEX(H$3:H$296,SMALL(IF(B$3:B$296=\"In\",ROW(H$2:H$295)-ROW(G$2)+1),ROW(G45))),\"\")","v":""},{"$f":"IFERROR(INDEX(I$3:I$296,SMALL(IF(B$3:B$296=\"In\",ROW(I$2:I$295)-ROW(H$2)+1),ROW(H45))),\"\")","v":""},{"$f":"IFERROR(INDEX(J$3:J$296,SMALL(IF(B$3:B$296=\"In\",ROW(J$2:J$295)-ROW(I$2)+1),ROW(I45))),\"\")","v":""},{"$f":"IFERROR(INDEX(K$3:K$296,SMALL(IF(B$3:B$296=\"In\",ROW(K$2:K$295)-ROW(I$2)+1),ROW(I45))),\"\")","v":""}]
[false,"Out","Championing and promoting financial education",46,"Engaging with parents/carers and local stakeholders","Teachers communicate effectively with parents/carers about the vital role they play in developing their children’s financial capability to increase the parents/carers engagement in financial education ","Teachers know where to refer parents/carers for advice/guidance","Self-report survey question (teacher level) ","Q1. How often do you refer parents/carers to sources of advice and guidance on young people FinCap? A - often - sometimes - rarely - never","C1. Pa mor aml ydych chi'n cyfeirio rhieni/gofalwyr at ffynonellau cyngor ac arweiniad ar allu ariannol pobl ifanc? A - yn aml - weithiau - yn anaml - byth",null,null,null,null,{"$f":"IFERROR(INDEX(D$3:D$296,SMALL(IF(B$3:B$296=\"In\",ROW(D$2:D$295)-ROW(D$2)+1),ROW(D46))),\"\")","v":""},{"$f":"IFERROR(INDEX(C$3:C$296,SMALL(IF(B$3:B$296=\"In\",ROW(C$2:C$295)-ROW(D$2)+1),ROW(D46))),\"\")","v":""},{"$f":"IFERROR(INDEX(E$3:E$296,SMALL(IF(B$3:B$296=\"In\",ROW(D$2:D$295)-ROW(D$2)+1),ROW(D46))),\"\")","v":""},{"$f":"IFERROR(INDEX(F$3:F$296,SMALL(IF(B$3:B$296=\"In\",ROW(F$2:F$295)-ROW(E$2)+1),ROW(E46))),\"\")","v":""},{"$f":"IFERROR(INDEX(G$3:G$296,SMALL(IF(B$3:B$296=\"In\",ROW(G$2:G$295)-ROW(F$2)+1),ROW(F46))),\"\")","v":""},{"$f":"IFERROR(INDEX(H$3:H$296,SMALL(IF(B$3:B$296=\"In\",ROW(H$2:H$295)-ROW(G$2)+1),ROW(G46))),\"\")","v":""},{"$f":"IFERROR(INDEX(I$3:I$296,SMALL(IF(B$3:B$296=\"In\",ROW(I$2:I$295)-ROW(H$2)+1),ROW(H46))),\"\")","v":""},{"$f":"IFERROR(INDEX(J$3:J$296,SMALL(IF(B$3:B$296=\"In\",ROW(J$2:J$295)-ROW(I$2)+1),ROW(I46))),\"\")","v":""},{"$f":"IFERROR(INDEX(K$3:K$296,SMALL(IF(B$3:B$296=\"In\",ROW(K$2:K$295)-ROW(I$2)+1),ROW(I46))),\"\")","v":""}]
[false,"Out","Championing and promoting financial education",47,"Engaging with parents/carers and local stakeholders","Teachers communicate effectively with parents/carers about the vital role they play in developing their children’s financial capability to increase the parents/carers engagement in financial education ","Teachers feel confident in referring parents/carers to sources of advice/guidance","Self-report survey question (teacher level) ","Q1. How confident do you feel in signposting to parents/carers to sources of advice/guidance on young people FinCap? A. very confident - confident - unconfident - very unconfident ","C1. Pa mor hyderus ydych chi'n teimlo wrth gyfeirio rhieni/gofalwyr at ffynonellau cyngor/arweiniad ar allu ariannol pobl ifanc? A. hyderus iawn - hyderus - ddim yn hyderus - ddim yn hyderus o gwbl ",null,null,null,null,{"$f":"IFERROR(INDEX(D$3:D$296,SMALL(IF(B$3:B$296=\"In\",ROW(D$2:D$295)-ROW(D$2)+1),ROW(D47))),\"\")","v":""},{"$f":"IFERROR(INDEX(C$3:C$296,SMALL(IF(B$3:B$296=\"In\",ROW(C$2:C$295)-ROW(D$2)+1),ROW(D47))),\"\")","v":""},{"$f":"IFERROR(INDEX(E$3:E$296,SMALL(IF(B$3:B$296=\"In\",ROW(D$2:D$295)-ROW(D$2)+1),ROW(D47))),\"\")","v":""},{"$f":"IFERROR(INDEX(F$3:F$296,SMALL(IF(B$3:B$296=\"In\",ROW(F$2:F$295)-ROW(E$2)+1),ROW(E47))),\"\")","v":""},{"$f":"IFERROR(INDEX(G$3:G$296,SMALL(IF(B$3:B$296=\"In\",ROW(G$2:G$295)-ROW(F$2)+1),ROW(F47))),\"\")","v":""},{"$f":"IFERROR(INDEX(H$3:H$296,SMALL(IF(B$3:B$296=\"In\",ROW(H$2:H$295)-ROW(G$2)+1),ROW(G47))),\"\")","v":""},{"$f":"IFERROR(INDEX(I$3:I$296,SMALL(IF(B$3:B$296=\"In\",ROW(I$2:I$295)-ROW(H$2)+1),ROW(H47))),\"\")","v":""},{"$f":"IFERROR(INDEX(J$3:J$296,SMALL(IF(B$3:B$296=\"In\",ROW(J$2:J$295)-ROW(I$2)+1),ROW(I47))),\"\")","v":""},{"$f":"IFERROR(INDEX(K$3:K$296,SMALL(IF(B$3:B$296=\"In\",ROW(K$2:K$295)-ROW(I$2)+1),ROW(I47))),\"\")","v":""}]
[false,"Out","Championing and promoting financial education",48,"Engaging with parents/carers and local stakeholders","Teachers communicate effectively with parents/carers about the vital role they play in developing their children’s financial capability to increase the parents/carers engagement in financial education ","Teachers provide parents/carers with practical advice about supporting their children's financial capability development in a way that complements the financial education they receive in school","Self-report survey question (teacher level) ","Q1. To what extent are you able to explain financial education teaching to parents / carers in order to further develop the following? (multiple - matrix 1-6 rating scale where 1 is am not able at all and 6 is I am fully able) personal development (autonomy) - money management - becoming a critical consumer - managing risks - managing emotions associated with money - understanding the role money plays in life. ","C1. I ba raddau ydych chi'n gallu egluro addysgu addysg ariannol i rieni / gofalwyr er mwyn datblygu’r canlynol ymhellach? (Lluosog - matrics sgôr 1-6, lle mae 1 yn gyfystyr â nid wyf yn gallu o gwbl a 6 yn gyfystyr â rydw i’n hollol abl) datblygiad personol (ymreolaeth) - rheoli arian - dod yn ddefnyddwyr beirniadol - rheoli risgiau - rheoli emosiynau sy'n gysylltiedig ag arian - deall y rôl mae arian yn ei chwarae mewn bywyd. ",null,null,null,null,{"$f":"IFERROR(INDEX(D$3:D$296,SMALL(IF(B$3:B$296=\"In\",ROW(D$2:D$295)-ROW(D$2)+1),ROW(D48))),\"\")","v":""},{"$f":"IFERROR(INDEX(C$3:C$296,SMALL(IF(B$3:B$296=\"In\",ROW(C$2:C$295)-ROW(D$2)+1),ROW(D48))),\"\")","v":""},{"$f":"IFERROR(INDEX(E$3:E$296,SMALL(IF(B$3:B$296=\"In\",ROW(D$2:D$295)-ROW(D$2)+1),ROW(D48))),\"\")","v":""},{"$f":"IFERROR(INDEX(F$3:F$296,SMALL(IF(B$3:B$296=\"In\",ROW(F$2:F$295)-ROW(E$2)+1),ROW(E48))),\"\")","v":""},{"$f":"IFERROR(INDEX(G$3:G$296,SMALL(IF(B$3:B$296=\"In\",ROW(G$2:G$295)-ROW(F$2)+1),ROW(F48))),\"\")","v":""},{"$f":"IFERROR(INDEX(H$3:H$296,SMALL(IF(B$3:B$296=\"In\",ROW(H$2:H$295)-ROW(G$2)+1),ROW(G48))),\"\")","v":""},{"$f":"IFERROR(INDEX(I$3:I$296,SMALL(IF(B$3:B$296=\"In\",ROW(I$2:I$295)-ROW(H$2)+1),ROW(H48))),\"\")","v":""},{"$f":"IFERROR(INDEX(J$3:J$296,SMALL(IF(B$3:B$296=\"In\",ROW(J$2:J$295)-ROW(I$2)+1),ROW(I48))),\"\")","v":""},{"$f":"IFERROR(INDEX(K$3:K$296,SMALL(IF(B$3:B$296=\"In\",ROW(K$2:K$295)-ROW(I$2)+1),ROW(I48))),\"\")","v":""}]
[false,"Out","Championing and promoting financial education",49,"Engaging with parents/carers and local stakeholders","Teachers communicate effectively with parents/carers about the vital role they play in developing their children’s financial capability to increase the parents/carers engagement in financial education ","Teachers set their pupils tasks/homework that encourages/supports the involvement of their parents/carers","Documentary evidence ",null,null,"Evidence of tasks/homeworks showcasing financial education intervention and application of learning by students ",null,null,null,{"$f":"IFERROR(INDEX(D$3:D$296,SMALL(IF(B$3:B$296=\"In\",ROW(D$2:D$295)-ROW(D$2)+1),ROW(D49))),\"\")","v":""},{"$f":"IFERROR(INDEX(C$3:C$296,SMALL(IF(B$3:B$296=\"In\",ROW(C$2:C$295)-ROW(D$2)+1),ROW(D49))),\"\")","v":""},{"$f":"IFERROR(INDEX(E$3:E$296,SMALL(IF(B$3:B$296=\"In\",ROW(D$2:D$295)-ROW(D$2)+1),ROW(D49))),\"\")","v":""},{"$f":"IFERROR(INDEX(F$3:F$296,SMALL(IF(B$3:B$296=\"In\",ROW(F$2:F$295)-ROW(E$2)+1),ROW(E49))),\"\")","v":""},{"$f":"IFERROR(INDEX(G$3:G$296,SMALL(IF(B$3:B$296=\"In\",ROW(G$2:G$295)-ROW(F$2)+1),ROW(F49))),\"\")","v":""},{"$f":"IFERROR(INDEX(H$3:H$296,SMALL(IF(B$3:B$296=\"In\",ROW(H$2:H$295)-ROW(G$2)+1),ROW(G49))),\"\")","v":""},{"$f":"IFERROR(INDEX(I$3:I$296,SMALL(IF(B$3:B$296=\"In\",ROW(I$2:I$295)-ROW(H$2)+1),ROW(H49))),\"\")","v":""},{"$f":"IFERROR(INDEX(J$3:J$296,SMALL(IF(B$3:B$296=\"In\",ROW(J$2:J$295)-ROW(I$2)+1),ROW(I49))),\"\")","v":""},{"$f":"IFERROR(INDEX(K$3:K$296,SMALL(IF(B$3:B$296=\"In\",ROW(K$2:K$295)-ROW(I$2)+1),ROW(I49))),\"\")","v":""}]
[false,"Out","Championing and promoting financial education",50,"Engaging with parents/carers and local stakeholders","Teachers establish positive relationships with external organisations around financial education to support and enable learning through real-world experiences","Teachers develop postitive working relationships and partnerships with local businesses, banks and other financial services institutions, employers, etc. to support the teaching of financial capability","Self-report survey question (teacher level) + documentary evidence","Q1. Have you or your school externally communicated your financial education agenda / programme to parents / carers i.e. external emails newsletters etc. A- Yes - No  Q2. (skip logic > yes) If so, how often A. most weeks - about once a month - 2-3 times a year / never  Q3. To what extent have you (your school) showcased your financial education intervention to 1) local media 2) local community events 3) local schools networking events 4) regional schools networking events 5) regional media 6) other - A - very frequently - frequently  - rarely - never ","C1. Ydych chi neu eich ysgol wedi cyfleu eich agenda / rhaglen addysg ariannol yn allanol i rieni / gofalwyr h.y. cylchlythyrau negeseuon e-bost allanol ac ati A- Ydw - Nac ydw C2. (Sgipio rhesymeg> ydw) Os felly, pa mor aml A. Y rhan fwyaf o wythnosau - tua unwaith y mis - 2-3 gwaith y flwyddyn / byth C3. I ba raddau ydych chi (eich ysgol) wedi arddangos eich ymyriad addysg ariannol 1) i’r cyfryngau lleol 2) mewn digwyddiadau cymunedol lleol 3) mewn digwyddiadau rhwydweithio ag ysgolion lleol 4) mewn digwyddiadau rhwydweithio rhanbarthol i ysgolion 5) drwy gyfryngau rhanbarthol 6) arall - A - yn aml iawn - yn aml - yn anaml - byth ","Evidence of material and support used to communicate your school's financial education agenda with parents / carers",null,null,null,{"$f":"IFERROR(INDEX(D$3:D$296,SMALL(IF(B$3:B$296=\"In\",ROW(D$2:D$295)-ROW(D$2)+1),ROW(D50))),\"\")","v":""},{"$f":"IFERROR(INDEX(C$3:C$296,SMALL(IF(B$3:B$296=\"In\",ROW(C$2:C$295)-ROW(D$2)+1),ROW(D50))),\"\")","v":""},{"$f":"IFERROR(INDEX(E$3:E$296,SMALL(IF(B$3:B$296=\"In\",ROW(D$2:D$295)-ROW(D$2)+1),ROW(D50))),\"\")","v":""},{"$f":"IFERROR(INDEX(F$3:F$296,SMALL(IF(B$3:B$296=\"In\",ROW(F$2:F$295)-ROW(E$2)+1),ROW(E50))),\"\")","v":""},{"$f":"IFERROR(INDEX(G$3:G$296,SMALL(IF(B$3:B$296=\"In\",ROW(G$2:G$295)-ROW(F$2)+1),ROW(F50))),\"\")","v":""},{"$f":"IFERROR(INDEX(H$3:H$296,SMALL(IF(B$3:B$296=\"In\",ROW(H$2:H$295)-ROW(G$2)+1),ROW(G50))),\"\")","v":""},{"$f":"IFERROR(INDEX(I$3:I$296,SMALL(IF(B$3:B$296=\"In\",ROW(I$2:I$295)-ROW(H$2)+1),ROW(H50))),\"\")","v":""},{"$f":"IFERROR(INDEX(J$3:J$296,SMALL(IF(B$3:B$296=\"In\",ROW(J$2:J$295)-ROW(I$2)+1),ROW(I50))),\"\")","v":""},{"$f":"IFERROR(INDEX(K$3:K$296,SMALL(IF(B$3:B$296=\"In\",ROW(K$2:K$295)-ROW(I$2)+1),ROW(I50))),\"\")","v":""}]
[false,"Out","Championing and promoting financial education",51,"Engaging with parents/carers and local stakeholders","Teachers establish positive relationships with external organisations around financial education to support and enable learning through real-world experiences","Teachers use relationships with other organisations to provide pupils with real-word experiences to consolidate and strengthen their financial capability learning","Self-report survey question (teacher level)     ","Q1. Is your school organising external events to showcase financial capability in real life context - yes - no -partly Q2. (skip logic >no) If not, is your school in the process of organising such type of event?  Q3. Have you (or school) engaged with external organisations aiming to provide students opportunities to 1) broadening employment horizons 2) acquiring employability key skills 3) money management knowledge 4) general real-life experience A. very frequently - frequently  - rarely - never ","C1. Ydi eich ysgol chi’n trefnu digwyddiadau allanol i arddangos gallu ariannol yng nghyd-destun y bywyd go iawn - ydi - nac ydi - yn rhannol Q2. (Sgipio rhesymeg> nac ydi) Os nad ydi, ydi eich ysgol wrthi'n trefnu digwyddiad o'r fath?  C3. Ydych chi (neu eich ysgol) yn ymgysylltu â sefydliadau allanol gyda'r nod o ddarparu cyfleoedd i fyfyrwyr 1) ehangu gorwelion cyflogaeth 2) caffael sgiliau cyflogadwyedd allweddol 3) gwybodaeth am reoli arian 4) profiad cyffredinol o fywyd go iawn A. yn aml iawn - yn aml - yn anaml - byth ",null,null,null,null,{"$f":"IFERROR(INDEX(D$3:D$296,SMALL(IF(B$3:B$296=\"In\",ROW(D$2:D$295)-ROW(D$2)+1),ROW(D51))),\"\")","v":""},{"$f":"IFERROR(INDEX(C$3:C$296,SMALL(IF(B$3:B$296=\"In\",ROW(C$2:C$295)-ROW(D$2)+1),ROW(D51))),\"\")","v":""},{"$f":"IFERROR(INDEX(E$3:E$296,SMALL(IF(B$3:B$296=\"In\",ROW(D$2:D$295)-ROW(D$2)+1),ROW(D51))),\"\")","v":""},{"$f":"IFERROR(INDEX(F$3:F$296,SMALL(IF(B$3:B$296=\"In\",ROW(F$2:F$295)-ROW(E$2)+1),ROW(E51))),\"\")","v":""},{"$f":"IFERROR(INDEX(G$3:G$296,SMALL(IF(B$3:B$296=\"In\",ROW(G$2:G$295)-ROW(F$2)+1),ROW(F51))),\"\")","v":""},{"$f":"IFERROR(INDEX(H$3:H$296,SMALL(IF(B$3:B$296=\"In\",ROW(H$2:H$295)-ROW(G$2)+1),ROW(G51))),\"\")","v":""},{"$f":"IFERROR(INDEX(I$3:I$296,SMALL(IF(B$3:B$296=\"In\",ROW(I$2:I$295)-ROW(H$2)+1),ROW(H51))),\"\")","v":""},{"$f":"IFERROR(INDEX(J$3:J$296,SMALL(IF(B$3:B$296=\"In\",ROW(J$2:J$295)-ROW(I$2)+1),ROW(I51))),\"\")","v":""},{"$f":"IFERROR(INDEX(K$3:K$296,SMALL(IF(B$3:B$296=\"In\",ROW(K$2:K$295)-ROW(I$2)+1),ROW(I51))),\"\")","v":""}]
[true,"In","Championing and promoting financial education",52,"Engaging with parents/carers and local stakeholders","Teachers report on individual student achievement to their parents/carers, and class/year/school-level achievement to other stakeholders","Teachers provide parents/carers with individual feedback on their children's financial capability gains and report on the financial capability gains of the year group as a whole ","Self-report survey question (teacher level) ","Q1. How frequently have you included pupils' financial capability learning in school reports going to parents/carers/year group? A - very frequently - frequently - rarely - never ","C1. Pa mor aml ydych chi wedi cynnwys addysg gallu ariannol y disgyblion mewn adroddiadau ysgol sy’n mynd at rieni/gofalwyr/grŵp blwyddyn? A - yn aml iawn - yn aml - yn anaml - byth ",null,null,null,null,{"$f":"IFERROR(INDEX(D$3:D$296,SMALL(IF(B$3:B$296=\"In\",ROW(D$2:D$295)-ROW(D$2)+1),ROW(D52))),\"\")","v":""},{"$f":"IFERROR(INDEX(C$3:C$296,SMALL(IF(B$3:B$296=\"In\",ROW(C$2:C$295)-ROW(D$2)+1),ROW(D52))),\"\")","v":""},{"$f":"IFERROR(INDEX(E$3:E$296,SMALL(IF(B$3:B$296=\"In\",ROW(D$2:D$295)-ROW(D$2)+1),ROW(D52))),\"\")","v":""},{"$f":"IFERROR(INDEX(F$3:F$296,SMALL(IF(B$3:B$296=\"In\",ROW(F$2:F$295)-ROW(E$2)+1),ROW(E52))),\"\")","v":""},{"$f":"IFERROR(INDEX(G$3:G$296,SMALL(IF(B$3:B$296=\"In\",ROW(G$2:G$295)-ROW(F$2)+1),ROW(F52))),\"\")","v":""},{"$f":"IFERROR(INDEX(H$3:H$296,SMALL(IF(B$3:B$296=\"In\",ROW(H$2:H$295)-ROW(G$2)+1),ROW(G52))),\"\")","v":""},{"$f":"IFERROR(INDEX(I$3:I$296,SMALL(IF(B$3:B$296=\"In\",ROW(I$2:I$295)-ROW(H$2)+1),ROW(H52))),\"\")","v":""},{"$f":"IFERROR(INDEX(J$3:J$296,SMALL(IF(B$3:B$296=\"In\",ROW(J$2:J$295)-ROW(I$2)+1),ROW(I52))),\"\")","v":""},{"$f":"IFERROR(INDEX(K$3:K$296,SMALL(IF(B$3:B$296=\"In\",ROW(K$2:K$295)-ROW(I$2)+1),ROW(I52))),\"\")","v":""}]
[null,"Out","Championing and promoting financial education",null,null,null,null,null,null,null,null,null,null,null,null,null,null,null,null,null,null,{"$f":"IFERROR(INDEX(J$3:J$296,SMALL(IF(B$3:B$296=\"In\",ROW(J$2:J$295)-ROW(I$2)+1),ROW(I53))),\"\")","v":""},{"$f":"IFERROR(INDEX(K$3:K$296,SMALL(IF(B$3:B$296=\"In\",ROW(K$2:K$295)-ROW(I$2)+1),ROW(I53))),\"\")","v":""}]
[null,null,null,null,null,null,null,null,null,null,null,null,null,null,null,null,null,null,null,null,null,{"$f":"IFERROR(INDEX(J$3:J$296,SMALL(IF(B$3:B$296=\"In\",ROW(J$2:J$295)-ROW(I$2)+1),ROW(I54))),\"\")","v":""}]
[null,null,null,null,null,null,null,null,null,null,null,null,null,null,null,null,null,null,null,null,null,{"$f":"IFERROR(INDEX(J$3:J$296,SMALL(IF(B$3:B$296=\"In\",ROW(J$2:J$295)-ROW(I$2)+1),ROW(I55))),\"\")","v":""}]
[null,null,null,null,null,null,null,null,null,null,null,null,null,null,null,null,null,null,null,null,null,{"$f":"IFERROR(INDEX(J$3:J$296,SMALL(IF(B$3:B$296=\"In\",ROW(J$2:J$295)-ROW(I$2)+1),ROW(I56))),\"\")","v":""}]
[null,null,null,null,null,null,null,null,null,null,null,null,null,null,null,null,null,null,null,null,null,{"$f":"IFERROR(INDEX(J$3:J$296,SMALL(IF(B$3:B$296=\"In\",ROW(J$2:J$295)-ROW(I$2)+1),ROW(I57))),\"\")","v":""}]
[null,null,null,null,null,null,null,null,null,null,null,null,null,null,null,null,null,null,null,null,null,{"$f":"IFERROR(INDEX(J$3:J$296,SMALL(IF(B$3:B$296=\"In\",ROW(J$2:J$295)-ROW(I$2)+1),ROW(I58))),\"\")","v":""}]
[null,null,null,null,null,null,null,null,null,null,null,null,null,null,null,null,null,null,null,null,null,{"$f":"IFERROR(INDEX(J$3:J$296,SMALL(IF(B$3:B$296=\"In\",ROW(J$2:J$295)-ROW(I$2)+1),ROW(I59))),\"\")","v":""}]
[null,null,null,null,null,null,null,null,null,null,null,null,null,null,null,null,null,null,null,null,null,{"$f":"IFERROR(INDEX(J$3:J$296,SMALL(IF(B$3:B$296=\"In\",ROW(J$2:J$295)-ROW(I$2)+1),ROW(I60))),\"\")","v":""}]
[null,null,null,null,null,null,null,null,null,null,null,null,null,null,null,null,null,null,null,null,null,{"$f":"IFERROR(INDEX(J$3:J$296,SMALL(IF(B$3:B$296=\"In\",ROW(J$2:J$295)-ROW(I$2)+1),ROW(I61))),\"\")","v":""}]
[null,null,null,null,null,null,null,null,null,null,null,null,null,null,null,null,null,null,null,null,null,{"$f":"IFERROR(INDEX(J$3:J$296,SMALL(IF(B$3:B$296=\"In\",ROW(J$2:J$295)-ROW(I$2)+1),ROW(I62))),\"\")","v":""}]
[null,null,null,null,null,null,null,null,null,null,null,null,null,null,null,null,null,null,null,null,null,{"$f":"IFERROR(INDEX(J$3:J$296,SMALL(IF(B$3:B$296=\"In\",ROW(J$2:J$295)-ROW(I$2)+1),ROW(I63))),\"\")","v":""}]
[null,null,null,null,null,null,null,null,null,null,null,null,null,null,null,null,null,null,null,null,null,{"$f":"IFERROR(INDEX(J$3:J$296,SMALL(IF(B$3:B$296=\"In\",ROW(J$2:J$295)-ROW(I$2)+1),ROW(I64))),\"\")","v":""}]
[null,null,null,null,null,null,null,null,null,null,null,null,null,null,null,null,null,null,null,null,null,{"$f":"IFERROR(INDEX(J$3:J$296,SMALL(IF(B$3:B$296=\"In\",ROW(J$2:J$295)-ROW(I$2)+1),ROW(I65))),\"\")","v":""}]
[null,null,null,null,null,null,null,null,null,null,null,null,null,null,null,null,null,null,null,null,null,{"$f":"IFERROR(INDEX(J$3:J$296,SMALL(IF(B$3:B$296=\"In\",ROW(J$2:J$295)-ROW(I$2)+1),ROW(I66))),\"\")","v":""}]
[null,null,null,null,null,null,null,null,null,null,null,null,null,null,null,null,null,null,null,null,null,{"$f":"IFERROR(INDEX(J$3:J$296,SMALL(IF(B$3:B$296=\"In\",ROW(J$2:J$295)-ROW(I$2)+1),ROW(I67))),\"\")","v":""}]
[null,null,null,null,null,null,null,null,null,null,null,null,null,null,null,null,null,null,null,null,null,{"$f":"IFERROR(INDEX(J$3:J$296,SMALL(IF(B$3:B$296=\"In\",ROW(J$2:J$295)-ROW(I$2)+1),ROW(I68))),\"\")","v":""}]
[null,null,null,null,null,null,null,null,null,null,null,null,null,null,null,null,null,null,null,null,null,{"$f":"IFERROR(INDEX(J$3:J$296,SMALL(IF(B$3:B$296=\"In\",ROW(J$2:J$295)-ROW(I$2)+1),ROW(I69))),\"\")","v":""}]
[null,null,null,null,null,null,null,null,null,null,null,null,null,null,null,null,null,null,null,null,null,{"$f":"IFERROR(INDEX(J$3:J$296,SMALL(IF(B$3:B$296=\"In\",ROW(J$2:J$295)-ROW(I$2)+1),ROW(I70))),\"\")","v":""}]
[null,null,null,null,null,null,null,null,null,null,null,null,null,null,null,null,null,null,null,null,null,{"$f":"IFERROR(INDEX(J$3:J$296,SMALL(IF(B$3:B$296=\"In\",ROW(J$2:J$295)-ROW(I$2)+1),ROW(I71))),\"\")","v":""}]
[null,null,null,null,null,null,null,null,null,null,null,null,null,null,null,null,null,null,null,null,null,{"$f":"IFERROR(INDEX(J$3:J$296,SMALL(IF(B$3:B$296=\"In\",ROW(J$2:J$295)-ROW(I$2)+1),ROW(I72))),\"\")","v":""}]
[null,null,null,null,null,null,null,null,null,null,null,null,null,null,null,null,null,null,null,null,null,{"$f":"IFERROR(INDEX(J$3:J$296,SMALL(IF(B$3:B$296=\"In\",ROW(J$2:J$295)-ROW(I$2)+1),ROW(I73))),\"\")","v":""}]
[null,null,null,null,null,null,null,null,null,null,null,null,null,null,null,null,null,null,null,null,null,{"$f":"IFERROR(INDEX(J$3:J$296,SMALL(IF(B$3:B$296=\"In\",ROW(J$2:J$295)-ROW(I$2)+1),ROW(I74))),\"\")","v":""}]
[null,null,null,null,null,null,null,null,null,null,null,null,null,null,null,null,null,null,null,null,null,{"$f":"IFERROR(INDEX(J$3:J$296,SMALL(IF(B$3:B$296=\"In\",ROW(J$2:J$295)-ROW(I$2)+1),ROW(I75))),\"\")","v":""}]
[null,null,null,null,null,null,null,null,null,null,null,null,null,null,null,null,null,null,null,null,null,{"$f":"IFERROR(INDEX(J$3:J$296,SMALL(IF(B$3:B$296=\"In\",ROW(J$2:J$295)-ROW(I$2)+1),ROW(I76))),\"\")","v":""}]
[null,null,null,null,null,null,null,null,null,null,null,null,null,null,null,null,null,null,null,null,null,{"$f":"IFERROR(INDEX(J$3:J$296,SMALL(IF(B$3:B$296=\"In\",ROW(J$2:J$295)-ROW(I$2)+1),ROW(I77))),\"\")","v":""}]
[null,null,null,null,null,null,null,null,null,null,null,null,null,null,null,null,null,null,null,null,null,{"$f":"IFERROR(INDEX(J$3:J$296,SMALL(IF(B$3:B$296=\"In\",ROW(J$2:J$295)-ROW(I$2)+1),ROW(I78))),\"\")","v":""}]
[null,null,null,null,null,null,null,null,null,null,null,null,null,null,null,null,null,null,null,null,null,{"$f":"IFERROR(INDEX(J$3:J$296,SMALL(IF(B$3:B$296=\"In\",ROW(J$2:J$295)-ROW(I$2)+1),ROW(I79))),\"\")","v":""}]
[null,null,null,null,null,null,null,null,null,null,null,null,null,null,null,null,null,null,null,null,null,{"$f":"IFERROR(INDEX(J$3:J$296,SMALL(IF(B$3:B$296=\"In\",ROW(J$2:J$295)-ROW(I$2)+1),ROW(I80))),\"\")","v":""}]
[null,null,null,null,null,null,null,null,null,null,null,null,null,null,null,null,null,null,null,null,null,{"$f":"IFERROR(INDEX(J$3:J$296,SMALL(IF(B$3:B$296=\"In\",ROW(J$2:J$295)-ROW(I$2)+1),ROW(I81))),\"\")","v":""}]
[null,null,null,null,null,null,null,null,null,null,null,null,null,null,null,null,null,null,null,null,null,{"$f":"IFERROR(INDEX(J$3:J$296,SMALL(IF(B$3:B$296=\"In\",ROW(J$2:J$295)-ROW(I$2)+1),ROW(I82))),\"\")","v":""}]
[null,null,null,null,null,null,null,null,null,null,null,null,null,null,null,null,null,null,null,null,null,{"$f":"IFERROR(INDEX(J$3:J$296,SMALL(IF(B$3:B$296=\"In\",ROW(J$2:J$295)-ROW(I$2)+1),ROW(I83))),\"\")","v":""}]
[null,null,null,null,null,null,null,null,null,null,null,null,null,null,null,null,null,null,null,null,null,{"$f":"IFERROR(INDEX(J$3:J$296,SMALL(IF(B$3:B$296=\"In\",ROW(J$2:J$295)-ROW(I$2)+1),ROW(I84))),\"\")","v":""}]
[null,null,null,null,null,null,null,null,null,null,null,null,null,null,null,null,null,null,null,null,null,{"$f":"IFERROR(INDEX(J$3:J$296,SMALL(IF(B$3:B$296=\"In\",ROW(J$2:J$295)-ROW(I$2)+1),ROW(I85))),\"\")","v":""}]
[null,null,null,null,null,null,null,null,null,null,null,null,null,null,null,null,null,null,null,null,null,{"$f":"IFERROR(INDEX(J$3:J$296,SMALL(IF(B$3:B$296=\"In\",ROW(J$2:J$295)-ROW(I$2)+1),ROW(I86))),\"\")","v":""}]
[null,null,null,null,null,null,null,null,null,null,null,null,null,null,null,null,null,null,null,null,null,{"$f":"IFERROR(INDEX(J$3:J$296,SMALL(IF(B$3:B$296=\"In\",ROW(J$2:J$295)-ROW(I$2)+1),ROW(I87))),\"\")","v":""}]
[null,null,null,null,null,null,null,null,null,null,null,null,null,null,null,null,null,null,null,null,null,{"$f":"IFERROR(INDEX(J$3:J$296,SMALL(IF(B$3:B$296=\"In\",ROW(J$2:J$295)-ROW(I$2)+1),ROW(I88))),\"\")","v":""}]
[null,null,null,null,null,null,null,null,null,null,null,null,null,null,null,null,null,null,null,null,null,{"$f":"IFERROR(INDEX(J$3:J$296,SMALL(IF(B$3:B$296=\"In\",ROW(J$2:J$295)-ROW(I$2)+1),ROW(I89))),\"\")","v":""}]
[null,null,null,null,null,null,null,null,null,null,null,null,null,null,null,null,null,null,null,null,null,{"$f":"IFERROR(INDEX(J$3:J$296,SMALL(IF(B$3:B$296=\"In\",ROW(J$2:J$295)-ROW(I$2)+1),ROW(I90))),\"\")","v":""}]
[null,null,null,null,null,null,null,null,null,null,null,null,null,null,null,null,null,null,null,null,null,{"$f":"IFERROR(INDEX(J$3:J$296,SMALL(IF(B$3:B$296=\"In\",ROW(J$2:J$295)-ROW(I$2)+1),ROW(I91))),\"\")","v":""}]
[null,null,null,null,null,null,null,null,null,null,null,null,null,null,null,null,null,null,null,null,null,{"$f":"IFERROR(INDEX(J$3:J$296,SMALL(IF(B$3:B$296=\"In\",ROW(J$2:J$295)-ROW(I$2)+1),ROW(I92))),\"\")","v":""}]
[null,null,null,null,null,null,null,null,null,null,null,null,null,null,null,null,null,null,null,null,null,{"$f":"IFERROR(INDEX(J$3:J$296,SMALL(IF(B$3:B$296=\"In\",ROW(J$2:J$295)-ROW(I$2)+1),ROW(I93))),\"\")","v":""}]
[null,null,null,null,null,null,null,null,null,null,null,null,null,null,null,null,null,null,null,null,null,{"$f":"IFERROR(INDEX(J$3:J$296,SMALL(IF(B$3:B$296=\"In\",ROW(J$2:J$295)-ROW(I$2)+1),ROW(I94))),\"\")","v":""}]
[null,null,null,null,null,null,null,null,null,null,null,null,null,null,null,null,null,null,null,null,null,{"$f":"IFERROR(INDEX(J$3:J$296,SMALL(IF(B$3:B$296=\"In\",ROW(J$2:J$295)-ROW(I$2)+1),ROW(I95))),\"\")","v":""}]
[null,null,null,null,null,null,null,null,null,null,null,null,null,null,null,null,null,null,null,null,null,{"$f":"IFERROR(INDEX(J$3:J$296,SMALL(IF(B$3:B$296=\"In\",ROW(J$2:J$295)-ROW(I$2)+1),ROW(I96))),\"\")","v":""}]
[null,null,null,null,null,null,null,null,null,null,null,null,null,null,null,null,null,null,null,null,null,{"$f":"IFERROR(INDEX(J$3:J$296,SMALL(IF(B$3:B$296=\"In\",ROW(J$2:J$295)-ROW(I$2)+1),ROW(I97))),\"\")","v":""}]
[null,null,null,null,null,null,null,null,null,null,null,null,null,null,null,null,null,null,null,null,null,{"$f":"IFERROR(INDEX(J$3:J$296,SMALL(IF(B$3:B$296=\"In\",ROW(J$2:J$295)-ROW(I$2)+1),ROW(I98))),\"\")","v":""}]
[null,null,null,null,null,null,null,null,null,null,null,null,null,null,null,null,null,null,null,null,null,{"$f":"IFERROR(INDEX(J$3:J$296,SMALL(IF(B$3:B$296=\"In\",ROW(J$2:J$295)-ROW(I$2)+1),ROW(I99))),\"\")","v":""}]
[null,null,null,null,null,null,null,null,null,null,null,null,null,null,null,null,null,null,null,null,null,{"$f":"IFERROR(INDEX(J$3:J$296,SMALL(IF(B$3:B$296=\"In\",ROW(J$2:J$295)-ROW(I$2)+1),ROW(I100))),\"\")","v":""}]
[null,null,null,null,null,null,null,null,null,null,null,null,null,null,null,null,null,null,null,null,null,{"$f":"IFERROR(INDEX(J$3:J$296,SMALL(IF(B$3:B$296=\"In\",ROW(J$2:J$295)-ROW(I$2)+1),ROW(I101))),\"\")","v":""}]
[null,null,null,null,null,null,null,null,null,null,null,null,null,null,null,null,null,null,null,null,null,{"$f":"IFERROR(INDEX(J$3:J$296,SMALL(IF(B$3:B$296=\"In\",ROW(J$2:J$295)-ROW(I$2)+1),ROW(I102))),\"\")","v":""}]
[null,null,null,null,null,null,null,null,null,null,null,null,null,null,null,null,null,null,null,null,null,{"$f":"IFERROR(INDEX(J$3:J$296,SMALL(IF(B$3:B$296=\"In\",ROW(J$2:J$295)-ROW(I$2)+1),ROW(I103))),\"\")","v":""}]
[null,null,null,null,null,null,null,null,null,null,null,null,null,null,null,null,null,null,null,null,null,{"$f":"IFERROR(INDEX(J$3:J$296,SMALL(IF(B$3:B$296=\"In\",ROW(J$2:J$295)-ROW(I$2)+1),ROW(I104))),\"\")","v":""}]
[null,null,null,null,null,null,null,null,null,null,null,null,null,null,null,null,null,null,null,null,null,{"$f":"IFERROR(INDEX(J$3:J$296,SMALL(IF(B$3:B$296=\"In\",ROW(J$2:J$295)-ROW(I$2)+1),ROW(I105))),\"\")","v":""}]
[null,null,null,null,null,null,null,null,null,null,null,null,null,null,null,null,null,null,null,null,null,{"$f":"IFERROR(INDEX(J$3:J$296,SMALL(IF(B$3:B$296=\"In\",ROW(J$2:J$295)-ROW(I$2)+1),ROW(I106))),\"\")","v":""}]
[null,null,null,null,null,null,null,null,null,null,null,null,null,null,null,null,null,null,null,null,null,{"$f":"IFERROR(INDEX(J$3:J$296,SMALL(IF(B$3:B$296=\"In\",ROW(J$2:J$295)-ROW(I$2)+1),ROW(I107))),\"\")","v":""}]
[null,null,null,null,null,null,null,null,null,null,null,null,null,null,null,null,null,null,null,null,null,{"$f":"IFERROR(INDEX(J$3:J$296,SMALL(IF(B$3:B$296=\"In\",ROW(J$2:J$295)-ROW(I$2)+1),ROW(I108))),\"\")","v":""}]
[null,null,null,null,null,null,null,null,null,null,null,null,null,null,null,null,null,null,null,null,null,{"$f":"IFERROR(INDEX(J$3:J$296,SMALL(IF(B$3:B$296=\"In\",ROW(J$2:J$295)-ROW(I$2)+1),ROW(I109))),\"\")","v":""}]
[null,null,null,null,null,null,null,null,null,null,null,null,null,null,null,null,null,null,null,null,null,{"$f":"IFERROR(INDEX(J$3:J$296,SMALL(IF(B$3:B$296=\"In\",ROW(J$2:J$295)-ROW(I$2)+1),ROW(I110))),\"\")","v":""}]
[null,null,null,null,null,null,null,null,null,null,null,null,null,null,null,null,null,null,null,null,null,{"$f":"IFERROR(INDEX(J$3:J$296,SMALL(IF(B$3:B$296=\"In\",ROW(J$2:J$295)-ROW(I$2)+1),ROW(I111))),\"\")","v":""}]
[null,null,null,null,null,null,null,null,null,null,null,null,null,null,null,null,null,null,null,null,null,{"$f":"IFERROR(INDEX(J$3:J$296,SMALL(IF(B$3:B$296=\"In\",ROW(J$2:J$295)-ROW(I$2)+1),ROW(I112))),\"\")","v":""}]
[null,null,null,null,null,null,null,null,null,null,null,null,null,null,null,null,null,null,null,null,null,{"$f":"IFERROR(INDEX(J$3:J$296,SMALL(IF(B$3:B$296=\"In\",ROW(J$2:J$295)-ROW(I$2)+1),ROW(I113))),\"\")","v":""}]
[null,null,null,null,null,null,null,null,null,null,null,null,null,null,null,null,null,null,null,null,null,{"$f":"IFERROR(INDEX(J$3:J$296,SMALL(IF(B$3:B$296=\"In\",ROW(J$2:J$295)-ROW(I$2)+1),ROW(I114))),\"\")","v":""}]
[null,null,null,null,null,null,null,null,null,null,null,null,null,null,null,null,null,null,null,null,null,{"$f":"IFERROR(INDEX(J$3:J$296,SMALL(IF(B$3:B$296=\"In\",ROW(J$2:J$295)-ROW(I$2)+1),ROW(I115))),\"\")","v":""}]
[null,null,null,null,null,null,null,null,null,null,null,null,null,null,null,null,null,null,null,null,null,{"$f":"IFERROR(INDEX(J$3:J$296,SMALL(IF(B$3:B$296=\"In\",ROW(J$2:J$295)-ROW(I$2)+1),ROW(I116))),\"\")","v":""}]
[null,null,null,null,null,null,null,null,null,null,null,null,null,null,null,null,null,null,null,null,null,{"$f":"IFERROR(INDEX(J$3:J$296,SMALL(IF(B$3:B$296=\"In\",ROW(J$2:J$295)-ROW(I$2)+1),ROW(I117))),\"\")","v":""}]
[null,null,null,null,null,null,null,null,null,null,null,null,null,null,null,null,null,null,null,null,null,{"$f":"IFERROR(INDEX(J$3:J$296,SMALL(IF(B$3:B$296=\"In\",ROW(J$2:J$295)-ROW(I$2)+1),ROW(I118))),\"\")","v":""}]
[null,null,null,null,null,null,null,null,null,null,null,null,null,null,null,null,null,null,null,null,null,{"$f":"IFERROR(INDEX(J$3:J$296,SMALL(IF(B$3:B$296=\"In\",ROW(J$2:J$295)-ROW(I$2)+1),ROW(I119))),\"\")","v":""}]
[null,null,null,null,null,null,null,null,null,null,null,null,null,null,null,null,null,null,null,null,null,{"$f":"IFERROR(INDEX(J$3:J$296,SMALL(IF(B$3:B$296=\"In\",ROW(J$2:J$295)-ROW(I$2)+1),ROW(I120))),\"\")","v":""}]
[null,null,null,null,null,null,null,null,null,null,null,null,null,null,null,null,null,null,null,null,null,{"$f":"IFERROR(INDEX(J$3:J$296,SMALL(IF(B$3:B$296=\"In\",ROW(J$2:J$295)-ROW(I$2)+1),ROW(I121))),\"\")","v":""}]
[null,null,null,null,null,null,null,null,null,null,null,null,null,null,null,null,null,null,null,null,null,{"$f":"IFERROR(INDEX(J$3:J$296,SMALL(IF(B$3:B$296=\"In\",ROW(J$2:J$295)-ROW(I$2)+1),ROW(I122))),\"\")","v":""}]
[null,null,null,null,null,null,null,null,null,null,null,null,null,null,null,null,null,null,null,null,null,{"$f":"IFERROR(INDEX(J$3:J$296,SMALL(IF(B$3:B$296=\"In\",ROW(J$2:J$295)-ROW(I$2)+1),ROW(I123))),\"\")","v":""}]
[null,null,null,null,null,null,null,null,null,null,null,null,null,null,null,null,null,null,null,null,null,{"$f":"IFERROR(INDEX(J$3:J$296,SMALL(IF(B$3:B$296=\"In\",ROW(J$2:J$295)-ROW(I$2)+1),ROW(I124))),\"\")","v":""}]
[null,null,null,null,null,null,null,null,null,null,null,null,null,null,null,null,null,null,null,null,null,{"$f":"IFERROR(INDEX(J$3:J$296,SMALL(IF(B$3:B$296=\"In\",ROW(J$2:J$295)-ROW(I$2)+1),ROW(I125))),\"\")","v":""}]
[null,null,null,null,null,null,null,null,null,null,null,null,null,null,null,null,null,null,null,null,null,{"$f":"IFERROR(INDEX(J$3:J$296,SMALL(IF(B$3:B$296=\"In\",ROW(J$2:J$295)-ROW(I$2)+1),ROW(I126))),\"\")","v":""}]
[null,null,null,null,null,null,null,null,null,null,null,null,null,null,null,null,null,null,null,null,null,{"$f":"IFERROR(INDEX(J$3:J$296,SMALL(IF(B$3:B$296=\"In\",ROW(J$2:J$295)-ROW(I$2)+1),ROW(I127))),\"\")","v":""}]
[null,null,null,null,null,null,null,null,null,null,null,null,null,null,null,null,null,null,null,null,null,{"$f":"IFERROR(INDEX(J$3:J$296,SMALL(IF(B$3:B$296=\"In\",ROW(J$2:J$295)-ROW(I$2)+1),ROW(I128))),\"\")","v":""}]
[null,null,null,null,null,null,null,null,null,null,null,null,null,null,null,null,null,null,null,null,null,{"$f":"IFERROR(INDEX(J$3:J$296,SMALL(IF(B$3:B$296=\"In\",ROW(J$2:J$295)-ROW(I$2)+1),ROW(I129))),\"\")","v":""}]
[null,null,null,null,null,null,null,null,null,null,null,null,null,null,null,null,null,null,null,null,null,{"$f":"IFERROR(INDEX(J$3:J$296,SMALL(IF(B$3:B$296=\"In\",ROW(J$2:J$295)-ROW(I$2)+1),ROW(I130))),\"\")","v":""}]
[null,null,null,null,null,null,null,null,null,null,null,null,null,null,null,null,null,null,null,null,null,{"$f":"IFERROR(INDEX(J$3:J$296,SMALL(IF(B$3:B$296=\"In\",ROW(J$2:J$295)-ROW(I$2)+1),ROW(I131))),\"\")","v":""}]
[null,null,null,null,null,null,null,null,null,null,null,null,null,null,null,null,null,null,null,null,null,{"$f":"IFERROR(INDEX(J$3:J$296,SMALL(IF(B$3:B$296=\"In\",ROW(J$2:J$295)-ROW(I$2)+1),ROW(I132))),\"\")","v":""}]
[null,null,null,null,null,null,null,null,null,null,null,null,null,null,null,null,null,null,null,null,null,{"$f":"IFERROR(INDEX(J$3:J$296,SMALL(IF(B$3:B$296=\"In\",ROW(J$2:J$295)-ROW(I$2)+1),ROW(I133))),\"\")","v":""}]
[null,null,null,null,null,null,null,null,null,null,null,null,null,null,null,null,null,null,null,null,null,{"$f":"IFERROR(INDEX(J$3:J$296,SMALL(IF(B$3:B$296=\"In\",ROW(J$2:J$295)-ROW(I$2)+1),ROW(I134))),\"\")","v":""}]
[null,null,null,null,null,null,null,null,null,null,null,null,null,null,null,null,null,null,null,null,null,{"$f":"IFERROR(INDEX(J$3:J$296,SMALL(IF(B$3:B$296=\"In\",ROW(J$2:J$295)-ROW(I$2)+1),ROW(I135))),\"\")","v":""}]
[null,null,null,null,null,null,null,null,null,null,null,null,null,null,null,null,null,null,null,null,null,{"$f":"IFERROR(INDEX(J$3:J$296,SMALL(IF(B$3:B$296=\"In\",ROW(J$2:J$295)-ROW(I$2)+1),ROW(I136))),\"\")","v":""}]
[null,null,null,null,null,null,null,null,null,null,null,null,null,null,null,null,null,null,null,null,null,{"$f":"IFERROR(INDEX(J$3:J$296,SMALL(IF(B$3:B$296=\"In\",ROW(J$2:J$295)-ROW(I$2)+1),ROW(I137))),\"\")","v":""}]
[null,null,null,null,null,null,null,null,null,null,null,null,null,null,null,null,null,null,null,null,null,{"$f":"IFERROR(INDEX(J$3:J$296,SMALL(IF(B$3:B$296=\"In\",ROW(J$2:J$295)-ROW(I$2)+1),ROW(I138))),\"\")","v":""}]
[null,null,null,null,null,null,null,null,null,null,null,null,null,null,null,null,null,null,null,null,null,{"$f":"IFERROR(INDEX(J$3:J$296,SMALL(IF(B$3:B$296=\"In\",ROW(J$2:J$295)-ROW(I$2)+1),ROW(I139))),\"\")","v":""}]
[null,null,null,null,null,null,null,null,null,null,null,null,null,null,null,null,null,null,null,null,null,{"$f":"IFERROR(INDEX(J$3:J$296,SMALL(IF(B$3:B$296=\"In\",ROW(J$2:J$295)-ROW(I$2)+1),ROW(I140))),\"\")","v":""}]
[null,null,null,null,null,null,null,null,null,null,null,null,null,null,null,null,null,null,null,null,null,{"$f":"IFERROR(INDEX(J$3:J$296,SMALL(IF(B$3:B$296=\"In\",ROW(J$2:J$295)-ROW(I$2)+1),ROW(I141))),\"\")","v":""}]
[null,null,null,null,null,null,null,null,null,null,null,null,null,null,null,null,null,null,null,null,null,{"$f":"IFERROR(INDEX(J$3:J$296,SMALL(IF(B$3:B$296=\"In\",ROW(J$2:J$295)-ROW(I$2)+1),ROW(I142))),\"\")","v":""}]
[null,null,null,null,null,null,null,null,null,null,null,null,null,null,null,null,null,null,null,null,null,{"$f":"IFERROR(INDEX(J$3:J$296,SMALL(IF(B$3:B$296=\"In\",ROW(J$2:J$295)-ROW(I$2)+1),ROW(I143))),\"\")","v":""}]
[null,null,null,null,null,null,null,null,null,null,null,null,null,null,null,null,null,null,null,null,null,{"$f":"IFERROR(INDEX(J$3:J$296,SMALL(IF(B$3:B$296=\"In\",ROW(J$2:J$295)-ROW(I$2)+1),ROW(I144))),\"\")","v":""}]
[null,null,null,null,null,null,null,null,null,null,null,null,null,null,null,null,null,null,null,null,null,{"$f":"IFERROR(INDEX(J$3:J$296,SMALL(IF(B$3:B$296=\"In\",ROW(J$2:J$295)-ROW(I$2)+1),ROW(I145))),\"\")","v":""}]
[null,null,null,null,null,null,null,null,null,null,null,null,null,null,null,null,null,null,null,null,null,{"$f":"IFERROR(INDEX(J$3:J$296,SMALL(IF(B$3:B$296=\"In\",ROW(J$2:J$295)-ROW(I$2)+1),ROW(I146))),\"\")","v":""}]
[null,null,null,null,null,null,null,null,null,null,null,null,null,null,null,null,null,null,null,null,null,{"$f":"IFERROR(INDEX(J$3:J$296,SMALL(IF(B$3:B$296=\"In\",ROW(J$2:J$295)-ROW(I$2)+1),ROW(I147))),\"\")","v":""}]
[null,null,null,null,null,null,null,null,null,null,null,null,null,null,null,null,null,null,null,null,null,{"$f":"IFERROR(INDEX(J$3:J$296,SMALL(IF(B$3:B$296=\"In\",ROW(J$2:J$295)-ROW(I$2)+1),ROW(I148))),\"\")","v":""}]
[null,null,null,null,null,null,null,null,null,null,null,null,null,null,null,null,null,null,null,null,null,{"$f":"IFERROR(INDEX(J$3:J$296,SMALL(IF(B$3:B$296=\"In\",ROW(J$2:J$295)-ROW(I$2)+1),ROW(I149))),\"\")","v":""}]
[null,null,null,null,null,null,null,null,null,null,null,null,null,null,null,null,null,null,null,null,null,{"$f":"IFERROR(INDEX(J$3:J$296,SMALL(IF(B$3:B$296=\"In\",ROW(J$2:J$295)-ROW(I$2)+1),ROW(I150))),\"\")","v":""}]
[null,null,null,null,null,null,null,null,null,null,null,null,null,null,null,null,null,null,null,null,null,{"$f":"IFERROR(INDEX(J$3:J$296,SMALL(IF(B$3:B$296=\"In\",ROW(J$2:J$295)-ROW(I$2)+1),ROW(I151))),\"\")","v":""}]
[null,null,null,null,null,null,null,null,null,null,null,null,null,null,null,null,null,null,null,null,null,{"$f":"IFERROR(INDEX(J$3:J$296,SMALL(IF(B$3:B$296=\"In\",ROW(J$2:J$295)-ROW(I$2)+1),ROW(I152))),\"\")","v":""}]
[null,null,null,null,null,null,null,null,null,null,null,null,null,null,null,null,null,null,null,null,null,{"$f":"IFERROR(INDEX(J$3:J$296,SMALL(IF(B$3:B$296=\"In\",ROW(J$2:J$295)-ROW(I$2)+1),ROW(I153))),\"\")","v":""}]
[null,null,null,null,null,null,null,null,null,null,null,null,null,null,null,null,null,null,null,null,null,{"$f":"IFERROR(INDEX(J$3:J$296,SMALL(IF(B$3:B$296=\"In\",ROW(J$2:J$295)-ROW(I$2)+1),ROW(I154))),\"\")","v":""}]
[null,null,null,null,null,null,null,null,null,null,null,null,null,null,null,null,null,null,null,null,null,{"$f":"IFERROR(INDEX(J$3:J$296,SMALL(IF(B$3:B$296=\"In\",ROW(J$2:J$295)-ROW(I$2)+1),ROW(I155))),\"\")","v":""}]
[null,null,null,null,null,null,null,null,null,null,null,null,null,null,null,null,null,null,null,null,null,{"$f":"IFERROR(INDEX(J$3:J$296,SMALL(IF(B$3:B$296=\"In\",ROW(J$2:J$295)-ROW(I$2)+1),ROW(I156))),\"\")","v":""}]
[null,null,null,null,null,null,null,null,null,null,null,null,null,null,null,null,null,null,null,null,null,{"$f":"IFERROR(INDEX(J$3:J$296,SMALL(IF(B$3:B$296=\"In\",ROW(J$2:J$295)-ROW(I$2)+1),ROW(I157))),\"\")","v":""}]
[null,null,null,null,null,null,null,null,null,null,null,null,null,null,null,null,null,null,null,null,null,{"$f":"IFERROR(INDEX(J$3:J$296,SMALL(IF(B$3:B$296=\"In\",ROW(J$2:J$295)-ROW(I$2)+1),ROW(I158))),\"\")","v":""}]
[null,null,null,null,null,null,null,null,null,null,null,null,null,null,null,null,null,null,null,null,null,{"$f":"IFERROR(INDEX(J$3:J$296,SMALL(IF(B$3:B$296=\"In\",ROW(J$2:J$295)-ROW(I$2)+1),ROW(I159))),\"\")","v":""}]
[null,null,null,null,null,null,null,null,null,null,null,null,null,null,null,null,null,null,null,null,null,{"$f":"IFERROR(INDEX(J$3:J$296,SMALL(IF(B$3:B$296=\"In\",ROW(J$2:J$295)-ROW(I$2)+1),ROW(I160))),\"\")","v":""}]
[null,null,null,null,null,null,null,null,null,null,null,null,null,null,null,null,null,null,null,null,null,{"$f":"IFERROR(INDEX(J$3:J$296,SMALL(IF(B$3:B$296=\"In\",ROW(J$2:J$295)-ROW(I$2)+1),ROW(I161))),\"\")","v":""}]
[null,null,null,null,null,null,null,null,null,null,null,null,null,null,null,null,null,null,null,null,null,{"$f":"IFERROR(INDEX(J$3:J$296,SMALL(IF(B$3:B$296=\"In\",ROW(J$2:J$295)-ROW(I$2)+1),ROW(I162))),\"\")","v":""}]
[null,null,null,null,null,null,null,null,null,null,null,null,null,null,null,null,null,null,null,null,null,{"$f":"IFERROR(INDEX(J$3:J$296,SMALL(IF(B$3:B$296=\"In\",ROW(J$2:J$295)-ROW(I$2)+1),ROW(I163))),\"\")","v":""}]
[null,null,null,null,null,null,null,null,null,null,null,null,null,null,null,null,null,null,null,null,null,{"$f":"IFERROR(INDEX(J$3:J$296,SMALL(IF(B$3:B$296=\"In\",ROW(J$2:J$295)-ROW(I$2)+1),ROW(I164))),\"\")","v":""}]
[null,null,null,null,null,null,null,null,null,null,null,null,null,null,null,null,null,null,null,null,null,{"$f":"IFERROR(INDEX(J$3:J$296,SMALL(IF(B$3:B$296=\"In\",ROW(J$2:J$295)-ROW(I$2)+1),ROW(I165))),\"\")","v":""}]
[null,null,null,null,null,null,null,null,null,null,null,null,null,null,null,null,null,null,null,null,null,{"$f":"IFERROR(INDEX(J$3:J$296,SMALL(IF(B$3:B$296=\"In\",ROW(J$2:J$295)-ROW(I$2)+1),ROW(I166))),\"\")","v":""}]
[null,null,null,null,null,null,null,null,null,null,null,null,null,null,null,null,null,null,null,null,null,{"$f":"IFERROR(INDEX(J$3:J$296,SMALL(IF(B$3:B$296=\"In\",ROW(J$2:J$295)-ROW(I$2)+1),ROW(I167))),\"\")","v":""}]
[null,null,null,null,null,null,null,null,null,null,null,null,null,null,null,null,null,null,null,null,null,{"$f":"IFERROR(INDEX(J$3:J$296,SMALL(IF(B$3:B$296=\"In\",ROW(J$2:J$295)-ROW(I$2)+1),ROW(I168))),\"\")","v":""}]
[null,null,null,null,null,null,null,null,null,null,null,null,null,null,null,null,null,null,null,null,null,{"$f":"IFERROR(INDEX(J$3:J$296,SMALL(IF(B$3:B$296=\"In\",ROW(J$2:J$295)-ROW(I$2)+1),ROW(I169))),\"\")","v":""}]
[null,null,null,null,null,null,null,null,null,null,null,null,null,null,null,null,null,null,null,null,null,{"$f":"IFERROR(INDEX(J$3:J$296,SMALL(IF(B$3:B$296=\"In\",ROW(J$2:J$295)-ROW(I$2)+1),ROW(I170))),\"\")","v":""}]
[null,null,null,null,null,null,null,null,null,null,null,null,null,null,null,null,null,null,null,null,null,{"$f":"IFERROR(INDEX(J$3:J$296,SMALL(IF(B$3:B$296=\"In\",ROW(J$2:J$295)-ROW(I$2)+1),ROW(I171))),\"\")","v":""}]
[null,null,null,null,null,null,null,null,null,null,null,null,null,null,null,null,null,null,null,null,null,{"$f":"IFERROR(INDEX(J$3:J$296,SMALL(IF(B$3:B$296=\"In\",ROW(J$2:J$295)-ROW(I$2)+1),ROW(I172))),\"\")","v":""}]
[null,null,null,null,null,null,null,null,null,null,null,null,null,null,null,null,null,null,null,null,null,{"$f":"IFERROR(INDEX(J$3:J$296,SMALL(IF(B$3:B$296=\"In\",ROW(J$2:J$295)-ROW(I$2)+1),ROW(I173))),\"\")","v":""}]
[null,null,null,null,null,null,null,null,null,null,null,null,null,null,null,null,null,null,null,null,null,{"$f":"IFERROR(INDEX(J$3:J$296,SMALL(IF(B$3:B$296=\"In\",ROW(J$2:J$295)-ROW(I$2)+1),ROW(I174))),\"\")","v":""}]
[null,null,null,null,null,null,null,null,null,null,null,null,null,null,null,null,null,null,null,null,null,{"$f":"IFERROR(INDEX(J$3:J$296,SMALL(IF(B$3:B$296=\"In\",ROW(J$2:J$295)-ROW(I$2)+1),ROW(I175))),\"\")","v":""}]
[null,null,null,null,null,null,null,null,null,null,null,null,null,null,null,null,null,null,null,null,null,{"$f":"IFERROR(INDEX(J$3:J$296,SMALL(IF(B$3:B$296=\"In\",ROW(J$2:J$295)-ROW(I$2)+1),ROW(I176))),\"\")","v":""}]
[null,null,null,null,null,null,null,null,null,null,null,null,null,null,null,null,null,null,null,null,null,{"$f":"IFERROR(INDEX(J$3:J$296,SMALL(IF(B$3:B$296=\"In\",ROW(J$2:J$295)-ROW(I$2)+1),ROW(I177))),\"\")","v":""}]
[null,null,null,null,null,null,null,null,null,null,null,null,null,null,null,null,null,null,null,null,null,{"$f":"IFERROR(INDEX(J$3:J$296,SMALL(IF(B$3:B$296=\"In\",ROW(J$2:J$295)-ROW(I$2)+1),ROW(I178))),\"\")","v":""}]
[null,null,null,null,null,null,null,null,null,null,null,null,null,null,null,null,null,null,null,null,null,{"$f":"IFERROR(INDEX(J$3:J$296,SMALL(IF(B$3:B$296=\"In\",ROW(J$2:J$295)-ROW(I$2)+1),ROW(I179))),\"\")","v":""}]
[null,null,null,null,null,null,null,null,null,null,null,null,null,null,null,null,null,null,null,null,null,{"$f":"IFERROR(INDEX(J$3:J$296,SMALL(IF(B$3:B$296=\"In\",ROW(J$2:J$295)-ROW(I$2)+1),ROW(I180))),\"\")","v":""}]
[null,null,null,null,null,null,null,null,null,null,null,null,null,null,null,null,null,null,null,null,null,{"$f":"IFERROR(INDEX(J$3:J$296,SMALL(IF(B$3:B$296=\"In\",ROW(J$2:J$295)-ROW(I$2)+1),ROW(I181))),\"\")","v":""}]
[null,null,null,null,null,null,null,null,null,null,null,null,null,null,null,null,null,null,null,null,null,{"$f":"IFERROR(INDEX(J$3:J$296,SMALL(IF(B$3:B$296=\"In\",ROW(J$2:J$295)-ROW(I$2)+1),ROW(I182))),\"\")","v":""}]
[null,null,null,null,null,null,null,null,null,null,null,null,null,null,null,null,null,null,null,null,null,{"$f":"IFERROR(INDEX(J$3:J$296,SMALL(IF(B$3:B$296=\"In\",ROW(J$2:J$295)-ROW(I$2)+1),ROW(I183))),\"\")","v":""}]
[null,null,null,null,null,null,null,null,null,null,null,null,null,null,null,null,null,null,null,null,null,{"$f":"IFERROR(INDEX(J$3:J$296,SMALL(IF(B$3:B$296=\"In\",ROW(J$2:J$295)-ROW(I$2)+1),ROW(I184))),\"\")","v":""}]
[null,null,null,null,null,null,null,null,null,null,null,null,null,null,null,null,null,null,null,null,null,{"$f":"IFERROR(INDEX(J$3:J$296,SMALL(IF(B$3:B$296=\"In\",ROW(J$2:J$295)-ROW(I$2)+1),ROW(I185))),\"\")","v":""}]
[null,null,null,null,null,null,null,null,null,null,null,null,null,null,null,null,null,null,null,null,null,{"$f":"IFERROR(INDEX(J$3:J$296,SMALL(IF(B$3:B$296=\"In\",ROW(J$2:J$295)-ROW(I$2)+1),ROW(I186))),\"\")","v":""}]
[null,null,null,null,null,null,null,null,null,null,null,null,null,null,null,null,null,null,null,null,null,{"$f":"IFERROR(INDEX(J$3:J$296,SMALL(IF(B$3:B$296=\"In\",ROW(J$2:J$295)-ROW(I$2)+1),ROW(I187))),\"\")","v":""}]
[null,null,null,null,null,null,null,null,null,null,null,null,null,null,null,null,null,null,null,null,null,{"$f":"IFERROR(INDEX(J$3:J$296,SMALL(IF(B$3:B$296=\"In\",ROW(J$2:J$295)-ROW(I$2)+1),ROW(I188))),\"\")","v":""}]
[null,null,null,null,null,null,null,null,null,null,null,null,null,null,null,null,null,null,null,null,null,{"$f":"IFERROR(INDEX(J$3:J$296,SMALL(IF(B$3:B$296=\"In\",ROW(J$2:J$295)-ROW(I$2)+1),ROW(I189))),\"\")","v":""}]
[null,null,null,null,null,null,null,null,null,null,null,null,null,null,null,null,null,null,null,null,null,{"$f":"IFERROR(INDEX(J$3:J$296,SMALL(IF(B$3:B$296=\"In\",ROW(J$2:J$295)-ROW(I$2)+1),ROW(I190))),\"\")","v":""}]
[null,null,null,null,null,null,null,null,null,null,null,null,null,null,null,null,null,null,null,null,null,{"$f":"IFERROR(INDEX(J$3:J$296,SMALL(IF(B$3:B$296=\"In\",ROW(J$2:J$295)-ROW(I$2)+1),ROW(I191))),\"\")","v":""}]
[null,null,null,null,null,null,null,null,null,null,null,null,null,null,null,null,null,null,null,null,null,{"$f":"IFERROR(INDEX(J$3:J$296,SMALL(IF(B$3:B$296=\"In\",ROW(J$2:J$295)-ROW(I$2)+1),ROW(I192))),\"\")","v":""}]
[null,null,null,null,null,null,null,null,null,null,null,null,null,null,null,null,null,null,null,null,null,{"$f":"IFERROR(INDEX(J$3:J$296,SMALL(IF(B$3:B$296=\"In\",ROW(J$2:J$295)-ROW(I$2)+1),ROW(I193))),\"\")","v":""}]
[null,null,null,null,null,null,null,null,null,null,null,null,null,null,null,null,null,null,null,null,null,{"$f":"IFERROR(INDEX(J$3:J$296,SMALL(IF(B$3:B$296=\"In\",ROW(J$2:J$295)-ROW(I$2)+1),ROW(I194))),\"\")","v":""}]
[null,null,null,null,null,null,null,null,null,null,null,null,null,null,null,null,null,null,null,null,null,{"$f":"IFERROR(INDEX(J$3:J$296,SMALL(IF(B$3:B$296=\"In\",ROW(J$2:J$295)-ROW(I$2)+1),ROW(I195))),\"\")","v":""}]
[null,null,null,null,null,null,null,null,null,null,null,null,null,null,null,null,null,null,null,null,null,{"$f":"IFERROR(INDEX(J$3:J$296,SMALL(IF(B$3:B$296=\"In\",ROW(J$2:J$295)-ROW(I$2)+1),ROW(I196))),\"\")","v":""}]
[null,null,null,null,null,null,null,null,null,null,null,null,null,null,null,null,null,null,null,null,null,{"$f":"IFERROR(INDEX(J$3:J$296,SMALL(IF(B$3:B$296=\"In\",ROW(J$2:J$295)-ROW(I$2)+1),ROW(I197))),\"\")","v":""}]
[null,null,null,null,null,null,null,null,null,null,null,null,null,null,null,null,null,null,null,null,null,{"$f":"IFERROR(INDEX(J$3:J$296,SMALL(IF(B$3:B$296=\"In\",ROW(J$2:J$295)-ROW(I$2)+1),ROW(I198))),\"\")","v":""}]
[null,null,null,null,null,null,null,null,null,null,null,null,null,null,null,null,null,null,null,null,null,{"$f":"IFERROR(INDEX(J$3:J$296,SMALL(IF(B$3:B$296=\"In\",ROW(J$2:J$295)-ROW(I$2)+1),ROW(I199))),\"\")","v":""}]
[null,null,null,null,null,null,null,null,null,null,null,null,null,null,null,null,null,null,null,null,null,{"$f":"IFERROR(INDEX(J$3:J$296,SMALL(IF(B$3:B$296=\"In\",ROW(J$2:J$295)-ROW(I$2)+1),ROW(I200))),\"\")","v":""}]
[null,null,null,null,null,null,null,null,null,null,null,null,null,null,null,null,null,null,null,null,null,{"$f":"IFERROR(INDEX(J$3:J$296,SMALL(IF(B$3:B$296=\"In\",ROW(J$2:J$295)-ROW(I$2)+1),ROW(I201))),\"\")","v":""}]
[null,null,null,null,null,null,null,null,null,null,null,null,null,null,null,null,null,null,null,null,null,{"$f":"IFERROR(INDEX(J$3:J$296,SMALL(IF(B$3:B$296=\"In\",ROW(J$2:J$295)-ROW(I$2)+1),ROW(I202))),\"\")","v":""}]
[null,null,null,null,null,null,null,null,null,null,null,null,null,null,null,null,null,null,null,null,null,{"$f":"IFERROR(INDEX(J$3:J$296,SMALL(IF(B$3:B$296=\"In\",ROW(J$2:J$295)-ROW(I$2)+1),ROW(I203))),\"\")","v":""}]
[null,null,null,null,null,null,null,null,null,null,null,null,null,null,null,null,null,null,null,null,null,{"$f":"IFERROR(INDEX(J$3:J$296,SMALL(IF(B$3:B$296=\"In\",ROW(J$2:J$295)-ROW(I$2)+1),ROW(I204))),\"\")","v":""}]
[null,null,null,null,null,null,null,null,null,null,null,null,null,null,null,null,null,null,null,null,null,{"$f":"IFERROR(INDEX(J$3:J$296,SMALL(IF(B$3:B$296=\"In\",ROW(J$2:J$295)-ROW(I$2)+1),ROW(I205))),\"\")","v":""}]
[null,null,null,null,null,null,null,null,null,null,null,null,null,null,null,null,null,null,null,null,null,{"$f":"IFERROR(INDEX(J$3:J$296,SMALL(IF(B$3:B$296=\"In\",ROW(J$2:J$295)-ROW(I$2)+1),ROW(I206))),\"\")","v":""}]
[null,null,null,null,null,null,null,null,null,null,null,null,null,null,null,null,null,null,null,null,null,{"$f":"IFERROR(INDEX(J$3:J$296,SMALL(IF(B$3:B$296=\"In\",ROW(J$2:J$295)-ROW(I$2)+1),ROW(I207))),\"\")","v":""}]
[null,null,null,null,null,null,null,null,null,null,null,null,null,null,null,null,null,null,null,null,null,{"$f":"IFERROR(INDEX(J$3:J$296,SMALL(IF(B$3:B$296=\"In\",ROW(J$2:J$295)-ROW(I$2)+1),ROW(I208))),\"\")","v":""}]
[null,null,null,null,null,null,null,null,null,null,null,null,null,null,null,null,null,null,null,null,null,{"$f":"IFERROR(INDEX(J$3:J$296,SMALL(IF(B$3:B$296=\"In\",ROW(J$2:J$295)-ROW(I$2)+1),ROW(I209))),\"\")","v":""}]
[null,null,null,null,null,null,null,null,null,null,null,null,null,null,null,null,null,null,null,null,null,{"$f":"IFERROR(INDEX(J$3:J$296,SMALL(IF(B$3:B$296=\"In\",ROW(J$2:J$295)-ROW(I$2)+1),ROW(I210))),\"\")","v":""}]
[null,null,null,null,null,null,null,null,null,null,null,null,null,null,null,null,null,null,null,null,null,{"$f":"IFERROR(INDEX(J$3:J$296,SMALL(IF(B$3:B$296=\"In\",ROW(J$2:J$295)-ROW(I$2)+1),ROW(I211))),\"\")","v":""}]
[null,null,null,null,null,null,null,null,null,null,null,null,null,null,null,null,null,null,null,null,null,{"$f":"IFERROR(INDEX(J$3:J$296,SMALL(IF(B$3:B$296=\"In\",ROW(J$2:J$295)-ROW(I$2)+1),ROW(I212))),\"\")","v":""}]
[null,null,null,null,null,null,null,null,null,null,null,null,null,null,null,null,null,null,null,null,null,{"$f":"IFERROR(INDEX(J$3:J$296,SMALL(IF(B$3:B$296=\"In\",ROW(J$2:J$295)-ROW(I$2)+1),ROW(I213))),\"\")","v":""}]
[null,null,null,null,null,null,null,null,null,null,null,null,null,null,null,null,null,null,null,null,null,{"$f":"IFERROR(INDEX(J$3:J$296,SMALL(IF(B$3:B$296=\"In\",ROW(J$2:J$295)-ROW(I$2)+1),ROW(I214))),\"\")","v":""}]
[null,null,null,null,null,null,null,null,null,null,null,null,null,null,null,null,null,null,null,null,null,{"$f":"IFERROR(INDEX(J$3:J$296,SMALL(IF(B$3:B$296=\"In\",ROW(J$2:J$295)-ROW(I$2)+1),ROW(I215))),\"\")","v":""}]
[null,null,null,null,null,null,null,null,null,null,null,null,null,null,null,null,null,null,null,null,null,{"$f":"IFERROR(INDEX(J$3:J$296,SMALL(IF(B$3:B$296=\"In\",ROW(J$2:J$295)-ROW(I$2)+1),ROW(I216))),\"\")","v":""}]
[null,null,null,null,null,null,null,null,null,null,null,null,null,null,null,null,null,null,null,null,null,{"$f":"IFERROR(INDEX(J$3:J$296,SMALL(IF(B$3:B$296=\"In\",ROW(J$2:J$295)-ROW(I$2)+1),ROW(I217))),\"\")","v":""}]
[null,null,null,null,null,null,null,null,null,null,null,null,null,null,null,null,null,null,null,null,null,{"$f":"IFERROR(INDEX(J$3:J$296,SMALL(IF(B$3:B$296=\"In\",ROW(J$2:J$295)-ROW(I$2)+1),ROW(I218))),\"\")","v":""}]
[null,null,null,null,null,null,null,null,null,null,null,null,null,null,null,null,null,null,null,null,null,{"$f":"IFERROR(INDEX(J$3:J$296,SMALL(IF(B$3:B$296=\"In\",ROW(J$2:J$295)-ROW(I$2)+1),ROW(I219))),\"\")","v":""}]
[null,null,null,null,null,null,null,null,null,null,null,null,null,null,null,null,null,null,null,null,null,{"$f":"IFERROR(INDEX(J$3:J$296,SMALL(IF(B$3:B$296=\"In\",ROW(J$2:J$295)-ROW(I$2)+1),ROW(I220))),\"\")","v":""}]
[null,null,null,null,null,null,null,null,null,null,null,null,null,null,null,null,null,null,null,null,null,{"$f":"IFERROR(INDEX(J$3:J$296,SMALL(IF(B$3:B$296=\"In\",ROW(J$2:J$295)-ROW(I$2)+1),ROW(I221))),\"\")","v":""}]
[null,null,null,null,null,null,null,null,null,null,null,null,null,null,null,null,null,null,null,null,null,{"$f":"IFERROR(INDEX(J$3:J$296,SMALL(IF(B$3:B$296=\"In\",ROW(J$2:J$295)-ROW(I$2)+1),ROW(I222))),\"\")","v":""}]
[null,null,null,null,null,null,null,null,null,null,null,null,null,null,null,null,null,null,null,null,null,{"$f":"IFERROR(INDEX(J$3:J$296,SMALL(IF(B$3:B$296=\"In\",ROW(J$2:J$295)-ROW(I$2)+1),ROW(I223))),\"\")","v":""}]
[null,null,null,null,null,null,null,null,null,null,null,null,null,null,null,null,null,null,null,null,null,{"$f":"IFERROR(INDEX(J$3:J$296,SMALL(IF(B$3:B$296=\"In\",ROW(J$2:J$295)-ROW(I$2)+1),ROW(I224))),\"\")","v":""}]
[null,null,null,null,null,null,null,null,null,null,null,null,null,null,null,null,null,null,null,null,null,{"$f":"IFERROR(INDEX(J$3:J$296,SMALL(IF(B$3:B$296=\"In\",ROW(J$2:J$295)-ROW(I$2)+1),ROW(I225))),\"\")","v":""}]
[null,null,null,null,null,null,null,null,null,null,null,null,null,null,null,null,null,null,null,null,null,{"$f":"IFERROR(INDEX(J$3:J$296,SMALL(IF(B$3:B$296=\"In\",ROW(J$2:J$295)-ROW(I$2)+1),ROW(I226))),\"\")","v":""}]
[null,null,null,null,null,null,null,null,null,null,null,null,null,null,null,null,null,null,null,null,null,{"$f":"IFERROR(INDEX(J$3:J$296,SMALL(IF(B$3:B$296=\"In\",ROW(J$2:J$295)-ROW(I$2)+1),ROW(I227))),\"\")","v":""}]
[null,null,null,null,null,null,null,null,null,null,null,null,null,null,null,null,null,null,null,null,null,{"$f":"IFERROR(INDEX(J$3:J$296,SMALL(IF(B$3:B$296=\"In\",ROW(J$2:J$295)-ROW(I$2)+1),ROW(I228))),\"\")","v":""}]
[null,null,null,null,null,null,null,null,null,null,null,null,null,null,null,null,null,null,null,null,null,{"$f":"IFERROR(INDEX(J$3:J$296,SMALL(IF(B$3:B$296=\"In\",ROW(J$2:J$295)-ROW(I$2)+1),ROW(I229))),\"\")","v":""}]
[null,null,null,null,null,null,null,null,null,null,null,null,null,null,null,null,null,null,null,null,null,{"$f":"IFERROR(INDEX(J$3:J$296,SMALL(IF(B$3:B$296=\"In\",ROW(J$2:J$295)-ROW(I$2)+1),ROW(I230))),\"\")","v":""}]
[null,null,null,null,null,null,null,null,null,null,null,null,null,null,null,null,null,null,null,null,null,{"$f":"IFERROR(INDEX(J$3:J$296,SMALL(IF(B$3:B$296=\"In\",ROW(J$2:J$295)-ROW(I$2)+1),ROW(I231))),\"\")","v":""}]
[null,null,null,null,null,null,null,null,null,null,null,null,null,null,null,null,null,null,null,null,null,{"$f":"IFERROR(INDEX(J$3:J$296,SMALL(IF(B$3:B$296=\"In\",ROW(J$2:J$295)-ROW(I$2)+1),ROW(I232))),\"\")","v":""}]
[null,null,null,null,null,null,null,null,null,null,null,null,null,null,null,null,null,null,null,null,null,{"$f":"IFERROR(INDEX(J$3:J$296,SMALL(IF(B$3:B$296=\"In\",ROW(J$2:J$295)-ROW(I$2)+1),ROW(I233))),\"\")","v":""}]
[null,null,null,null,null,null,null,null,null,null,null,null,null,null,null,null,null,null,null,null,null,{"$f":"IFERROR(INDEX(J$3:J$296,SMALL(IF(B$3:B$296=\"In\",ROW(J$2:J$295)-ROW(I$2)+1),ROW(I234))),\"\")","v":""}]
[null,null,null,null,null,null,null,null,null,null,null,null,null,null,null,null,null,null,null,null,null,{"$f":"IFERROR(INDEX(J$3:J$296,SMALL(IF(B$3:B$296=\"In\",ROW(J$2:J$295)-ROW(I$2)+1),ROW(I235))),\"\")","v":""}]
[null,null,null,null,null,null,null,null,null,null,null,null,null,null,null,null,null,null,null,null,null,{"$f":"IFERROR(INDEX(J$3:J$296,SMALL(IF(B$3:B$296=\"In\",ROW(J$2:J$295)-ROW(I$2)+1),ROW(I236))),\"\")","v":""}]
[null,null,null,null,null,null,null,null,null,null,null,null,null,null,null,null,null,null,null,null,null,{"$f":"IFERROR(INDEX(J$3:J$296,SMALL(IF(B$3:B$296=\"In\",ROW(J$2:J$295)-ROW(I$2)+1),ROW(I237))),\"\")","v":""}]
[null,null,null,null,null,null,null,null,null,null,null,null,null,null,null,null,null,null,null,null,null,{"$f":"IFERROR(INDEX(J$3:J$296,SMALL(IF(B$3:B$296=\"In\",ROW(J$2:J$295)-ROW(I$2)+1),ROW(I238))),\"\")","v":""}]
[null,null,null,null,null,null,null,null,null,null,null,null,null,null,null,null,null,null,null,null,null,{"$f":"IFERROR(INDEX(J$3:J$296,SMALL(IF(B$3:B$296=\"In\",ROW(J$2:J$295)-ROW(I$2)+1),ROW(I239))),\"\")","v":""}]
[null,null,null,null,null,null,null,null,null,null,null,null,null,null,null,null,null,null,null,null,null,{"$f":"IFERROR(INDEX(J$3:J$296,SMALL(IF(B$3:B$296=\"In\",ROW(J$2:J$295)-ROW(I$2)+1),ROW(I240))),\"\")","v":""}]
[null,null,null,null,null,null,null,null,null,null,null,null,null,null,null,null,null,null,null,null,null,{"$f":"IFERROR(INDEX(J$3:J$296,SMALL(IF(B$3:B$296=\"In\",ROW(J$2:J$295)-ROW(I$2)+1),ROW(I241))),\"\")","v":""}]
[null,null,null,null,null,null,null,null,null,null,null,null,null,null,null,null,null,null,null,null,null,{"$f":"IFERROR(INDEX(J$3:J$296,SMALL(IF(B$3:B$296=\"In\",ROW(J$2:J$295)-ROW(I$2)+1),ROW(I242))),\"\")","v":""}]
[null,null,null,null,null,null,null,null,null,null,null,null,null,null,null,null,null,null,null,null,null,{"$f":"IFERROR(INDEX(J$3:J$296,SMALL(IF(B$3:B$296=\"In\",ROW(J$2:J$295)-ROW(I$2)+1),ROW(I243))),\"\")","v":""}]
[null,null,null,null,null,null,null,null,null,null,null,null,null,null,null,null,null,null,null,null,null,{"$f":"IFERROR(INDEX(J$3:J$296,SMALL(IF(B$3:B$296=\"In\",ROW(J$2:J$295)-ROW(I$2)+1),ROW(I244))),\"\")","v":""}]
[null,null,null,null,null,null,null,null,null,null,null,null,null,null,null,null,null,null,null,null,null,{"$f":"IFERROR(INDEX(J$3:J$296,SMALL(IF(B$3:B$296=\"In\",ROW(J$2:J$295)-ROW(I$2)+1),ROW(I245))),\"\")","v":""}]
[null,null,null,null,null,null,null,null,null,null,null,null,null,null,null,null,null,null,null,null,null,{"$f":"IFERROR(INDEX(J$3:J$296,SMALL(IF(B$3:B$296=\"In\",ROW(J$2:J$295)-ROW(I$2)+1),ROW(I246))),\"\")","v":""}]
[null,null,null,null,null,null,null,null,null,null,null,null,null,null,null,null,null,null,null,null,null,{"$f":"IFERROR(INDEX(J$3:J$296,SMALL(IF(B$3:B$296=\"In\",ROW(J$2:J$295)-ROW(I$2)+1),ROW(I247))),\"\")","v":""}]
[null,null,null,null,null,null,null,null,null,null,null,null,null,null,null,null,null,null,null,null,null,{"$f":"IFERROR(INDEX(J$3:J$296,SMALL(IF(B$3:B$296=\"In\",ROW(J$2:J$295)-ROW(I$2)+1),ROW(I248))),\"\")","v":""}]
[null,null,null,null,null,null,null,null,null,null,null,null,null,null,null,null,null,null,null,null,null,{"$f":"IFERROR(INDEX(J$3:J$296,SMALL(IF(B$3:B$296=\"In\",ROW(J$2:J$295)-ROW(I$2)+1),ROW(I249))),\"\")","v":""}]
[null,null,null,null,null,null,null,null,null,null,null,null,null,null,null,null,null,null,null,null,null,{"$f":"IFERROR(INDEX(J$3:J$296,SMALL(IF(B$3:B$296=\"In\",ROW(J$2:J$295)-ROW(I$2)+1),ROW(I250))),\"\")","v":""}]
[null,null,null,null,null,null,null,null,null,null,null,null,null,null,null,null,null,null,null,null,null,{"$f":"IFERROR(INDEX(J$3:J$296,SMALL(IF(B$3:B$296=\"In\",ROW(J$2:J$295)-ROW(I$2)+1),ROW(I251))),\"\")","v":""}]
[null,null,null,null,null,null,null,null,null,null,null,null,null,null,null,null,null,null,null,null,null,{"$f":"IFERROR(INDEX(J$3:J$296,SMALL(IF(B$3:B$296=\"In\",ROW(J$2:J$295)-ROW(I$2)+1),ROW(I252))),\"\")","v":""}]
[null,null,null,null,null,null,null,null,null,null,null,null,null,null,null,null,null,null,null,null,null,{"$f":"IFERROR(INDEX(J$3:J$296,SMALL(IF(B$3:B$296=\"In\",ROW(J$2:J$295)-ROW(I$2)+1),ROW(I253))),\"\")","v":""}]
[null,null,null,null,null,null,null,null,null,null,null,null,null,null,null,null,null,null,null,null,null,{"$f":"IFERROR(INDEX(J$3:J$296,SMALL(IF(B$3:B$296=\"In\",ROW(J$2:J$295)-ROW(I$2)+1),ROW(I254))),\"\")","v":""}]
[null,null,null,null,null,null,null,null,null,null,null,null,null,null,null,null,null,null,null,null,null,{"$f":"IFERROR(INDEX(J$3:J$296,SMALL(IF(B$3:B$296=\"In\",ROW(J$2:J$295)-ROW(I$2)+1),ROW(I255))),\"\")","v":""}]
[null,null,null,null,null,null,null,null,null,null,null,null,null,null,null,null,null,null,null,null,null,{"$f":"IFERROR(INDEX(J$3:J$296,SMALL(IF(B$3:B$296=\"In\",ROW(J$2:J$295)-ROW(I$2)+1),ROW(I256))),\"\")","v":""}]
[null,null,null,null,null,null,null,null,null,null,null,null,null,null,null,null,null,null,null,null,null,{"$f":"IFERROR(INDEX(J$3:J$296,SMALL(IF(B$3:B$296=\"In\",ROW(J$2:J$295)-ROW(I$2)+1),ROW(I257))),\"\")","v":""}]
[null,null,null,null,null,null,null,null,null,null,null,null,null,null,null,null,null,null,null,null,null,{"$f":"IFERROR(INDEX(J$3:J$296,SMALL(IF(B$3:B$296=\"In\",ROW(J$2:J$295)-ROW(I$2)+1),ROW(I258))),\"\")","v":""}]
[null,null,null,null,null,null,null,null,null,null,null,null,null,null,null,null,null,null,null,null,null,{"$f":"IFERROR(INDEX(J$3:J$296,SMALL(IF(B$3:B$296=\"In\",ROW(J$2:J$295)-ROW(I$2)+1),ROW(I259))),\"\")","v":""}]
[null,null,null,null,null,null,null,null,null,null,null,null,null,null,null,null,null,null,null,null,null,{"$f":"IFERROR(INDEX(J$3:J$296,SMALL(IF(B$3:B$296=\"In\",ROW(J$2:J$295)-ROW(I$2)+1),ROW(I260))),\"\")","v":""}]
[null,null,null,null,null,null,null,null,null,null,null,null,null,null,null,null,null,null,null,null,null,{"$f":"IFERROR(INDEX(J$3:J$296,SMALL(IF(B$3:B$296=\"In\",ROW(J$2:J$295)-ROW(I$2)+1),ROW(I261))),\"\")","v":""}]
[null,null,null,null,null,null,null,null,null,null,null,null,null,null,null,null,null,null,null,null,null,{"$f":"IFERROR(INDEX(J$3:J$296,SMALL(IF(B$3:B$296=\"In\",ROW(J$2:J$295)-ROW(I$2)+1),ROW(I262))),\"\")","v":""}]
[null,null,null,null,null,null,null,null,null,null,null,null,null,null,null,null,null,null,null,null,null,{"$f":"IFERROR(INDEX(J$3:J$296,SMALL(IF(B$3:B$296=\"In\",ROW(J$2:J$295)-ROW(I$2)+1),ROW(I263))),\"\")","v":""}]
[null,null,null,null,null,null,null,null,null,null,null,null,null,null,null,null,null,null,null,null,null,{"$f":"IFERROR(INDEX(J$3:J$296,SMALL(IF(B$3:B$296=\"In\",ROW(J$2:J$295)-ROW(I$2)+1),ROW(I264))),\"\")","v":""}]
[null,null,null,null,null,null,null,null,null,null,null,null,null,null,null,null,null,null,null,null,null,{"$f":"IFERROR(INDEX(J$3:J$296,SMALL(IF(B$3:B$296=\"In\",ROW(J$2:J$295)-ROW(I$2)+1),ROW(I265))),\"\")","v":""}]
[null,null,null,null,null,null,null,null,null,null,null,null,null,null,null,null,null,null,null,null,null,{"$f":"IFERROR(INDEX(J$3:J$296,SMALL(IF(B$3:B$296=\"In\",ROW(J$2:J$295)-ROW(I$2)+1),ROW(I266))),\"\")","v":""}]
[null,null,null,null,null,null,null,null,null,null,null,null,null,null,null,null,null,null,null,null,null,{"$f":"IFERROR(INDEX(J$3:J$296,SMALL(IF(B$3:B$296=\"In\",ROW(J$2:J$295)-ROW(I$2)+1),ROW(I267))),\"\")","v":""}]
[null,null,null,null,null,null,null,null,null,null,null,null,null,null,null,null,null,null,null,null,null,{"$f":"IFERROR(INDEX(J$3:J$296,SMALL(IF(B$3:B$296=\"In\",ROW(J$2:J$295)-ROW(I$2)+1),ROW(I268))),\"\")","v":""}]
[null,null,null,null,null,null,null,null,null,null,null,null,null,null,null,null,null,null,null,null,null,{"$f":"IFERROR(INDEX(J$3:J$296,SMALL(IF(B$3:B$296=\"In\",ROW(J$2:J$295)-ROW(I$2)+1),ROW(I269))),\"\")","v":""}]
[null,null,null,null,null,null,null,null,null,null,null,null,null,null,null,null,null,null,null,null,null,{"$f":"IFERROR(INDEX(J$3:J$296,SMALL(IF(B$3:B$296=\"In\",ROW(J$2:J$295)-ROW(I$2)+1),ROW(I270))),\"\")","v":""}]
[null,null,null,null,null,null,null,null,null,null,null,null,null,null,null,null,null,null,null,null,null,{"$f":"IFERROR(INDEX(J$3:J$296,SMALL(IF(B$3:B$296=\"In\",ROW(J$2:J$295)-ROW(I$2)+1),ROW(I271))),\"\")","v":""}]
[null,null,null,null,null,null,null,null,null,null,null,null,null,null,null,null,null,null,null,null,null,{"$f":"IFERROR(INDEX(J$3:J$296,SMALL(IF(B$3:B$296=\"In\",ROW(J$2:J$295)-ROW(I$2)+1),ROW(I272))),\"\")","v":""}]
[null,null,null,null,null,null,null,null,null,null,null,null,null,null,null,null,null,null,null,null,null,{"$f":"IFERROR(INDEX(J$3:J$296,SMALL(IF(B$3:B$296=\"In\",ROW(J$2:J$295)-ROW(I$2)+1),ROW(I273))),\"\")","v":""}]
[null,null,null,null,null,null,null,null,null,null,null,null,null,null,null,null,null,null,null,null,null,{"$f":"IFERROR(INDEX(J$3:J$296,SMALL(IF(B$3:B$296=\"In\",ROW(J$2:J$295)-ROW(I$2)+1),ROW(I274))),\"\")","v":""}]
[null,null,null,null,null,null,null,null,null,null,null,null,null,null,null,null,null,null,null,null,null,{"$f":"IFERROR(INDEX(J$3:J$296,SMALL(IF(B$3:B$296=\"In\",ROW(J$2:J$295)-ROW(I$2)+1),ROW(I275))),\"\")","v":""}]
[null,null,null,null,null,null,null,null,null,null,null,null,null,null,null,null,null,null,null,null,null,{"$f":"IFERROR(INDEX(J$3:J$296,SMALL(IF(B$3:B$296=\"In\",ROW(J$2:J$295)-ROW(I$2)+1),ROW(I276))),\"\")","v":""}]
[null,null,null,null,null,null,null,null,null,null,null,null,null,null,null,null,null,null,null,null,null,{"$f":"IFERROR(INDEX(J$3:J$296,SMALL(IF(B$3:B$296=\"In\",ROW(J$2:J$295)-ROW(I$2)+1),ROW(I277))),\"\")","v":""}]
[null,null,null,null,null,null,null,null,null,null,null,null,null,null,null,null,null,null,null,null,null,{"$f":"IFERROR(INDEX(J$3:J$296,SMALL(IF(B$3:B$296=\"In\",ROW(J$2:J$295)-ROW(I$2)+1),ROW(I278))),\"\")","v":""}]
[null,null,null,null,null,null,null,null,null,null,null,null,null,null,null,null,null,null,null,null,null,{"$f":"IFERROR(INDEX(J$3:J$296,SMALL(IF(B$3:B$296=\"In\",ROW(J$2:J$295)-ROW(I$2)+1),ROW(I279))),\"\")","v":""}]
[null,null,null,null,null,null,null,null,null,null,null,null,null,null,null,null,null,null,null,null,null,{"$f":"IFERROR(INDEX(J$3:J$296,SMALL(IF(B$3:B$296=\"In\",ROW(J$2:J$295)-ROW(I$2)+1),ROW(I280))),\"\")","v":""}]
[null,null,null,null,null,null,null,null,null,null,null,null,null,null,null,null,null,null,null,null,null,{"$f":"IFERROR(INDEX(J$3:J$296,SMALL(IF(B$3:B$296=\"In\",ROW(J$2:J$295)-ROW(I$2)+1),ROW(I281))),\"\")","v":""}]
[null,null,null,null,null,null,null,null,null,null,null,null,null,null,null,null,null,null,null,null,null,{"$f":"IFERROR(INDEX(J$3:J$296,SMALL(IF(B$3:B$296=\"In\",ROW(J$2:J$295)-ROW(I$2)+1),ROW(I282))),\"\")","v":""}]
[null,null,null,null,null,null,null,null,null,null,null,null,null,null,null,null,null,null,null,null,null,{"$f":"IFERROR(INDEX(J$3:J$296,SMALL(IF(B$3:B$296=\"In\",ROW(J$2:J$295)-ROW(I$2)+1),ROW(I283))),\"\")","v":""}]
[null,null,null,null,null,null,null,null,null,null,null,null,null,null,null,null,null,null,null,null,null,{"$f":"IFERROR(INDEX(J$3:J$296,SMALL(IF(B$3:B$296=\"In\",ROW(J$2:J$295)-ROW(I$2)+1),ROW(I284))),\"\")","v":""}]
[null,null,null,null,null,null,null,null,null,null,null,null,null,null,null,null,null,null,null,null,null,{"$f":"IFERROR(INDEX(J$3:J$296,SMALL(IF(B$3:B$296=\"In\",ROW(J$2:J$295)-ROW(I$2)+1),ROW(I285))),\"\")","v":""}]
[null,null,null,null,null,null,null,null,null,null,null,null,null,null,null,null,null,null,null,null,null,{"$f":"IFERROR(INDEX(J$3:J$296,SMALL(IF(B$3:B$296=\"In\",ROW(J$2:J$295)-ROW(I$2)+1),ROW(I286))),\"\")","v":""}]
[null,null,null,null,null,null,null,null,null,null,null,null,null,null,null,null,null,null,null,null,null,{"$f":"IFERROR(INDEX(J$3:J$296,SMALL(IF(B$3:B$296=\"In\",ROW(J$2:J$295)-ROW(I$2)+1),ROW(I287))),\"\")","v":""}]
[null,null,null,null,null,null,null,null,null,null,null,null,null,null,null,null,null,null,null,null,null,{"$f":"IFERROR(INDEX(J$3:J$296,SMALL(IF(B$3:B$296=\"In\",ROW(J$2:J$295)-ROW(I$2)+1),ROW(I288))),\"\")","v":""}]
[null,null,null,null,null,null,null,null,null,null,null,null,null,null,null,null,null,null,null,null,null,{"$f":"IFERROR(INDEX(J$3:J$296,SMALL(IF(B$3:B$296=\"In\",ROW(J$2:J$295)-ROW(I$2)+1),ROW(I289))),\"\")","v":""}]
[null,null,null,null,null,null,null,null,null,null,null,null,null,null,null,null,null,null,null,null,null,{"$f":"IFERROR(INDEX(J$3:J$296,SMALL(IF(B$3:B$296=\"In\",ROW(J$2:J$295)-ROW(I$2)+1),ROW(I290))),\"\")","v":""}]
[null,null,null,null,null,null,null,null,null,null,null,null,null,null,null,null,null,null,null,null,null,{"$f":"IFERROR(INDEX(J$3:J$296,SMALL(IF(B$3:B$296=\"In\",ROW(J$2:J$295)-ROW(I$2)+1),ROW(I291))),\"\")","v":""}]
[null,null,null,null,null,null,null,null,null,null,null,null,null,null,null,null,null,null,null,null,null,{"$f":"IFERROR(INDEX(J$3:J$296,SMALL(IF(B$3:B$296=\"In\",ROW(J$2:J$295)-ROW(I$2)+1),ROW(I292))),\"\")","v":""}]
[null,null,null,null,null,null,null,null,null,null,null,null,null,null,null,null,null,null,null,null,null,{"$f":"IFERROR(INDEX(J$3:J$296,SMALL(IF(B$3:B$296=\"In\",ROW(J$2:J$295)-ROW(I$2)+1),ROW(I293))),\"\")","v":""}]
[null,null,null,null,null,null,null,null,null,null,null,null,null,null,null,null,null,null,null,null,null,{"$f":"IFERROR(INDEX(J$3:J$296,SMALL(IF(B$3:B$296=\"In\",ROW(J$2:J$295)-ROW(I$2)+1),ROW(I294))),\"\")","v":""}]
[null,null,null,null,null,null,null,null,null,null,null,null,null,null,null,null,null,null,null,null,null,{"$f":"IFERROR(INDEX(J$3:J$296,SMALL(IF(B$3:B$296=\"In\",ROW(J$2:J$295)-ROW(I$2)+1),ROW(I295))),\"\")","v":""}]
[null,null,null,null,null,null,null,null,null,null,null,null,null,null,null,null,null,null,null,null,null,{"$f":"IFERROR(INDEX(J$3:J$296,SMALL(IF(B$3:B$296=\"In\",ROW(J$2:J$295)-ROW(I$2)+1),ROW(I296))),\"\")","v":""}]
[null,null,null,null,null,null,null,null,null,null,null,null,null,null,null,null,null,null,null,null,null,{"$f":"IFERROR(INDEX(J$3:J$296,SMALL(IF(B$3:B$296=\"In\",ROW(J$2:J$295)-ROW(I$2)+1),ROW(I297))),\"\")","v":""}]
[null,null,null,null,null,null,null,null,null,null,null,null,null,null,null,null,null,null,null,null,null,{"$f":"IFERROR(INDEX(J$3:J$296,SMALL(IF(B$3:B$296=\"In\",ROW(J$2:J$295)-ROW(I$2)+1),ROW(I298))),\"\")","v":""}]
[null,null,null,null,null,null,null,null,null,null,null,null,null,null,null,null,null,null,null,null,null,{"$f":"IFERROR(INDEX(J$3:J$296,SMALL(IF(B$3:B$296=\"In\",ROW(J$2:J$295)-ROW(I$2)+1),ROW(I299))),\"\")","v":""}]
[null,null,null,null,null,null,null,null,null,null,null,null,null,null,null,null,null,null,null,null,null,{"$f":"IFERROR(INDEX(J$3:J$296,SMALL(IF(B$3:B$296=\"In\",ROW(J$2:J$295)-ROW(I$2)+1),ROW(I300))),\"\")","v":""}]
[null,null,null,null,null,null,null,null,null,null,null,null,null,null,null,null,null,null,null,null,null,{"$f":"IFERROR(INDEX(J$3:J$296,SMALL(IF(B$3:B$296=\"In\",ROW(J$2:J$295)-ROW(I$2)+1),ROW(I301))),\"\")","v":""}]
[null,null,null,null,null,null,null,null,null,null,null,null,null,null,null,null,null,null,null,null,null,{"$f":"IFERROR(INDEX(J$3:J$296,SMALL(IF(B$3:B$296=\"In\",ROW(J$2:J$295)-ROW(I$2)+1),ROW(I302))),\"\")","v":""}]
[null,null,null,null,null,null,null,null,null,null,null,null,null,null,null,null,null,null,null,null,null,{"$f":"IFERROR(INDEX(J$3:J$296,SMALL(IF(B$3:B$296=\"In\",ROW(J$2:J$295)-ROW(I$2)+1),ROW(I303))),\"\")","v":""}]
[null,null,null,null,null,null,null,null,null,null,null,null,null,null,null,null,null,null,null,null,null,{"$f":"IFERROR(INDEX(J$3:J$296,SMALL(IF(B$3:B$296=\"In\",ROW(J$2:J$295)-ROW(I$2)+1),ROW(I304))),\"\")","v":""}]
[null,null,null,null,null,null,null,null,null,null,null,null,null,null,null,null,null,null,null,null,null,{"$f":"IFERROR(INDEX(J$3:J$296,SMALL(IF(B$3:B$296=\"In\",ROW(J$2:J$295)-ROW(I$2)+1),ROW(I305))),\"\")","v":""}]
[null,null,null,null,null,null,null,null,null,null,null,null,null,null,null,null,null,null,null,null,null,{"$f":"IFERROR(INDEX(J$3:J$296,SMALL(IF(B$3:B$296=\"In\",ROW(J$2:J$295)-ROW(I$2)+1),ROW(I306))),\"\")","v":""}]
[null,null,null,null,null,null,null,null,null,null,null,null,null,null,null,null,null,null,null,null,null,{"$f":"IFERROR(INDEX(J$3:J$296,SMALL(IF(B$3:B$296=\"In\",ROW(J$2:J$295)-ROW(I$2)+1),ROW(I307))),\"\")","v":""}]
[null,null,null,null,null,null,null,null,null,null,null,null,null,null,null,null,null,null,null,null,null,{"$f":"IFERROR(INDEX(J$3:J$296,SMALL(IF(B$3:B$296=\"In\",ROW(J$2:J$295)-ROW(I$2)+1),ROW(I308))),\"\")","v":""}]
[null,null,null,null,null,null,null,null,null,null,null,null,null,null,null,null,null,null,null,null,null,{"$f":"IFERROR(INDEX(J$3:J$296,SMALL(IF(B$3:B$296=\"In\",ROW(J$2:J$295)-ROW(I$2)+1),ROW(I309))),\"\")","v":""}]
[null,null,null,null,null,null,null,null,null,null,null,null,null,null,null,null,null,null,null,null,null,{"$f":"IFERROR(INDEX(J$3:J$296,SMALL(IF(B$3:B$296=\"In\",ROW(J$2:J$295)-ROW(I$2)+1),ROW(I310))),\"\")","v":""}]
[null,null,null,null,null,null,null,null,null,null,null,null,null,null,null,null,null,null,null,null,null,{"$f":"IFERROR(INDEX(J$3:J$296,SMALL(IF(B$3:B$296=\"In\",ROW(J$2:J$295)-ROW(I$2)+1),ROW(I311))),\"\")","v":""}]
[null,null,null,null,null,null,null,null,null,null,null,null,null,null,null,null,null,null,null,null,null,{"$f":"IFERROR(INDEX(J$3:J$296,SMALL(IF(B$3:B$296=\"In\",ROW(J$2:J$295)-ROW(I$2)+1),ROW(I312))),\"\")","v":""}]
[null,null,null,null,null,null,null,null,null,null,null,null,null,null,null,null,null,null,null,null,null,{"$f":"IFERROR(INDEX(J$3:J$296,SMALL(IF(B$3:B$296=\"In\",ROW(J$2:J$295)-ROW(I$2)+1),ROW(I313))),\"\")","v":""}]
[null,null,null,null,null,null,null,null,null,null,null,null,null,null,null,null,null,null,null,null,null,{"$f":"IFERROR(INDEX(J$3:J$296,SMALL(IF(B$3:B$296=\"In\",ROW(J$2:J$295)-ROW(I$2)+1),ROW(I314))),\"\")","v":""}]
[null,null,null,null,null,null,null,null,null,null,null,null,null,null,null,null,null,null,null,null,null,{"$f":"IFERROR(INDEX(J$3:J$296,SMALL(IF(B$3:B$296=\"In\",ROW(J$2:J$295)-ROW(I$2)+1),ROW(I315))),\"\")","v":""}]
[null,null,null,null,null,null,null,null,null,null,null,null,null,null,null,null,null,null,null,null,null,{"$f":"IFERROR(INDEX(J$3:J$296,SMALL(IF(B$3:B$296=\"In\",ROW(J$2:J$295)-ROW(I$2)+1),ROW(I316))),\"\")","v":""}]
[null,null,null,null,null,null,null,null,null,null,null,null,null,null,null,null,null,null,null,null,null,{"$f":"IFERROR(INDEX(J$3:J$296,SMALL(IF(B$3:B$296=\"In\",ROW(J$2:J$295)-ROW(I$2)+1),ROW(I317))),\"\")","v":""}]
[null,null,null,null,null,null,null,null,null,null,null,null,null,null,null,null,null,null,null,null,null,{"$f":"IFERROR(INDEX(J$3:J$296,SMALL(IF(B$3:B$296=\"In\",ROW(J$2:J$295)-ROW(I$2)+1),ROW(I318))),\"\")","v":""}]
[null,null,null,null,null,null,null,null,null,null,null,null,null,null,null,null,null,null,null,null,null,{"$f":"IFERROR(INDEX(J$3:J$296,SMALL(IF(B$3:B$296=\"In\",ROW(J$2:J$295)-ROW(I$2)+1),ROW(I319))),\"\")","v":""}]
[null,null,null,null,null,null,null,null,null,null,null,null,null,null,null,null,null,null,null,null,null,{"$f":"IFERROR(INDEX(J$3:J$296,SMALL(IF(B$3:B$296=\"In\",ROW(J$2:J$295)-ROW(I$2)+1),ROW(I320))),\"\")","v":""}]
[null,null,null,null,null,null,null,null,null,null,null,null,null,null,null,null,null,null,null,null,null,{"$f":"IFERROR(INDEX(J$3:J$296,SMALL(IF(B$3:B$296=\"In\",ROW(J$2:J$295)-ROW(I$2)+1),ROW(I321))),\"\")","v":""}]
[null,null,null,null,null,null,null,null,null,null,null,null,null,null,null,null,null,null,null,null,null,{"$f":"IFERROR(INDEX(J$3:J$296,SMALL(IF(B$3:B$296=\"In\",ROW(J$2:J$295)-ROW(I$2)+1),ROW(I322))),\"\")","v":""}]
[null,null,null,null,null,null,null,null,null,null,null,null,null,null,null,null,null,null,null,null,null,{"$f":"IFERROR(INDEX(J$3:J$296,SMALL(IF(B$3:B$296=\"In\",ROW(J$2:J$295)-ROW(I$2)+1),ROW(I323))),\"\")","v":""}]
[null,null,null,null,null,null,null,null,null,null,null,null,null,null,null,null,null,null,null,null,null,{"$f":"IFERROR(INDEX(J$3:J$296,SMALL(IF(B$3:B$296=\"In\",ROW(J$2:J$295)-ROW(I$2)+1),ROW(I324))),\"\")","v":""}]
[null,null,null,null,null,null,null,null,null,null,null,null,null,null,null,null,null,null,null,null,null,{"$f":"IFERROR(INDEX(J$3:J$296,SMALL(IF(B$3:B$296=\"In\",ROW(J$2:J$295)-ROW(I$2)+1),ROW(I325))),\"\")","v":""}]
[null,null,null,null,null,null,null,null,null,null,null,null,null,null,null,null,null,null,null,null,null,{"$f":"IFERROR(INDEX(J$3:J$296,SMALL(IF(B$3:B$296=\"In\",ROW(J$2:J$295)-ROW(I$2)+1),ROW(I326))),\"\")","v":""}]
[null,null,null,null,null,null,null,null,null,null,null,null,null,null,null,null,null,null,null,null,null,{"$f":"IFERROR(INDEX(J$3:J$296,SMALL(IF(B$3:B$296=\"In\",ROW(J$2:J$295)-ROW(I$2)+1),ROW(I327))),\"\")","v":""}]
[null,null,null,null,null,null,null,null,null,null,null,null,null,null,null,null,null,null,null,null,null,{"$f":"IFERROR(INDEX(J$3:J$296,SMALL(IF(B$3:B$296=\"In\",ROW(J$2:J$295)-ROW(I$2)+1),ROW(I328))),\"\")","v":""}]
[null,null,null,null,null,null,null,null,null,null,null,null,null,null,null,null,null,null,null,null,null,{"$f":"IFERROR(INDEX(J$3:J$296,SMALL(IF(B$3:B$296=\"In\",ROW(J$2:J$295)-ROW(I$2)+1),ROW(I329))),\"\")","v":""}]
[null,null,null,null,null,null,null,null,null,null,null,null,null,null,null,null,null,null,null,null,null,{"$f":"IFERROR(INDEX(J$3:J$296,SMALL(IF(B$3:B$296=\"In\",ROW(J$2:J$295)-ROW(I$2)+1),ROW(I330))),\"\")","v":""}]
[null,null,null,null,null,null,null,null,null,null,null,null,null,null,null,null,null,null,null,null,null,{"$f":"IFERROR(INDEX(J$3:J$296,SMALL(IF(B$3:B$296=\"In\",ROW(J$2:J$295)-ROW(I$2)+1),ROW(I331))),\"\")","v":""}]
[null,null,null,null,null,null,null,null,null,null,null,null,null,null,null,null,null,null,null,null,null,{"$f":"IFERROR(INDEX(J$3:J$296,SMALL(IF(B$3:B$296=\"In\",ROW(J$2:J$295)-ROW(I$2)+1),ROW(I332))),\"\")","v":""}]
[null,null,null,null,null,null,null,null,null,null,null,null,null,null,null,null,null,null,null,null,null,{"$f":"IFERROR(INDEX(J$3:J$296,SMALL(IF(B$3:B$296=\"In\",ROW(J$2:J$295)-ROW(I$2)+1),ROW(I333))),\"\")","v":""}]
[null,null,null,null,null,null,null,null,null,null,null,null,null,null,null,null,null,null,null,null,null,{"$f":"IFERROR(INDEX(J$3:J$296,SMALL(IF(B$3:B$296=\"In\",ROW(J$2:J$295)-ROW(I$2)+1),ROW(I334))),\"\")","v":""}]
[null,null,null,null,null,null,null,null,null,null,null,null,null,null,null,null,null,null,null,null,null,{"$f":"IFERROR(INDEX(J$3:J$296,SMALL(IF(B$3:B$296=\"In\",ROW(J$2:J$295)-ROW(I$2)+1),ROW(I335))),\"\")","v":""}]
[null,null,null,null,null,null,null,null,null,null,null,null,null,null,null,null,null,null,null,null,null,{"$f":"IFERROR(INDEX(J$3:J$296,SMALL(IF(B$3:B$296=\"In\",ROW(J$2:J$295)-ROW(I$2)+1),ROW(I336))),\"\")","v":""}]
[null,null,null,null,null,null,null,null,null,null,null,null,null,null,null,null,null,null,null,null,null,{"$f":"IFERROR(INDEX(J$3:J$296,SMALL(IF(B$3:B$296=\"In\",ROW(J$2:J$295)-ROW(I$2)+1),ROW(I337))),\"\")","v":""}]
[null,null,null,null,null,null,null,null,null,null,null,null,null,null,null,null,null,null,null,null,null,{"$f":"IFERROR(INDEX(J$3:J$296,SMALL(IF(B$3:B$296=\"In\",ROW(J$2:J$295)-ROW(I$2)+1),ROW(I338))),\"\")","v":""}]
[null,null,null,null,null,null,null,null,null,null,null,null,null,null,null,null,null,null,null,null,null,{"$f":"IFERROR(INDEX(J$3:J$296,SMALL(IF(B$3:B$296=\"In\",ROW(J$2:J$295)-ROW(I$2)+1),ROW(I339))),\"\")","v":""}]
[null,null,null,null,null,null,null,null,null,null,null,null,null,null,null,null,null,null,null,null,null,{"$f":"IFERROR(INDEX(J$3:J$296,SMALL(IF(B$3:B$296=\"In\",ROW(J$2:J$295)-ROW(I$2)+1),ROW(I340))),\"\")","v":""}]
[null,null,null,null,null,null,null,null,null,null,null,null,null,null,null,null,null,null,null,null,null,{"$f":"IFERROR(INDEX(J$3:J$296,SMALL(IF(B$3:B$296=\"In\",ROW(J$2:J$295)-ROW(I$2)+1),ROW(I341))),\"\")","v":""}]
[null,null,null,null,null,null,null,null,null,null,null,null,null,null,null,null,null,null,null,null,null,{"$f":"IFERROR(INDEX(J$3:J$296,SMALL(IF(B$3:B$296=\"In\",ROW(J$2:J$295)-ROW(I$2)+1),ROW(I342))),\"\")","v":""}]
[null,null,null,null,null,null,null,null,null,null,null,null,null,null,null,null,null,null,null,null,null,{"$f":"IFERROR(INDEX(J$3:J$296,SMALL(IF(B$3:B$296=\"In\",ROW(J$2:J$295)-ROW(I$2)+1),ROW(I343))),\"\")","v":""}]
[null,null,null,null,null,null,null,null,null,null,null,null,null,null,null,null,null,null,null,null,null,{"$f":"IFERROR(INDEX(J$3:J$296,SMALL(IF(B$3:B$296=\"In\",ROW(J$2:J$295)-ROW(I$2)+1),ROW(I344))),\"\")","v":""}]
[null,null,null,null,null,null,null,null,null,null,null,null,null,null,null,null,null,null,null,null,null,{"$f":"IFERROR(INDEX(J$3:J$296,SMALL(IF(B$3:B$296=\"In\",ROW(J$2:J$295)-ROW(I$2)+1),ROW(I345))),\"\")","v":""}]
[null,null,null,null,null,null,null,null,null,null,null,null,null,null,null,null,null,null,null,null,null,{"$f":"IFERROR(INDEX(J$3:J$296,SMALL(IF(B$3:B$296=\"In\",ROW(J$2:J$295)-ROW(I$2)+1),ROW(I346))),\"\")","v":""}]
[null,null,null,null,null,null,null,null,null,null,null,null,null,null,null,null,null,null,null,null,null,{"$f":"IFERROR(INDEX(J$3:J$296,SMALL(IF(B$3:B$296=\"In\",ROW(J$2:J$295)-ROW(I$2)+1),ROW(I347))),\"\")","v":""}]
[null,null,null,null,null,null,null,null,null,null,null,null,null,null,null,null,null,null,null,null,null,{"$f":"IFERROR(INDEX(J$3:J$296,SMALL(IF(B$3:B$296=\"In\",ROW(J$2:J$295)-ROW(I$2)+1),ROW(I348))),\"\")","v":""}]
[null,null,null,null,null,null,null,null,null,null,null,null,null,null,null,null,null,null,null,null,null,{"$f":"IFERROR(INDEX(J$3:J$296,SMALL(IF(B$3:B$296=\"In\",ROW(J$2:J$295)-ROW(I$2)+1),ROW(I349))),\"\")","v":""}]
[null,null,null,null,null,null,null,null,null,null,null,null,null,null,null,null,null,null,null,null,null,{"$f":"IFERROR(INDEX(J$3:J$296,SMALL(IF(B$3:B$296=\"In\",ROW(J$2:J$295)-ROW(I$2)+1),ROW(I350))),\"\")","v":""}]
[null,null,null,null,null,null,null,null,null,null,null,null,null,null,null,null,null,null,null,null,null,{"$f":"IFERROR(INDEX(J$3:J$296,SMALL(IF(B$3:B$296=\"In\",ROW(J$2:J$295)-ROW(I$2)+1),ROW(I351))),\"\")","v":""}]
[null,null,null,null,null,null,null,null,null,null,null,null,null,null,null,null,null,null,null,null,null,{"$f":"IFERROR(INDEX(J$3:J$296,SMALL(IF(B$3:B$296=\"In\",ROW(J$2:J$295)-ROW(I$2)+1),ROW(I352))),\"\")","v":""}]
[null,null,null,null,null,null,null,null,null,null,null,null,null,null,null,null,null,null,null,null,null,{"$f":"IFERROR(INDEX(J$3:J$296,SMALL(IF(B$3:B$296=\"In\",ROW(J$2:J$295)-ROW(I$2)+1),ROW(I353))),\"\")","v":""}]
[null,null,null,null,null,null,null,null,null,null,null,null,null,null,null,null,null,null,null,null,null,{"$f":"IFERROR(INDEX(J$3:J$296,SMALL(IF(B$3:B$296=\"In\",ROW(J$2:J$295)-ROW(I$2)+1),ROW(I354))),\"\")","v":""}]
[null,null,null,null,null,null,null,null,null,null,null,null,null,null,null,null,null,null,null,null,null,{"$f":"IFERROR(INDEX(J$3:J$296,SMALL(IF(B$3:B$296=\"In\",ROW(J$2:J$295)-ROW(I$2)+1),ROW(I355))),\"\")","v":""}]
[null,null,null,null,null,null,null,null,null,null,null,null,null,null,null,null,null,null,null,null,null,{"$f":"IFERROR(INDEX(J$3:J$296,SMALL(IF(B$3:B$296=\"In\",ROW(J$2:J$295)-ROW(I$2)+1),ROW(I356))),\"\")","v":""}]
[null,null,null,null,null,null,null,null,null,null,null,null,null,null,null,null,null,null,null,null,null,{"$f":"IFERROR(INDEX(J$3:J$296,SMALL(IF(B$3:B$296=\"In\",ROW(J$2:J$295)-ROW(I$2)+1),ROW(I357))),\"\")","v":""}]
[null,null,null,null,null,null,null,null,null,null,null,null,null,null,null,null,null,null,null,null,null,{"$f":"IFERROR(INDEX(J$3:J$296,SMALL(IF(B$3:B$296=\"In\",ROW(J$2:J$295)-ROW(I$2)+1),ROW(I358))),\"\")","v":""}]
[null,null,null,null,null,null,null,null,null,null,null,null,null,null,null,null,null,null,null,null,null,{"$f":"IFERROR(INDEX(J$3:J$296,SMALL(IF(B$3:B$296=\"In\",ROW(J$2:J$295)-ROW(I$2)+1),ROW(I359))),\"\")","v":""}]
[null,null,null,null,null,null,null,null,null,null,null,null,null,null,null,null,null,null,null,null,null,{"$f":"IFERROR(INDEX(J$3:J$296,SMALL(IF(B$3:B$296=\"In\",ROW(J$2:J$295)-ROW(I$2)+1),ROW(I360))),\"\")","v":""}]
[null,null,null,null,null,null,null,null,null,null,null,null,null,null,null,null,null,null,null,null,null,{"$f":"IFERROR(INDEX(J$3:J$296,SMALL(IF(B$3:B$296=\"In\",ROW(J$2:J$295)-ROW(I$2)+1),ROW(I361))),\"\")","v":""}]
[null,null,null,null,null,null,null,null,null,null,null,null,null,null,null,null,null,null,null,null,null,{"$f":"IFERROR(INDEX(J$3:J$296,SMALL(IF(B$3:B$296=\"In\",ROW(J$2:J$295)-ROW(I$2)+1),ROW(I362))),\"\")","v":""}]
[null,null,null,null,null,null,null,null,null,null,null,null,null,null,null,null,null,null,null,null,null,{"$f":"IFERROR(INDEX(J$3:J$296,SMALL(IF(B$3:B$296=\"In\",ROW(J$2:J$295)-ROW(I$2)+1),ROW(I363))),\"\")","v":""}]
[null,null,null,null,null,null,null,null,null,null,null,null,null,null,null,null,null,null,null,null,null,{"$f":"IFERROR(INDEX(J$3:J$296,SMALL(IF(B$3:B$296=\"In\",ROW(J$2:J$295)-ROW(I$2)+1),ROW(I364))),\"\")","v":""}]
[null,null,null,null,null,null,null,null,null,null,null,null,null,null,null,null,null,null,null,null,null,{"$f":"IFERROR(INDEX(J$3:J$296,SMALL(IF(B$3:B$296=\"In\",ROW(J$2:J$295)-ROW(I$2)+1),ROW(I365))),\"\")","v":""}]
[null,null,null,null,null,null,null,null,null,null,null,null,null,null,null,null,null,null,null,null,null,{"$f":"IFERROR(INDEX(J$3:J$296,SMALL(IF(B$3:B$296=\"In\",ROW(J$2:J$295)-ROW(I$2)+1),ROW(I366))),\"\")","v":""}]
[null,null,null,null,null,null,null,null,null,null,null,null,null,null,null,null,null,null,null,null,null,{"$f":"IFERROR(INDEX(J$3:J$296,SMALL(IF(B$3:B$296=\"In\",ROW(J$2:J$295)-ROW(I$2)+1),ROW(I367))),\"\")","v":""}]
[null,null,null,null,null,null,null,null,null,null,null,null,null,null,null,null,null,null,null,null,null,{"$f":"IFERROR(INDEX(J$3:J$296,SMALL(IF(B$3:B$296=\"In\",ROW(J$2:J$295)-ROW(I$2)+1),ROW(I368))),\"\")","v":""}]
[null,null,null,null,null,null,null,null,null,null,null,null,null,null,null,null,null,null,null,null,null,{"$f":"IFERROR(INDEX(J$3:J$296,SMALL(IF(B$3:B$296=\"In\",ROW(J$2:J$295)-ROW(I$2)+1),ROW(I369))),\"\")","v":""}]
[null,null,null,null,null,null,null,null,null,null,null,null,null,null,null,null,null,null,null,null,null,{"$f":"IFERROR(INDEX(J$3:J$296,SMALL(IF(B$3:B$296=\"In\",ROW(J$2:J$295)-ROW(I$2)+1),ROW(I370))),\"\")","v":""}]
[null,null,null,null,null,null,null,null,null,null,null,null,null,null,null,null,null,null,null,null,null,{"$f":"IFERROR(INDEX(J$3:J$296,SMALL(IF(B$3:B$296=\"In\",ROW(J$2:J$295)-ROW(I$2)+1),ROW(I371))),\"\")","v":""}]
[null,null,null,null,null,null,null,null,null,null,null,null,null,null,null,null,null,null,null,null,null,{"$f":"IFERROR(INDEX(J$3:J$296,SMALL(IF(B$3:B$296=\"In\",ROW(J$2:J$295)-ROW(I$2)+1),ROW(I372))),\"\")","v":""}]
[null,null,null,null,null,null,null,null,null,null,null,null,null,null,null,null,null,null,null,null,null,{"$f":"IFERROR(INDEX(J$3:J$296,SMALL(IF(B$3:B$296=\"In\",ROW(J$2:J$295)-ROW(I$2)+1),ROW(I373))),\"\")","v":""}]
[null,null,null,null,null,null,null,null,null,null,null,null,null,null,null,null,null,null,null,null,null,{"$f":"IFERROR(INDEX(J$3:J$296,SMALL(IF(B$3:B$296=\"In\",ROW(J$2:J$295)-ROW(I$2)+1),ROW(I374))),\"\")","v":""}]
[null,null,null,null,null,null,null,null,null,null,null,null,null,null,null,null,null,null,null,null,null,{"$f":"IFERROR(INDEX(J$3:J$296,SMALL(IF(B$3:B$296=\"In\",ROW(J$2:J$295)-ROW(I$2)+1),ROW(I375))),\"\")","v":""}]
[null,null,null,null,null,null,null,null,null,null,null,null,null,null,null,null,null,null,null,null,null,{"$f":"IFERROR(INDEX(J$3:J$296,SMALL(IF(B$3:B$296=\"In\",ROW(J$2:J$295)-ROW(I$2)+1),ROW(I376))),\"\")","v":""}]
[null,null,null,null,null,null,null,null,null,null,null,null,null,null,null,null,null,null,null,null,null,{"$f":"IFERROR(INDEX(J$3:J$296,SMALL(IF(B$3:B$296=\"In\",ROW(J$2:J$295)-ROW(I$2)+1),ROW(I377))),\"\")","v":""}]
[null,null,null,null,null,null,null,null,null,null,null,null,null,null,null,null,null,null,null,null,null,{"$f":"IFERROR(INDEX(J$3:J$296,SMALL(IF(B$3:B$296=\"In\",ROW(J$2:J$295)-ROW(I$2)+1),ROW(I378))),\"\")","v":""}]
[null,null,null,null,null,null,null,null,null,null,null,null,null,null,null,null,null,null,null,null,null,{"$f":"IFERROR(INDEX(J$3:J$296,SMALL(IF(B$3:B$296=\"In\",ROW(J$2:J$295)-ROW(I$2)+1),ROW(I379))),\"\")","v":""}]
[null,null,null,null,null,null,null,null,null,null,null,null,null,null,null,null,null,null,null,null,null,{"$f":"IFERROR(INDEX(J$3:J$296,SMALL(IF(B$3:B$296=\"In\",ROW(J$2:J$295)-ROW(I$2)+1),ROW(I380))),\"\")","v":""}]
[null,null,null,null,null,null,null,null,null,null,null,null,null,null,null,null,null,null,null,null,null,{"$f":"IFERROR(INDEX(J$3:J$296,SMALL(IF(B$3:B$296=\"In\",ROW(J$2:J$295)-ROW(I$2)+1),ROW(I381))),\"\")","v":""}]
[null,null,null,null,null,null,null,null,null,null,null,null,null,null,null,null,null,null,null,null,null,{"$f":"IFERROR(INDEX(J$3:J$296,SMALL(IF(B$3:B$296=\"In\",ROW(J$2:J$295)-ROW(I$2)+1),ROW(I382))),\"\")","v":""}]
[null,null,null,null,null,null,null,null,null,null,null,null,null,null,null,null,null,null,null,null,null,{"$f":"IFERROR(INDEX(J$3:J$296,SMALL(IF(B$3:B$296=\"In\",ROW(J$2:J$295)-ROW(I$2)+1),ROW(I383))),\"\")","v":""}]
[null,null,null,null,null,null,null,null,null,null,null,null,null,null,null,null,null,null,null,null,null,{"$f":"IFERROR(INDEX(J$3:J$296,SMALL(IF(B$3:B$296=\"In\",ROW(J$2:J$295)-ROW(I$2)+1),ROW(I384))),\"\")","v":""}]
[null,null,null,null,null,null,null,null,null,null,null,null,null,null,null,null,null,null,null,null,null,{"$f":"IFERROR(INDEX(J$3:J$296,SMALL(IF(B$3:B$296=\"In\",ROW(J$2:J$295)-ROW(I$2)+1),ROW(I385))),\"\")","v":""}]
[null,null,null,null,null,null,null,null,null,null,null,null,null,null,null,null,null,null,null,null,null,{"$f":"IFERROR(INDEX(J$3:J$296,SMALL(IF(B$3:B$296=\"In\",ROW(J$2:J$295)-ROW(I$2)+1),ROW(I386))),\"\")","v":""}]
[null,null,null,null,null,null,null,null,null,null,null,null,null,null,null,null,null,null,null,null,null,{"$f":"IFERROR(INDEX(J$3:J$296,SMALL(IF(B$3:B$296=\"In\",ROW(J$2:J$295)-ROW(I$2)+1),ROW(I387))),\"\")","v":""}]
[null,null,null,null,null,null,null,null,null,null,null,null,null,null,null,null,null,null,null,null,null,{"$f":"IFERROR(INDEX(J$3:J$296,SMALL(IF(B$3:B$296=\"In\",ROW(J$2:J$295)-ROW(I$2)+1),ROW(I388))),\"\")","v":""}]
[null,null,null,null,null,null,null,null,null,null,null,null,null,null,null,null,null,null,null,null,null,{"$f":"IFERROR(INDEX(J$3:J$296,SMALL(IF(B$3:B$296=\"In\",ROW(J$2:J$295)-ROW(I$2)+1),ROW(I389))),\"\")","v":""}]
[null,null,null,null,null,null,null,null,null,null,null,null,null,null,null,null,null,null,null,null,null,{"$f":"IFERROR(INDEX(J$3:J$296,SMALL(IF(B$3:B$296=\"In\",ROW(J$2:J$295)-ROW(I$2)+1),ROW(I390))),\"\")","v":""}]
[null,null,null,null,null,null,null,null,null,null,null,null,null,null,null,null,null,null,null,null,null,{"$f":"IFERROR(INDEX(J$3:J$296,SMALL(IF(B$3:B$296=\"In\",ROW(J$2:J$295)-ROW(I$2)+1),ROW(I391))),\"\")","v":""}]
[null,null,null,null,null,null,null,null,null,null,null,null,null,null,null,null,null,null,null,null,null,{"$f":"IFERROR(INDEX(J$3:J$296,SMALL(IF(B$3:B$296=\"In\",ROW(J$2:J$295)-ROW(I$2)+1),ROW(I392))),\"\")","v":""}]
[null,null,null,null,null,null,null,null,null,null,null,null,null,null,null,null,null,null,null,null,null,{"$f":"IFERROR(INDEX(J$3:J$296,SMALL(IF(B$3:B$296=\"In\",ROW(J$2:J$295)-ROW(I$2)+1),ROW(I393))),\"\")","v":""}]
[null,null,null,null,null,null,null,null,null,null,null,null,null,null,null,null,null,null,null,null,null,{"$f":"IFERROR(INDEX(J$3:J$296,SMALL(IF(B$3:B$296=\"In\",ROW(J$2:J$295)-ROW(I$2)+1),ROW(I394))),\"\")","v":""}]
[null,null,null,null,null,null,null,null,null,null,null,null,null,null,null,null,null,null,null,null,null,{"$f":"IFERROR(INDEX(J$3:J$296,SMALL(IF(B$3:B$296=\"In\",ROW(J$2:J$295)-ROW(I$2)+1),ROW(I395))),\"\")","v":""}]
[null,null,null,null,null,null,null,null,null,null,null,null,null,null,null,null,null,null,null,null,null,{"$f":"IFERROR(INDEX(J$3:J$296,SMALL(IF(B$3:B$296=\"In\",ROW(J$2:J$295)-ROW(I$2)+1),ROW(I396))),\"\")","v":""}]
[null,null,null,null,null,null,null,null,null,null,null,null,null,null,null,null,null,null,null,null,null,{"$f":"IFERROR(INDEX(J$3:J$296,SMALL(IF(B$3:B$296=\"In\",ROW(J$2:J$295)-ROW(I$2)+1),ROW(I397))),\"\")","v":""}]
[null,null,null,null,null,null,null,null,null,null,null,null,null,null,null,null,null,null,null,null,null,{"$f":"IFERROR(INDEX(J$3:J$296,SMALL(IF(B$3:B$296=\"In\",ROW(J$2:J$295)-ROW(I$2)+1),ROW(I398))),\"\")","v":""}]
[null,null,null,null,null,null,null,null,null,null,null,null,null,null,null,null,null,null,null,null,null,{"$f":"IFERROR(INDEX(J$3:J$296,SMALL(IF(B$3:B$296=\"In\",ROW(J$2:J$295)-ROW(I$2)+1),ROW(I399))),\"\")","v":""}]
[null,null,null,null,null,null,null,null,null,null,null,null,null,null,null,null,null,null,null,null,null,{"$f":"IFERROR(INDEX(J$3:J$296,SMALL(IF(B$3:B$296=\"In\",ROW(J$2:J$295)-ROW(I$2)+1),ROW(I400))),\"\")","v":""}]
[null,null,null,null,null,null,null,null,null,null,null,null,null,null,null,null,null,null,null,null,null,{"$f":"IFERROR(INDEX(J$3:J$296,SMALL(IF(B$3:B$296=\"In\",ROW(J$2:J$295)-ROW(I$2)+1),ROW(I401))),\"\")","v":""}]
[null,null,null,null,null,null,null,null,null,null,null,null,null,null,null,null,null,null,null,null,null,{"$f":"IFERROR(INDEX(J$3:J$296,SMALL(IF(B$3:B$296=\"In\",ROW(J$2:J$295)-ROW(I$2)+1),ROW(I402))),\"\")","v":""}]
[null,null,null,null,null,null,null,null,null,null,null,null,null,null,null,null,null,null,null,null,null,{"$f":"IFERROR(INDEX(J$3:J$296,SMALL(IF(B$3:B$296=\"In\",ROW(J$2:J$295)-ROW(I$2)+1),ROW(I403))),\"\")","v":""}]
[null,null,null,null,null,null,null,null,null,null,null,null,null,null,null,null,null,null,null,null,null,{"$f":"IFERROR(INDEX(J$3:J$296,SMALL(IF(B$3:B$296=\"In\",ROW(J$2:J$295)-ROW(I$2)+1),ROW(I404))),\"\")","v":""}]
[null,null,null,null,null,null,null,null,null,null,null,null,null,null,null,null,null,null,null,null,null,{"$f":"IFERROR(INDEX(J$3:J$296,SMALL(IF(B$3:B$296=\"In\",ROW(J$2:J$295)-ROW(I$2)+1),ROW(I405))),\"\")","v":""}]
[null,null,null,null,null,null,null,null,null,null,null,null,null,null,null,null,null,null,null,null,null,{"$f":"IFERROR(INDEX(J$3:J$296,SMALL(IF(B$3:B$296=\"In\",ROW(J$2:J$295)-ROW(I$2)+1),ROW(I406))),\"\")","v":""}]
[null,null,null,null,null,null,null,null,null,null,null,null,null,null,null,null,null,null,null,null,null,{"$f":"IFERROR(INDEX(J$3:J$296,SMALL(IF(B$3:B$296=\"In\",ROW(J$2:J$295)-ROW(I$2)+1),ROW(I407))),\"\")","v":""}]
[null,null,null,null,null,null,null,null,null,null,null,null,null,null,null,null,null,null,null,null,null,{"$f":"IFERROR(INDEX(J$3:J$296,SMALL(IF(B$3:B$296=\"In\",ROW(J$2:J$295)-ROW(I$2)+1),ROW(I408))),\"\")","v":""}]
[null,null,null,null,null,null,null,null,null,null,null,null,null,null,null,null,null,null,null,null,null,{"$f":"IFERROR(INDEX(J$3:J$296,SMALL(IF(B$3:B$296=\"In\",ROW(J$2:J$295)-ROW(I$2)+1),ROW(I409))),\"\")","v":""}]
[null,null,null,null,null,null,null,null,null,null,null,null,null,null,null,null,null,null,null,null,null,{"$f":"IFERROR(INDEX(J$3:J$296,SMALL(IF(B$3:B$296=\"In\",ROW(J$2:J$295)-ROW(I$2)+1),ROW(I410))),\"\")","v":""}]
[null,null,null,null,null,null,null,null,null,null,null,null,null,null,null,null,null,null,null,null,null,{"$f":"IFERROR(INDEX(J$3:J$296,SMALL(IF(B$3:B$296=\"In\",ROW(J$2:J$295)-ROW(I$2)+1),ROW(I411))),\"\")","v":""}]
[null,null,null,null,null,null,null,null,null,null,null,null,null,null,null,null,null,null,null,null,null,{"$f":"IFERROR(INDEX(J$3:J$296,SMALL(IF(B$3:B$296=\"In\",ROW(J$2:J$295)-ROW(I$2)+1),ROW(I412))),\"\")","v":""}]
[null,null,null,null,null,null,null,null,null,null,null,null,null,null,null,null,null,null,null,null,null,{"$f":"IFERROR(INDEX(J$3:J$296,SMALL(IF(B$3:B$296=\"In\",ROW(J$2:J$295)-ROW(I$2)+1),ROW(I413))),\"\")","v":""}]
[null,null,null,null,null,null,null,null,null,null,null,null,null,null,null,null,null,null,null,null,null,{"$f":"IFERROR(INDEX(J$3:J$296,SMALL(IF(B$3:B$296=\"In\",ROW(J$2:J$295)-ROW(I$2)+1),ROW(I414))),\"\")","v":""}]
[null,null,null,null,null,null,null,null,null,null,null,null,null,null,null,null,null,null,null,null,null,{"$f":"IFERROR(INDEX(J$3:J$296,SMALL(IF(B$3:B$296=\"In\",ROW(J$2:J$295)-ROW(I$2)+1),ROW(I415))),\"\")","v":""}]
[null,null,null,null,null,null,null,null,null,null,null,null,null,null,null,null,null,null,null,null,null,{"$f":"IFERROR(INDEX(J$3:J$296,SMALL(IF(B$3:B$296=\"In\",ROW(J$2:J$295)-ROW(I$2)+1),ROW(I416))),\"\")","v":""}]
[null,null,null,null,null,null,null,null,null,null,null,null,null,null,null,null,null,null,null,null,null,{"$f":"IFERROR(INDEX(J$3:J$296,SMALL(IF(B$3:B$296=\"In\",ROW(J$2:J$295)-ROW(I$2)+1),ROW(I417))),\"\")","v":""}]
[null,null,null,null,null,null,null,null,null,null,null,null,null,null,null,null,null,null,null,null,null,{"$f":"IFERROR(INDEX(J$3:J$296,SMALL(IF(B$3:B$296=\"In\",ROW(J$2:J$295)-ROW(I$2)+1),ROW(I418))),\"\")","v":""}]
[null,null,null,null,null,null,null,null,null,null,null,null,null,null,null,null,null,null,null,null,null,{"$f":"IFERROR(INDEX(J$3:J$296,SMALL(IF(B$3:B$296=\"In\",ROW(J$2:J$295)-ROW(I$2)+1),ROW(I419))),\"\")","v":""}]
[null,null,null,null,null,null,null,null,null,null,null,null,null,null,null,null,null,null,null,null,null,{"$f":"IFERROR(INDEX(J$3:J$296,SMALL(IF(B$3:B$296=\"In\",ROW(J$2:J$295)-ROW(I$2)+1),ROW(I420))),\"\")","v":""}]
[null,null,null,null,null,null,null,null,null,null,null,null,null,null,null,null,null,null,null,null,null,{"$f":"IFERROR(INDEX(J$3:J$296,SMALL(IF(B$3:B$296=\"In\",ROW(J$2:J$295)-ROW(I$2)+1),ROW(I421))),\"\")","v":""}]
[null,null,null,null,null,null,null,null,null,null,null,null,null,null,null,null,null,null,null,null,null,{"$f":"IFERROR(INDEX(J$3:J$296,SMALL(IF(B$3:B$296=\"In\",ROW(J$2:J$295)-ROW(I$2)+1),ROW(I422))),\"\")","v":""}]
[null,null,null,null,null,null,null,null,null,null,null,null,null,null,null,null,null,null,null,null,null,{"$f":"IFERROR(INDEX(J$3:J$296,SMALL(IF(B$3:B$296=\"In\",ROW(J$2:J$295)-ROW(I$2)+1),ROW(I423))),\"\")","v":""}]
[null,null,null,null,null,null,null,null,null,null,null,null,null,null,null,null,null,null,null,null,null,{"$f":"IFERROR(INDEX(J$3:J$296,SMALL(IF(B$3:B$296=\"In\",ROW(J$2:J$295)-ROW(I$2)+1),ROW(I424))),\"\")","v":""}]
[null,null,null,null,null,null,null,null,null,null,null,null,null,null,null,null,null,null,null,null,null,{"$f":"IFERROR(INDEX(J$3:J$296,SMALL(IF(B$3:B$296=\"In\",ROW(J$2:J$295)-ROW(I$2)+1),ROW(I425))),\"\")","v":""}]
[null,null,null,null,null,null,null,null,null,null,null,null,null,null,null,null,null,null,null,null,null,{"$f":"IFERROR(INDEX(J$3:J$296,SMALL(IF(B$3:B$296=\"In\",ROW(J$2:J$295)-ROW(I$2)+1),ROW(I426))),\"\")","v":""}]
[null,null,null,null,null,null,null,null,null,null,null,null,null,null,null,null,null,null,null,null,null,{"$f":"IFERROR(INDEX(J$3:J$296,SMALL(IF(B$3:B$296=\"In\",ROW(J$2:J$295)-ROW(I$2)+1),ROW(I427))),\"\")","v":""}]
[null,null,null,null,null,null,null,null,null,null,null,null,null,null,null,null,null,null,null,null,null,{"$f":"IFERROR(INDEX(J$3:J$296,SMALL(IF(B$3:B$296=\"In\",ROW(J$2:J$295)-ROW(I$2)+1),ROW(I428))),\"\")","v":""}]
[null,null,null,null,null,null,null,null,null,null,null,null,null,null,null,null,null,null,null,null,null,{"$f":"IFERROR(INDEX(J$3:J$296,SMALL(IF(B$3:B$296=\"In\",ROW(J$2:J$295)-ROW(I$2)+1),ROW(I429))),\"\")","v":""}]
[null,null,null,null,null,null,null,null,null,null,null,null,null,null,null,null,null,null,null,null,null,{"$f":"IFERROR(INDEX(J$3:J$296,SMALL(IF(B$3:B$296=\"In\",ROW(J$2:J$295)-ROW(I$2)+1),ROW(I430))),\"\")","v":""}]
[null,null,null,null,null,null,null,null,null,null,null,null,null,null,null,null,null,null,null,null,null,{"$f":"IFERROR(INDEX(J$3:J$296,SMALL(IF(B$3:B$296=\"In\",ROW(J$2:J$295)-ROW(I$2)+1),ROW(I431))),\"\")","v":""}]
[null,null,null,null,null,null,null,null,null,null,null,null,null,null,null,null,null,null,null,null,null,{"$f":"IFERROR(INDEX(J$3:J$296,SMALL(IF(B$3:B$296=\"In\",ROW(J$2:J$295)-ROW(I$2)+1),ROW(I432))),\"\")","v":""}]
[null,null,null,null,null,null,null,null,null,null,null,null,null,null,null,null,null,null,null,null,null,{"$f":"IFERROR(INDEX(J$3:J$296,SMALL(IF(B$3:B$296=\"In\",ROW(J$2:J$295)-ROW(I$2)+1),ROW(I433))),\"\")","v":""}]
[null,null,null,null,null,null,null,null,null,null,null,null,null,null,null,null,null,null,null,null,null,{"$f":"IFERROR(INDEX(J$3:J$296,SMALL(IF(B$3:B$296=\"In\",ROW(J$2:J$295)-ROW(I$2)+1),ROW(I434))),\"\")","v":""}]
[null,null,null,null,null,null,null,null,null,null,null,null,null,null,null,null,null,null,null,null,null,{"$f":"IFERROR(INDEX(J$3:J$296,SMALL(IF(B$3:B$296=\"In\",ROW(J$2:J$295)-ROW(I$2)+1),ROW(I435))),\"\")","v":""}]
[null,null,null,null,null,null,null,null,null,null,null,null,null,null,null,null,null,null,null,null,null,{"$f":"IFERROR(INDEX(J$3:J$296,SMALL(IF(B$3:B$296=\"In\",ROW(J$2:J$295)-ROW(I$2)+1),ROW(I436))),\"\")","v":""}]
[null,null,null,null,null,null,null,null,null,null,null,null,null,null,null,null,null,null,null,null,null,{"$f":"IFERROR(INDEX(J$3:J$296,SMALL(IF(B$3:B$296=\"In\",ROW(J$2:J$295)-ROW(I$2)+1),ROW(I437))),\"\")","v":""}]
[null,null,null,null,null,null,null,null,null,null,null,null,null,null,null,null,null,null,null,null,null,{"$f":"IFERROR(INDEX(J$3:J$296,SMALL(IF(B$3:B$296=\"In\",ROW(J$2:J$295)-ROW(I$2)+1),ROW(I438))),\"\")","v":""}]
[null,null,null,null,null,null,null,null,null,null,null,null,null,null,null,null,null,null,null,null,null,{"$f":"IFERROR(INDEX(J$3:J$296,SMALL(IF(B$3:B$296=\"In\",ROW(J$2:J$295)-ROW(I$2)+1),ROW(I439))),\"\")","v":""}]
[null,null,null,null,null,null,null,null,null,null,null,null,null,null,null,null,null,null,null,null,null,{"$f":"IFERROR(INDEX(J$3:J$296,SMALL(IF(B$3:B$296=\"In\",ROW(J$2:J$295)-ROW(I$2)+1),ROW(I440))),\"\")","v":""}]
[null,null,null,null,null,null,null,null,null,null,null,null,null,null,null,null,null,null,null,null,null,{"$f":"IFERROR(INDEX(J$3:J$296,SMALL(IF(B$3:B$296=\"In\",ROW(J$2:J$295)-ROW(I$2)+1),ROW(I441))),\"\")","v":""}]
[null,null,null,null,null,null,null,null,null,null,null,null,null,null,null,null,null,null,null,null,null,{"$f":"IFERROR(INDEX(J$3:J$296,SMALL(IF(B$3:B$296=\"In\",ROW(J$2:J$295)-ROW(I$2)+1),ROW(I442))),\"\")","v":""}]
[null,null,null,null,null,null,null,null,null,null,null,null,null,null,null,null,null,null,null,null,null,{"$f":"IFERROR(INDEX(J$3:J$296,SMALL(IF(B$3:B$296=\"In\",ROW(J$2:J$295)-ROW(I$2)+1),ROW(I443))),\"\")","v":""}]
[null,null,null,null,null,null,null,null,null,null,null,null,null,null,null,null,null,null,null,null,null,{"$f":"IFERROR(INDEX(J$3:J$296,SMALL(IF(B$3:B$296=\"In\",ROW(J$2:J$295)-ROW(I$2)+1),ROW(I444))),\"\")","v":""}]
[null,null,null,null,null,null,null,null,null,null,null,null,null,null,null,null,null,null,null,null,null,{"$f":"IFERROR(INDEX(J$3:J$296,SMALL(IF(B$3:B$296=\"In\",ROW(J$2:J$295)-ROW(I$2)+1),ROW(I445))),\"\")","v":""}]
[null,null,null,null,null,null,null,null,null,null,null,null,null,null,null,null,null,null,null,null,null,{"$f":"IFERROR(INDEX(J$3:J$296,SMALL(IF(B$3:B$296=\"In\",ROW(J$2:J$295)-ROW(I$2)+1),ROW(I446))),\"\")","v":""}]
[null,null,null,null,null,null,null,null,null,null,null,null,null,null,null,null,null,null,null,null,null,{"$f":"IFERROR(INDEX(J$3:J$296,SMALL(IF(B$3:B$296=\"In\",ROW(J$2:J$295)-ROW(I$2)+1),ROW(I447))),\"\")","v":""}]
[null,null,null,null,null,null,null,null,null,null,null,null,null,null,null,null,null,null,null,null,null,{"$f":"IFERROR(INDEX(J$3:J$296,SMALL(IF(B$3:B$296=\"In\",ROW(J$2:J$295)-ROW(I$2)+1),ROW(I448))),\"\")","v":""}]
[null,null,null,null,null,null,null,null,null,null,null,null,null,null,null,null,null,null,null,null,null,{"$f":"IFERROR(INDEX(J$3:J$296,SMALL(IF(B$3:B$296=\"In\",ROW(J$2:J$295)-ROW(I$2)+1),ROW(I449))),\"\")","v":""}]
[null,null,null,null,null,null,null,null,null,null,null,null,null,null,null,null,null,null,null,null,null,{"$f":"IFERROR(INDEX(J$3:J$296,SMALL(IF(B$3:B$296=\"In\",ROW(J$2:J$295)-ROW(I$2)+1),ROW(I450))),\"\")","v":""}]
[null,null,null,null,null,null,null,null,null,null,null,null,null,null,null,null,null,null,null,null,null,{"$f":"IFERROR(INDEX(J$3:J$296,SMALL(IF(B$3:B$296=\"In\",ROW(J$2:J$295)-ROW(I$2)+1),ROW(I451))),\"\")","v":""}]
[null,null,null,null,null,null,null,null,null,null,null,null,null,null,null,null,null,null,null,null,null,{"$f":"IFERROR(INDEX(J$3:J$296,SMALL(IF(B$3:B$296=\"In\",ROW(J$2:J$295)-ROW(I$2)+1),ROW(I452))),\"\")","v":""}]
[null,null,null,null,null,null,null,null,null,null,null,null,null,null,null,null,null,null,null,null,null,{"$f":"IFERROR(INDEX(J$3:J$296,SMALL(IF(B$3:B$296=\"In\",ROW(J$2:J$295)-ROW(I$2)+1),ROW(I453))),\"\")","v":""}]
[null,null,null,null,null,null,null,null,null,null,null,null,null,null,null,null,null,null,null,null,null,{"$f":"IFERROR(INDEX(J$3:J$296,SMALL(IF(B$3:B$296=\"In\",ROW(J$2:J$295)-ROW(I$2)+1),ROW(I454))),\"\")","v":""}]
[null,null,null,null,null,null,null,null,null,null,null,null,null,null,null,null,null,null,null,null,null,{"$f":"IFERROR(INDEX(J$3:J$296,SMALL(IF(B$3:B$296=\"In\",ROW(J$2:J$295)-ROW(I$2)+1),ROW(I455))),\"\")","v":""}]
[null,null,null,null,null,null,null,null,null,null,null,null,null,null,null,null,null,null,null,null,null,{"$f":"IFERROR(INDEX(J$3:J$296,SMALL(IF(B$3:B$296=\"In\",ROW(J$2:J$295)-ROW(I$2)+1),ROW(I456))),\"\")","v":""}]
[null,null,null,null,null,null,null,null,null,null,null,null,null,null,null,null,null,null,null,null,null,{"$f":"IFERROR(INDEX(J$3:J$296,SMALL(IF(B$3:B$296=\"In\",ROW(J$2:J$295)-ROW(I$2)+1),ROW(I457))),\"\")","v":""}]
[null,null,null,null,null,null,null,null,null,null,null,null,null,null,null,null,null,null,null,null,null,{"$f":"IFERROR(INDEX(J$3:J$296,SMALL(IF(B$3:B$296=\"In\",ROW(J$2:J$295)-ROW(I$2)+1),ROW(I458))),\"\")","v":""}]
[null,null,null,null,null,null,null,null,null,null,null,null,null,null,null,null,null,null,null,null,null,{"$f":"IFERROR(INDEX(J$3:J$296,SMALL(IF(B$3:B$296=\"In\",ROW(J$2:J$295)-ROW(I$2)+1),ROW(I459))),\"\")","v":""}]
[null,null,null,null,null,null,null,null,null,null,null,null,null,null,null,null,null,null,null,null,null,{"$f":"IFERROR(INDEX(J$3:J$296,SMALL(IF(B$3:B$296=\"In\",ROW(J$2:J$295)-ROW(I$2)+1),ROW(I460))),\"\")","v":""}]
[null,null,null,null,null,null,null,null,null,null,null,null,null,null,null,null,null,null,null,null,null,{"$f":"IFERROR(INDEX(J$3:J$296,SMALL(IF(B$3:B$296=\"In\",ROW(J$2:J$295)-ROW(I$2)+1),ROW(I461))),\"\")","v":""}]
[null,null,null,null,null,null,null,null,null,null,null,null,null,null,null,null,null,null,null,null,null,{"$f":"IFERROR(INDEX(J$3:J$296,SMALL(IF(B$3:B$296=\"In\",ROW(J$2:J$295)-ROW(I$2)+1),ROW(I462))),\"\")","v":""}]
[null,null,null,null,null,null,null,null,null,null,null,null,null,null,null,null,null,null,null,null,null,{"$f":"IFERROR(INDEX(J$3:J$296,SMALL(IF(B$3:B$296=\"In\",ROW(J$2:J$295)-ROW(I$2)+1),ROW(I463))),\"\")","v":""}]
[null,null,null,null,null,null,null,null,null,null,null,null,null,null,null,null,null,null,null,null,null,{"$f":"IFERROR(INDEX(J$3:J$296,SMALL(IF(B$3:B$296=\"In\",ROW(J$2:J$295)-ROW(I$2)+1),ROW(I464))),\"\")","v":""}]
[null,null,null,null,null,null,null,null,null,null,null,null,null,null,null,null,null,null,null,null,null,{"$f":"IFERROR(INDEX(J$3:J$296,SMALL(IF(B$3:B$296=\"In\",ROW(J$2:J$295)-ROW(I$2)+1),ROW(I465))),\"\")","v":""}]
[null,null,null,null,null,null,null,null,null,null,null,null,null,null,null,null,null,null,null,null,null,{"$f":"IFERROR(INDEX(J$3:J$296,SMALL(IF(B$3:B$296=\"In\",ROW(J$2:J$295)-ROW(I$2)+1),ROW(I466))),\"\")","v":""}]
[null,null,null,null,null,null,null,null,null,null,null,null,null,null,null,null,null,null,null,null,null,{"$f":"IFERROR(INDEX(J$3:J$296,SMALL(IF(B$3:B$296=\"In\",ROW(J$2:J$295)-ROW(I$2)+1),ROW(I467))),\"\")","v":""}]
[null,null,null,null,null,null,null,null,null,null,null,null,null,null,null,null,null,null,null,null,null,{"$f":"IFERROR(INDEX(J$3:J$296,SMALL(IF(B$3:B$296=\"In\",ROW(J$2:J$295)-ROW(I$2)+1),ROW(I468))),\"\")","v":""}]
[null,null,null,null,null,null,null,null,null,null,null,null,null,null,null,null,null,null,null,null,null,{"$f":"IFERROR(INDEX(J$3:J$296,SMALL(IF(B$3:B$296=\"In\",ROW(J$2:J$295)-ROW(I$2)+1),ROW(I469))),\"\")","v":""}]
[null,null,null,null,null,null,null,null,null,null,null,null,null,null,null,null,null,null,null,null,null,{"$f":"IFERROR(INDEX(J$3:J$296,SMALL(IF(B$3:B$296=\"In\",ROW(J$2:J$295)-ROW(I$2)+1),ROW(I470))),\"\")","v":""}]
[null,null,null,null,null,null,null,null,null,null,null,null,null,null,null,null,null,null,null,null,null,{"$f":"IFERROR(INDEX(J$3:J$296,SMALL(IF(B$3:B$296=\"In\",ROW(J$2:J$295)-ROW(I$2)+1),ROW(I471))),\"\")","v":""}]
[null,null,null,null,null,null,null,null,null,null,null,null,null,null,null,null,null,null,null,null,null,{"$f":"IFERROR(INDEX(J$3:J$296,SMALL(IF(B$3:B$296=\"In\",ROW(J$2:J$295)-ROW(I$2)+1),ROW(I472))),\"\")","v":""}]
[null,null,null,null,null,null,null,null,null,null,null,null,null,null,null,null,null,null,null,null,null,{"$f":"IFERROR(INDEX(J$3:J$296,SMALL(IF(B$3:B$296=\"In\",ROW(J$2:J$295)-ROW(I$2)+1),ROW(I473))),\"\")","v":""}]
[null,null,null,null,null,null,null,null,null,null,null,null,null,null,null,null,null,null,null,null,null,{"$f":"IFERROR(INDEX(J$3:J$296,SMALL(IF(B$3:B$296=\"In\",ROW(J$2:J$295)-ROW(I$2)+1),ROW(I474))),\"\")","v":""}]
[null,null,null,null,null,null,null,null,null,null,null,null,null,null,null,null,null,null,null,null,null,{"$f":"IFERROR(INDEX(J$3:J$296,SMALL(IF(B$3:B$296=\"In\",ROW(J$2:J$295)-ROW(I$2)+1),ROW(I475))),\"\")","v":""}]
[null,null,null,null,null,null,null,null,null,null,null,null,null,null,null,null,null,null,null,null,null,{"$f":"IFERROR(INDEX(J$3:J$296,SMALL(IF(B$3:B$296=\"In\",ROW(J$2:J$295)-ROW(I$2)+1),ROW(I476))),\"\")","v":""}]
[null,null,null,null,null,null,null,null,null,null,null,null,null,null,null,null,null,null,null,null,null,{"$f":"IFERROR(INDEX(J$3:J$296,SMALL(IF(B$3:B$296=\"In\",ROW(J$2:J$295)-ROW(I$2)+1),ROW(I477))),\"\")","v":""}]
[null,null,null,null,null,null,null,null,null,null,null,null,null,null,null,null,null,null,null,null,null,{"$f":"IFERROR(INDEX(J$3:J$296,SMALL(IF(B$3:B$296=\"In\",ROW(J$2:J$295)-ROW(I$2)+1),ROW(I478))),\"\")","v":""}]
[null,null,null,null,null,null,null,null,null,null,null,null,null,null,null,null,null,null,null,null,null,{"$f":"IFERROR(INDEX(J$3:J$296,SMALL(IF(B$3:B$296=\"In\",ROW(J$2:J$295)-ROW(I$2)+1),ROW(I479))),\"\")","v":""}]
[null,null,null,null,null,null,null,null,null,null,null,null,null,null,null,null,null,null,null,null,null,{"$f":"IFERROR(INDEX(J$3:J$296,SMALL(IF(B$3:B$296=\"In\",ROW(J$2:J$295)-ROW(I$2)+1),ROW(I480))),\"\")","v":""}]
[null,null,null,null,null,null,null,null,null,null,null,null,null,null,null,null,null,null,null,null,null,{"$f":"IFERROR(INDEX(J$3:J$296,SMALL(IF(B$3:B$296=\"In\",ROW(J$2:J$295)-ROW(I$2)+1),ROW(I481))),\"\")","v":""}]
[null,null,null,null,null,null,null,null,null,null,null,null,null,null,null,null,null,null,null,null,null,{"$f":"IFERROR(INDEX(J$3:J$296,SMALL(IF(B$3:B$296=\"In\",ROW(J$2:J$295)-ROW(I$2)+1),ROW(I482))),\"\")","v":""}]
[null,null,null,null,null,null,null,null,null,null,null,null,null,null,null,null,null,null,null,null,null,{"$f":"IFERROR(INDEX(J$3:J$296,SMALL(IF(B$3:B$296=\"In\",ROW(J$2:J$295)-ROW(I$2)+1),ROW(I483))),\"\")","v":""}]
[null,null,null,null,null,null,null,null,null,null,null,null,null,null,null,null,null,null,null,null,null,{"$f":"IFERROR(INDEX(J$3:J$296,SMALL(IF(B$3:B$296=\"In\",ROW(J$2:J$295)-ROW(I$2)+1),ROW(I484))),\"\")","v":""}]
[null,null,null,null,null,null,null,null,null,null,null,null,null,null,null,null,null,null,null,null,null,{"$f":"IFERROR(INDEX(J$3:J$296,SMALL(IF(B$3:B$296=\"In\",ROW(J$2:J$295)-ROW(I$2)+1),ROW(I485))),\"\")","v":""}]
[null,null,null,null,null,null,null,null,null,null,null,null,null,null,null,null,null,null,null,null,null,{"$f":"IFERROR(INDEX(J$3:J$296,SMALL(IF(B$3:B$296=\"In\",ROW(J$2:J$295)-ROW(I$2)+1),ROW(I486))),\"\")","v":""}]
[null,null,null,null,null,null,null,null,null,null,null,null,null,null,null,null,null,null,null,null,null,{"$f":"IFERROR(INDEX(J$3:J$296,SMALL(IF(B$3:B$296=\"In\",ROW(J$2:J$295)-ROW(I$2)+1),ROW(I487))),\"\")","v":""}]
[null,null,null,null,null,null,null,null,null,null,null,null,null,null,null,null,null,null,null,null,null,{"$f":"IFERROR(INDEX(J$3:J$296,SMALL(IF(B$3:B$296=\"In\",ROW(J$2:J$295)-ROW(I$2)+1),ROW(I488))),\"\")","v":""}]
[null,null,null,null,null,null,null,null,null,null,null,null,null,null,null,null,null,null,null,null,null,{"$f":"IFERROR(INDEX(J$3:J$296,SMALL(IF(B$3:B$296=\"In\",ROW(J$2:J$295)-ROW(I$2)+1),ROW(I489))),\"\")","v":""}]
[null,null,null,null,null,null,null,null,null,null,null,null,null,null,null,null,null,null,null,null,null,{"$f":"IFERROR(INDEX(J$3:J$296,SMALL(IF(B$3:B$296=\"In\",ROW(J$2:J$295)-ROW(I$2)+1),ROW(I490))),\"\")","v":""}]
[null,null,null,null,null,null,null,null,null,null,null,null,null,null,null,null,null,null,null,null,null,{"$f":"IFERROR(INDEX(J$3:J$296,SMALL(IF(B$3:B$296=\"In\",ROW(J$2:J$295)-ROW(I$2)+1),ROW(I491))),\"\")","v":""}]
[null,null,null,null,null,null,null,null,null,null,null,null,null,null,null,null,null,null,null,null,null,{"$f":"IFERROR(INDEX(J$3:J$296,SMALL(IF(B$3:B$296=\"In\",ROW(J$2:J$295)-ROW(I$2)+1),ROW(I492))),\"\")","v":""}]
[null,null,null,null,null,null,null,null,null,null,null,null,null,null,null,null,null,null,null,null,null,{"$f":"IFERROR(INDEX(J$3:J$296,SMALL(IF(B$3:B$296=\"In\",ROW(J$2:J$295)-ROW(I$2)+1),ROW(I493))),\"\")","v":""}]
[null,null,null,null,null,null,null,null,null,null,null,null,null,null,null,null,null,null,null,null,null,{"$f":"IFERROR(INDEX(J$3:J$296,SMALL(IF(B$3:B$296=\"In\",ROW(J$2:J$295)-ROW(I$2)+1),ROW(I494))),\"\")","v":""}]
[null,null,null,null,null,null,null,null,null,null,null,null,null,null,null,null,null,null,null,null,null,{"$f":"IFERROR(INDEX(J$3:J$296,SMALL(IF(B$3:B$296=\"In\",ROW(J$2:J$295)-ROW(I$2)+1),ROW(I495))),\"\")","v":""}]
[null,null,null,null,null,null,null,null,null,null,null,null,null,null,null,null,null,null,null,null,null,{"$f":"IFERROR(INDEX(J$3:J$296,SMALL(IF(B$3:B$296=\"In\",ROW(J$2:J$295)-ROW(I$2)+1),ROW(I496))),\"\")","v":""}]
[null,null,null,null,null,null,null,null,null,null,null,null,null,null,null,null,null,null,null,null,null,{"$f":"IFERROR(INDEX(J$3:J$296,SMALL(IF(B$3:B$296=\"In\",ROW(J$2:J$295)-ROW(I$2)+1),ROW(I497))),\"\")","v":""}]
[null,null,null,null,null,null,null,null,null,null,null,null,null,null,null,null,null,null,null,null,null,{"$f":"IFERROR(INDEX(J$3:J$296,SMALL(IF(B$3:B$296=\"In\",ROW(J$2:J$295)-ROW(I$2)+1),ROW(I498))),\"\")","v":""}]
[null,null,null,null,null,null,null,null,null,null,null,null,null,null,null,null,null,null,null,null,null,{"$f":"IFERROR(INDEX(J$3:J$296,SMALL(IF(B$3:B$296=\"In\",ROW(J$2:J$295)-ROW(I$2)+1),ROW(I499))),\"\")","v":""}]
[null,null,null,null,null,null,null,null,null,null,null,null,null,null,null,null,null,null,null,null,null,{"$f":"IFERROR(INDEX(J$3:J$296,SMALL(IF(B$3:B$296=\"In\",ROW(J$2:J$295)-ROW(I$2)+1),ROW(I500))),\"\")","v":""}]
[null,null,null,null,null,null,null,null,null,null,null,null,null,null,null,null,null,null,null,null,null,{"$f":"IFERROR(INDEX(J$3:J$296,SMALL(IF(B$3:B$296=\"In\",ROW(J$2:J$295)-ROW(I$2)+1),ROW(I501))),\"\")","v":""}]
[null,null,null,null,null,null,null,null,null,null,null,null,null,null,null,null,null,null,null,null,null,{"$f":"IFERROR(INDEX(J$3:J$296,SMALL(IF(B$3:B$296=\"In\",ROW(J$2:J$295)-ROW(I$2)+1),ROW(I502))),\"\")","v":""}]
[null,null,null,null,null,null,null,null,null,null,null,null,null,null,null,null,null,null,null,null,null,{"$f":"IFERROR(INDEX(J$3:J$296,SMALL(IF(B$3:B$296=\"In\",ROW(J$2:J$295)-ROW(I$2)+1),ROW(I503))),\"\")","v":""}]
[null,null,null,null,null,null,null,null,null,null,null,null,null,null,null,null,null,null,null,null,null,{"$f":"IFERROR(INDEX(J$3:J$296,SMALL(IF(B$3:B$296=\"In\",ROW(J$2:J$295)-ROW(I$2)+1),ROW(I504))),\"\")","v":""}]
[null,null,null,null,null,null,null,null,null,null,null,null,null,null,null,null,null,null,null,null,null,{"$f":"IFERROR(INDEX(J$3:J$296,SMALL(IF(B$3:B$296=\"In\",ROW(J$2:J$295)-ROW(I$2)+1),ROW(I505))),\"\")","v":""}]
[null,null,null,null,null,null,null,null,null,null,null,null,null,null,null,null,null,null,null,null,null,{"$f":"IFERROR(INDEX(J$3:J$296,SMALL(IF(B$3:B$296=\"In\",ROW(J$2:J$295)-ROW(I$2)+1),ROW(I506))),\"\")","v":""}]
[null,null,null,null,null,null,null,null,null,null,null,null,null,null,null,null,null,null,null,null,null,{"$f":"IFERROR(INDEX(J$3:J$296,SMALL(IF(B$3:B$296=\"In\",ROW(J$2:J$295)-ROW(I$2)+1),ROW(I507))),\"\")","v":""}]
[null,null,null,null,null,null,null,null,null,null,null,null,null,null,null,null,null,null,null,null,null,{"$f":"IFERROR(INDEX(J$3:J$296,SMALL(IF(B$3:B$296=\"In\",ROW(J$2:J$295)-ROW(I$2)+1),ROW(I508))),\"\")","v":""}]
[null,null,null,null,null,null,null,null,null,null,null,null,null,null,null,null,null,null,null,null,null,{"$f":"IFERROR(INDEX(J$3:J$296,SMALL(IF(B$3:B$296=\"In\",ROW(J$2:J$295)-ROW(I$2)+1),ROW(I509))),\"\")","v":""}]
[null,null,null,null,null,null,null,null,null,null,null,null,null,null,null,null,null,null,null,null,null,{"$f":"IFERROR(INDEX(J$3:J$296,SMALL(IF(B$3:B$296=\"In\",ROW(J$2:J$295)-ROW(I$2)+1),ROW(I510))),\"\")","v":""}]
[null,null,null,null,null,null,null,null,null,null,null,null,null,null,null,null,null,null,null,null,null,{"$f":"IFERROR(INDEX(J$3:J$296,SMALL(IF(B$3:B$296=\"In\",ROW(J$2:J$295)-ROW(I$2)+1),ROW(I511))),\"\")","v":""}]
[null,null,null,null,null,null,null,null,null,null,null,null,null,null,null,null,null,null,null,null,null,{"$f":"IFERROR(INDEX(J$3:J$296,SMALL(IF(B$3:B$296=\"In\",ROW(J$2:J$295)-ROW(I$2)+1),ROW(I512))),\"\")","v":""}]
[null,null,null,null,null,null,null,null,null,null,null,null,null,null,null,null,null,null,null,null,null,{"$f":"IFERROR(INDEX(J$3:J$296,SMALL(IF(B$3:B$296=\"In\",ROW(J$2:J$295)-ROW(I$2)+1),ROW(I513))),\"\")","v":""}]
[null,null,null,null,null,null,null,null,null,null,null,null,null,null,null,null,null,null,null,null,null,{"$f":"IFERROR(INDEX(J$3:J$296,SMALL(IF(B$3:B$296=\"In\",ROW(J$2:J$295)-ROW(I$2)+1),ROW(I514))),\"\")","v":""}]
[null,null,null,null,null,null,null,null,null,null,null,null,null,null,null,null,null,null,null,null,null,{"$f":"IFERROR(INDEX(J$3:J$296,SMALL(IF(B$3:B$296=\"In\",ROW(J$2:J$295)-ROW(I$2)+1),ROW(I515))),\"\")","v":""}]

{"sheet":"Output File","index":11,"n_rows":55,"n_cols":16383,"rows_kept":55,"cut":false,"hidden":false,"merged":[]}
[]
[]
[null,"Question No.","Area","Higher level outcome","Lower level outcome","Indicator","Recommended Measurement Approach","Final framework question","Notes for users","Final framework question - Welsh"]
[null,{"$f":"Questions!O3","v":3},{"$f":"Questions!P3","v":"School-wide enablers"},{"$f":"Questions!Q3","v":"2. Give priority to financial education initiatives "},{"$f":"Questions!R3","v":"The centre has a vision and strategic planning including financial education which it will share with all stakeholders"},{"$f":"Questions!S3","v":"The school has a clear strategy embedding financial education "},{"$f":"Questions!T3","v":"Self-report survey question (teacher/school level)"},{"$f":"Questions!U3","v":"Q1. Does your school have an up-to-date strategic plan? A - yes/no Q2. Does you school have a vision embedding financial education? A- Yes and I am clear about our strategy / Yes but I am not clear what is in it / No / I don't know "},{"$f":"Questions!W3","v":"Documentary evidence outlining the school's vision with clear deliverables "},{"$f":"Questions!V3","v":"C1. A oes gan eich ysgol gynllun strategol cyfredol? A - oes/nac oes C2. Oes gan eich ysgol chi weledigaeth sy’n ymgorffori addysg ariannol? A- Oes, ac rydw i’n glir ynghylch ein strategaeth / Oes, ond nid ydw i'n deall yn iawn beth sydd ynddi / Nac oes / Dydw i ddim yn gwybod "}]
[null,{"$f":"Questions!O4","v":4},{"$f":"Questions!P4","v":"School-wide enablers"},{"$f":"Questions!Q4","v":"2. Give priority to financial education initiatives "},{"$f":"Questions!R4","v":"The centre has a vision and strategic planning including financial education which it will share with all stakeholders"},{"$f":"Questions!S4","v":"Record of notes, agendas and meeting minutes with mention of the vision statement and financial education "},{"$f":"Questions!T4","v":"Self-report survey question (teacher/school level)"},{"$f":"Questions!U4","v":"Q - How frequently has financial education been mentioned in internal communications (meeting minutes, agendas or notes  A -  Never / Rarely / Sometimes / Often"},{"$f":"Questions!W4","v":0},{"$f":"Questions!V4","v":"C - Pa mor aml mae addysg ariannol wedi cael ei grybwyll mewn cyfathrebu mewnol (cofnodion cyfarfodydd, agendâu neu nodiadau A - Byth / Yn anaml / Weithiau / Yn aml"},null,{"$f":"Questions!Z4","v":0},{"$f":"Questions!AA4","v":0},{"$f":"Questions!AB4","v":0},{"$f":"Questions!AC4","v":0},{"$f":"Questions!AD4","v":0},{"$f":"Questions!AE4","v":0},{"$f":"Questions!AF4","v":0},{"$f":"Questions!AG4","v":0},{"$f":"Questions!AH4","v":0},{"$f":"Questions!AI4","v":0},{"$f":"Questions!AJ4","v":0},{"$f":"Questions!AK4","v":0},{"$f":"Questions!AL4","v":0},{"$f":"Questions!AM4","v":0},{"$f":"Questions!AN4","v":0},{"$f":"Questions!AO4","v":0},{"$f":"Questions!AP4","v":0},{"$f":"Questions!AQ4","v":0},{"$f":"Questions!AR4","v":0},{"$f":"Questions!AS4","v":0},{"$f":"Questions!AT4","v":0},{"$f":"Questions!AU4","v":0},{"$f":"Questions!AV4","v":0},{"$f":"Questions!AW4","v":0},{"$f":"Questions!AX4","v":0},{"$f":"Questions!AY4","v":0},{"$f":"Questions!AZ4","v":0},{"$f":"Questions!BA4","v":0},{"$f":"Questions!BB4","v":0},{"$f":"Questions!BC4","v":0},{"$f":"Questions!BD4","v":0},{"$f":"Questions!BE4","v":0},{"$f":"Questions!BF4","v":0},{"$f":"Questions!BG4","v":0},{"$f":"Questions!BH4","v":0},{"$f":"Questions!BI4","v":0},{"$f":"Questions!BJ4","v":0},{"$f":"Questions!BK4","v":0},{"$f":"Questions!BL4","v":0},{"$f":"Questions!BM4","v":0},{"$f":"Questions!BN4","v":0},{"$f":"Questions!BO4","v":0},{"$f":"Questions!BP4","v":0},{"$f":"Questions!BQ4","v":0},{"$f":"Questions!BR4","v":0},{"$f":"Questions!BS4","v":0},{"$f":"Questions!BT4","v":0},{"$f":"Questions!BU4","v":0},{"$f":"Questions!BV4","v":0},{"$f":"Questions!BW4","v":0},{"$f":"Questions!BX4","v":0},{"$f":"Questions!BY4","v":0},{"$f":"Questions!BZ4","v":0},{"$f":"Questions!CA4","v":0},{"$f":"Questions!CB4","v":0},{"$f":"Questions!CC4","v":0},{"$f":"Questions!CD4","v":0},{"$f":"Questions!CE4","v":0},{"$f":"Questions!CF4","v":0},{"$f":"Questions!CG4","v":0},{"$f":"Questions!CH4","v":0},{"$f":"Questions!CI4","v":0},{"$f":"Questions!CJ4","v":0},{"$f":"Questions!CK4","v":0},{"$f":"Questions!CL4","v":0},{"$f":"Questions!CM4","v":0},{"$f":"Questions!CN4","v":0},{"$f":"Questions!CO4","v":0},{"$f":"Questions!CP4","v":0},{"$f":"Questions!CQ4","v":0},{"$f":"Questions!CR4","v":0},{"$f":"Questions!CS4","v":0},{"$f":"Questions!CT4","v":0},{"$f":"Questions!CU4","v":0},{"$f":"Questions!CV4","v":0},{"$f":"Questions!CW4","v":0},{"$f":"Questions!CX4","v":0},{"$f":"Questions!CY4","v":0},{"$f":"Questions!CZ4","v":0},{"$f":"Questions!DA4","v":0},{"$f":"Questions!DB4","v":0},{"$f":"Questions!DC4","v":0},{"$f":"Questions!DD4","v":0},{"$f":"Questions!DE4","v":0},{"$f":"Questions!DF4","v":0},{"$f":"Questions!DG4","v":0},{"$f":"Questions!DH4","v":0},{"$f":"Questions!DI4","v":0},{"$f":"Questions!DJ4","v":0},{"$f":"Questions!DK4","v":0},{"$f":"Questions!DL4","v":0},{"$f":"Questions!DM4","v":0},{"$f":"Questions!DN4","v":0},{"$f":"Questions!DO4","v":0},{"$f":"Questions!DP4","v":0},{"$f":"Questions!DQ4","v":0},{"$f":"Questions!DR4","v":0},{"$f":"Questions!DS4","v":0},{"$f":"Questions!DT4","v":0},{"$f":"Questions!DU4","v":0},{"$f":"Questions!DV4","v":0},{"$f":"Questions!DW4","v":0},{"$f":"Questions!DX4","v":0},{"$f":"Questions!DY4","v":0},{"$f":"Questions!DZ4","v":0},{"$f":"Questions!EA4","v":0},{"$f":"Questions!EB4","v":0},{"$f":"Questions!EC4","v":0},{"$f":"Questions!ED4","v":0},{"$f":"Questions!EE4","v":0},{"$f":"Questions!EF4","v":0},{"$f":"Questions!EG4","v":0},{"$f":"Questions!EH4","v":0},{"$f":"Questions!EI4","v":0},{"$f":"Questions!EJ4","v":0},{"$f":"Questions!EK4","v":0},{"$f":"Questions!EL4","v":0},{"$f":"Questions!EM4","v":0},{"$f":"Questions!EN4","v":0},{"$f":"Questions!EO4","v":0},{"$f":"Questions!EP4","v":0},{"$f":"Questions!EQ4","v":0},{"$f":"Questions!ER4","v":0},{"$f":"Questions!ES4","v":0},{"$f":"Questions!ET4","v":0},{"$f":"Questions!EU4","v":0},{"$f":"Questions!EV4","v":0},{"$f":"Questions!EW4","v":0},{"$f":"Questions!EX4","v":0},{"$f":"Questions!EY4","v":0},{"$f":"Questions!EZ4","v":0},{"$f":"Questions!FA4","v":0},{"$f":"Questions!FB4","v":0},{"$f":"Questions!FC4","v":0},{"$f":"Questions!FD4","v":0},{"$f":"Questions!FE4","v":0},{"$f":"Questions!FF4","v":0},{"$f":"Questions!FG4","v":0},{"$f":"Questions!FH4","v":0},{"$f":"Questions!FI4","v":0},{"$f":"Questions!FJ4","v":0},{"$f":"Questions!FK4","v":0},{"$f":"Questions!FL4","v":0},{"$f":"Questions!FM4","v":0},{"$f":"Questions!FN4","v":0},{"$f":"Questions!FO4","v":0},{"$f":"Questions!FP4","v":0},{"$f":"Questions!FQ4","v":0},{"$f":"Questions!FR4","v":0},{"$f":"Questions!FS4","v":0},{"$f":"Questions!FT4","v":0},{"$f":"Questions!FU4","v":0},{"$f":"Questions!FV4","v":0},{"$f":"Questions!FW4","v":0},{"$f":"Questions!FX4","v":0},{"$f":"Questions!FY4","v":0},{"$f":"Questions!FZ4","v":0},{"$f":"Questions!GA4","v":0},{"$f":"Questions!GB4","v":0},{"$f":"Questions!GC4","v":0},{"$f":"Questions!GD4","v":0},{"$f":"Questions!GE4","v":0},{"$f":"Questions!GF4","v":0},{"$f":"Questions!GG4","v":0},{"$f":"Questions!GH4","v":0},{"$f":"Questions!GI4","v":0},{"$f":"Questions!GJ4","v":0},{"$f":"Questions!GK4","v":0},{"$f":"Questions!GL4","v":0},{"$f":"Questions!GM4","v":0},{"$f":"Questions!GN4","v":0},{"$f":"Questions!GO4","v":0},{"$f":"Questions!GP4","v":0},{"$f":"Questions!GQ4","v":0},{"$f":"Questions!GR4","v":0},{"$f":"Questions!GS4","v":0},{"$f":"Questions!GT4","v":0},{"$f":"Questions!GU4","v":0},{"$f":"Questions!GV4","v":0},{"$f":"Questions!GW4","v":0},{"$f":"Questions!GX4","v":0},{"$f":"Questions!GY4","v":0},{"$f":"Questions!GZ4","v":0},{"$f":"Questions!HA4","v":0},{"$f":"Questions!HB4","v":0},{"$f":"Questions!HC4","v":0},{"$f":"Questions!HD4","v":0},{"$f":"Questions!HE4","v":0},{"$f":"Questions!HF4","v":0},{"$f":"Questions!HG4","v":0},{"$f":"Questions!HH4","v":0},{"$f":"Questions!HI4","v":0},{"$f":"Questions!HJ4","v":0},{"$f":"Questions!HK4","v":0},{"$f":"Questions!HL4","v":0},{"$f":"Questions!HM4","v":0},{"$f":"Questions!HN4","v":0},{"$f":"Questions!HO4","v":0},{"$f":"Questions!HP4","v":0},{"$f":"Questions!HQ4","v":0},{"$f":"Questions!HR4","v":0},{"$f":"Questions!HS4","v":0},{"$f":"Questions!HT4","v":0},{"$f":"Questions!HU4","v":0},{"$f":"Questions!HV4","v":0},{"$f":"Questions!HW4","v":0},{"$f":"Questions!HX4","v":0},{"$f":"Questions!HY4","v":0},{"$f":"Questions!HZ4","v":0},{"$f":"Questions!IA4","v":0},{"$f":"Questions!IB4","v":0},{"$f":"Questions!IC4","v":0},{"$f":"Questions!ID4","v":0},{"$f":"Questions!IE4","v":0},{"$f":"Questions!IF4","v":0},{"$f":"Questions!IG4","v":0},{"$f":"Questions!IH4","v":0},{"$f":"Questions!II4","v":0},{"$f":"Questions!IJ4","v":0},{"$f":"Questions!IK4","v":0},{"$f":"Questions!IL4","v":0},{"$f":"Questions!IM4","v":0},{"$f":"Questions!IN4","v":0},{"$f":"Questions!IO4","v":0},{"$f":"Questions!IP4","v":0},{"$f":"Questions!IQ4","v":0},{"$f":"Questions!IR4","v":0},{"$f":"Questions!IS4","v":0},{"$f":"Questions!IT4","v":0},{"$f":"Questions!IU4","v":0},{"$f":"Questions!IV4","v":0},{"$f":"Questions!IW4","v":0},{"$f":"Questions!IX4","v":0},{"$f":"Questions!IY4","v":0},{"$f":"Questions!IZ4","v":0},{"$f":"Questions!JA4","v":0},{"$f":"Questions!JB4","v":0},{"$f":"Questions!JC4","v":0},{"$f":"Questions!JD4","v":0},{"$f":"Questions!JE4","v":0},{"$f":"Questions!JF4","v":0},{"$f":"Questions!JG4","v":0},{"$f":"Questions!JH4","v":0},{"$f":"Questions!JI4","v":0},{"$f":"Questions!JJ4","v":0},{"$f":"Questions!JK4","v":0},{"$f":"Questions!JL4","v":0},{"$f":"Questions!JM4","v":0},{"$f":"Questions!JN4","v":0},{"$f":"Questions!JO4","v":0},{"$f":"Questions!JP4","v":0},{"$f":"Questions!JQ4","v":0},{"$f":"Questions!JR4","v":0},{"$f":"Questions!JS4","v":0},{"$f":"Questions!JT4","v":0},{"$f":"Questions!JU4","v":0},{"$f":"Questions!JV4","v":0},{"$f":"Questions!JW4","v":0},{"$f":"Questions!JX4","v":0},{"$f":"Questions!JY4","v":0},{"$f":"Questions!JZ4","v":0},{"$f":"Questions!KA4","v":0},{"$f":"Questions!KB4","v":0},{"$f":"Questions!KC4","v":0},{"$f":"Questions!KD4","v":0},{"$f":"Questions!KE4","v":0},{"$f":"Questions!KF4","v":0},{"$f":"Questions!KG4","v":0},{"$f":"Questions!KH4","v":0},{"$f":"Questions!KI4","v":0},{"$f":"Questions!KJ4","v":0},{"$f":"Questions!KK4","v":0},{"$f":"Questions!KL4","v":0},{"$f":"Questions!KM4","v":0},{"$f":"Questions!KN4","v":0},{"$f":"Questions!KO4","v":0},{"$f":"Questions!KP4","v":0},{"$f":"Questions!KQ4","v":0},{"$f":"Questions!KR4","v":0},{"$f":"Questions!KS4","v":0},{"$f":"Questions!KT4","v":0},{"$f":"Questions!KU4","v":0},{"$f":"Questions!KV4","v":0},{"$f":"Questions!KW4","v":0},{"$f":"Questions!KX4","v":0},{"$f":"Questions!KY4","v":0},{"$f":"Questions!KZ4","v":0},{"$f":"Questions!LA4","v":0},{"$f":"Questions!LB4","v":0},{"$f":"Questions!LC4","v":0},{"$f":"Questions!LD4","v":0},{"$f":"Questions!LE4","v":0},{"$f":"Questions!LF4","v":0},{"$f":"Questions!LG4","v":0},{"$f":"Questions!LH4","v":0},{"$f":"Questions!LI4","v":0},{"$f":"Questions!LJ4","v":0},{"$f":"Questions!LK4","v":0},{"$f":"Questions!LL4","v":0},{"$f":"Questions!LM4","v":0},{"$f":"Questions!LN4","v":0},{"$f":"Questions!LO4","v":0},{"$f":"Questions!LP4","v":0},{"$f":"Questions!LQ4","v":0},{"$f":"Questions!LR4","v":0},{"$f":"Questions!LS4","v":0},{"$f":"Questions!LT4","v":0},{"$f":"Questions!LU4","v":0},{"$f":"Questions!LV4","v":0},{"$f":"Questions!LW4","v":0},{"$f":"Questions!LX4","v":0},{"$f":"Questions!LY4","v":0},{"$f":"Questions!LZ4","v":0},{"$f":"Questions!MA4","v":0},{"$f":"Questions!MB4","v":0},{"$f":"Questions!MC4","v":0},{"$f":"Questions!MD4","v":0},{"$f":"Questions!ME4","v":0},{"$f":"Questions!MF4","v":0},{"$f":"Questions!MG4","v":0},{"$f":"Questions!MH4","v":0},{"$f":"Questions!MI4","v":0},{"$f":"Questions!MJ4","v":0},{"$f":"Questions!MK4","v":0},{"$f":"Questions!ML4","v":0},{"$f":"Questions!MM4","v":0},{"$f":"Questions!MN4","v":0},{"$f":"Questions!MO4","v":0},{"$f":"Questions!MP4","v":0},{"$f":"Questions!MQ4","v":0},{"$f":"Questions!MR4","v":0},{"$f":"Questions!MS4","v":0},{"$f":"Questions!MT4","v":0},{"$f":"Questions!MU4","v":0},{"$f":"Questions!MV4","v":0},{"$f":"Questions!MW4","v":0},{"$f":"Questions!MX4","v":0},{"$f":"Questions!MY4","v":0},{"$f":"Questions!MZ4","v":0},{"$f":"Questions!NA4","v":0},{"$f":"Questions!NB4","v":0},{"$f":"Questions!NC4","v":0},{"$f":"Questions!ND4","v":0},{"$f":"Questions!NE4","v":0},{"$f":"Questions!NF4","v":0},{"$f":"Questions!NG4","v":0},{"$f":"Questions!NH4","v":0},{"$f":"Questions!NI4","v":0},{"$f":"Questions!NJ4","v":0},{"$f":"Questions!NK4","v":0},{"$f":"Questions!NL4","v":0},{"$f":"Questions!NM4","v":0},{"$f":"Questions!NN4","v":0},{"$f":"Questions!NO4","v":0},{"$f":"Questions!NP4","v":0},{"$f":"Questions!NQ4","v":0},{"$f":"Questions!NR4","v":0},{"$f":"Questions!NS4","v":0},{"$f":"Questions!NT4","v":0},{"$f":"Questions!NU4","v":0},{"$f":"Questions!NV4","v":0},{"$f":"Questions!NW4","v":0},{"$f":"Questions!NX4","v":0},{"$f":"Questions!NY4","v":0},{"$f":"Questions!NZ4","v":0},{"$f":"Questions!OA4","v":0},{"$f":"Questions!OB4","v":0},{"$f":"Questions!OC4","v":0},{"$f":"Questions!OD4","v":0},{"$f":"Questions!OE4","v":0},{"$f":"Questions!OF4","v":0},{"$f":"Questions!OG4","v":0},{"$f":"Questions!OH4","v":0},{"$f":"Questions!OI4","v":0},{"$f":"Questions!OJ4","v":0},{"$f":"Questions!OK4","v":0},{"$f":"Questions!OL4","v":0},{"$f":"Questions!OM4","v":0},{"$f":"Questions!ON4","v":0},{"$f":"Questions!OO4","v":0},{"$f":"Questions!OP4","v":0},{"$f":"Questions!OQ4","v":0},{"$f":"Questions!OR4","v":0},{"$f":"Questions!OS4","v":0},{"$f":"Questions!OT4","v":0},{"$f":"Questions!OU4","v":0},{"$f":"Questions!OV4","v":0},{"$f":"Questions!OW4","v":0},{"$f":"Questions!OX4","v":0},{"$f":"Questions!OY4","v":0},{"$f":"Questions!OZ4","v":0},{"$f":"Questions!PA4","v":0},{"$f":"Questions!PB4","v":0},{"$f":"Questions!PC4","v":0},{"$f":"Questions!PD4","v":0},{"$f":"Questions!PE4","v":0},{"$f":"Questions!PF4","v":0},{"$f":"Questions!PG4","v":0},{"$f":"Questions!PH4","v":0},{"$f":"Questions!PI4","v":0},{"$f":"Questions!PJ4","v":0},{"$f":"Questions!PK4","v":0},{"$f":"Questions!PL4","v":0},{"$f":"Questions!PM4","v":0},{"$f":"Questions!PN4","v":0},{"$f":"Questions!PO4","v":0},{"$f":"Questions!PP4","v":0},{"$f":"Questions!PQ4","v":0},{"$f":"Questions!PR4","v":0},{"$f":"Questions!PS4","v":0},{"$f":"Questions!PT4","v":0},{"$f":"Questions!PU4","v":0},{"$f":"Questions!PV4","v":0},{"$f":"Questions!PW4","v":0},{"$f":"Questions!PX4","v":0},{"$f":"Questions!PY4","v":0},{"$f":"Questions!PZ4","v":0},{"$f":"Questions!QA4","v":0},{"$f":"Questions!QB4","v":0},{"$f":"Questions!QC4","v":0},{"$f":"Questions!QD4","v":0},{"$f":"Questions!QE4","v":0},{"$f":"Questions!QF4","v":0},{"$f":"Questions!QG4","v":0},{"$f":"Questions!QH4","v":0},{"$f":"Questions!QI4","v":0},{"$f":"Questions!QJ4","v":0},{"$f":"Questions!QK4","v":0},{"$f":"Questions!QL4","v":0},{"$f":"Questions!QM4","v":0},{"$f":"Questions!QN4","v":0},{"$f":"Questions!QO4","v":0},{"$f":"Questions!QP4","v":0},{"$f":"Questions!QQ4","v":0},{"$f":"Questions!QR4","v":0},{"$f":"Questions!QS4","v":0},{"$f":"Questions!QT4","v":0},{"$f":"Questions!QU4","v":0},{"$f":"Questions!QV4","v":0},{"$f":"Questions!QW4","v":0},{"$f":"Questions!QX4","v":0},{"$f":"Questions!QY4","v":0},{"$f":"Questions!QZ4","v":0},{"$f":"Questions!RA4","v":0},{"$f":"Questions!RB4","v":0},{"$f":"Questions!RC4","v":0},{"$f":"Questions!RD4","v":0},{"$f":"Questions!RE4","v":0},{"$f":"Questions!RF4","v":0},{"$f":"Questions!RG4","v":0},{"$f":"Questions!RH4","v":0},{"$f":"Questions!RI4","v":0},{"$f":"Questions!RJ4","v":0},{"$f":"Questions!RK4","v":0},{"$f":"Questions!RL4","v":0},{"$f":"Questions!RM4","v":0},{"$f":"Questions!RN4","v":0},{"$f":"Questions!RO4","v":0},{"$f":"Questions!RP4","v":0},{"$f":"Questions!RQ4","v":0},{"$f":"Questions!RR4","v":0},{"$f":"Questions!RS4","v":0},{"$f":"Questions!RT4","v":0},{"$f":"Questions!RU4","v":0},{"$f":"Questions!RV4","v":0},{"$f":"Questions!RW4","v":0},{"$f":"Questions!RX4","v":0},{"$f":"Questions!RY4","v":0},{"$f":"Questions!RZ4","v":0},{"$f":"Questions!SA4","v":0},{"$f":"Questions!SB4","v":0},{"$f":"Questions!SC4","v":0},{"$f":"Questions!SD4","v":0},{"$f":"Questions!SE4","v":0},{"$f":"Questions!SF4","v":0},{"$f":"Questions!SG4","v":0},{"$f":"Questions!SH4","v":0},{"$f":"Questions!SI4","v":0},{"$f":"Questions!SJ4","v":0},{"$f":"Questions!SK4","v":0},{"$f":"Questions!SL4","v":0},{"$f":"Questions!SM4","v":0},{"$f":"Questions!SN4","v":0},{"$f":"Questions!SO4","v":0},{"$f":"Questions!SP4","v":0},{"$f":"Questions!SQ4","v":0},{"$f":"Questions!SR4","v":0},{"$f":"Questions!SS4","v":0},{"$f":"Questions!ST4","v":0},{"$f":"Questions!SU4","v":0},{"$f":"Questions!SV4","v":0},{"$f":"Questions!SW4","v":0},{"$f":"Questions!SX4","v":0},{"$f":"Questions!SY4","v":0},{"$f":"Questions!SZ4","v":0},{"$f":"Questions!TA4","v":0},{"$f":"Questions!TB4","v":0},{"$f":"Questions!TC4","v":0},{"$f":"Questions!TD4","v":0},{"$f":"Questions!TE4","v":0},{"$f":"Questions!TF4","v":0},{"$f":"Questions!TG4","v":0},{"$f":"Questions!TH4","v":0},{"$f":"Questions!TI4","v":0},{"$f":"Questions!TJ4","v":0},{"$f":"Questions!TK4","v":0},{"$f":"Questions!TL4","v":0},{"$f":"Questions!TM4","v":0},{"$f":"Questions!TN4","v":0},{"$f":"Questions!TO4","v":0},{"$f":"Questions!TP4","v":0},{"$f":"Questions!TQ4","v":0},{"$f":"Questions!TR4","v":0},{"$f":"Questions!TS4","v":0},{"$f":"Questions!TT4","v":0},{"$f":"Questions!TU4","v":0},{"$f":"Questions!TV4","v":0},{"$f":"Questions!TW4","v":0},{"$f":"Questions!TX4","v":0},{"$f":"Questions!TY4","v":0},{"$f":"Questions!TZ4","v":0},{"$f":"Questions!UA4","v":0},{"$f":"Questions!UB4","v":0},{"$f":"Questions!UC4","v":0},{"$f":"Questions!UD4","v":0},{"$f":"Questions!UE4","v":0},{"$f":"Questions!UF4","v":0},{"$f":"Questions!UG4","v":0},{"$f":"Questions!UH4","v":0},{"$f":"Questions!UI4","v":0},{"$f":"Questions!UJ4","v":0},{"$f":"Questions!UK4","v":0},{"$f":"Questions!UL4","v":0},{"$f":"Questions!UM4","v":0},{"$f":"Questions!UN4","v":0},{"$f":"Questions!UO4","v":0},{"$f":"Questions!UP4","v":0},{"$f":"Questions!UQ4","v":0},{"$f":"Questions!UR4","v":0},{"$f":"Questions!US4","v":0},{"$f":"Questions!UT4","v":0},{"$f":"Questions!UU4","v":0},{"$f":"Questions!UV4","v":0},{"$f":"Questions!UW4","v":0},{"$f":"Questions!UX4","v":0},{"$f":"Questions!UY4","v":0},{"$f":"Questions!UZ4","v":0},{"$f":"Questions!VA4","v":0},{"$f":"Questions!VB4","v":0},{"$f":"Questions!VC4","v":0},{"$f":"Questions!VD4","v":0},{"$f":"Questions!VE4","v":0},{"$f":"Questions!VF4","v":0},{"$f":"Questions!VG4","v":0},{"$f":"Questions!VH4","v":0},{"$f":"Questions!VI4","v":0},{"$f":"Questions!VJ4","v":0},{"$f":"Questions!VK4","v":0},{"$f":"Questions!VL4","v":0},{"$f":"Questions!VM4","v":0},{"$f":"Questions!VN4","v":0},{"$f":"Questions!VO4","v":0},{"$f":"Questions!VP4","v":0},{"$f":"Questions!VQ4","v":0},{"$f":"Questions!VR4","v":0},{"$f":"Questions!VS4","v":0},{"$f":"Questions!VT4","v":0},{"$f":"Questions!VU4","v":0},{"$f":"Questions!VV4","v":0},{"$f":"Questions!VW4","v":0},{"$f":"Questions!VX4","v":0},{"$f":"Questions!VY4","v":0},{"$f":"Questions!VZ4","v":0},{"$f":"Questions!WA4","v":0},{"$f":"Questions!WB4","v":0},{"$f":"Questions!WC4","v":0},{"$f":"Questions!WD4","v":0},{"$f":"Questions!WE4","v":0},{"$f":"Questions!WF4","v":0},{"$f":"Questions!WG4","v":0},{"$f":"Questions!WH4","v":0},{"$f":"Questions!WI4","v":0},{"$f":"Questions!WJ4","v":0},{"$f":"Questions!WK4","v":0},{"$f":"Questions!WL4","v":0},{"$f":"Questions!WM4","v":0},{"$f":"Questions!WN4","v":0},{"$f":"Questions!WO4","v":0},{"$f":"Questions!WP4","v":0},{"$f":"Questions!WQ4","v":0},{"$f":"Questions!WR4","v":0},{"$f":"Questions!WS4","v":0},{"$f":"Questions!WT4","v":0},{"$f":"Questions!WU4","v":0},{"$f":"Questions!WV4","v":0},{"$f":"Questions!WW4","v":0},{"$f":"Questions!WX4","v":0},{"$f":"Questions!WY4","v":0},{"$f":"Questions!WZ4","v":0},{"$f":"Questions!XA4","v":0},{"$f":"Questions!XB4","v":0},{"$f":"Questions!XC4","v":0},{"$f":"Questions!XD4","v":0},{"$f":"Questions!XE4","v":0},{"$f":"Questions!XF4","v":0},{"$f":"Questions!XG4","v":0},{"$f":"Questions!XH4","v":0},{"$f":"Questions!XI4","v":0},{"$f":"Questions!XJ4","v":0},{"$f":"Questions!XK4","v":0},{"$f":"Questions!XL4","v":0},{"$f":"Questions!XM4","v":0},{"$f":"Questions!XN4","v":0},{"$f":"Questions!XO4","v":0},{"$f":"Questions!XP4","v":0},{"$f":"Questions!XQ4","v":0},{"$f":"Questions!XR4","v":0},{"$f":"Questions!XS4","v":0},{"$f":"Questions!XT4","v":0},{"$f":"Questions!XU4","v":0},{"$f":"Questions!XV4","v":0},{"$f":"Questions!XW4","v":0},{"$f":"Questions!XX4","v":0},{"$f":"Questions!XY4","v":0},{"$f":"Questions!XZ4","v":0},{"$f":"Questions!YA4","v":0},{"$f":"Questions!YB4","v":0},{"$f":"Questions!YC4","v":0},{"$f":"Questions!YD4","v":0},{"$f":"Questions!YE4","v":0},{"$f":"Questions!YF4","v":0},{"$f":"Questions!YG4","v":0},{"$f":"Questions!YH4","v":0},{"$f":"Questions!YI4","v":0},{"$f":"Questions!YJ4","v":0},{"$f":"Questions!YK4","v":0},{"$f":"Questions!YL4","v":0},{"$f":"Questions!YM4","v":0},{"$f":"Questions!YN4","v":0},{"$f":"Questions!YO4","v":0},{"$f":"Questions!YP4","v":0},{"$f":"Questions!YQ4","v":0},{"$f":"Questions!YR4","v":0},{"$f":"Questions!YS4","v":0},{"$f":"Questions!YT4","v":0},{"$f":"Questions!YU4","v":0},{"$f":"Questions!YV4","v":0},{"$f":"Questions!YW4","v":0},{"$f":"Questions!YX4","v":0},{"$f":"Questions!YY4","v":0},{"$f":"Questions!YZ4","v":0},{"$f":"Questions!ZA4","v":0},{"$f":"Questions!ZB4","v":0},{"$f":"Questions!ZC4","v":0},{"$f":"Questions!ZD4","v":0},{"$f":"Questions!ZE4","v":0},{"$f":"Questions!ZF4","v":0},{"$f":"Questions!ZG4","v":0},{"$f":"Questions!ZH4","v":0},{"$f":"Questions!ZI4","v":0},{"$f":"Questions!ZJ4","v":0},{"$f":"Questions!ZK4","v":0},{"$f":"Questions!ZL4","v":0},{"$f":"Questions!ZM4","v":0},{"$f":"Questions!ZN4","v":0},{"$f":"Questions!ZO4","v":0},{"$f":"Questions!ZP4","v":0},{"$f":"Questions!ZQ4","v":0},{"$f":"Questions!ZR4","v":0},{"$f":"Questions!ZS4","v":0},{"$f":"Questions!ZT4","v":0},{"$f":"Questions!ZU4","v":0},{"$f":"Questions!ZV4","v":0},{"$f":"Questions!ZW4","v":0},{"$f":"Questions!ZX4","v":0},{"$f":"Questions!ZY4","v":0},{"$f":"Questions!ZZ4","v":0},{"$f":"Questions!AAA4","v":0},{"$f":"Questions!AAB4","v":0},{"$f":"Questions!AAC4","v":0},{"$f":"Questions!AAD4","v":0},{"$f":"Questions!AAE4","v":0},{"$f":"Questions!AAF4","v":0},{"$f":"Questions!AAG4","v":0},{"$f":"Questions!AAH4","v":0},{"$f":"Questions!AAI4","v":0},{"$f":"Questions!AAJ4","v":0},{"$f":"Questions!AAK4","v":0},{"$f":"Questions!AAL4","v":0},{"$f":"Questions!AAM4","v":0},{"$f":"Questions!AAN4","v":0},{"$f":"Questions!AAO4","v":0},{"$f":"Questions!AAP4","v":0},{"$f":"Questions!AAQ4","v":0},{"$f":"Questions!AAR4","v":0},{"$f":"Questions!AAS4","v":0},{"$f":"Questions!AAT4","v":0},{"$f":"Questions!AAU4","v":0},{"$f":"Questions!AAV4","v":0},{"$f":"Questions!AAW4","v":0},{"$f":"Questions!AAX4","v":0},{"$f":"Questions!AAY4","v":0},{"$f":"Questions!AAZ4","v":0},{"$f":"Questions!ABA4","v":0},{"$f":"Questions!ABB4","v":0},{"$f":"Questions!ABC4","v":0},{"$f":"Questions!ABD4","v":0},{"$f":"Questions!ABE4","v":0},{"$f":"Questions!ABF4","v":0},{"$f":"Questions!ABG4","v":0},{"$f":"Questions!ABH4","v":0},{"$f":"Questions!ABI4","v":0},{"$f":"Questions!ABJ4","v":0},{"$f":"Questions!ABK4","v":0},{"$f":"Questions!ABL4","v":0},{"$f":"Questions!ABM4","v":0},{"$f":"Questions!ABN4","v":0},{"$f":"Questions!ABO4","v":0},{"$f":"Questions!ABP4","v":0},{"$f":"Questions!ABQ4","v":0},{"$f":"Questions!ABR4","v":0},{"$f":"Questions!ABS4","v":0},{"$f":"Questions!ABT4","v":0},{"$f":"Questions!ABU4","v":0},{"$f":"Questions!ABV4","v":0},{"$f":"Questions!ABW4","v":0},{"$f":"Questions!ABX4","v":0},{"$f":"Questions!ABY4","v":0},{"$f":"Questions!ABZ4","v":0},{"$f":"Questions!ACA4","v":0},{"$f":"Questions!ACB4","v":0},{"$f":"Questions!ACC4","v":0},{"$f":"Questions!ACD4","v":0},{"$f":"Questions!ACE4","v":0},{"$f":"Questions!ACF4","v":0},{"$f":"Questions!ACG4","v":0},{"$f":"Questions!ACH4","v":0},{"$f":"Questions!ACI4","v":0},{"$f":"Questions!ACJ4","v":0},{"$f":"Questions!ACK4","v":0},{"$f":"Questions!ACL4","v":0},{"$f":"Questions!ACM4","v":0},{"$f":"Questions!ACN4","v":0},{"$f":"Questions!ACO4","v":0},{"$f":"Questions!ACP4","v":0},{"$f":"Questions!ACQ4","v":0},{"$f":"Questions!ACR4","v":0},{"$f":"Questions!ACS4","v":0},{"$f":"Questions!ACT4","v":0},{"$f":"Questions!ACU4","v":0},{"$f":"Questions!ACV4","v":0},{"$f":"Questions!ACW4","v":0},{"$f":"Questions!ACX4","v":0},{"$f":"Questions!ACY4","v":0},{"$f":"Questions!ACZ4","v":0},{"$f":"Questions!ADA4","v":0},{"$f":"Questions!ADB4","v":0},{"$f":"Questions!ADC4","v":0},{"$f":"Questions!ADD4","v":0},{"$f":"Questions!ADE4","v":0},{"$f":"Questions!ADF4","v":0},{"$f":"Questions!ADG4","v":0},{"$f":"Questions!ADH4","v":0},{"$f":"Questions!ADI4","v":0},{"$f":"Questions!ADJ4","v":0},{"$f":"Questions!ADK4","v":0},{"$f":"Questions!ADL4","v":0},{"$f":"Questions!ADM4","v":0},{"$f":"Questions!ADN4","v":0},{"$f":"Questions!ADO4","v":0},{"$f":"Questions!ADP4","v":0},{"$f":"Questions!ADQ4","v":0},{"$f":"Questions!ADR4","v":0},{"$f":"Questions!ADS4","v":0},{"$f":"Questions!ADT4","v":0},{"$f":"Questions!ADU4","v":0},{"$f":"Questions!ADV4","v":0},{"$f":"Questions!ADW4","v":0},{"$f":"Questions!ADX4","v":0},{"$f":"Questions!ADY4","v":0},{"$f":"Questions!ADZ4","v":0},{"$f":"Questions!AEA4","v":0},{"$f":"Questions!AEB4","v":0},{"$f":"Questions!AEC4","v":0},{"$f":"Questions!AED4","v":0},{"$f":"Questions!AEE4","v":0},{"$f":"Questions!AEF4","v":0},{"$f":"Questions!AEG4","v":0},{"$f":"Questions!AEH4","v":0},{"$f":"Questions!AEI4","v":0},{"$f":"Questions!AEJ4","v":0},{"$f":"Questions!AEK4","v":0},{"$f":"Questions!AEL4","v":0},{"$f":"Questions!AEM4","v":0},{"$f":"Questions!AEN4","v":0},{"$f":"Questions!AEO4","v":0},{"$f":"Questions!AEP4","v":0},{"$f":"Questions!AEQ4","v":0},{"$f":"Questions!AER4","v":0},{"$f":"Questions!AES4","v":0},{"$f":"Questions!AET4","v":0},{"$f":"Questions!AEU4","v":0},{"$f":"Questions!AEV4","v":0},{"$f":"Questions!AEW4","v":0},{"$f":"Questions!AEX4","v":0},{"$f":"Questions!AEY4","v":0},{"$f":"Questions!AEZ4","v":0},{"$f":"Questions!AFA4","v":0},{"$f":"Questions!AFB4","v":0},{"$f":"Questions!AFC4","v":0},{"$f":"Questions!AFD4","v":0},{"$f":"Questions!AFE4","v":0},{"$f":"Questions!AFF4","v":0},{"$f":"Questions!AFG4","v":0},{"$f":"Questions!AFH4","v":0},{"$f":"Questions!AFI4","v":0},{"$f":"Questions!AFJ4","v":0},{"$f":"Questions!AFK4","v":0},{"$f":"Questions!AFL4","v":0},{"$f":"Questions!AFM4","v":0},{"$f":"Questions!AFN4","v":0},{"$f":"Questions!AFO4","v":0},{"$f":"Questions!AFP4","v":0},{"$f":"Questions!AFQ4","v":0},{"$f":"Questions!AFR4","v":0},{"$f":"Questions!AFS4","v":0},{"$f":"Questions!AFT4","v":0},{"$f":"Questions!AFU4","v":0},{"$f":"Questions!AFV4","v":0},{"$f":"Questions!AFW4","v":0},{"$f":"Questions!AFX4","v":0},{"$f":"Questions!AFY4","v":0},{"$f":"Questions!AFZ4","v":0},{"$f":"Questions!AGA4","v":0},{"$f":"Questions!AGB4","v":0},{"$f":"Questions!AGC4","v":0},{"$f":"Questions!AGD4","v":0},{"$f":"Questions!AGE4","v":0},{"$f":"Questions!AGF4","v":0},{"$f":"Questions!AGG4","v":0},{"$f":"Questions!AGH4","v":0},{"$f":"Questions!AGI4","v":0},{"$f":"Questions!AGJ4","v":0},{"$f":"Questions!AGK4","v":0},{"$f":"Questions!AGL4","v":0},{"$f":"Questions!AGM4","v":0},{"$f":"Questions!AGN4","v":0},{"$f":"Questions!AGO4","v":0},{"$f":"Questions!AGP4","v":0},{"$f":"Questions!AGQ4","v":0},{"$f":"Questions!AGR4","v":0},{"$f":"Questions!AGS4","v":0},{"$f":"Questions!AGT4","v":0},{"$f":"Questions!AGU4","v":0},{"$f":"Questions!AGV4","v":0},{"$f":"Questions!AGW4","v":0},{"$f":"Questions!AGX4","v":0},{"$f":"Questions!AGY4","v":0},{"$f":"Questions!AGZ4","v":0},{"$f":"Questions!AHA4","v":0},{"$f":"Questions!AHB4","v":0},{"$f":"Questions!AHC4","v":0},{"$f":"Questions!AHD4","v":0},{"$f":"Questions!AHE4","v":0},{"$f":"Questions!AHF4","v":0},{"$f":"Questions!AHG4","v":0},{"$f":"Questions!AHH4","v":0},{"$f":"Questions!AHI4","v":0},{"$f":"Questions!AHJ4","v":0},{"$f":"Questions!AHK4","v":0},{"$f":"Questions!AHL4","v":0},{"$f":"Questions!AHM4","v":0},{"$f":"Questions!AHN4","v":0},{"$f":"Questions!AHO4","v":0},{"$f":"Questions!AHP4","v":0},{"$f":"Questions!AHQ4","v":0},{"$f":"Questions!AHR4","v":0},{"$f":"Questions!AHS4","v":0},{"$f":"Questions!AHT4","v":0},{"$f":"Questions!AHU4","v":0},{"$f":"Questions!AHV4","v":0},{"$f":"Questions!AHW4","v":0},{"$f":"Questions!AHX4","v":0},{"$f":"Questions!AHY4","v":0},{"$f":"Questions!AHZ4","v":0},{"$f":"Questions!AIA4","v":0},{"$f":"Questions!AIB4","v":0},{"$f":"Questions!AIC4","v":0},{"$f":"Questions!AID4","v":0},{"$f":"Questions!AIE4","v":0},{"$f":"Questions!AIF4","v":0},{"$f":"Questions!AIG4","v":0},{"$f":"Questions!AIH4","v":0},{"$f":"Questions!AII4","v":0},{"$f":"Questions!AIJ4","v":0},{"$f":"Questions!AIK4","v":0},{"$f":"Questions!AIL4","v":0},{"$f":"Questions!AIM4","v":0},{"$f":"Questions!AIN4","v":0},{"$f":"Questions!AIO4","v":0},{"$f":"Questions!AIP4","v":0},{"$f":"Questions!AIQ4","v":0},{"$f":"Questions!AIR4","v":0},{"$f":"Questions!AIS4","v":0},{"$f":"Questions!AIT4","v":0},{"$f":"Questions!AIU4","v":0},{"$f":"Questions!AIV4","v":0},{"$f":"Questions!AIW4","v":0},{"$f":"Questions!AIX4","v":0},{"$f":"Questions!AIY4","v":0},{"$f":"Questions!AIZ4","v":0},{"$f":"Questions!AJA4","v":0},{"$f":"Questions!AJB4","v":0},{"$f":"Questions!AJC4","v":0},{"$f":"Questions!AJD4","v":0},{"$f":"Questions!AJE4","v":0},{"$f":"Questions!AJF4","v":0},{"$f":"Questions!AJG4","v":0},{"$f":"Questions!AJH4","v":0},{"$f":"Questions!AJI4","v":0},{"$f":"Questions!AJJ4","v":0},{"$f":"Questions!AJK4","v":0},{"$f":"Questions!AJL4","v":0},{"$f":"Questions!AJM4","v":0},{"$f":"Questions!AJN4","v":0},{"$f":"Questions!AJO4","v":0},{"$f":"Questions!AJP4","v":0},{"$f":"Questions!AJQ4","v":0},{"$f":"Questions!AJR4","v":0},{"$f":"Questions!AJS4","v":0},{"$f":"Questions!AJT4","v":0},{"$f":"Questions!AJU4","v":0},{"$f":"Questions!AJV4","v":0},{"$f":"Questions!AJW4","v":0},{"$f":"Questions!AJX4","v":0},{"$f":"Questions!AJY4","v":0},{"$f":"Questions!AJZ4","v":0},{"$f":"Questions!AKA4","v":0},{"$f":"Questions!AKB4","v":0},{"$f":"Questions!AKC4","v":0},{"$f":"Questions!AKD4","v":0},{"$f":"Questions!AKE4","v":0},{"$f":"Questions!AKF4","v":0},{"$f":"Questions!AKG4","v":0},{"$f":"Questions!AKH4","v":0},{"$f":"Questions!AKI4","v":0},{"$f":"Questions!AKJ4","v":0},{"$f":"Questions!AKK4","v":0},{"$f":"Questions!AKL4","v":0},{"$f":"Questions!AKM4","v":0},{"$f":"Questions!AKN4","v":0},{"$f":"Questions!AKO4","v":0},{"$f":"Questions!AKP4","v":0},{"$f":"Questions!AKQ4","v":0},{"$f":"Questions!AKR4","v":0},{"$f":"Questions!AKS4","v":0},{"$f":"Questions!AKT4","v":0},{"$f":"Questions!AKU4","v":0},{"$f":"Questions!AKV4","v":0},{"$f":"Questions!AKW4","v":0},{"$f":"Questions!AKX4","v":0},{"$f":"Questions!AKY4","v":0},{"$f":"Questions!AKZ4","v":0},{"$f":"Questions!ALA4","v":0},{"$f":"Questions!ALB4","v":0},{"$f":"Questions!ALC4","v":0},{"$f":"Questions!ALD4","v":0},{"$f":"Questions!ALE4","v":0},{"$f":"Questions!ALF4","v":0},{"$f":"Questions!ALG4","v":0},{"$f":"Questions!ALH4","v":0},{"$f":"Questions!ALI4","v":0},{"$f":"Questions!ALJ4","v":0},{"$f":"Questions!ALK4","v":0},{"$f":"Questions!ALL4","v":0},{"$f":"Questions!ALM4","v":0},{"$f":"Questions!ALN4","v":0},{"$f":"Questions!ALO4","v":0},{"$f":"Questions!ALP4","v":0},{"$f":"Questions!ALQ4","v":0},{"$f":"Questions!ALR4","v":0},{"$f":"Questions!ALS4","v":0},{"$f":"Questions!ALT4","v":0},{"$f":"Questions!ALU4","v":0},{"$f":"Questions!ALV4","v":0},{"$f":"Questions!ALW4","v":0},{"$f":"Questions!ALX4","v":0},{"$f":"Questions!ALY4","v":0},{"$f":"Questions!ALZ4","v":0},{"$f":"Questions!AMA4","v":0},{"$f":"Questions!AMB4","v":0},{"$f":"Questions!AMC4","v":0},{"$f":"Questions!AMD4","v":0},{"$f":"Questions!AME4","v":0},{"$f":"Questions!AMF4","v":0},{"$f":"Questions!AMG4","v":0},{"$f":"Questions!AMH4","v":0},{"$f":"Questions!AMI4","v":0},{"$f":"Questions!AMJ4","v":0},{"$f":"Questions!AMK4","v":0},{"$f":"Questions!AML4","v":0},{"$f":"Questions!AMM4","v":0},{"$f":"Questions!AMN4","v":0},{"$f":"Questions!AMO4","v":0},{"$f":"Questions!AMP4","v":0},{"$f":"Questions!AMQ4","v":0},{"$f":"Questions!AMR4","v":0},{"$f":"Questions!AMS4","v":0},{"$f":"Questions!AMT4","v":0},{"$f":"Questions!AMU4","v":0},{"$f":"Questions!AMV4","v":0},{"$f":"Questions!AMW4","v":0},{"$f":"Questions!AMX4","v":0},{"$f":"Questions!AMY4","v":0},{"$f":"Questions!AMZ4","v":0},{"$f":"Questions!ANA4","v":0},{"$f":"Questions!ANB4","v":0},{"$f":"Questions!ANC4","v":0},{"$f":"Questions!AND4","v":0},{"$f":"Questions!ANE4","v":0},{"$f":"Questions!ANF4","v":0},{"$f":"Questions!ANG4","v":0},{"$f":"Questions!ANH4","v":0},{"$f":"Questions!ANI4","v":0},{"$f":"Questions!ANJ4","v":0},{"$f":"Questions!ANK4","v":0},{"$f":"Questions!ANL4","v":0},{"$f":"Questions!ANM4","v":0},{"$f":"Questions!ANN4","v":0},{"$f":"Questions!ANO4","v":0},{"$f":"Questions!ANP4","v":0},{"$f":"Questions!ANQ4","v":0},{"$f":"Questions!ANR4","v":0},{"$f":"Questions!ANS4","v":0},{"$f":"Questions!ANT4","v":0},{"$f":"Questions!ANU4","v":0},{"$f":"Questions!ANV4","v":0},{"$f":"Questions!ANW4","v":0},{"$f":"Questions!ANX4","v":0},{"$f":"Questions!ANY4","v":0},{"$f":"Questions!ANZ4","v":0},{"$f":"Questions!AOA4","v":0},{"$f":"Questions!AOB4","v":0},{"$f":"Questions!AOC4","v":0},{"$f":"Questions!AOD4","v":0},{"$f":"Questions!AOE4","v":0},{"$f":"Questions!AOF4","v":0},{"$f":"Questions!AOG4","v":0},{"$f":"Questions!AOH4","v":0},{"$f":"Questions!AOI4","v":0},{"$f":"Questions!AOJ4","v":0},{"$f":"Questions!AOK4","v":0},{"$f":"Questions!AOL4","v":0},{"$f":"Questions!AOM4","v":0},{"$f":"Questions!AON4","v":0},{"$f":"Questions!AOO4","v":0},{"$f":"Questions!AOP4","v":0},{"$f":"Questions!AOQ4","v":0},{"$f":"Questions!AOR4","v":0},{"$f":"Questions!AOS4","v":0},{"$f":"Questions!AOT4","v":0},{"$f":"Questions!AOU4","v":0},{"$f":"Questions!AOV4","v":0},{"$f":"Questions!AOW4","v":0},{"$f":"Questions!AOX4","v":0},{"$f":"Questions!AOY4","v":0},{"$f":"Questions!AOZ4","v":0},{"$f":"Questions!APA4","v":0},{"$f":"Questions!APB4","v":0},{"$f":"Questions!APC4","v":0},{"$f":"Questions!APD4","v":0},{"$f":"Questions!APE4","v":0},{"$f":"Questions!APF4","v":0},{"$f":"Questions!APG4","v":0},{"$f":"Questions!APH4","v":0},{"$f":"Questions!API4","v":0},{"$f":"Questions!APJ4","v":0},{"$f":"Questions!APK4","v":0},{"$f":"Questions!APL4","v":0},{"$f":"Questions!APM4","v":0},{"$f":"Questions!APN4","v":0},{"$f":"Questions!APO4","v":0},{"$f":"Questions!APP4","v":0},{"$f":"Questions!APQ4","v":0},{"$f":"Questions!APR4","v":0},{"$f":"Questions!APS4","v":0},{"$f":"Questions!APT4","v":0},{"$f":"Questions!APU4","v":0},{"$f":"Questions!APV4","v":0},{"$f":"Questions!APW4","v":0},{"$f":"Questions!APX4","v":0},{"$f":"Questions!APY4","v":0},{"$f":"Questions!APZ4","v":0},{"$f":"Questions!AQA4","v":0},{"$f":"Questions!AQB4","v":0},{"$f":"Questions!AQC4","v":0},{"$f":"Questions!AQD4","v":0},{"$f":"Questions!AQE4","v":0},{"$f":"Questions!AQF4","v":0},{"$f":"Questions!AQG4","v":0},{"$f":"Questions!AQH4","v":0},{"$f":"Questions!AQI4","v":0},{"$f":"Questions!AQJ4","v":0},{"$f":"Questions!AQK4","v":0},{"$f":"Questions!AQL4","v":0},{"$f":"Questions!AQM4","v":0},{"$f":"Questions!AQN4","v":0},{"$f":"Questions!AQO4","v":0},{"$f":"Questions!AQP4","v":0},{"$f":"Questions!AQQ4","v":0},{"$f":"Questions!AQR4","v":0},{"$f":"Questions!AQS4","v":0},{"$f":"Questions!AQT4","v":0},{"$f":"Questions!AQU4","v":0},{"$f":"Questions!AQV4","v":0},{"$f":"Questions!AQW4","v":0},{"$f":"Questions!AQX4","v":0},{"$f":"Questions!AQY4","v":0},{"$f":"Questions!AQZ4","v":0},{"$f":"Questions!ARA4","v":0},{"$f":"Questions!ARB4","v":0},{"$f":"Questions!ARC4","v":0},{"$f":"Questions!ARD4","v":0},{"$f":"Questions!ARE4","v":0},{"$f":"Questions!ARF4","v":0},{"$f":"Questions!ARG4","v":0},{"$f":"Questions!ARH4","v":0},{"$f":"Questions!ARI4","v":0},{"$f":"Questions!ARJ4","v":0},{"$f":"Questions!ARK4","v":0},{"$f":"Questions!ARL4","v":0},{"$f":"Questions!ARM4","v":0},{"$f":"Questions!ARN4","v":0},{"$f":"Questions!ARO4","v":0},{"$f":"Questions!ARP4","v":0},{"$f":"Questions!ARQ4","v":0},{"$f":"Questions!ARR4","v":0},{"$f":"Questions!ARS4","v":0},{"$f":"Questions!ART4","v":0},{"$f":"Questions!ARU4","v":0},{"$f":"Questions!ARV4","v":0},{"$f":"Questions!ARW4","v":0},{"$f":"Questions!ARX4","v":0},{"$f":"Questions!ARY4","v":0},{"$f":"Questions!ARZ4","v":0},{"$f":"Questions!ASA4","v":0},{"$f":"Questions!ASB4","v":0},{"$f":"Questions!ASC4","v":0},{"$f":"Questions!ASD4","v":0},{"$f":"Questions!ASE4","v":0},{"$f":"Questions!ASF4","v":0},{"$f":"Questions!ASG4","v":0},{"$f":"Questions!ASH4","v":0},{"$f":"Questions!ASI4","v":0},{"$f":"Questions!ASJ4","v":0},{"$f":"Questions!ASK4","v":0},{"$f":"Questions!ASL4","v":0},{"$f":"Questions!ASM4","v":0},{"$f":"Questions!ASN4","v":0},{"$f":"Questions!ASO4","v":0},{"$f":"Questions!ASP4","v":0},{"$f":"Questions!ASQ4","v":0},{"$f":"Questions!ASR4","v":0},{"$f":"Questions!ASS4","v":0},{"$f":"Questions!AST4","v":0},{"$f":"Questions!ASU4","v":0},{"$f":"Questions!ASV4","v":0},{"$f":"Questions!ASW4","v":0},{"$f":"Questions!ASX4","v":0},{"$f":"Questions!ASY4","v":0},{"$f":"Questions!ASZ4","v":0},{"$f":"Questions!ATA4","v":0},{"$f":"Questions!ATB4","v":0},{"$f":"Questions!ATC4","v":0},{"$f":"Questions!ATD4","v":0},{"$f":"Questions!ATE4","v":0},{"$f":"Questions!ATF4","v":0},{"$f":"Questions!ATG4","v":0},{"$f":"Questions!ATH4","v":0},{"$f":"Questions!ATI4","v":0},{"$f":"Questions!ATJ4","v":0},{"$f":"Questions!ATK4","v":0},{"$f":"Questions!ATL4","v":0},{"$f":"Questions!ATM4","v":0},{"$f":"Questions!ATN4","v":0},{"$f":"Questions!ATO4","v":0},{"$f":"Questions!ATP4","v":0},{"$f":"Questions!ATQ4","v":0},{"$f":"Questions!ATR4","v":0},{"$f":"Questions!ATS4","v":0},{"$f":"Questions!ATT4","v":0},{"$f":"Questions!ATU4","v":0},{"$f":"Questions!ATV4","v":0},{"$f":"Questions!ATW4","v":0},{"$f":"Questions!ATX4","v":0},{"$f":"Questions!ATY4","v":0},{"$f":"Questions!ATZ4","v":0},{"$f":"Questions!AUA4","v":0},{"$f":"Questions!AUB4","v":0},{"$f":"Questions!AUC4","v":0},{"$f":"Questions!AUD4","v":0},{"$f":"Questions!AUE4","v":0},{"$f":"Questions!AUF4","v":0},{"$f":"Questions!AUG4","v":0},{"$f":"Questions!AUH4","v":0},{"$f":"Questions!AUI4","v":0},{"$f":"Questions!AUJ4","v":0},{"$f":"Questions!AUK4","v":0},{"$f":"Questions!AUL4","v":0},{"$f":"Questions!AUM4","v":0},{"$f":"Questions!AUN4","v":0},{"$f":"Questions!AUO4","v":0},{"$f":"Questions!AUP4","v":0},{"$f":"Questions!AUQ4","v":0},{"$f":"Questions!AUR4","v":0},{"$f":"Questions!AUS4","v":0},{"$f":"Questions!AUT4","v":0},{"$f":"Questions!AUU4","v":0},{"$f":"Questions!AUV4","v":0},{"$f":"Questions!AUW4","v":0},{"$f":"Questions!AUX4","v":0},{"$f":"Questions!AUY4","v":0},{"$f":"Questions!AUZ4","v":0},{"$f":"Questions!AVA4","v":0},{"$f":"Questions!AVB4","v":0},{"$f":"Questions!AVC4","v":0},{"$f":"Questions!AVD4","v":0},{"$f":"Questions!AVE4","v":0},{"$f":"Questions!AVF4","v":0},{"$f":"Questions!AVG4","v":0},{"$f":"Questions!AVH4","v":0},{"$f":"Questions!AVI4","v":0},{"$f":"Questions!AVJ4","v":0},{"$f":"Questions!AVK4","v":0},{"$f":"Questions!AVL4","v":0},{"$f":"Questions!AVM4","v":0},{"$f":"Questions!AVN4","v":0},{"$f":"Questions!AVO4","v":0},{"$f":"Questions!AVP4","v":0},{"$f":"Questions!AVQ4","v":0},{"$f":"Questions!AVR4","v":0},{"$f":"Questions!AVS4","v":0},{"$f":"Questions!AVT4","v":0},{"$f":"Questions!AVU4","v":0},{"$f":"Questions!AVV4","v":0},{"$f":"Questions!AVW4","v":0},{"$f":"Questions!AVX4","v":0},{"$f":"Questions!AVY4","v":0},{"$f":"Questions!AVZ4","v":0},{"$f":"Questions!AWA4","v":0},{"$f":"Questions!AWB4","v":0},{"$f":"Questions!AWC4","v":0},{"$f":"Questions!AWD4","v":0},{"$f":"Questions!AWE4","v":0},{"$f":"Questions!AWF4","v":0},{"$f":"Questions!AWG4","v":0},{"$f":"Questions!AWH4","v":0},{"$f":"Questions!AWI4","v":0},{"$f":"Questions!AWJ4","v":0},{"$f":"Questions!AWK4","v":0},{"$f":"Questions!AWL4","v":0},{"$f":"Questions!AWM4","v":0},{"$f":"Questions!AWN4","v":0},{"$f":"Questions!AWO4","v":0},{"$f":"Questions!AWP4","v":0},{"$f":"Questions!AWQ4","v":0},{"$f":"Questions!AWR4","v":0},{"$f":"Questions!AWS4","v":0},{"$f":"Questions!AWT4","v":0},{"$f":"Questions!AWU4","v":0},{"$f":"Questions!AWV4","v":0},{"$f":"Questions!AWW4","v":0},{"$f":"Questions!AWX4","v":0},{"$f":"Questions!AWY4","v":0},{"$f":"Questions!AWZ4","v":0},{"$f":"Questions!AXA4","v":0},{"$f":"Questions!AXB4","v":0},{"$f":"Questions!AXC4","v":0},{"$f":"Questions!AXD4","v":0},{"$f":"Questions!AXE4","v":0},{"$f":"Questions!AXF4","v":0},{"$f":"Questions!AXG4","v":0},{"$f":"Questions!AXH4","v":0},{"$f":"Questions!AXI4","v":0},{"$f":"Questions!AXJ4","v":0},{"$f":"Questions!AXK4","v":0},{"$f":"Questions!AXL4","v":0},{"$f":"Questions!AXM4","v":0},{"$f":"Questions!AXN4","v":0},{"$f":"Questions!AXO4","v":0},{"$f":"Questions!AXP4","v":0},{"$f":"Questions!AXQ4","v":0},{"$f":"Questions!AXR4","v":0},{"$f":"Questions!AXS4","v":0},{"$f":"Questions!AXT4","v":0},{"$f":"Questions!AXU4","v":0},{"$f":"Questions!AXV4","v":0},{"$f":"Questions!AXW4","v":0},{"$f":"Questions!AXX4","v":0},{"$f":"Questions!AXY4","v":0},{"$f":"Questions!AXZ4","v":0},{"$f":"Questions!AYA4","v":0},{"$f":"Questions!AYB4","v":0},{"$f":"Questions!AYC4","v":0},{"$f":"Questions!AYD4","v":0},{"$f":"Questions!AYE4","v":0},{"$f":"Questions!AYF4","v":0},{"$f":"Questions!AYG4","v":0},{"$f":"Questions!AYH4","v":0},{"$f":"Questions!AYI4","v":0},{"$f":"Questions!AYJ4","v":0},{"$f":"Questions!AYK4","v":0},{"$f":"Questions!AYL4","v":0},{"$f":"Questions!AYM4","v":0},{"$f":"Questions!AYN4","v":0},{"$f":"Questions!AYO4","v":0},{"$f":"Questions!AYP4","v":0},{"$f":"Questions!AYQ4","v":0},{"$f":"Questions!AYR4","v":0},{"$f":"Questions!AYS4","v":0},{"$f":"Questions!AYT4","v":0},{"$f":"Questions!AYU4","v":0},{"$f":"Questions!AYV4","v":0},{"$f":"Questions!AYW4","v":0},{"$f":"Questions!AYX4","v":0},{"$f":"Questions!AYY4","v":0},{"$f":"Questions!AYZ4","v":0},{"$f":"Questions!AZA4","v":0},{"$f":"Questions!AZB4","v":0},{"$f":"Questions!AZC4","v":0},{"$f":"Questions!AZD4","v":0},{"$f":"Questions!AZE4","v":0},{"$f":"Questions!AZF4","v":0},{"$f":"Questions!AZG4","v":0},{"$f":"Questions!AZH4","v":0},{"$f":"Questions!AZI4","v":0},{"$f":"Questions!AZJ4","v":0},{"$f":"Questions!AZK4","v":0},{"$f":"Questions!AZL4","v":0},{"$f":"Questions!AZM4","v":0},{"$f":"Questions!AZN4","v":0},{"$f":"Questions!AZO4","v":0},{"$f":"Questions!AZP4","v":0},{"$f":"Questions!AZQ4","v":0},{"$f":"Questions!AZR4","v":0},{"$f":"Questions!AZS4","v":0},{"$f":"Questions!AZT4","v":0},{"$f":"Questions!AZU4","v":0},{"$f":"Questions!AZV4","v":0},{"$f":"Questions!AZW4","v":0},{"$f":"Questions!AZX4","v":0},{"$f":"Questions!AZY4","v":0},{"$f":"Questions!AZZ4","v":0},{"$f":"Questions!BAA4","v":0},{"$f":"Questions!BAB4","v":0},{"$f":"Questions!BAC4","v":0},{"$f":"Questions!BAD4","v":0},{"$f":"Questions!BAE4","v":0},{"$f":"Questions!BAF4","v":0},{"$f":"Questions!BAG4","v":0},{"$f":"Questions!BAH4","v":0},{"$f":"Questions!BAI4","v":0},{"$f":"Questions!BAJ4","v":0},{"$f":"Questions!BAK4","v":0},{"$f":"Questions!BAL4","v":0},{"$f":"Questions!BAM4","v":0},{"$f":"Questions!BAN4","v":0},{"$f":"Questions!BAO4","v":0},{"$f":"Questions!BAP4","v":0},{"$f":"Questions!BAQ4","v":0},{"$f":"Questions!BAR4","v":0},{"$f":"Questions!BAS4","v":0},{"$f":"Questions!BAT4","v":0},{"$f":"Questions!BAU4","v":0},{"$f":"Questions!BAV4","v":0},{"$f":"Questions!BAW4","v":0},{"$f":"Questions!BAX4","v":0},{"$f":"Questions!BAY4","v":0},{"$f":"Questions!BAZ4","v":0},{"$f":"Questions!BBA4","v":0},{"$f":"Questions!BBB4","v":0},{"$f":"Questions!BBC4","v":0},{"$f":"Questions!BBD4","v":0},{"$f":"Questions!BBE4","v":0},{"$f":"Questions!BBF4","v":0},{"$f":"Questions!BBG4","v":0},{"$f":"Questions!BBH4","v":0},{"$f":"Questions!BBI4","v":0},{"$f":"Questions!BBJ4","v":0},{"$f":"Questions!BBK4","v":0},{"$f":"Questions!BBL4","v":0},{"$f":"Questions!BBM4","v":0},{"$f":"Questions!BBN4","v":0},{"$f":"Questions!BBO4","v":0},{"$f":"Questions!BBP4","v":0},{"$f":"Questions!BBQ4","v":0},{"$f":"Questions!BBR4","v":0},{"$f":"Questions!BBS4","v":0},{"$f":"Questions!BBT4","v":0},{"$f":"Questions!BBU4","v":0},{"$f":"Questions!BBV4","v":0},{"$f":"Questions!BBW4","v":0},{"$f":"Questions!BBX4","v":0},{"$f":"Questions!BBY4","v":0},{"$f":"Questions!BBZ4","v":0},{"$f":"Questions!BCA4","v":0},{"$f":"Questions!BCB4","v":0},{"$f":"Questions!BCC4","v":0},{"$f":"Questions!BCD4","v":0},{"$f":"Questions!BCE4","v":0},{"$f":"Questions!BCF4","v":0},{"$f":"Questions!BCG4","v":0},{"$f":"Questions!BCH4","v":0},{"$f":"Questions!BCI4","v":0},{"$f":"Questions!BCJ4","v":0},{"$f":"Questions!BCK4","v":0},{"$f":"Questions!BCL4","v":0},{"$f":"Questions!BCM4","v":0},{"$f":"Questions!BCN4","v":0},{"$f":"Questions!BCO4","v":0},{"$f":"Questions!BCP4","v":0},{"$f":"Questions!BCQ4","v":0},{"$f":"Questions!BCR4","v":0},{"$f":"Questions!BCS4","v":0},{"$f":"Questions!BCT4","v":0},{"$f":"Questions!BCU4","v":0},{"$f":"Questions!BCV4","v":0},{"$f":"Questions!BCW4","v":0},{"$f":"Questions!BCX4","v":0},{"$f":"Questions!BCY4","v":0},{"$f":"Questions!BCZ4","v":0},{"$f":"Questions!BDA4","v":0},{"$f":"Questions!BDB4","v":0},{"$f":"Questions!BDC4","v":0},{"$f":"Questions!BDD4","v":0},{"$f":"Questions!BDE4","v":0},{"$f":"Questions!BDF4","v":0},{"$f":"Questions!BDG4","v":0},{"$f":"Questions!BDH4","v":0},{"$f":"Questions!BDI4","v":0},{"$f":"Questions!BDJ4","v":0},{"$f":"Questions!BDK4","v":0},{"$f":"Questions!BDL4","v":0},{"$f":"Questions!BDM4","v":0},{"$f":"Questions!BDN4","v":0},{"$f":"Questions!BDO4","v":0},{"$f":"Questions!BDP4","v":0},{"$f":"Questions!BDQ4","v":0},{"$f":"Questions!BDR4","v":0},{"$f":"Questions!BDS4","v":0},{"$f":"Questions!BDT4","v":0},{"$f":"Questions!BDU4","v":0},{"$f":"Questions!BDV4","v":0},{"$f":"Questions!BDW4","v":0},{"$f":"Questions!BDX4","v":0},{"$f":"Questions!BDY4","v":0},{"$f":"Questions!BDZ4","v":0},{"$f":"Questions!BEA4","v":0},{"$f":"Questions!BEB4","v":0},{"$f":"Questions!BEC4","v":0},{"$f":"Questions!BED4","v":0},{"$f":"Questions!BEE4","v":0},{"$f":"Questions!BEF4","v":0},{"$f":"Questions!BEG4","v":0},{"$f":"Questions!BEH4","v":0},{"$f":"Questions!BEI4","v":0},{"$f":"Questions!BEJ4","v":0},{"$f":"Questions!BEK4","v":0},{"$f":"Questions!BEL4","v":0},{"$f":"Questions!BEM4","v":0},{"$f":"Questions!BEN4","v":0},{"$f":"Questions!BEO4","v":0},{"$f":"Questions!BEP4","v":0},{"$f":"Questions!BEQ4","v":0},{"$f":"Questions!BER4","v":0},{"$f":"Questions!BES4","v":0},{"$f":"Questions!BET4","v":0},{"$f":"Questions!BEU4","v":0},{"$f":"Questions!BEV4","v":0},{"$f":"Questions!BEW4","v":0},{"$f":"Questions!BEX4","v":0},{"$f":"Questions!BEY4","v":0},{"$f":"Questions!BEZ4","v":0},{"$f":"Questions!BFA4","v":0},{"$f":"Questions!BFB4","v":0},{"$f":"Questions!BFC4","v":0},{"$f":"Questions!BFD4","v":0},{"$f":"Questions!BFE4","v":0},{"$f":"Questions!BFF4","v":0},{"$f":"Questions!BFG4","v":0},{"$f":"Questions!BFH4","v":0},{"$f":"Questions!BFI4","v":0},{"$f":"Questions!BFJ4","v":0},{"$f":"Questions!BFK4","v":0},{"$f":"Questions!BFL4","v":0},{"$f":"Questions!BFM4","v":0},{"$f":"Questions!BFN4","v":0},{"$f":"Questions!BFO4","v":0},{"$f":"Questions!BFP4","v":0},{"$f":"Questions!BFQ4","v":0},{"$f":"Questions!BFR4","v":0},{"$f":"Questions!BFS4","v":0},{"$f":"Questions!BFT4","v":0},{"$f":"Questions!BFU4","v":0},{"$f":"Questions!BFV4","v":0},{"$f":"Questions!BFW4","v":0},{"$f":"Questions!BFX4","v":0},{"$f":"Questions!BFY4","v":0},{"$f":"Questions!BFZ4","v":0},{"$f":"Questions!BGA4","v":0},{"$f":"Questions!BGB4","v":0},{"$f":"Questions!BGC4","v":0},{"$f":"Questions!BGD4","v":0},{"$f":"Questions!BGE4","v":0},{"$f":"Questions!BGF4","v":0},{"$f":"Questions!BGG4","v":0},{"$f":"Questions!BGH4","v":0},{"$f":"Questions!BGI4","v":0},{"$f":"Questions!BGJ4","v":0},{"$f":"Questions!BGK4","v":0},{"$f":"Questions!BGL4","v":0},{"$f":"Questions!BGM4","v":0},{"$f":"Questions!BGN4","v":0},{"$f":"Questions!BGO4","v":0},{"$f":"Questions!BGP4","v":0},{"$f":"Questions!BGQ4","v":0},{"$f":"Questions!BGR4","v":0},{"$f":"Questions!BGS4","v":0},{"$f":"Questions!BGT4","v":0},{"$f":"Questions!BGU4","v":0},{"$f":"Questions!BGV4","v":0},{"$f":"Questions!BGW4","v":0},{"$f":"Questions!BGX4","v":0},{"$f":"Questions!BGY4","v":0},{"$f":"Questions!BGZ4","v":0},{"$f":"Questions!BHA4","v":0},{"$f":"Questions!BHB4","v":0},{"$f":"Questions!BHC4","v":0},{"$f":"Questions!BHD4","v":0},{"$f":"Questions!BHE4","v":0},{"$f":"Questions!BHF4","v":0},{"$f":"Questions!BHG4","v":0},{"$f":"Questions!BHH4","v":0},{"$f":"Questions!BHI4","v":0},{"$f":"Questions!BHJ4","v":0},{"$f":"Questions!BHK4","v":0},{"$f":"Questions!BHL4","v":0},{"$f":"Questions!BHM4","v":0},{"$f":"Questions!BHN4","v":0},{"$f":"Questions!BHO4","v":0},{"$f":"Questions!BHP4","v":0},{"$f":"Questions!BHQ4","v":0},{"$f":"Questions!BHR4","v":0},{"$f":"Questions!BHS4","v":0},{"$f":"Questions!BHT4","v":0},{"$f":"Questions!BHU4","v":0},{"$f":"Questions!BHV4","v":0},{"$f":"Questions!BHW4","v":0},{"$f":"Questions!BHX4","v":0},{"$f":"Questions!BHY4","v":0},{"$f":"Questions!BHZ4","v":0},{"$f":"Questions!BIA4","v":0},{"$f":"Questions!BIB4","v":0},{"$f":"Questions!BIC4","v":0},{"$f":"Questions!BID4","v":0},{"$f":"Questions!BIE4","v":0},{"$f":"Questions!BIF4","v":0},{"$f":"Questions!BIG4","v":0},{"$f":"Questions!BIH4","v":0},{"$f":"Questions!BII4","v":0},{"$f":"Questions!BIJ4","v":0},{"$f":"Questions!BIK4","v":0},{"$f":"Questions!BIL4","v":0},{"$f":"Questions!BIM4","v":0},{"$f":"Questions!BIN4","v":0},{"$f":"Questions!BIO4","v":0},{"$f":"Questions!BIP4","v":0},{"$f":"Questions!BIQ4","v":0},{"$f":"Questions!BIR4","v":0},{"$f":"Questions!BIS4","v":0},{"$f":"Questions!BIT4","v":0},{"$f":"Questions!BIU4","v":0},{"$f":"Questions!BIV4","v":0},{"$f":"Questions!BIW4","v":0},{"$f":"Questions!BIX4","v":0},{"$f":"Questions!BIY4","v":0},{"$f":"Questions!BIZ4","v":0},{"$f":"Questions!BJA4","v":0},{"$f":"Questions!BJB4","v":0},{"$f":"Questions!BJC4","v":0},{"$f":"Questions!BJD4","v":0},{"$f":"Questions!BJE4","v":0},{"$f":"Questions!BJF4","v":0},{"$f":"Questions!BJG4","v":0},{"$f":"Questions!BJH4","v":0},{"$f":"Questions!BJI4","v":0},{"$f":"Questions!BJJ4","v":0},{"$f":"Questions!BJK4","v":0},{"$f":"Questions!BJL4","v":0},{"$f":"Questions!BJM4","v":0},{"$f":"Questions!BJN4","v":0},{"$f":"Questions!BJO4","v":0},{"$f":"Questions!BJP4","v":0},{"$f":"Questions!BJQ4","v":0},{"$f":"Questions!BJR4","v":0},{"$f":"Questions!BJS4","v":0},{"$f":"Questions!BJT4","v":0},{"$f":"Questions!BJU4","v":0},{"$f":"Questions!BJV4","v":0},{"$f":"Questions!BJW4","v":0},{"$f":"Questions!BJX4","v":0},{"$f":"Questions!BJY4","v":0},{"$f":"Questions!BJZ4","v":0},{"$f":"Questions!BKA4","v":0},{"$f":"Questions!BKB4","v":0},{"$f":"Questions!BKC4","v":0},{"$f":"Questions!BKD4","v":0},{"$f":"Questions!BKE4","v":0},{"$f":"Questions!BKF4","v":0},{"$f":"Questions!BKG4","v":0},{"$f":"Questions!BKH4","v":0},{"$f":"Questions!BKI4","v":0},{"$f":"Questions!BKJ4","v":0},{"$f":"Questions!BKK4","v":0},{"$f":"Questions!BKL4","v":0},{"$f":"Questions!BKM4","v":0},{"$f":"Questions!BKN4","v":0},{"$f":"Questions!BKO4","v":0},{"$f":"Questions!BKP4","v":0},{"$f":"Questions!BKQ4","v":0},{"$f":"Questions!BKR4","v":0},{"$f":"Questions!BKS4","v":0},{"$f":"Questions!BKT4","v":0},{"$f":"Questions!BKU4","v":0},{"$f":"Questions!BKV4","v":0},{"$f":"Questions!BKW4","v":0},{"$f":"Questions!BKX4","v":0},{"$f":"Questions!BKY4","v":0},{"$f":"Questions!BKZ4","v":0},{"$f":"Questions!BLA4","v":0},{"$f":"Questions!BLB4","v":0},{"$f":"Questions!BLC4","v":0},{"$f":"Questions!BLD4","v":0},{"$f":"Questions!BLE4","v":0},{"$f":"Questions!BLF4","v":0},{"$f":"Questions!BLG4","v":0},{"$f":"Questions!BLH4","v":0},{"$f":"Questions!BLI4","v":0},{"$f":"Questions!BLJ4","v":0},{"$f":"Questions!BLK4","v":0},{"$f":"Questions!BLL4","v":0},{"$f":"Questions!BLM4","v":0},{"$f":"Questions!BLN4","v":0},{"$f":"Questions!BLO4","v":0},{"$f":"Questions!BLP4","v":0},{"$f":"Questions!BLQ4","v":0},{"$f":"Questions!BLR4","v":0},{"$f":"Questions!BLS4","v":0},{"$f":"Questions!BLT4","v":0},{"$f":"Questions!BLU4","v":0},{"$f":"Questions!BLV4","v":0},{"$f":"Questions!BLW4","v":0},{"$f":"Questions!BLX4","v":0},{"$f":"Questions!BLY4","v":0},{"$f":"Questions!BLZ4","v":0},{"$f":"Questions!BMA4","v":0},{"$f":"Questions!BMB4","v":0},{"$f":"Questions!BMC4","v":0},{"$f":"Questions!BMD4","v":0},{"$f":"Questions!BME4","v":0},{"$f":"Questions!BMF4","v":0},{"$f":"Questions!BMG4","v":0},{"$f":"Questions!BMH4","v":0},{"$f":"Questions!BMI4","v":0},{"$f":"Questions!BMJ4","v":0},{"$f":"Questions!BMK4","v":0},{"$f":"Questions!BML4","v":0},{"$f":"Questions!BMM4","v":0},{"$f":"Questions!BMN4","v":0},{"$f":"Questions!BMO4","v":0},{"$f":"Questions!BMP4","v":0},{"$f":"Questions!BMQ4","v":0},{"$f":"Questions!BMR4","v":0},{"$f":"Questions!BMS4","v":0},{"$f":"Questions!BMT4","v":0},{"$f":"Questions!BMU4","v":0},{"$f":"Questions!BMV4","v":0},{"$f":"Questions!BMW4","v":0},{"$f":"Questions!BMX4","v":0},{"$f":"Questions!BMY4","v":0},{"$f":"Questions!BMZ4","v":0},{"$f":"Questions!BNA4","v":0},{"$f":"Questions!BNB4","v":0},{"$f":"Questions!BNC4","v":0},{"$f":"Questions!BND4","v":0},{"$f":"Questions!BNE4","v":0},{"$f":"Questions!BNF4","v":0},{"$f":"Questions!BNG4","v":0},{"$f":"Questions!BNH4","v":0},{"$f":"Questions!BNI4","v":0},{"$f":"Questions!BNJ4","v":0},{"$f":"Questions!BNK4","v":0},{"$f":"Questions!BNL4","v":0},{"$f":"Questions!BNM4","v":0},{"$f":"Questions!BNN4","v":0},{"$f":"Questions!BNO4","v":0},{"$f":"Questions!BNP4","v":0},{"$f":"Questions!BNQ4","v":0},{"$f":"Questions!BNR4","v":0},{"$f":"Questions!BNS4","v":0},{"$f":"Questions!BNT4","v":0},{"$f":"Questions!BNU4","v":0},{"$f":"Questions!BNV4","v":0},{"$f":"Questions!BNW4","v":0},{"$f":"Questions!BNX4","v":0},{"$f":"Questions!BNY4","v":0},{"$f":"Questions!BNZ4","v":0},{"$f":"Questions!BOA4","v":0},{"$f":"Questions!BOB4","v":0},{"$f":"Questions!BOC4","v":0},{"$f":"Questions!BOD4","v":0},{"$f":"Questions!BOE4","v":0},{"$f":"Questions!BOF4","v":0},{"$f":"Questions!BOG4","v":0},{"$f":"Questions!BOH4","v":0},{"$f":"Questions!BOI4","v":0},{"$f":"Questions!BOJ4","v":0},{"$f":"Questions!BOK4","v":0},{"$f":"Questions!BOL4","v":0},{"$f":"Questions!BOM4","v":0},{"$f":"Questions!BON4","v":0},{"$f":"Questions!BOO4","v":0},{"$f":"Questions!BOP4","v":0},{"$f":"Questions!BOQ4","v":0},{"$f":"Questions!BOR4","v":0},{"$f":"Questions!BOS4","v":0},{"$f":"Questions!BOT4","v":0},{"$f":"Questions!BOU4","v":0},{"$f":"Questions!BOV4","v":0},{"$f":"Questions!BOW4","v":0},{"$f":"Questions!BOX4","v":0},{"$f":"Questions!BOY4","v":0},{"$f":"Questions!BOZ4","v":0},{"$f":"Questions!BPA4","v":0},{"$f":"Questions!BPB4","v":0},{"$f":"Questions!BPC4","v":0},{"$f":"Questions!BPD4","v":0},{"$f":"Questions!BPE4","v":0},{"$f":"Questions!BPF4","v":0},{"$f":"Questions!BPG4","v":0},{"$f":"Questions!BPH4","v":0},{"$f":"Questions!BPI4","v":0},{"$f":"Questions!BPJ4","v":0},{"$f":"Questions!BPK4","v":0},{"$f":"Questions!BPL4","v":0},{"$f":"Questions!BPM4","v":0},{"$f":"Questions!BPN4","v":0},{"$f":"Questions!BPO4","v":0},{"$f":"Questions!BPP4","v":0},{"$f":"Questions!BPQ4","v":0},{"$f":"Questions!BPR4","v":0},{"$f":"Questions!BPS4","v":0},{"$f":"Questions!BPT4","v":0},{"$f":"Questions!BPU4","v":0},{"$f":"Questions!BPV4","v":0},{"$f":"Questions!BPW4","v":0},{"$f":"Questions!BPX4","v":0},{"$f":"Questions!BPY4","v":0},{"$f":"Questions!BPZ4","v":0},{"$f":"Questions!BQA4","v":0},{"$f":"Questions!BQB4","v":0},{"$f":"Questions!BQC4","v":0},{"$f":"Questions!BQD4","v":0},{"$f":"Questions!BQE4","v":0},{"$f":"Questions!BQF4","v":0},{"$f":"Questions!BQG4","v":0},{"$f":"Questions!BQH4","v":0},{"$f":"Questions!BQI4","v":0},{"$f":"Questions!BQJ4","v":0},{"$f":"Questions!BQK4","v":0},{"$f":"Questions!BQL4","v":0},{"$f":"Questions!BQM4","v":0},{"$f":"Questions!BQN4","v":0},{"$f":"Questions!BQO4","v":0},{"$f":"Questions!BQP4","v":0},{"$f":"Questions!BQQ4","v":0},{"$f":"Questions!BQR4","v":0},{"$f":"Questions!BQS4","v":0},{"$f":"Questions!BQT4","v":0},{"$f":"Questions!BQU4","v":0},{"$f":"Questions!BQV4","v":0},{"$f":"Questions!BQW4","v":0},{"$f":"Questions!BQX4","v":0},{"$f":"Questions!BQY4","v":0},{"$f":"Questions!BQZ4","v":0},{"$f":"Questions!BRA4","v":0},{"$f":"Questions!BRB4","v":0},{"$f":"Questions!BRC4","v":0},{"$f":"Questions!BRD4","v":0},{"$f":"Questions!BRE4","v":0},{"$f":"Questions!BRF4","v":0},{"$f":"Questions!BRG4","v":0},{"$f":"Questions!BRH4","v":0},{"$f":"Questions!BRI4","v":0},{"$f":"Questions!BRJ4","v":0},{"$f":"Questions!BRK4","v":0},{"$f":"Questions!BRL4","v":0},{"$f":"Questions!BRM4","v":0},{"$f":"Questions!BRN4","v":0},{"$f":"Questions!BRO4","v":0},{"$f":"Questions!BRP4","v":0},{"$f":"Questions!BRQ4","v":0},{"$f":"Questions!BRR4","v":0},{"$f":"Questions!BRS4","v":0},{"$f":"Questions!BRT4","v":0},{"$f":"Questions!BRU4","v":0},{"$f":"Questions!BRV4","v":0},{"$f":"Questions!BRW4","v":0},{"$f":"Questions!BRX4","v":0},{"$f":"Questions!BRY4","v":0},{"$f":"Questions!BRZ4","v":0},{"$f":"Questions!BSA4","v":0},{"$f":"Questions!BSB4","v":0},{"$f":"Questions!BSC4","v":0},{"$f":"Questions!BSD4","v":0},{"$f":"Questions!BSE4","v":0},{"$f":"Questions!BSF4","v":0},{"$f":"Questions!BSG4","v":0},{"$f":"Questions!BSH4","v":0},{"$f":"Questions!BSI4","v":0},{"$f":"Questions!BSJ4","v":0},{"$f":"Questions!BSK4","v":0},{"$f":"Questions!BSL4","v":0},{"$f":"Questions!BSM4","v":0},{"$f":"Questions!BSN4","v":0},{"$f":"Questions!BSO4","v":0},{"$f":"Questions!BSP4","v":0},{"$f":"Questions!BSQ4","v":0},{"$f":"Questions!BSR4","v":0},{"$f":"Questions!BSS4","v":0},{"$f":"Questions!BST4","v":0},{"$f":"Questions!BSU4","v":0},{"$f":"Questions!BSV4","v":0},{"$f":"Questions!BSW4","v":0},{"$f":"Questions!BSX4","v":0},{"$f":"Questions!BSY4","v":0},{"$f":"Questions!BSZ4","v":0},{"$f":"Questions!BTA4","v":0},{"$f":"Questions!BTB4","v":0},{"$f":"Questions!BTC4","v":0},{"$f":"Questions!BTD4","v":0},{"$f":"Questions!BTE4","v":0},{"$f":"Questions!BTF4","v":0},{"$f":"Questions!BTG4","v":0},{"$f":"Questions!BTH4","v":0},{"$f":"Questions!BTI4","v":0},{"$f":"Questions!BTJ4","v":0},{"$f":"Questions!BTK4","v":0},{"$f":"Questions!BTL4","v":0},{"$f":"Questions!BTM4","v":0},{"$f":"Questions!BTN4","v":0},{"$f":"Questions!BTO4","v":0},{"$f":"Questions!BTP4","v":0},{"$f":"Questions!BTQ4","v":0},{"$f":"Questions!BTR4","v":0},{"$f":"Questions!BTS4","v":0},{"$f":"Questions!BTT4","v":0},{"$f":"Questions!BTU4","v":0},{"$f":"Questions!BTV4","v":0},{"$f":"Questions!BTW4","v":0},{"$f":"Questions!BTX4","v":0},{"$f":"Questions!BTY4","v":0},{"$f":"Questions!BTZ4","v":0},{"$f":"Questions!BUA4","v":0},{"$f":"Questions!BUB4","v":0},{"$f":"Questions!BUC4","v":0},{"$f":"Questions!BUD4","v":0},{"$f":"Questions!BUE4","v":0},{"$f":"Questions!BUF4","v":0},{"$f":"Questions!BUG4","v":0},{"$f":"Questions!BUH4","v":0},{"$f":"Questions!BUI4","v":0},{"$f":"Questions!BUJ4","v":0},{"$f":"Questions!BUK4","v":0},{"$f":"Questions!BUL4","v":0},{"$f":"Questions!BUM4","v":0},{"$f":"Questions!BUN4","v":0},{"$f":"Questions!BUO4","v":0},{"$f":"Questions!BUP4","v":0},{"$f":"Questions!BUQ4","v":0},{"$f":"Questions!BUR4","v":0},{"$f":"Questions!BUS4","v":0},{"$f":"Questions!BUT4","v":0},{"$f":"Questions!BUU4","v":0},{"$f":"Questions!BUV4","v":0},{"$f":"Questions!BUW4","v":0},{"$f":"Questions!BUX4","v":0},{"$f":"Questions!BUY4","v":0},{"$f":"Questions!BUZ4","v":0},{"$f":"Questions!BVA4","v":0},{"$f":"Questions!BVB4","v":0},{"$f":"Questions!BVC4","v":0},{"$f":"Questions!BVD4","v":0},{"$f":"Questions!BVE4","v":0},{"$f":"Questions!BVF4","v":0},{"$f":"Questions!BVG4","v":0},{"$f":"Questions!BVH4","v":0},{"$f":"Questions!BVI4","v":0},{"$f":"Questions!BVJ4","v":0},{"$f":"Questions!BVK4","v":0},{"$f":"Questions!BVL4","v":0},{"$f":"Questions!BVM4","v":0},{"$f":"Questions!BVN4","v":0},{"$f":"Questions!BVO4","v":0},{"$f":"Questions!BVP4","v":0},{"$f":"Questions!BVQ4","v":0},{"$f":"Questions!BVR4","v":0},{"$f":"Questions!BVS4","v":0},{"$f":"Questions!BVT4","v":0},{"$f":"Questions!BVU4","v":0},{"$f":"Questions!BVV4","v":0},{"$f":"Questions!BVW4","v":0},{"$f":"Questions!BVX4","v":0},{"$f":"Questions!BVY4","v":0},{"$f":"Questions!BVZ4","v":0},{"$f":"Questions!BWA4","v":0},{"$f":"Questions!BWB4","v":0},{"$f":"Questions!BWC4","v":0},{"$f":"Questions!BWD4","v":0},{"$f":"Questions!BWE4","v":0},{"$f":"Questions!BWF4","v":0},{"$f":"Questions!BWG4","v":0},{"$f":"Questions!BWH4","v":0},{"$f":"Questions!BWI4","v":0},{"$f":"Questions!BWJ4","v":0},{"$f":"Questions!BWK4","v":0},{"$f":"Questions!BWL4","v":0},{"$f":"Questions!BWM4","v":0},{"$f":"Questions!BWN4","v":0},{"$f":"Questions!BWO4","v":0},{"$f":"Questions!BWP4","v":0},{"$f":"Questions!BWQ4","v":0},{"$f":"Questions!BWR4","v":0},{"$f":"Questions!BWS4","v":0},{"$f":"Questions!BWT4","v":0},{"$f":"Questions!BWU4","v":0},{"$f":"Questions!BWV4","v":0},{"$f":"Questions!BWW4","v":0},{"$f":"Questions!BWX4","v":0},{"$f":"Questions!BWY4","v":0},{"$f":"Questions!BWZ4","v":0},{"$f":"Questions!BXA4","v":0},{"$f":"Questions!BXB4","v":0},{"$f":"Questions!BXC4","v":0},{"$f":"Questions!BXD4","v":0},{"$f":"Questions!BXE4","v":0},{"$f":"Questions!BXF4","v":0},{"$f":"Questions!BXG4","v":0},{"$f":"Questions!BXH4","v":0},{"$f":"Questions!BXI4","v":0},{"$f":"Questions!BXJ4","v":0},{"$f":"Questions!BXK4","v":0},{"$f":"Questions!BXL4","v":0},{"$f":"Questions!BXM4","v":0},{"$f":"Questions!BXN4","v":0},{"$f":"Questions!BXO4","v":0},{"$f":"Questions!BXP4","v":0},{"$f":"Questions!BXQ4","v":0},{"$f":"Questions!BXR4","v":0},{"$f":"Questions!BXS4","v":0},{"$f":"Questions!BXT4","v":0},{"$f":"Questions!BXU4","v":0},{"$f":"Questions!BXV4","v":0},{"$f":"Questions!BXW4","v":0},{"$f":"Questions!BXX4","v":0},{"$f":"Questions!BXY4","v":0},{"$f":"Questions!BXZ4","v":0},{"$f":"Questions!BYA4","v":0},{"$f":"Questions!BYB4","v":0},{"$f":"Questions!BYC4","v":0},{"$f":"Questions!BYD4","v":0},{"$f":"Questions!BYE4","v":0},{"$f":"Questions!BYF4","v":0},{"$f":"Questions!BYG4","v":0},{"$f":"Questions!BYH4","v":0},{"$f":"Questions!BYI4","v":0},{"$f":"Questions!BYJ4","v":0},{"$f":"Questions!BYK4","v":0},{"$f":"Questions!BYL4","v":0},{"$f":"Questions!BYM4","v":0},{"$f":"Questions!BYN4","v":0},{"$f":"Questions!BYO4","v":0},{"$f":"Questions!BYP4","v":0},{"$f":"Questions!BYQ4","v":0},{"$f":"Questions!BYR4","v":0},{"$f":"Questions!BYS4","v":0},{"$f":"Questions!BYT4","v":0},{"$f":"Questions!BYU4","v":0},{"$f":"Questions!BYV4","v":0},{"$f":"Questions!BYW4","v":0},{"$f":"Questions!BYX4","v":0},{"$f":"Questions!BYY4","v":0},{"$f":"Questions!BYZ4","v":0},{"$f":"Questions!BZA4","v":0},{"$f":"Questions!BZB4","v":0},{"$f":"Questions!BZC4","v":0},{"$f":"Questions!BZD4","v":0},{"$f":"Questions!BZE4","v":0},{"$f":"Questions!BZF4","v":0},{"$f":"Questions!BZG4","v":0},{"$f":"Questions!BZH4","v":0},{"$f":"Questions!BZI4","v":0},{"$f":"Questions!BZJ4","v":0},{"$f":"Questions!BZK4","v":0},{"$f":"Questions!BZL4","v":0},{"$f":"Questions!BZM4","v":0},{"$f":"Questions!BZN4","v":0},{"$f":"Questions!BZO4","v":0},{"$f":"Questions!BZP4","v":0},{"$f":"Questions!BZQ4","v":0},{"$f":"Questions!BZR4","v":0},{"$f":"Questions!BZS4","v":0},{"$f":"Questions!BZT4","v":0},{"$f":"Questions!BZU4","v":0},{"$f":"Questions!BZV4","v":0},{"$f":"Questions!BZW4","v":0},{"$f":"Questions!BZX4","v":0},{"$f":"Questions!BZY4","v":0},{"$f":"Questions!BZZ4","v":0},{"$f":"Questions!CAA4","v":0},{"$f":"Questions!CAB4","v":0},{"$f":"Questions!CAC4","v":0},{"$f":"Questions!CAD4","v":0},{"$f":"Questions!CAE4","v":0},{"$f":"Questions!CAF4","v":0},{"$f":"Questions!CAG4","v":0},{"$f":"Questions!CAH4","v":0},{"$f":"Questions!CAI4","v":0},{"$f":"Questions!CAJ4","v":0},{"$f":"Questions!CAK4","v":0},{"$f":"Questions!CAL4","v":0},{"$f":"Questions!CAM4","v":0},{"$f":"Questions!CAN4","v":0},{"$f":"Questions!CAO4","v":0},{"$f":"Questions!CAP4","v":0},{"$f":"Questions!CAQ4","v":0},{"$f":"Questions!CAR4","v":0},{"$f":"Questions!CAS4","v":0},{"$f":"Questions!CAT4","v":0},{"$f":"Questions!CAU4","v":0},{"$f":"Questions!CAV4","v":0},{"$f":"Questions!CAW4","v":0},{"$f":"Questions!CAX4","v":0},{"$f":"Questions!CAY4","v":0},{"$f":"Questions!CAZ4","v":0},{"$f":"Questions!CBA4","v":0},{"$f":"Questions!CBB4","v":0},{"$f":"Questions!CBC4","v":0},{"$f":"Questions!CBD4","v":0},{"$f":"Questions!CBE4","v":0},{"$f":"Questions!CBF4","v":0},{"$f":"Questions!CBG4","v":0},{"$f":"Questions!CBH4","v":0},{"$f":"Questions!CBI4","v":0},{"$f":"Questions!CBJ4","v":0},{"$f":"Questions!CBK4","v":0},{"$f":"Questions!CBL4","v":0},{"$f":"Questions!CBM4","v":0},{"$f":"Questions!CBN4","v":0},{"$f":"Questions!CBO4","v":0},{"$f":"Questions!CBP4","v":0},{"$f":"Questions!CBQ4","v":0},{"$f":"Questions!CBR4","v":0},{"$f":"Questions!CBS4","v":0},{"$f":"Questions!CBT4","v":0},{"$f":"Questions!CBU4","v":0},{"$f":"Questions!CBV4","v":0},{"$f":"Questions!CBW4","v":0},{"$f":"Questions!CBX4","v":0},{"$f":"Questions!CBY4","v":0},{"$f":"Questions!CBZ4","v":0},{"$f":"Questions!CCA4","v":0},{"$f":"Questions!CCB4","v":0},{"$f":"Questions!CCC4","v":0},{"$f":"Questions!CCD4","v":0},{"$f":"Questions!CCE4","v":0},{"$f":"Questions!CCF4","v":0},{"$f":"Questions!CCG4","v":0},{"$f":"Questions!CCH4","v":0},{"$f":"Questions!CCI4","v":0},{"$f":"Questions!CCJ4","v":0},{"$f":"Questions!CCK4","v":0},{"$f":"Questions!CCL4","v":0},{"$f":"Questions!CCM4","v":0},{"$f":"Questions!CCN4","v":0},{"$f":"Questions!CCO4","v":0},{"$f":"Questions!CCP4","v":0},{"$f":"Questions!CCQ4","v":0},{"$f":"Questions!CCR4","v":0},{"$f":"Questions!CCS4","v":0},{"$f":"Questions!CCT4","v":0},{"$f":"Questions!CCU4","v":0},{"$f":"Questions!CCV4","v":0},{"$f":"Questions!CCW4","v":0},{"$f":"Questions!CCX4","v":0},{"$f":"Questions!CCY4","v":0},{"$f":"Questions!CCZ4","v":0},{"$f":"Questions!CDA4","v":0},{"$f":"Questions!CDB4","v":0},{"$f":"Questions!CDC4","v":0},{"$f":"Questions!CDD4","v":0},{"$f":"Questions!CDE4","v":0},{"$f":"Questions!CDF4","v":0},{"$f":"Questions!CDG4","v":0},{"$f":"Questions!CDH4","v":0},{"$f":"Questions!CDI4","v":0},{"$f":"Questions!CDJ4","v":0},{"$f":"Questions!CDK4","v":0},{"$f":"Questions!CDL4","v":0},{"$f":"Questions!CDM4","v":0},{"$f":"Questions!CDN4","v":0},{"$f":"Questions!CDO4","v":0},{"$f":"Questions!CDP4","v":0},{"$f":"Questions!CDQ4","v":0},{"$f":"Questions!CDR4","v":0},{"$f":"Questions!CDS4","v":0},{"$f":"Questions!CDT4","v":0},{"$f":"Questions!CDU4","v":0},{"$f":"Questions!CDV4","v":0},{"$f":"Questions!CDW4","v":0},{"$f":"Questions!CDX4","v":0},{"$f":"Questions!CDY4","v":0},{"$f":"Questions!CDZ4","v":0},{"$f":"Questions!CEA4","v":0},{"$f":"Questions!CEB4","v":0},{"$f":"Questions!CEC4","v":0},{"$f":"Questions!CED4","v":0},{"$f":"Questions!CEE4","v":0},{"$f":"Questions!CEF4","v":0},{"$f":"Questions!CEG4","v":0},{"$f":"Questions!CEH4","v":0},{"$f":"Questions!CEI4","v":0},{"$f":"Questions!CEJ4","v":0},{"$f":"Questions!CEK4","v":0},{"$f":"Questions!CEL4","v":0},{"$f":"Questions!CEM4","v":0},{"$f":"Questions!CEN4","v":0},{"$f":"Questions!CEO4","v":0},{"$f":"Questions!CEP4","v":0},{"$f":"Questions!CEQ4","v":0},{"$f":"Questions!CER4","v":0},{"$f":"Questions!CES4","v":0},{"$f":"Questions!CET4","v":0},{"$f":"Questions!CEU4","v":0},{"$f":"Questions!CEV4","v":0},{"$f":"Questions!CEW4","v":0},{"$f":"Questions!CEX4","v":0},{"$f":"Questions!CEY4","v":0},{"$f":"Questions!CEZ4","v":0},{"$f":"Questions!CFA4","v":0},{"$f":"Questions!CFB4","v":0},{"$f":"Questions!CFC4","v":0},{"$f":"Questions!CFD4","v":0},{"$f":"Questions!CFE4","v":0},{"$f":"Questions!CFF4","v":0},{"$f":"Questions!CFG4","v":0},{"$f":"Questions!CFH4","v":0},{"$f":"Questions!CFI4","v":0},{"$f":"Questions!CFJ4","v":0},{"$f":"Questions!CFK4","v":0},{"$f":"Questions!CFL4","v":0},{"$f":"Questions!CFM4","v":0},{"$f":"Questions!CFN4","v":0},{"$f":"Questions!CFO4","v":0},{"$f":"Questions!CFP4","v":0},{"$f":"Questions!CFQ4","v":0},{"$f":"Questions!CFR4","v":0},{"$f":"Questions!CFS4","v":0},{"$f":"Questions!CFT4","v":0},{"$f":"Questions!CFU4","v":0},{"$f":"Questions!CFV4","v":0},{"$f":"Questions!CFW4","v":0},{"$f":"Questions!CFX4","v":0},{"$f":"Questions!CFY4","v":0},{"$f":"Questions!CFZ4","v":0},{"$f":"Questions!CGA4","v":0},{"$f":"Questions!CGB4","v":0},{"$f":"Questions!CGC4","v":0},{"$f":"Questions!CGD4","v":0},{"$f":"Questions!CGE4","v":0},{"$f":"Questions!CGF4","v":0},{"$f":"Questions!CGG4","v":0},{"$f":"Questions!CGH4","v":0},{"$f":"Questions!CGI4","v":0},{"$f":"Questions!CGJ4","v":0},{"$f":"Questions!CGK4","v":0},{"$f":"Questions!CGL4","v":0},{"$f":"Questions!CGM4","v":0},{"$f":"Questions!CGN4","v":0},{"$f":"Questions!CGO4","v":0},{"$f":"Questions!CGP4","v":0},{"$f":"Questions!CGQ4","v":0},{"$f":"Questions!CGR4","v":0},{"$f":"Questions!CGS4","v":0},{"$f":"Questions!CGT4","v":0},{"$f":"Questions!CGU4","v":0},{"$f":"Questions!CGV4","v":0},{"$f":"Questions!CGW4","v":0},{"$f":"Questions!CGX4","v":0},{"$f":"Questions!CGY4","v":0},{"$f":"Questions!CGZ4","v":0},{"$f":"Questions!CHA4","v":0},{"$f":"Questions!CHB4","v":0},{"$f":"Questions!CHC4","v":0},{"$f":"Questions!CHD4","v":0},{"$f":"Questions!CHE4","v":0},{"$f":"Questions!CHF4","v":0},{"$f":"Questions!CHG4","v":0},{"$f":"Questions!CHH4","v":0},{"$f":"Questions!CHI4","v":0},{"$f":"Questions!CHJ4","v":0},{"$f":"Questions!CHK4","v":0},{"$f":"Questions!CHL4","v":0},{"$f":"Questions!CHM4","v":0},{"$f":"Questions!CHN4","v":0},{"$f":"Questions!CHO4","v":0},{"$f":"Questions!CHP4","v":0},{"$f":"Questions!CHQ4","v":0},{"$f":"Questions!CHR4","v":0},{"$f":"Questions!CHS4","v":0},{"$f":"Questions!CHT4","v":0},{"$f":"Questions!CHU4","v":0},{"$f":"Questions!CHV4","v":0},{"$f":"Questions!CHW4","v":0},{"$f":"Questions!CHX4","v":0},{"$f":"Questions!CHY4","v":0},{"$f":"Questions!CHZ4","v":0},{"$f":"Questions!CIA4","v":0},{"$f":"Questions!CIB4","v":0},{"$f":"Questions!CIC4","v":0},{"$f":"Questions!CID4","v":0},{"$f":"Questions!CIE4","v":0},{"$f":"Questions!CIF4","v":0},{"$f":"Questions!CIG4","v":0},{"$f":"Questions!CIH4","v":0},{"$f":"Questions!CII4","v":0},{"$f":"Questions!CIJ4","v":0},{"$f":"Questions!CIK4","v":0},{"$f":"Questions!CIL4","v":0},{"$f":"Questions!CIM4","v":0},{"$f":"Questions!CIN4","v":0},{"$f":"Questions!CIO4","v":0},{"$f":"Questions!CIP4","v":0},{"$f":"Questions!CIQ4","v":0},{"$f":"Questions!CIR4","v":0},{"$f":"Questions!CIS4","v":0},{"$f":"Questions!CIT4","v":0},{"$f":"Questions!CIU4","v":0},{"$f":"Questions!CIV4","v":0},{"$f":"Questions!CIW4","v":0},{"$f":"Questions!CIX4","v":0},{"$f":"Questions!CIY4","v":0},{"$f":"Questions!CIZ4","v":0},{"$f":"Questions!CJA4","v":0},{"$f":"Questions!CJB4","v":0},{"$f":"Questions!CJC4","v":0},{"$f":"Questions!CJD4","v":0},{"$f":"Questions!CJE4","v":0},{"$f":"Questions!CJF4","v":0},{"$f":"Questions!CJG4","v":0},{"$f":"Questions!CJH4","v":0},{"$f":"Questions!CJI4","v":0},{"$f":"Questions!CJJ4","v":0},{"$f":"Questions!CJK4","v":0},{"$f":"Questions!CJL4","v":0},{"$f":"Questions!CJM4","v":0},{"$f":"Questions!CJN4","v":0},{"$f":"Questions!CJO4","v":0},{"$f":"Questions!CJP4","v":0},{"$f":"Questions!CJQ4","v":0},{"$f":"Questions!CJR4","v":0},{"$f":"Questions!CJS4","v":0},{"$f":"Questions!CJT4","v":0},{"$f":"Questions!CJU4","v":0},{"$f":"Questions!CJV4","v":0},{"$f":"Questions!CJW4","v":0},{"$f":"Questions!CJX4","v":0},{"$f":"Questions!CJY4","v":0},{"$f":"Questions!CJZ4","v":0},{"$f":"Questions!CKA4","v":0},{"$f":"Questions!CKB4","v":0},{"$f":"Questions!CKC4","v":0},{"$f":"Questions!CKD4","v":0},{"$f":"Questions!CKE4","v":0},{"$f":"Questions!CKF4","v":0},{"$f":"Questions!CKG4","v":0},{"$f":"Questions!CKH4","v":0},{"$f":"Questions!CKI4","v":0},{"$f":"Questions!CKJ4","v":0},{"$f":"Questions!CKK4","v":0},{"$f":"Questions!CKL4","v":0},{"$f":"Questions!CKM4","v":0},{"$f":"Questions!CKN4","v":0},{"$f":"Questions!CKO4","v":0},{"$f":"Questions!CKP4","v":0},{"$f":"Questions!CKQ4","v":0},{"$f":"Questions!CKR4","v":0},{"$f":"Questions!CKS4","v":0},{"$f":"Questions!CKT4","v":0},{"$f":"Questions!CKU4","v":0},{"$f":"Questions!CKV4","v":0},{"$f":"Questions!CKW4","v":0},{"$f":"Questions!CKX4","v":0},{"$f":"Questions!CKY4","v":0},{"$f":"Questions!CKZ4","v":0},{"$f":"Questions!CLA4","v":0},{"$f":"Questions!CLB4","v":0},{"$f":"Questions!CLC4","v":0},{"$f":"Questions!CLD4","v":0},{"$f":"Questions!CLE4","v":0},{"$f":"Questions!CLF4","v":0},{"$f":"Questions!CLG4","v":0},{"$f":"Questions!CLH4","v":0},{"$f":"Questions!CLI4","v":0},{"$f":"Questions!CLJ4","v":0},{"$f":"Questions!CLK4","v":0},{"$f":"Questions!CLL4","v":0},{"$f":"Questions!CLM4","v":0},{"$f":"Questions!CLN4","v":0},{"$f":"Questions!CLO4","v":0},{"$f":"Questions!CLP4","v":0},{"$f":"Questions!CLQ4","v":0},{"$f":"Questions!CLR4","v":0},{"$f":"Questions!CLS4","v":0},{"$f":"Questions!CLT4","v":0},{"$f":"Questions!CLU4","v":0},{"$f":"Questions!CLV4","v":0},{"$f":"Questions!CLW4","v":0},{"$f":"Questions!CLX4","v":0},{"$f":"Questions!CLY4","v":0},{"$f":"Questions!CLZ4","v":0},{"$f":"Questions!CMA4","v":0},{"$f":"Questions!CMB4","v":0},{"$f":"Questions!CMC4","v":0},{"$f":"Questions!CMD4","v":0},{"$f":"Questions!CME4","v":0},{"$f":"Questions!CMF4","v":0},{"$f":"Questions!CMG4","v":0},{"$f":"Questions!CMH4","v":0},{"$f":"Questions!CMI4","v":0},{"$f":"Questions!CMJ4","v":0},{"$f":"Questions!CMK4","v":0},{"$f":"Questions!CML4","v":0},{"$f":"Questions!CMM4","v":0},{"$f":"Questions!CMN4","v":0},{"$f":"Questions!CMO4","v":0},{"$f":"Questions!CMP4","v":0},{"$f":"Questions!CMQ4","v":0},{"$f":"Questions!CMR4","v":0},{"$f":"Questions!CMS4","v":0},{"$f":"Questions!CMT4","v":0},{"$f":"Questions!CMU4","v":0},{"$f":"Questions!CMV4","v":0},{"$f":"Questions!CMW4","v":0},{"$f":"Questions!CMX4","v":0},{"$f":"Questions!CMY4","v":0},{"$f":"Questions!CMZ4","v":0},{"$f":"Questions!CNA4","v":0},{"$f":"Questions!CNB4","v":0},{"$f":"Questions!CNC4","v":0},{"$f":"Questions!CND4","v":0},{"$f":"Questions!CNE4","v":0},{"$f":"Questions!CNF4","v":0},{"$f":"Questions!CNG4","v":0},{"$f":"Questions!CNH4","v":0},{"$f":"Questions!CNI4","v":0},{"$f":"Questions!CNJ4","v":0},{"$f":"Questions!CNK4","v":0},{"$f":"Questions!CNL4","v":0},{"$f":"Questions!CNM4","v":0},{"$f":"Questions!CNN4","v":0},{"$f":"Questions!CNO4","v":0},{"$f":"Questions!CNP4","v":0},{"$f":"Questions!CNQ4","v":0},{"$f":"Questions!CNR4","v":0},{"$f":"Questions!CNS4","v":0},{"$f":"Questions!CNT4","v":0},{"$f":"Questions!CNU4","v":0},{"$f":"Questions!CNV4","v":0},{"$f":"Questions!CNW4","v":0},{"$f":"Questions!CNX4","v":0},{"$f":"Questions!CNY4","v":0},{"$f":"Questions!CNZ4","v":0},{"$f":"Questions!COA4","v":0},{"$f":"Questions!COB4","v":0},{"$f":"Questions!COC4","v":0},{"$f":"Questions!COD4","v":0},{"$f":"Questions!COE4","v":0},{"$f":"Questions!COF4","v":0},{"$f":"Questions!COG4","v":0},{"$f":"Questions!COH4","v":0},{"$f":"Questions!COI4","v":0},{"$f":"Questions!COJ4","v":0},{"$f":"Questions!COK4","v":0},{"$f":"Questions!COL4","v":0},{"$f":"Questions!COM4","v":0},{"$f":"Questions!CON4","v":0},{"$f":"Questions!COO4","v":0},{"$f":"Questions!COP4","v":0},{"$f":"Questions!COQ4","v":0},{"$f":"Questions!COR4","v":0},{"$f":"Questions!COS4","v":0},{"$f":"Questions!COT4","v":0},{"$f":"Questions!COU4","v":0},{"$f":"Questions!COV4","v":0},{"$f":"Questions!COW4","v":0},{"$f":"Questions!COX4","v":0},{"$f":"Questions!COY4","v":0},{"$f":"Questions!COZ4","v":0},{"$f":"Questions!CPA4","v":0},{"$f":"Questions!CPB4","v":0},{"$f":"Questions!CPC4","v":0},{"$f":"Questions!CPD4","v":0},{"$f":"Questions!CPE4","v":0},{"$f":"Questions!CPF4","v":0},{"$f":"Questions!CPG4","v":0},{"$f":"Questions!CPH4","v":0},{"$f":"Questions!CPI4","v":0},{"$f":"Questions!CPJ4","v":0},{"$f":"Questions!CPK4","v":0},{"$f":"Questions!CPL4","v":0},{"$f":"Questions!CPM4","v":0},{"$f":"Questions!CPN4","v":0},{"$f":"Questions!CPO4","v":0},{"$f":"Questions!CPP4","v":0},{"$f":"Questions!CPQ4","v":0},{"$f":"Questions!CPR4","v":0},{"$f":"Questions!CPS4","v":0},{"$f":"Questions!CPT4","v":0},{"$f":"Questions!CPU4","v":0},{"$f":"Questions!CPV4","v":0},{"$f":"Questions!CPW4","v":0},{"$f":"Questions!CPX4","v":0},{"$f":"Questions!CPY4","v":0},{"$f":"Questions!CPZ4","v":0},{"$f":"Questions!CQA4","v":0},{"$f":"Questions!CQB4","v":0},{"$f":"Questions!CQC4","v":0},{"$f":"Questions!CQD4","v":0},{"$f":"Questions!CQE4","v":0},{"$f":"Questions!CQF4","v":0},{"$f":"Questions!CQG4","v":0},{"$f":"Questions!CQH4","v":0},{"$f":"Questions!CQI4","v":0},{"$f":"Questions!CQJ4","v":0},{"$f":"Questions!CQK4","v":0},{"$f":"Questions!CQL4","v":0},{"$f":"Questions!CQM4","v":0},{"$f":"Questions!CQN4","v":0},{"$f":"Questions!CQO4","v":0},{"$f":"Questions!CQP4","v":0},{"$f":"Questions!CQQ4","v":0},{"$f":"Questions!CQR4","v":0},{"$f":"Questions!CQS4","v":0},{"$f":"Questions!CQT4","v":0},{"$f":"Questions!CQU4","v":0},{"$f":"Questions!CQV4","v":0},{"$f":"Questions!CQW4","v":0},{"$f":"Questions!CQX4","v":0},{"$f":"Questions!CQY4","v":0},{"$f":"Questions!CQZ4","v":0},{"$f":"Questions!CRA4","v":0},{"$f":"Questions!CRB4","v":0},{"$f":"Questions!CRC4","v":0},{"$f":"Questions!CRD4","v":0},{"$f":"Questions!CRE4","v":0},{"$f":"Questions!CRF4","v":0},{"$f":"Questions!CRG4","v":0},{"$f":"Questions!CRH4","v":0},{"$f":"Questions!CRI4","v":0},{"$f":"Questions!CRJ4","v":0},{"$f":"Questions!CRK4","v":0},{"$f":"Questions!CRL4","v":0},{"$f":"Questions!CRM4","v":0},{"$f":"Questions!CRN4","v":0},{"$f":"Questions!CRO4","v":0},{"$f":"Questions!CRP4","v":0},{"$f":"Questions!CRQ4","v":0},{"$f":"Questions!CRR4","v":0},{"$f":"Questions!CRS4","v":0},{"$f":"Questions!CRT4","v":0},{"$f":"Questions!CRU4","v":0},{"$f":"Questions!CRV4","v":0},{"$f":"Questions!CRW4","v":0},{"$f":"Questions!CRX4","v":0},{"$f":"Questions!CRY4","v":0},{"$f":"Questions!CRZ4","v":0},{"$f":"Questions!CSA4","v":0},{"$f":"Questions!CSB4","v":0},{"$f":"Questions!CSC4","v":0},{"$f":"Questions!CSD4","v":0},{"$f":"Questions!CSE4","v":0},{"$f":"Questions!CSF4","v":0},{"$f":"Questions!CSG4","v":0},{"$f":"Questions!CSH4","v":0},{"$f":"Questions!CSI4","v":0},{"$f":"Questions!CSJ4","v":0},{"$f":"Questions!CSK4","v":0},{"$f":"Questions!CSL4","v":0},{"$f":"Questions!CSM4","v":0},{"$f":"Questions!CSN4","v":0},{"$f":"Questions!CSO4","v":0},{"$f":"Questions!CSP4","v":0},{"$f":"Questions!CSQ4","v":0},{"$f":"Questions!CSR4","v":0},{"$f":"Questions!CSS4","v":0},{"$f":"Questions!CST4","v":0},{"$f":"Questions!CSU4","v":0},{"$f":"Questions!CSV4","v":0},{"$f":"Questions!CSW4","v":0},{"$f":"Questions!CSX4","v":0},{"$f":"Questions!CSY4","v":0},{"$f":"Questions!CSZ4","v":0},{"$f":"Questions!CTA4","v":0},{"$f":"Questions!CTB4","v":0},{"$f":"Questions!CTC4","v":0},{"$f":"Questions!CTD4","v":0},{"$f":"Questions!CTE4","v":0},{"$f":"Questions!CTF4","v":0},{"$f":"Questions!CTG4","v":0},{"$f":"Questions!CTH4","v":0},{"$f":"Questions!CTI4","v":0},{"$f":"Questions!CTJ4","v":0},{"$f":"Questions!CTK4","v":0},{"$f":"Questions!CTL4","v":0},{"$f":"Questions!CTM4","v":0},{"$f":"Questions!CTN4","v":0},{"$f":"Questions!CTO4","v":0},{"$f":"Questions!CTP4","v":0},{"$f":"Questions!CTQ4","v":0},{"$f":"Questions!CTR4","v":0},{"$f":"Questions!CTS4","v":0},{"$f":"Questions!CTT4","v":0},{"$f":"Questions!CTU4","v":0},{"$f":"Questions!CTV4","v":0},{"$f":"Questions!CTW4","v":0},{"$f":"Questions!CTX4","v":0},{"$f":"Questions!CTY4","v":0},{"$f":"Questions!CTZ4","v":0},{"$f":"Questions!CUA4","v":0},{"$f":"Questions!CUB4","v":0},{"$f":"Questions!CUC4","v":0},{"$f":"Questions!CUD4","v":0},{"$f":"Questions!CUE4","v":0},{"$f":"Questions!CUF4","v":0},{"$f":"Questions!CUG4","v":0},{"$f":"Questions!CUH4","v":0},{"$f":"Questions!CUI4","v":0},{"$f":"Questions!CUJ4","v":0},{"$f":"Questions!CUK4","v":0},{"$f":"Questions!CUL4","v":0},{"$f":"Questions!CUM4","v":0},{"$f":"Questions!CUN4","v":0},{"$f":"Questions!CUO4","v":0},{"$f":"Questions!CUP4","v":0},{"$f":"Questions!CUQ4","v":0},{"$f":"Questions!CUR4","v":0},{"$f":"Questions!CUS4","v":0},{"$f":"Questions!CUT4","v":0},{"$f":"Questions!CUU4","v":0},{"$f":"Questions!CUV4","v":0},{"$f":"Questions!CUW4","v":0},{"$f":"Questions!CUX4","v":0},{"$f":"Questions!CUY4","v":0},{"$f":"Questions!CUZ4","v":0},{"$f":"Questions!CVA4","v":0},{"$f":"Questions!CVB4","v":0},{"$f":"Questions!CVC4","v":0},{"$f":"Questions!CVD4","v":0},{"$f":"Questions!CVE4","v":0},{"$f":"Questions!CVF4","v":0},{"$f":"Questions!CVG4","v":0},{"$f":"Questions!CVH4","v":0},{"$f":"Questions!CVI4","v":0},{"$f":"Questions!CVJ4","v":0},{"$f":"Questions!CVK4","v":0},{"$f":"Questions!CVL4","v":0},{"$f":"Questions!CVM4","v":0},{"$f":"Questions!CVN4","v":0},{"$f":"Questions!CVO4","v":0},{"$f":"Questions!CVP4","v":0},{"$f":"Questions!CVQ4","v":0},{"$f":"Questions!CVR4","v":0},{"$f":"Questions!CVS4","v":0},{"$f":"Questions!CVT4","v":0},{"$f":"Questions!CVU4","v":0},{"$f":"Questions!CVV4","v":0},{"$f":"Questions!CVW4","v":0},{"$f":"Questions!CVX4","v":0},{"$f":"Questions!CVY4","v":0},{"$f":"Questions!CVZ4","v":0},{"$f":"Questions!CWA4","v":0},{"$f":"Questions!CWB4","v":0},{"$f":"Questions!CWC4","v":0},{"$f":"Questions!CWD4","v":0},{"$f":"Questions!CWE4","v":0},{"$f":"Questions!CWF4","v":0},{"$f":"Questions!CWG4","v":0},{"$f":"Questions!CWH4","v":0},{"$f":"Questions!CWI4","v":0},{"$f":"Questions!CWJ4","v":0},{"$f":"Questions!CWK4","v":0},{"$f":"Questions!CWL4","v":0},{"$f":"Questions!CWM4","v":0},{"$f":"Questions!CWN4","v":0},{"$f":"Questions!CWO4","v":0},{"$f":"Questions!CWP4","v":0},{"$f":"Questions!CWQ4","v":0},{"$f":"Questions!CWR4","v":0},{"$f":"Questions!CWS4","v":0},{"$f":"Questions!CWT4","v":0},{"$f":"Questions!CWU4","v":0},{"$f":"Questions!CWV4","v":0},{"$f":"Questions!CWW4","v":0},{"$f":"Questions!CWX4","v":0},{"$f":"Questions!CWY4","v":0},{"$f":"Questions!CWZ4","v":0},{"$f":"Questions!CXA4","v":0},{"$f":"Questions!CXB4","v":0},{"$f":"Questions!CXC4","v":0},{"$f":"Questions!CXD4","v":0},{"$f":"Questions!CXE4","v":0},{"$f":"Questions!CXF4","v":0},{"$f":"Questions!CXG4","v":0},{"$f":"Questions!CXH4","v":0},{"$f":"Questions!CXI4","v":0},{"$f":"Questions!CXJ4","v":0},{"$f":"Questions!CXK4","v":0},{"$f":"Questions!CXL4","v":0},{"$f":"Questions!CXM4","v":0},{"$f":"Questions!CXN4","v":0},{"$f":"Questions!CXO4","v":0},{"$f":"Questions!CXP4","v":0},{"$f":"Questions!CXQ4","v":0},{"$f":"Questions!CXR4","v":0},{"$f":"Questions!CXS4","v":0},{"$f":"Questions!CXT4","v":0},{"$f":"Questions!CXU4","v":0},{"$f":"Questions!CXV4","v":0},{"$f":"Questions!CXW4","v":0},{"$f":"Questions!CXX4","v":0},{"$f":"Questions!CXY4","v":0},{"$f":"Questions!CXZ4","v":0},{"$f":"Questions!CYA4","v":0},{"$f":"Questions!CYB4","v":0},{"$f":"Questions!CYC4","v":0},{"$f":"Questions!CYD4","v":0},{"$f":"Questions!CYE4","v":0},{"$f":"Questions!CYF4","v":0},{"$f":"Questions!CYG4","v":0},{"$f":"Questions!CYH4","v":0},{"$f":"Questions!CYI4","v":0},{"$f":"Questions!CYJ4","v":0},{"$f":"Questions!CYK4","v":0},{"$f":"Questions!CYL4","v":0},{"$f":"Questions!CYM4","v":0},{"$f":"Questions!CYN4","v":0},{"$f":"Questions!CYO4","v":0},{"$f":"Questions!CYP4","v":0},{"$f":"Questions!CYQ4","v":0},{"$f":"Questions!CYR4","v":0},{"$f":"Questions!CYS4","v":0},{"$f":"Questions!CYT4","v":0},{"$f":"Questions!CYU4","v":0},{"$f":"Questions!CYV4","v":0},{"$f":"Questions!CYW4","v":0},{"$f":"Questions!CYX4","v":0},{"$f":"Questions!CYY4","v":0},{"$f":"Questions!CYZ4","v":0},{"$f":"Questions!CZA4","v":0},{"$f":"Questions!CZB4","v":0},{"$f":"Questions!CZC4","v":0},{"$f":"Questions!CZD4","v":0},{"$f":"Questions!CZE4","v":0},{"$f":"Questions!CZF4","v":0},{"$f":"Questions!CZG4","v":0},{"$f":"Questions!CZH4","v":0},{"$f":"Questions!CZI4","v":0},{"$f":"Questions!CZJ4","v":0},{"$f":"Questions!CZK4","v":0},{"$f":"Questions!CZL4","v":0},{"$f":"Questions!CZM4","v":0},{"$f":"Questions!CZN4","v":0},{"$f":"Questions!CZO4","v":0},{"$f":"Questions!CZP4","v":0},{"$f":"Questions!CZQ4","v":0},{"$f":"Questions!CZR4","v":0},{"$f":"Questions!CZS4","v":0},{"$f":"Questions!CZT4","v":0},{"$f":"Questions!CZU4","v":0},{"$f":"Questions!CZV4","v":0},{"$f":"Questions!CZW4","v":0},{"$f":"Questions!CZX4","v":0},{"$f":"Questions!CZY4","v":0},{"$f":"Questions!CZZ4","v":0},{"$f":"Questions!DAA4","v":0},{"$f":"Questions!DAB4","v":0},{"$f":"Questions!DAC4","v":0},{"$f":"Questions!DAD4","v":0},{"$f":"Questions!DAE4","v":0},{"$f":"Questions!DAF4","v":0},{"$f":"Questions!DAG4","v":0},{"$f":"Questions!DAH4","v":0},{"$f":"Questions!DAI4","v":0},{"$f":"Questions!DAJ4","v":0},{"$f":"Questions!DAK4","v":0},{"$f":"Questions!DAL4","v":0},{"$f":"Questions!DAM4","v":0},{"$f":"Questions!DAN4","v":0},{"$f":"Questions!DAO4","v":0},{"$f":"Questions!DAP4","v":0},{"$f":"Questions!DAQ4","v":0},{"$f":"Questions!DAR4","v":0},{"$f":"Questions!DAS4","v":0},{"$f":"Questions!DAT4","v":0},{"$f":"Questions!DAU4","v":0},{"$f":"Questions!DAV4","v":0},{"$f":"Questions!DAW4","v":0},{"$f":"Questions!DAX4","v":0},{"$f":"Questions!DAY4","v":0},{"$f":"Questions!DAZ4","v":0},{"$f":"Questions!DBA4","v":0},{"$f":"Questions!DBB4","v":0},{"$f":"Questions!DBC4","v":0},{"$f":"Questions!DBD4","v":0},{"$f":"Questions!DBE4","v":0},{"$f":"Questions!DBF4","v":0},{"$f":"Questions!DBG4","v":0},{"$f":"Questions!DBH4","v":0},{"$f":"Questions!DBI4","v":0},{"$f":"Questions!DBJ4","v":0},{"$f":"Questions!DBK4","v":0},{"$f":"Questions!DBL4","v":0},{"$f":"Questions!DBM4","v":0},{"$f":"Questions!DBN4","v":0},{"$f":"Questions!DBO4","v":0},{"$f":"Questions!DBP4","v":0},{"$f":"Questions!DBQ4","v":0},{"$f":"Questions!DBR4","v":0},{"$f":"Questions!DBS4","v":0},{"$f":"Questions!DBT4","v":0},{"$f":"Questions!DBU4","v":0},{"$f":"Questions!DBV4","v":0},{"$f":"Questions!DBW4","v":0},{"$f":"Questions!DBX4","v":0},{"$f":"Questions!DBY4","v":0},{"$f":"Questions!DBZ4","v":0},{"$f":"Questions!DCA4","v":0},{"$f":"Questions!DCB4","v":0},{"$f":"Questions!DCC4","v":0},{"$f":"Questions!DCD4","v":0},{"$f":"Questions!DCE4","v":0},{"$f":"Questions!DCF4","v":0},{"$f":"Questions!DCG4","v":0},{"$f":"Questions!DCH4","v":0},{"$f":"Questions!DCI4","v":0},{"$f":"Questions!DCJ4","v":0},{"$f":"Questions!DCK4","v":0},{"$f":"Questions!DCL4","v":0},{"$f":"Questions!DCM4","v":0},{"$f":"Questions!DCN4","v":0},{"$f":"Questions!DCO4","v":0},{"$f":"Questions!DCP4","v":0},{"$f":"Questions!DCQ4","v":0},{"$f":"Questions!DCR4","v":0},{"$f":"Questions!DCS4","v":0},{"$f":"Questions!DCT4","v":0},{"$f":"Questions!DCU4","v":0},{"$f":"Questions!DCV4","v":0},{"$f":"Questions!DCW4","v":0},{"$f":"Questions!DCX4","v":0},{"$f":"Questions!DCY4","v":0},{"$f":"Questions!DCZ4","v":0},{"$f":"Questions!DDA4","v":0},{"$f":"Questions!DDB4","v":0},{"$f":"Questions!DDC4","v":0},{"$f":"Questions!DDD4","v":0},{"$f":"Questions!DDE4","v":0},{"$f":"Questions!DDF4","v":0},{"$f":"Questions!DDG4","v":0},{"$f":"Questions!DDH4","v":0},{"$f":"Questions!DDI4","v":0},{"$f":"Questions!DDJ4","v":0},{"$f":"Questions!DDK4","v":0},{"$f":"Questions!DDL4","v":0},{"$f":"Questions!DDM4","v":0},{"$f":"Questions!DDN4","v":0},{"$f":"Questions!DDO4","v":0},{"$f":"Questions!DDP4","v":0},{"$f":"Questions!DDQ4","v":0},{"$f":"Questions!DDR4","v":0},{"$f":"Questions!DDS4","v":0},{"$f":"Questions!DDT4","v":0},{"$f":"Questions!DDU4","v":0},{"$f":"Questions!DDV4","v":0},{"$f":"Questions!DDW4","v":0},{"$f":"Questions!DDX4","v":0},{"$f":"Questions!DDY4","v":0},{"$f":"Questions!DDZ4","v":0},{"$f":"Questions!DEA4","v":0},{"$f":"Questions!DEB4","v":0},{"$f":"Questions!DEC4","v":0},{"$f":"Questions!DED4","v":0},{"$f":"Questions!DEE4","v":0},{"$f":"Questions!DEF4","v":0},{"$f":"Questions!DEG4","v":0},{"$f":"Questions!DEH4","v":0},{"$f":"Questions!DEI4","v":0},{"$f":"Questions!DEJ4","v":0},{"$f":"Questions!DEK4","v":0},{"$f":"Questions!DEL4","v":0},{"$f":"Questions!DEM4","v":0},{"$f":"Questions!DEN4","v":0},{"$f":"Questions!DEO4","v":0},{"$f":"Questions!DEP4","v":0},{"$f":"Questions!DEQ4","v":0},{"$f":"Questions!DER4","v":0},{"$f":"Questions!DES4","v":0},{"$f":"Questions!DET4","v":0},{"$f":"Questions!DEU4","v":0},{"$f":"Questions!DEV4","v":0},{"$f":"Questions!DEW4","v":0},{"$f":"Questions!DEX4","v":0},{"$f":"Questions!DEY4","v":0},{"$f":"Questions!DEZ4","v":0},{"$f":"Questions!DFA4","v":0},{"$f":"Questions!DFB4","v":0},{"$f":"Questions!DFC4","v":0},{"$f":"Questions!DFD4","v":0},{"$f":"Questions!DFE4","v":0},{"$f":"Questions!DFF4","v":0},{"$f":"Questions!DFG4","v":0},{"$f":"Questions!DFH4","v":0},{"$f":"Questions!DFI4","v":0},{"$f":"Questions!DFJ4","v":0},{"$f":"Questions!DFK4","v":0},{"$f":"Questions!DFL4","v":0},{"$f":"Questions!DFM4","v":0},{"$f":"Questions!DFN4","v":0},{"$f":"Questions!DFO4","v":0},{"$f":"Questions!DFP4","v":0},{"$f":"Questions!DFQ4","v":0},{"$f":"Questions!DFR4","v":0},{"$f":"Questions!DFS4","v":0},{"$f":"Questions!DFT4","v":0},{"$f":"Questions!DFU4","v":0},{"$f":"Questions!DFV4","v":0},{"$f":"Questions!DFW4","v":0},{"$f":"Questions!DFX4","v":0},{"$f":"Questions!DFY4","v":0},{"$f":"Questions!DFZ4","v":0},{"$f":"Questions!DGA4","v":0},{"$f":"Questions!DGB4","v":0},{"$f":"Questions!DGC4","v":0},{"$f":"Questions!DGD4","v":0},{"$f":"Questions!DGE4","v":0},{"$f":"Questions!DGF4","v":0},{"$f":"Questions!DGG4","v":0},{"$f":"Questions!DGH4","v":0},{"$f":"Questions!DGI4","v":0},{"$f":"Questions!DGJ4","v":0},{"$f":"Questions!DGK4","v":0},{"$f":"Questions!DGL4","v":0},{"$f":"Questions!DGM4","v":0},{"$f":"Questions!DGN4","v":0},{"$f":"Questions!DGO4","v":0},{"$f":"Questions!DGP4","v":0},{"$f":"Questions!DGQ4","v":0},{"$f":"Questions!DGR4","v":0},{"$f":"Questions!DGS4","v":0},{"$f":"Questions!DGT4","v":0},{"$f":"Questions!DGU4","v":0},{"$f":"Questions!DGV4","v":0},{"$f":"Questions!DGW4","v":0},{"$f":"Questions!DGX4","v":0},{"$f":"Questions!DGY4","v":0},{"$f":"Questions!DGZ4","v":0},{"$f":"Questions!DHA4","v":0},{"$f":"Questions!DHB4","v":0},{"$f":"Questions!DHC4","v":0},{"$f":"Questions!DHD4","v":0},{"$f":"Questions!DHE4","v":0},{"$f":"Questions!DHF4","v":0},{"$f":"Questions!DHG4","v":0},{"$f":"Questions!DHH4","v":0},{"$f":"Questions!DHI4","v":0},{"$f":"Questions!DHJ4","v":0},{"$f":"Questions!DHK4","v":0},{"$f":"Questions!DHL4","v":0},{"$f":"Questions!DHM4","v":0},{"$f":"Questions!DHN4","v":0},{"$f":"Questions!DHO4","v":0},{"$f":"Questions!DHP4","v":0},{"$f":"Questions!DHQ4","v":0},{"$f":"Questions!DHR4","v":0},{"$f":"Questions!DHS4","v":0},{"$f":"Questions!DHT4","v":0},{"$f":"Questions!DHU4","v":0},{"$f":"Questions!DHV4","v":0},{"$f":"Questions!DHW4","v":0},{"$f":"Questions!DHX4","v":0},{"$f":"Questions!DHY4","v":0},{"$f":"Questions!DHZ4","v":0},{"$f":"Questions!DIA4","v":0},{"$f":"Questions!DIB4","v":0},{"$f":"Questions!DIC4","v":0},{"$f":"Questions!DID4","v":0},{"$f":"Questions!DIE4","v":0},{"$f":"Questions!DIF4","v":0},{"$f":"Questions!DIG4","v":0},{"$f":"Questions!DIH4","v":0},{"$f":"Questions!DII4","v":0},{"$f":"Questions!DIJ4","v":0},{"$f":"Questions!DIK4","v":0},{"$f":"Questions!DIL4","v":0},{"$f":"Questions!DIM4","v":0},{"$f":"Questions!DIN4","v":0},{"$f":"Questions!DIO4","v":0},{"$f":"Questions!DIP4","v":0},{"$f":"Questions!DIQ4","v":0},{"$f":"Questions!DIR4","v":0},{"$f":"Questions!DIS4","v":0},{"$f":"Questions!DIT4","v":0},{"$f":"Questions!DIU4","v":0},{"$f":"Questions!DIV4","v":0},{"$f":"Questions!DIW4","v":0},{"$f":"Questions!DIX4","v":0},{"$f":"Questions!DIY4","v":0},{"$f":"Questions!DIZ4","v":0},{"$f":"Questions!DJA4","v":0},{"$f":"Questions!DJB4","v":0},{"$f":"Questions!DJC4","v":0},{"$f":"Questions!DJD4","v":0},{"$f":"Questions!DJE4","v":0},{"$f":"Questions!DJF4","v":0},{"$f":"Questions!DJG4","v":0},{"$f":"Questions!DJH4","v":0},{"$f":"Questions!DJI4","v":0},{"$f":"Questions!DJJ4","v":0},{"$f":"Questions!DJK4","v":0},{"$f":"Questions!DJL4","v":0},{"$f":"Questions!DJM4","v":0},{"$f":"Questions!DJN4","v":0},{"$f":"Questions!DJO4","v":0},{"$f":"Questions!DJP4","v":0},{"$f":"Questions!DJQ4","v":0},{"$f":"Questions!DJR4","v":0},{"$f":"Questions!DJS4","v":0},{"$f":"Questions!DJT4","v":0},{"$f":"Questions!DJU4","v":0},{"$f":"Questions!DJV4","v":0},{"$f":"Questions!DJW4","v":0},{"$f":"Questions!DJX4","v":0},{"$f":"Questions!DJY4","v":0},{"$f":"Questions!DJZ4","v":0},{"$f":"Questions!DKA4","v":0},{"$f":"Questions!DKB4","v":0},{"$f":"Questions!DKC4","v":0},{"$f":"Questions!DKD4","v":0},{"$f":"Questions!DKE4","v":0},{"$f":"Questions!DKF4","v":0},{"$f":"Questions!DKG4","v":0},{"$f":"Questions!DKH4","v":0},{"$f":"Questions!DKI4","v":0},{"$f":"Questions!DKJ4","v":0},{"$f":"Questions!DKK4","v":0},{"$f":"Questions!DKL4","v":0},{"$f":"Questions!DKM4","v":0},{"$f":"Questions!DKN4","v":0},{"$f":"Questions!DKO4","v":0},{"$f":"Questions!DKP4","v":0},{"$f":"Questions!DKQ4","v":0},{"$f":"Questions!DKR4","v":0},{"$f":"Questions!DKS4","v":0},{"$f":"Questions!DKT4","v":0},{"$f":"Questions!DKU4","v":0},{"$f":"Questions!DKV4","v":0},{"$f":"Questions!DKW4","v":0},{"$f":"Questions!DKX4","v":0},{"$f":"Questions!DKY4","v":0},{"$f":"Questions!DKZ4","v":0},{"$f":"Questions!DLA4","v":0},{"$f":"Questions!DLB4","v":0},{"$f":"Questions!DLC4","v":0},{"$f":"Questions!DLD4","v":0},{"$f":"Questions!DLE4","v":0},{"$f":"Questions!DLF4","v":0},{"$f":"Questions!DLG4","v":0},{"$f":"Questions!DLH4","v":0},{"$f":"Questions!DLI4","v":0},{"$f":"Questions!DLJ4","v":0},{"$f":"Questions!DLK4","v":0},{"$f":"Questions!DLL4","v":0},{"$f":"Questions!DLM4","v":0},{"$f":"Questions!DLN4","v":0},{"$f":"Questions!DLO4","v":0},{"$f":"Questions!DLP4","v":0},{"$f":"Questions!DLQ4","v":0},{"$f":"Questions!DLR4","v":0},{"$f":"Questions!DLS4","v":0},{"$f":"Questions!DLT4","v":0},{"$f":"Questions!DLU4","v":0},{"$f":"Questions!DLV4","v":0},{"$f":"Questions!DLW4","v":0},{"$f":"Questions!DLX4","v":0},{"$f":"Questions!DLY4","v":0},{"$f":"Questions!DLZ4","v":0},{"$f":"Questions!DMA4","v":0},{"$f":"Questions!DMB4","v":0},{"$f":"Questions!DMC4","v":0},{"$f":"Questions!DMD4","v":0},{"$f":"Questions!DME4","v":0},{"$f":"Questions!DMF4","v":0},{"$f":"Questions!DMG4","v":0},{"$f":"Questions!DMH4","v":0},{"$f":"Questions!DMI4","v":0},{"$f":"Questions!DMJ4","v":0},{"$f":"Questions!DMK4","v":0},{"$f":"Questions!DML4","v":0},{"$f":"Questions!DMM4","v":0},{"$f":"Questions!DMN4","v":0},{"$f":"Questions!DMO4","v":0},{"$f":"Questions!DMP4","v":0},{"$f":"Questions!DMQ4","v":0},{"$f":"Questions!DMR4","v":0},{"$f":"Questions!DMS4","v":0},{"$f":"Questions!DMT4","v":0},{"$f":"Questions!DMU4","v":0},{"$f":"Questions!DMV4","v":0},{"$f":"Questions!DMW4","v":0},{"$f":"Questions!DMX4","v":0},{"$f":"Questions!DMY4","v":0},{"$f":"Questions!DMZ4","v":0},{"$f":"Questions!DNA4","v":0},{"$f":"Questions!DNB4","v":0},{"$f":"Questions!DNC4","v":0},{"$f":"Questions!DND4","v":0},{"$f":"Questions!DNE4","v":0},{"$f":"Questions!DNF4","v":0},{"$f":"Questions!DNG4","v":0},{"$f":"Questions!DNH4","v":0},{"$f":"Questions!DNI4","v":0},{"$f":"Questions!DNJ4","v":0},{"$f":"Questions!DNK4","v":0},{"$f":"Questions!DNL4","v":0},{"$f":"Questions!DNM4","v":0},{"$f":"Questions!DNN4","v":0},{"$f":"Questions!DNO4","v":0},{"$f":"Questions!DNP4","v":0},{"$f":"Questions!DNQ4","v":0},{"$f":"Questions!DNR4","v":0},{"$f":"Questions!DNS4","v":0},{"$f":"Questions!DNT4","v":0},{"$f":"Questions!DNU4","v":0},{"$f":"Questions!DNV4","v":0},{"$f":"Questions!DNW4","v":0},{"$f":"Questions!DNX4","v":0},{"$f":"Questions!DNY4","v":0},{"$f":"Questions!DNZ4","v":0},{"$f":"Questions!DOA4","v":0},{"$f":"Questions!DOB4","v":0},{"$f":"Questions!DOC4","v":0},{"$f":"Questions!DOD4","v":0},{"$f":"Questions!DOE4","v":0},{"$f":"Questions!DOF4","v":0},{"$f":"Questions!DOG4","v":0},{"$f":"Questions!DOH4","v":0},{"$f":"Questions!DOI4","v":0},{"$f":"Questions!DOJ4","v":0},{"$f":"Questions!DOK4","v":0},{"$f":"Questions!DOL4","v":0},{"$f":"Questions!DOM4","v":0},{"$f":"Questions!DON4","v":0},{"$f":"Questions!DOO4","v":0},{"$f":"Questions!DOP4","v":0},{"$f":"Questions!DOQ4","v":0},{"$f":"Questions!DOR4","v":0},{"$f":"Questions!DOS4","v":0},{"$f":"Questions!DOT4","v":0},{"$f":"Questions!DOU4","v":0},{"$f":"Questions!DOV4","v":0},{"$f":"Questions!DOW4","v":0},{"$f":"Questions!DOX4","v":0},{"$f":"Questions!DOY4","v":0},{"$f":"Questions!DOZ4","v":0},{"$f":"Questions!DPA4","v":0},{"$f":"Questions!DPB4","v":0},{"$f":"Questions!DPC4","v":0},{"$f":"Questions!DPD4","v":0},{"$f":"Questions!DPE4","v":0},{"$f":"Questions!DPF4","v":0},{"$f":"Questions!DPG4","v":0},{"$f":"Questions!DPH4","v":0},{"$f":"Questions!DPI4","v":0},{"$f":"Questions!DPJ4","v":0},{"$f":"Questions!DPK4","v":0},{"$f":"Questions!DPL4","v":0},{"$f":"Questions!DPM4","v":0},{"$f":"Questions!DPN4","v":0},{"$f":"Questions!DPO4","v":0},{"$f":"Questions!DPP4","v":0},{"$f":"Questions!DPQ4","v":0},{"$f":"Questions!DPR4","v":0},{"$f":"Questions!DPS4","v":0},{"$f":"Questions!DPT4","v":0},{"$f":"Questions!DPU4","v":0},{"$f":"Questions!DPV4","v":0},{"$f":"Questions!DPW4","v":0},{"$f":"Questions!DPX4","v":0},{"$f":"Questions!DPY4","v":0},{"$f":"Questions!DPZ4","v":0},{"$f":"Questions!DQA4","v":0},{"$f":"Questions!DQB4","v":0},{"$f":"Questions!DQC4","v":0},{"$f":"Questions!DQD4","v":0},{"$f":"Questions!DQE4","v":0},{"$f":"Questions!DQF4","v":0},{"$f":"Questions!DQG4","v":0},{"$f":"Questions!DQH4","v":0},{"$f":"Questions!DQI4","v":0},{"$f":"Questions!DQJ4","v":0},{"$f":"Questions!DQK4","v":0},{"$f":"Questions!DQL4","v":0},{"$f":"Questions!DQM4","v":0},{"$f":"Questions!DQN4","v":0},{"$f":"Questions!DQO4","v":0},{"$f":"Questions!DQP4","v":0},{"$f":"Questions!DQQ4","v":0},{"$f":"Questions!DQR4","v":0},{"$f":"Questions!DQS4","v":0},{"$f":"Questions!DQT4","v":0},{"$f":"Questions!DQU4","v":0},{"$f":"Questions!DQV4","v":0},{"$f":"Questions!DQW4","v":0},{"$f":"Questions!DQX4","v":0},{"$f":"Questions!DQY4","v":0},{"$f":"Questions!DQZ4","v":0},{"$f":"Questions!DRA4","v":0},{"$f":"Questions!DRB4","v":0},{"$f":"Questions!DRC4","v":0},{"$f":"Questions!DRD4","v":0},{"$f":"Questions!DRE4","v":0},{"$f":"Questions!DRF4","v":0},{"$f":"Questions!DRG4","v":0},{"$f":"Questions!DRH4","v":0},{"$f":"Questions!DRI4","v":0},{"$f":"Questions!DRJ4","v":0},{"$f":"Questions!DRK4","v":0},{"$f":"Questions!DRL4","v":0},{"$f":"Questions!DRM4","v":0},{"$f":"Questions!DRN4","v":0},{"$f":"Questions!DRO4","v":0},{"$f":"Questions!DRP4","v":0},{"$f":"Questions!DRQ4","v":0},{"$f":"Questions!DRR4","v":0},{"$f":"Questions!DRS4","v":0},{"$f":"Questions!DRT4","v":0},{"$f":"Questions!DRU4","v":0},{"$f":"Questions!DRV4","v":0},{"$f":"Questions!DRW4","v":0},{"$f":"Questions!DRX4","v":0},{"$f":"Questions!DRY4","v":0},{"$f":"Questions!DRZ4","v":0},{"$f":"Questions!DSA4","v":0},{"$f":"Questions!DSB4","v":0},{"$f":"Questions!DSC4","v":0},{"$f":"Questions!DSD4","v":0},{"$f":"Questions!DSE4","v":0},{"$f":"Questions!DSF4","v":0},{"$f":"Questions!DSG4","v":0},{"$f":"Questions!DSH4","v":0},{"$f":"Questions!DSI4","v":0},{"$f":"Questions!DSJ4","v":0},{"$f":"Questions!DSK4","v":0},{"$f":"Questions!DSL4","v":0},{"$f":"Questions!DSM4","v":0},{"$f":"Questions!DSN4","v":0},{"$f":"Questions!DSO4","v":0},{"$f":"Questions!DSP4","v":0},{"$f":"Questions!DSQ4","v":0},{"$f":"Questions!DSR4","v":0},{"$f":"Questions!DSS4","v":0},{"$f":"Questions!DST4","v":0},{"$f":"Questions!DSU4","v":0},{"$f":"Questions!DSV4","v":0},{"$f":"Questions!DSW4","v":0},{"$f":"Questions!DSX4","v":0},{"$f":"Questions!DSY4","v":0},{"$f":"Questions!DSZ4","v":0},{"$f":"Questions!DTA4","v":0},{"$f":"Questions!DTB4","v":0},{"$f":"Questions!DTC4","v":0},{"$f":"Questions!DTD4","v":0},{"$f":"Questions!DTE4","v":0},{"$f":"Questions!DTF4","v":0},{"$f":"Questions!DTG4","v":0},{"$f":"Questions!DTH4","v":0},{"$f":"Questions!DTI4","v":0},{"$f":"Questions!DTJ4","v":0},{"$f":"Questions!DTK4","v":0},{"$f":"Questions!DTL4","v":0},{"$f":"Questions!DTM4","v":0},{"$f":"Questions!DTN4","v":0},{"$f":"Questions!DTO4","v":0},{"$f":"Questions!DTP4","v":0},{"$f":"Questions!DTQ4","v":0},{"$f":"Questions!DTR4","v":0},{"$f":"Questions!DTS4","v":0},{"$f":"Questions!DTT4","v":0},{"$f":"Questions!DTU4","v":0},{"$f":"Questions!DTV4","v":0},{"$f":"Questions!DTW4","v":0},{"$f":"Questions!DTX4","v":0},{"$f":"Questions!DTY4","v":0},{"$f":"Questions!DTZ4","v":0},{"$f":"Questions!DUA4","v":0},{"$f":"Questions!DUB4","v":0},{"$f":"Questions!DUC4","v":0},{"$f":"Questions!DUD4","v":0},{"$f":"Questions!DUE4","v":0},{"$f":"Questions!DUF4","v":0},{"$f":"Questions!DUG4","v":0},{"$f":"Questions!DUH4","v":0},{"$f":"Questions!DUI4","v":0},{"$f":"Questions!DUJ4","v":0},{"$f":"Questions!DUK4","v":0},{"$f":"Questions!DUL4","v":0},{"$f":"Questions!DUM4","v":0},{"$f":"Questions!DUN4","v":0},{"$f":"Questions!DUO4","v":0},{"$f":"Questions!DUP4","v":0},{"$f":"Questions!DUQ4","v":0},{"$f":"Questions!DUR4","v":0},{"$f":"Questions!DUS4","v":0},{"$f":"Questions!DUT4","v":0},{"$f":"Questions!DUU4","v":0},{"$f":"Questions!DUV4","v":0},{"$f":"Questions!DUW4","v":0},{"$f":"Questions!DUX4","v":0},{"$f":"Questions!DUY4","v":0},{"$f":"Questions!DUZ4","v":0},{"$f":"Questions!DVA4","v":0},{"$f":"Questions!DVB4","v":0},{"$f":"Questions!DVC4","v":0},{"$f":"Questions!DVD4","v":0},{"$f":"Questions!DVE4","v":0},{"$f":"Questions!DVF4","v":0},{"$f":"Questions!DVG4","v":0},{"$f":"Questions!DVH4","v":0},{"$f":"Questions!DVI4","v":0},{"$f":"Questions!DVJ4","v":0},{"$f":"Questions!DVK4","v":0},{"$f":"Questions!DVL4","v":0},{"$f":"Questions!DVM4","v":0},{"$f":"Questions!DVN4","v":0},{"$f":"Questions!DVO4","v":0},{"$f":"Questions!DVP4","v":0},{"$f":"Questions!DVQ4","v":0},{"$f":"Questions!DVR4","v":0},{"$f":"Questions!DVS4","v":0},{"$f":"Questions!DVT4","v":0},{"$f":"Questions!DVU4","v":0},{"$f":"Questions!DVV4","v":0},{"$f":"Questions!DVW4","v":0},{"$f":"Questions!DVX4","v":0},{"$f":"Questions!DVY4","v":0},{"$f":"Questions!DVZ4","v":0},{"$f":"Questions!DWA4","v":0},{"$f":"Questions!DWB4","v":0},{"$f":"Questions!DWC4","v":0},{"$f":"Questions!DWD4","v":0},{"$f":"Questions!DWE4","v":0},{"$f":"Questions!DWF4","v":0},{"$f":"Questions!DWG4","v":0},{"$f":"Questions!DWH4","v":0},{"$f":"Questions!DWI4","v":0},{"$f":"Questions!DWJ4","v":0},{"$f":"Questions!DWK4","v":0},{"$f":"Questions!DWL4","v":0},{"$f":"Questions!DWM4","v":0},{"$f":"Questions!DWN4","v":0},{"$f":"Questions!DWO4","v":0},{"$f":"Questions!DWP4","v":0},{"$f":"Questions!DWQ4","v":0},{"$f":"Questions!DWR4","v":0},{"$f":"Questions!DWS4","v":0},{"$f":"Questions!DWT4","v":0},{"$f":"Questions!DWU4","v":0},{"$f":"Questions!DWV4","v":0},{"$f":"Questions!DWW4","v":0},{"$f":"Questions!DWX4","v":0},{"$f":"Questions!DWY4","v":0},{"$f":"Questions!DWZ4","v":0},{"$f":"Questions!DXA4","v":0},{"$f":"Questions!DXB4","v":0},{"$f":"Questions!DXC4","v":0},{"$f":"Questions!DXD4","v":0},{"$f":"Questions!DXE4","v":0},{"$f":"Questions!DXF4","v":0},{"$f":"Questions!DXG4","v":0},{"$f":"Questions!DXH4","v":0},{"$f":"Questions!DXI4","v":0},{"$f":"Questions!DXJ4","v":0},{"$f":"Questions!DXK4","v":0},{"$f":"Questions!DXL4","v":0},{"$f":"Questions!DXM4","v":0},{"$f":"Questions!DXN4","v":0},{"$f":"Questions!DXO4","v":0},{"$f":"Questions!DXP4","v":0},{"$f":"Questions!DXQ4","v":0},{"$f":"Questions!DXR4","v":0},{"$f":"Questions!DXS4","v":0},{"$f":"Questions!DXT4","v":0},{"$f":"Questions!DXU4","v":0},{"$f":"Questions!DXV4","v":0},{"$f":"Questions!DXW4","v":0},{"$f":"Questions!DXX4","v":0},{"$f":"Questions!DXY4","v":0},{"$f":"Questions!DXZ4","v":0},{"$f":"Questions!DYA4","v":0},{"$f":"Questions!DYB4","v":0},{"$f":"Questions!DYC4","v":0},{"$f":"Questions!DYD4","v":0},{"$f":"Questions!DYE4","v":0},{"$f":"Questions!DYF4","v":0},{"$f":"Questions!DYG4","v":0},{"$f":"Questions!DYH4","v":0},{"$f":"Questions!DYI4","v":0},{"$f":"Questions!DYJ4","v":0},{"$f":"Questions!DYK4","v":0},{"$f":"Questions!DYL4","v":0},{"$f":"Questions!DYM4","v":0},{"$f":"Questions!DYN4","v":0},{"$f":"Questions!DYO4","v":0},{"$f":"Questions!DYP4","v":0},{"$f":"Questions!DYQ4","v":0},{"$f":"Questions!DYR4","v":0},{"$f":"Questions!DYS4","v":0},{"$f":"Questions!DYT4","v":0},{"$f":"Questions!DYU4","v":0},{"$f":"Questions!DYV4","v":0},{"$f":"Questions!DYW4","v":0},{"$f":"Questions!DYX4","v":0},{"$f":"Questions!DYY4","v":0},{"$f":"Questions!DYZ4","v":0},{"$f":"Questions!DZA4","v":0},{"$f":"Questions!DZB4","v":0},{"$f":"Questions!DZC4","v":0},{"$f":"Questions!DZD4","v":0},{"$f":"Questions!DZE4","v":0},{"$f":"Questions!DZF4","v":0},{"$f":"Questions!DZG4","v":0},{"$f":"Questions!DZH4","v":0},{"$f":"Questions!DZI4","v":0},{"$f":"Questions!DZJ4","v":0},{"$f":"Questions!DZK4","v":0},{"$f":"Questions!DZL4","v":0},{"$f":"Questions!DZM4","v":0},{"$f":"Questions!DZN4","v":0},{"$f":"Questions!DZO4","v":0},{"$f":"Questions!DZP4","v":0},{"$f":"Questions!DZQ4","v":0},{"$f":"Questions!DZR4","v":0},{"$f":"Questions!DZS4","v":0},{"$f":"Questions!DZT4","v":0},{"$f":"Questions!DZU4","v":0},{"$f":"Questions!DZV4","v":0},{"$f":"Questions!DZW4","v":0},{"$f":"Questions!DZX4","v":0},{"$f":"Questions!DZY4","v":0},{"$f":"Questions!DZZ4","v":0},{"$f":"Questions!EAA4","v":0},{"$f":"Questions!EAB4","v":0},{"$f":"Questions!EAC4","v":0},{"$f":"Questions!EAD4","v":0},{"$f":"Questions!EAE4","v":0},{"$f":"Questions!EAF4","v":0},{"$f":"Questions!EAG4","v":0},{"$f":"Questions!EAH4","v":0},{"$f":"Questions!EAI4","v":0},{"$f":"Questions!EAJ4","v":0},{"$f":"Questions!EAK4","v":0},{"$f":"Questions!EAL4","v":0},{"$f":"Questions!EAM4","v":0},{"$f":"Questions!EAN4","v":0},{"$f":"Questions!EAO4","v":0},{"$f":"Questions!EAP4","v":0},{"$f":"Questions!EAQ4","v":0},{"$f":"Questions!EAR4","v":0},{"$f":"Questions!EAS4","v":0},{"$f":"Questions!EAT4","v":0},{"$f":"Questions!EAU4","v":0},{"$f":"Questions!EAV4","v":0},{"$f":"Questions!EAW4","v":0},{"$f":"Questions!EAX4","v":0},{"$f":"Questions!EAY4","v":0},{"$f":"Questions!EAZ4","v":0},{"$f":"Questions!EBA4","v":0},{"$f":"Questions!EBB4","v":0},{"$f":"Questions!EBC4","v":0},{"$f":"Questions!EBD4","v":0},{"$f":"Questions!EBE4","v":0},{"$f":"Questions!EBF4","v":0},{"$f":"Questions!EBG4","v":0},{"$f":"Questions!EBH4","v":0},{"$f":"Questions!EBI4","v":0},{"$f":"Questions!EBJ4","v":0},{"$f":"Questions!EBK4","v":0},{"$f":"Questions!EBL4","v":0},{"$f":"Questions!EBM4","v":0},{"$f":"Questions!EBN4","v":0},{"$f":"Questions!EBO4","v":0},{"$f":"Questions!EBP4","v":0},{"$f":"Questions!EBQ4","v":0},{"$f":"Questions!EBR4","v":0},{"$f":"Questions!EBS4","v":0},{"$f":"Questions!EBT4","v":0},{"$f":"Questions!EBU4","v":0},{"$f":"Questions!EBV4","v":0},{"$f":"Questions!EBW4","v":0},{"$f":"Questions!EBX4","v":0},{"$f":"Questions!EBY4","v":0},{"$f":"Questions!EBZ4","v":0},{"$f":"Questions!ECA4","v":0},{"$f":"Questions!ECB4","v":0},{"$f":"Questions!ECC4","v":0},{"$f":"Questions!ECD4","v":0},{"$f":"Questions!ECE4","v":0},{"$f":"Questions!ECF4","v":0},{"$f":"Questions!ECG4","v":0},{"$f":"Questions!ECH4","v":0},{"$f":"Questions!ECI4","v":0},{"$f":"Questions!ECJ4","v":0},{"$f":"Questions!ECK4","v":0},{"$f":"Questions!ECL4","v":0},{"$f":"Questions!ECM4","v":0},{"$f":"Questions!ECN4","v":0},{"$f":"Questions!ECO4","v":0},{"$f":"Questions!ECP4","v":0},{"$f":"Questions!ECQ4","v":0},{"$f":"Questions!ECR4","v":0},{"$f":"Questions!ECS4","v":0},{"$f":"Questions!ECT4","v":0},{"$f":"Questions!ECU4","v":0},{"$f":"Questions!ECV4","v":0},{"$f":"Questions!ECW4","v":0},{"$f":"Questions!ECX4","v":0},{"$f":"Questions!ECY4","v":0},{"$f":"Questions!ECZ4","v":0},{"$f":"Questions!EDA4","v":0},{"$f":"Questions!EDB4","v":0},{"$f":"Questions!EDC4","v":0},{"$f":"Questions!EDD4","v":0},{"$f":"Questions!EDE4","v":0},{"$f":"Questions!EDF4","v":0},{"$f":"Questions!EDG4","v":0},{"$f":"Questions!EDH4","v":0},{"$f":"Questions!EDI4","v":0},{"$f":"Questions!EDJ4","v":0},{"$f":"Questions!EDK4","v":0},{"$f":"Questions!EDL4","v":0},{"$f":"Questions!EDM4","v":0},{"$f":"Questions!EDN4","v":0},{"$f":"Questions!EDO4","v":0},{"$f":"Questions!EDP4","v":0},{"$f":"Questions!EDQ4","v":0},{"$f":"Questions!EDR4","v":0},{"$f":"Questions!EDS4","v":0},{"$f":"Questions!EDT4","v":0},{"$f":"Questions!EDU4","v":0},{"$f":"Questions!EDV4","v":0},{"$f":"Questions!EDW4","v":0},{"$f":"Questions!EDX4","v":0},{"$f":"Questions!EDY4","v":0},{"$f":"Questions!EDZ4","v":0},{"$f":"Questions!EEA4","v":0},{"$f":"Questions!EEB4","v":0},{"$f":"Questions!EEC4","v":0},{"$f":"Questions!EED4","v":0},{"$f":"Questions!EEE4","v":0},{"$f":"Questions!EEF4","v":0},{"$f":"Questions!EEG4","v":0},{"$f":"Questions!EEH4","v":0},{"$f":"Questions!EEI4","v":0},{"$f":"Questions!EEJ4","v":0},{"$f":"Questions!EEK4","v":0},{"$f":"Questions!EEL4","v":0},{"$f":"Questions!EEM4","v":0},{"$f":"Questions!EEN4","v":0},{"$f":"Questions!EEO4","v":0},{"$f":"Questions!EEP4","v":0},{"$f":"Questions!EEQ4","v":0},{"$f":"Questions!EER4","v":0},{"$f":"Questions!EES4","v":0},{"$f":"Questions!EET4","v":0},{"$f":"Questions!EEU4","v":0},{"$f":"Questions!EEV4","v":0},{"$f":"Questions!EEW4","v":0},{"$f":"Questions!EEX4","v":0},{"$f":"Questions!EEY4","v":0},{"$f":"Questions!EEZ4","v":0},{"$f":"Questions!EFA4","v":0},{"$f":"Questions!EFB4","v":0},{"$f":"Questions!EFC4","v":0},{"$f":"Questions!EFD4","v":0},{"$f":"Questions!EFE4","v":0},{"$f":"Questions!EFF4","v":0},{"$f":"Questions!EFG4","v":0},{"$f":"Questions!EFH4","v":0},{"$f":"Questions!EFI4","v":0},{"$f":"Questions!EFJ4","v":0},{"$f":"Questions!EFK4","v":0},{"$f":"Questions!EFL4","v":0},{"$f":"Questions!EFM4","v":0},{"$f":"Questions!EFN4","v":0},{"$f":"Questions!EFO4","v":0},{"$f":"Questions!EFP4","v":0},{"$f":"Questions!EFQ4","v":0},{"$f":"Questions!EFR4","v":0},{"$f":"Questions!EFS4","v":0},{"$f":"Questions!EFT4","v":0},{"$f":"Questions!EFU4","v":0},{"$f":"Questions!EFV4","v":0},{"$f":"Questions!EFW4","v":0},{"$f":"Questions!EFX4","v":0},{"$f":"Questions!EFY4","v":0},{"$f":"Questions!EFZ4","v":0},{"$f":"Questions!EGA4","v":0},{"$f":"Questions!EGB4","v":0},{"$f":"Questions!EGC4","v":0},{"$f":"Questions!EGD4","v":0},{"$f":"Questions!EGE4","v":0},{"$f":"Questions!EGF4","v":0},{"$f":"Questions!EGG4","v":0},{"$f":"Questions!EGH4","v":0},{"$f":"Questions!EGI4","v":0},{"$f":"Questions!EGJ4","v":0},{"$f":"Questions!EGK4","v":0},{"$f":"Questions!EGL4","v":0},{"$f":"Questions!EGM4","v":0},{"$f":"Questions!EGN4","v":0},{"$f":"Questions!EGO4","v":0},{"$f":"Questions!EGP4","v":0},{"$f":"Questions!EGQ4","v":0},{"$f":"Questions!EGR4","v":0},{"$f":"Questions!EGS4","v":0},{"$f":"Questions!EGT4","v":0},{"$f":"Questions!EGU4","v":0},{"$f":"Questions!EGV4","v":0},{"$f":"Questions!EGW4","v":0},{"$f":"Questions!EGX4","v":0},{"$f":"Questions!EGY4","v":0},{"$f":"Questions!EGZ4","v":0},{"$f":"Questions!EHA4","v":0},{"$f":"Questions!EHB4","v":0},{"$f":"Questions!EHC4","v":0},{"$f":"Questions!EHD4","v":0},{"$f":"Questions!EHE4","v":0},{"$f":"Questions!EHF4","v":0},{"$f":"Questions!EHG4","v":0},{"$f":"Questions!EHH4","v":0},{"$f":"Questions!EHI4","v":0},{"$f":"Questions!EHJ4","v":0},{"$f":"Questions!EHK4","v":0},{"$f":"Questions!EHL4","v":0},{"$f":"Questions!EHM4","v":0},{"$f":"Questions!EHN4","v":0},{"$f":"Questions!EHO4","v":0},{"$f":"Questions!EHP4","v":0},{"$f":"Questions!EHQ4","v":0},{"$f":"Questions!EHR4","v":0},{"$f":"Questions!EHS4","v":0},{"$f":"Questions!EHT4","v":0},{"$f":"Questions!EHU4","v":0},{"$f":"Questions!EHV4","v":0},{"$f":"Questions!EHW4","v":0},{"$f":"Questions!EHX4","v":0},{"$f":"Questions!EHY4","v":0},{"$f":"Questions!EHZ4","v":0},{"$f":"Questions!EIA4","v":0},{"$f":"Questions!EIB4","v":0},{"$f":"Questions!EIC4","v":0},{"$f":"Questions!EID4","v":0},{"$f":"Questions!EIE4","v":0},{"$f":"Questions!EIF4","v":0},{"$f":"Questions!EIG4","v":0},{"$f":"Questions!EIH4","v":0},{"$f":"Questions!EII4","v":0},{"$f":"Questions!EIJ4","v":0},{"$f":"Questions!EIK4","v":0},{"$f":"Questions!EIL4","v":0},{"$f":"Questions!EIM4","v":0},{"$f":"Questions!EIN4","v":0},{"$f":"Questions!EIO4","v":0},{"$f":"Questions!EIP4","v":0},{"$f":"Questions!EIQ4","v":0},{"$f":"Questions!EIR4","v":0},{"$f":"Questions!EIS4","v":0},{"$f":"Questions!EIT4","v":0},{"$f":"Questions!EIU4","v":0},{"$f":"Questions!EIV4","v":0},{"$f":"Questions!EIW4","v":0},{"$f":"Questions!EIX4","v":0},{"$f":"Questions!EIY4","v":0},{"$f":"Questions!EIZ4","v":0},{"$f":"Questions!EJA4","v":0},{"$f":"Questions!EJB4","v":0},{"$f":"Questions!EJC4","v":0},{"$f":"Questions!EJD4","v":0},{"$f":"Questions!EJE4","v":0},{"$f":"Questions!EJF4","v":0},{"$f":"Questions!EJG4","v":0},{"$f":"Questions!EJH4","v":0},{"$f":"Questions!EJI4","v":0},{"$f":"Questions!EJJ4","v":0},{"$f":"Questions!EJK4","v":0},{"$f":"Questions!EJL4","v":0},{"$f":"Questions!EJM4","v":0},{"$f":"Questions!EJN4","v":0},{"$f":"Questions!EJO4","v":0},{"$f":"Questions!EJP4","v":0},{"$f":"Questions!EJQ4","v":0},{"$f":"Questions!EJR4","v":0},{"$f":"Questions!EJS4","v":0},{"$f":"Questions!EJT4","v":0},{"$f":"Questions!EJU4","v":0},{"$f":"Questions!EJV4","v":0},{"$f":"Questions!EJW4","v":0},{"$f":"Questions!EJX4","v":0},{"$f":"Questions!EJY4","v":0},{"$f":"Questions!EJZ4","v":0},{"$f":"Questions!EKA4","v":0},{"$f":"Questions!EKB4","v":0},{"$f":"Questions!EKC4","v":0},{"$f":"Questions!EKD4","v":0},{"$f":"Questions!EKE4","v":0},{"$f":"Questions!EKF4","v":0},{"$f":"Questions!EKG4","v":0},{"$f":"Questions!EKH4","v":0},{"$f":"Questions!EKI4","v":0},{"$f":"Questions!EKJ4","v":0},{"$f":"Questions!EKK4","v":0},{"$f":"Questions!EKL4","v":0},{"$f":"Questions!EKM4","v":0},{"$f":"Questions!EKN4","v":0},{"$f":"Questions!EKO4","v":0},{"$f":"Questions!EKP4","v":0},{"$f":"Questions!EKQ4","v":0},{"$f":"Questions!EKR4","v":0},{"$f":"Questions!EKS4","v":0},{"$f":"Questions!EKT4","v":0},{"$f":"Questions!EKU4","v":0},{"$f":"Questions!EKV4","v":0},{"$f":"Questions!EKW4","v":0},{"$f":"Questions!EKX4","v":0},{"$f":"Questions!EKY4","v":0},{"$f":"Questions!EKZ4","v":0},{"$f":"Questions!ELA4","v":0},{"$f":"Questions!ELB4","v":0},{"$f":"Questions!ELC4","v":0},{"$f":"Questions!ELD4","v":0},{"$f":"Questions!ELE4","v":0},{"$f":"Questions!ELF4","v":0},{"$f":"Questions!ELG4","v":0},{"$f":"Questions!ELH4","v":0},{"$f":"Questions!ELI4","v":0},{"$f":"Questions!ELJ4","v":0},{"$f":"Questions!ELK4","v":0},{"$f":"Questions!ELL4","v":0},{"$f":"Questions!ELM4","v":0},{"$f":"Questions!ELN4","v":0},{"$f":"Questions!ELO4","v":0},{"$f":"Questions!ELP4","v":0},{"$f":"Questions!ELQ4","v":0},{"$f":"Questions!ELR4","v":0},{"$f":"Questions!ELS4","v":0},{"$f":"Questions!ELT4","v":0},{"$f":"Questions!ELU4","v":0},{"$f":"Questions!ELV4","v":0},{"$f":"Questions!ELW4","v":0},{"$f":"Questions!ELX4","v":0},{"$f":"Questions!ELY4","v":0},{"$f":"Questions!ELZ4","v":0},{"$f":"Questions!EMA4","v":0},{"$f":"Questions!EMB4","v":0},{"$f":"Questions!EMC4","v":0},{"$f":"Questions!EMD4","v":0},{"$f":"Questions!EME4","v":0},{"$f":"Questions!EMF4","v":0},{"$f":"Questions!EMG4","v":0},{"$f":"Questions!EMH4","v":0},{"$f":"Questions!EMI4","v":0},{"$f":"Questions!EMJ4","v":0},{"$f":"Questions!EMK4","v":0},{"$f":"Questions!EML4","v":0},{"$f":"Questions!EMM4","v":0},{"$f":"Questions!EMN4","v":0},{"$f":"Questions!EMO4","v":0},{"$f":"Questions!EMP4","v":0},{"$f":"Questions!EMQ4","v":0},{"$f":"Questions!EMR4","v":0},{"$f":"Questions!EMS4","v":0},{"$f":"Questions!EMT4","v":0},{"$f":"Questions!EMU4","v":0},{"$f":"Questions!EMV4","v":0},{"$f":"Questions!EMW4","v":0},{"$f":"Questions!EMX4","v":0},{"$f":"Questions!EMY4","v":0},{"$f":"Questions!EMZ4","v":0},{"$f":"Questions!ENA4","v":0},{"$f":"Questions!ENB4","v":0},{"$f":"Questions!ENC4","v":0},{"$f":"Questions!END4","v":0},{"$f":"Questions!ENE4","v":0},{"$f":"Questions!ENF4","v":0},{"$f":"Questions!ENG4","v":0},{"$f":"Questions!ENH4","v":0},{"$f":"Questions!ENI4","v":0},{"$f":"Questions!ENJ4","v":0},{"$f":"Questions!ENK4","v":0},{"$f":"Questions!ENL4","v":0},{"$f":"Questions!ENM4","v":0},{"$f":"Questions!ENN4","v":0},{"$f":"Questions!ENO4","v":0},{"$f":"Questions!ENP4","v":0},{"$f":"Questions!ENQ4","v":0},{"$f":"Questions!ENR4","v":0},{"$f":"Questions!ENS4","v":0},{"$f":"Questions!ENT4","v":0},{"$f":"Questions!ENU4","v":0},{"$f":"Questions!ENV4","v":0},{"$f":"Questions!ENW4","v":0},{"$f":"Questions!ENX4","v":0},{"$f":"Questions!ENY4","v":0},{"$f":"Questions!ENZ4","v":0},{"$f":"Questions!EOA4","v":0},{"$f":"Questions!EOB4","v":0},{"$f":"Questions!EOC4","v":0},{"$f":"Questions!EOD4","v":0},{"$f":"Questions!EOE4","v":0},{"$f":"Questions!EOF4","v":0},{"$f":"Questions!EOG4","v":0},{"$f":"Questions!EOH4","v":0},{"$f":"Questions!EOI4","v":0},{"$f":"Questions!EOJ4","v":0},{"$f":"Questions!EOK4","v":0},{"$f":"Questions!EOL4","v":0},{"$f":"Questions!EOM4","v":0},{"$f":"Questions!EON4","v":0},{"$f":"Questions!EOO4","v":0},{"$f":"Questions!EOP4","v":0},{"$f":"Questions!EOQ4","v":0},{"$f":"Questions!EOR4","v":0},{"$f":"Questions!EOS4","v":0},{"$f":"Questions!EOT4","v":0},{"$f":"Questions!EOU4","v":0},{"$f":"Questions!EOV4","v":0},{"$f":"Questions!EOW4","v":0},{"$f":"Questions!EOX4","v":0},{"$f":"Questions!EOY4","v":0},{"$f":"Questions!EOZ4","v":0},{"$f":"Questions!EPA4","v":0},{"$f":"Questions!EPB4","v":0},{"$f":"Questions!EPC4","v":0},{"$f":"Questions!EPD4","v":0},{"$f":"Questions!EPE4","v":0},{"$f":"Questions!EPF4","v":0},{"$f":"Questions!EPG4","v":0},{"$f":"Questions!EPH4","v":0},{"$f":"Questions!EPI4","v":0},{"$f":"Questions!EPJ4","v":0},{"$f":"Questions!EPK4","v":0},{"$f":"Questions!EPL4","v":0},{"$f":"Questions!EPM4","v":0},{"$f":"Questions!EPN4","v":0},{"$f":"Questions!EPO4","v":0},{"$f":"Questions!EPP4","v":0},{"$f":"Questions!EPQ4","v":0},{"$f":"Questions!EPR4","v":0},{"$f":"Questions!EPS4","v":0},{"$f":"Questions!EPT4","v":0},{"$f":"Questions!EPU4","v":0},{"$f":"Questions!EPV4","v":0},{"$f":"Questions!EPW4","v":0},{"$f":"Questions!EPX4","v":0},{"$f":"Questions!EPY4","v":0},{"$f":"Questions!EPZ4","v":0},{"$f":"Questions!EQA4","v":0},{"$f":"Questions!EQB4","v":0},{"$f":"Questions!EQC4","v":0},{"$f":"Questions!EQD4","v":0},{"$f":"Questions!EQE4","v":0},{"$f":"Questions!EQF4","v":0},{"$f":"Questions!EQG4","v":0},{"$f":"Questions!EQH4","v":0},{"$f":"Questions!EQI4","v":0},{"$f":"Questions!EQJ4","v":0},{"$f":"Questions!EQK4","v":0},{"$f":"Questions!EQL4","v":0},{"$f":"Questions!EQM4","v":0},{"$f":"Questions!EQN4","v":0},{"$f":"Questions!EQO4","v":0},{"$f":"Questions!EQP4","v":0},{"$f":"Questions!EQQ4","v":0},{"$f":"Questions!EQR4","v":0},{"$f":"Questions!EQS4","v":0},{"$f":"Questions!EQT4","v":0},{"$f":"Questions!EQU4","v":0},{"$f":"Questions!EQV4","v":0},{"$f":"Questions!EQW4","v":0},{"$f":"Questions!EQX4","v":0},{"$f":"Questions!EQY4","v":0},{"$f":"Questions!EQZ4","v":0},{"$f":"Questions!ERA4","v":0},{"$f":"Questions!ERB4","v":0},{"$f":"Questions!ERC4","v":0},{"$f":"Questions!ERD4","v":0},{"$f":"Questions!ERE4","v":0},{"$f":"Questions!ERF4","v":0},{"$f":"Questions!ERG4","v":0},{"$f":"Questions!ERH4","v":0},{"$f":"Questions!ERI4","v":0},{"$f":"Questions!ERJ4","v":0},{"$f":"Questions!ERK4","v":0},{"$f":"Questions!ERL4","v":0},{"$f":"Questions!ERM4","v":0},{"$f":"Questions!ERN4","v":0},{"$f":"Questions!ERO4","v":0},{"$f":"Questions!ERP4","v":0},{"$f":"Questions!ERQ4","v":0},{"$f":"Questions!ERR4","v":0},{"$f":"Questions!ERS4","v":0},{"$f":"Questions!ERT4","v":0},{"$f":"Questions!ERU4","v":0},{"$f":"Questions!ERV4","v":0},{"$f":"Questions!ERW4","v":0},{"$f":"Questions!ERX4","v":0},{"$f":"Questions!ERY4","v":0},{"$f":"Questions!ERZ4","v":0},{"$f":"Questions!ESA4","v":0},{"$f":"Questions!ESB4","v":0},{"$f":"Questions!ESC4","v":0},{"$f":"Questions!ESD4","v":0},{"$f":"Questions!ESE4","v":0},{"$f":"Questions!ESF4","v":0},{"$f":"Questions!ESG4","v":0},{"$f":"Questions!ESH4","v":0},{"$f":"Questions!ESI4","v":0},{"$f":"Questions!ESJ4","v":0},{"$f":"Questions!ESK4","v":0},{"$f":"Questions!ESL4","v":0},{"$f":"Questions!ESM4","v":0},{"$f":"Questions!ESN4","v":0},{"$f":"Questions!ESO4","v":0},{"$f":"Questions!ESP4","v":0},{"$f":"Questions!ESQ4","v":0},{"$f":"Questions!ESR4","v":0},{"$f":"Questions!ESS4","v":0},{"$f":"Questions!EST4","v":0},{"$f":"Questions!ESU4","v":0},{"$f":"Questions!ESV4","v":0},{"$f":"Questions!ESW4","v":0},{"$f":"Questions!ESX4","v":0},{"$f":"Questions!ESY4","v":0},{"$f":"Questions!ESZ4","v":0},{"$f":"Questions!ETA4","v":0},{"$f":"Questions!ETB4","v":0},{"$f":"Questions!ETC4","v":0},{"$f":"Questions!ETD4","v":0},{"$f":"Questions!ETE4","v":0},{"$f":"Questions!ETF4","v":0},{"$f":"Questions!ETG4","v":0},{"$f":"Questions!ETH4","v":0},{"$f":"Questions!ETI4","v":0},{"$f":"Questions!ETJ4","v":0},{"$f":"Questions!ETK4","v":0},{"$f":"Questions!ETL4","v":0},{"$f":"Questions!ETM4","v":0},{"$f":"Questions!ETN4","v":0},{"$f":"Questions!ETO4","v":0},{"$f":"Questions!ETP4","v":0},{"$f":"Questions!ETQ4","v":0},{"$f":"Questions!ETR4","v":0},{"$f":"Questions!ETS4","v":0},{"$f":"Questions!ETT4","v":0},{"$f":"Questions!ETU4","v":0},{"$f":"Questions!ETV4","v":0},{"$f":"Questions!ETW4","v":0},{"$f":"Questions!ETX4","v":0},{"$f":"Questions!ETY4","v":0},{"$f":"Questions!ETZ4","v":0},{"$f":"Questions!EUA4","v":0},{"$f":"Questions!EUB4","v":0},{"$f":"Questions!EUC4","v":0},{"$f":"Questions!EUD4","v":0},{"$f":"Questions!EUE4","v":0},{"$f":"Questions!EUF4","v":0},{"$f":"Questions!EUG4","v":0},{"$f":"Questions!EUH4","v":0},{"$f":"Questions!EUI4","v":0},{"$f":"Questions!EUJ4","v":0},{"$f":"Questions!EUK4","v":0},{"$f":"Questions!EUL4","v":0},{"$f":"Questions!EUM4","v":0},{"$f":"Questions!EUN4","v":0},{"$f":"Questions!EUO4","v":0},{"$f":"Questions!EUP4","v":0},{"$f":"Questions!EUQ4","v":0},{"$f":"Questions!EUR4","v":0},{"$f":"Questions!EUS4","v":0},{"$f":"Questions!EUT4","v":0},{"$f":"Questions!EUU4","v":0},{"$f":"Questions!EUV4","v":0},{"$f":"Questions!EUW4","v":0},{"$f":"Questions!EUX4","v":0},{"$f":"Questions!EUY4","v":0},{"$f":"Questions!EUZ4","v":0},{"$f":"Questions!EVA4","v":0},{"$f":"Questions!EVB4","v":0},{"$f":"Questions!EVC4","v":0},{"$f":"Questions!EVD4","v":0},{"$f":"Questions!EVE4","v":0},{"$f":"Questions!EVF4","v":0},{"$f":"Questions!EVG4","v":0},{"$f":"Questions!EVH4","v":0},{"$f":"Questions!EVI4","v":0},{"$f":"Questions!EVJ4","v":0},{"$f":"Questions!EVK4","v":0},{"$f":"Questions!EVL4","v":0},{"$f":"Questions!EVM4","v":0},{"$f":"Questions!EVN4","v":0},{"$f":"Questions!EVO4","v":0},{"$f":"Questions!EVP4","v":0},{"$f":"Questions!EVQ4","v":0},{"$f":"Questions!EVR4","v":0},{"$f":"Questions!EVS4","v":0},{"$f":"Questions!EVT4","v":0},{"$f":"Questions!EVU4","v":0},{"$f":"Questions!EVV4","v":0},{"$f":"Questions!EVW4","v":0},{"$f":"Questions!EVX4","v":0},{"$f":"Questions!EVY4","v":0},{"$f":"Questions!EVZ4","v":0},{"$f":"Questions!EWA4","v":0},{"$f":"Questions!EWB4","v":0},{"$f":"Questions!EWC4","v":0},{"$f":"Questions!EWD4","v":0},{"$f":"Questions!EWE4","v":0},{"$f":"Questions!EWF4","v":0},{"$f":"Questions!EWG4","v":0},{"$f":"Questions!EWH4","v":0},{"$f":"Questions!EWI4","v":0},{"$f":"Questions!EWJ4","v":0},{"$f":"Questions!EWK4","v":0},{"$f":"Questions!EWL4","v":0},{"$f":"Questions!EWM4","v":0},{"$f":"Questions!EWN4","v":0},{"$f":"Questions!EWO4","v":0},{"$f":"Questions!EWP4","v":0},{"$f":"Questions!EWQ4","v":0},{"$f":"Questions!EWR4","v":0},{"$f":"Questions!EWS4","v":0},{"$f":"Questions!EWT4","v":0},{"$f":"Questions!EWU4","v":0},{"$f":"Questions!EWV4","v":0},{"$f":"Questions!EWW4","v":0},{"$f":"Questions!EWX4","v":0},{"$f":"Questions!EWY4","v":0},{"$f":"Questions!EWZ4","v":0},{"$f":"Questions!EXA4","v":0},{"$f":"Questions!EXB4","v":0},{"$f":"Questions!EXC4","v":0},{"$f":"Questions!EXD4","v":0},{"$f":"Questions!EXE4","v":0},{"$f":"Questions!EXF4","v":0},{"$f":"Questions!EXG4","v":0},{"$f":"Questions!EXH4","v":0},{"$f":"Questions!EXI4","v":0},{"$f":"Questions!EXJ4","v":0},{"$f":"Questions!EXK4","v":0},{"$f":"Questions!EXL4","v":0},{"$f":"Questions!EXM4","v":0},{"$f":"Questions!EXN4","v":0},{"$f":"Questions!EXO4","v":0},{"$f":"Questions!EXP4","v":0},{"$f":"Questions!EXQ4","v":0},{"$f":"Questions!EXR4","v":0},{"$f":"Questions!EXS4","v":0},{"$f":"Questions!EXT4","v":0},{"$f":"Questions!EXU4","v":0},{"$f":"Questions!EXV4","v":0},{"$f":"Questions!EXW4","v":0},{"$f":"Questions!EXX4","v":0},{"$f":"Questions!EXY4","v":0},{"$f":"Questions!EXZ4","v":0},{"$f":"Questions!EYA4","v":0},{"$f":"Questions!EYB4","v":0},{"$f":"Questions!EYC4","v":0},{"$f":"Questions!EYD4","v":0},{"$f":"Questions!EYE4","v":0},{"$f":"Questions!EYF4","v":0},{"$f":"Questions!EYG4","v":0},{"$f":"Questions!EYH4","v":0},{"$f":"Questions!EYI4","v":0},{"$f":"Questions!EYJ4","v":0},{"$f":"Questions!EYK4","v":0},{"$f":"Questions!EYL4","v":0},{"$f":"Questions!EYM4","v":0},{"$f":"Questions!EYN4","v":0},{"$f":"Questions!EYO4","v":0},{"$f":"Questions!EYP4","v":0},{"$f":"Questions!EYQ4","v":0},{"$f":"Questions!EYR4","v":0},{"$f":"Questions!EYS4","v":0},{"$f":"Questions!EYT4","v":0},{"$f":"Questions!EYU4","v":0},{"$f":"Questions!EYV4","v":0},{"$f":"Questions!EYW4","v":0},{"$f":"Questions!EYX4","v":0},{"$f":"Questions!EYY4","v":0},{"$f":"Questions!EYZ4","v":0},{"$f":"Questions!EZA4","v":0},{"$f":"Questions!EZB4","v":0},{"$f":"Questions!EZC4","v":0},{"$f":"Questions!EZD4","v":0},{"$f":"Questions!EZE4","v":0},{"$f":"Questions!EZF4","v":0},{"$f":"Questions!EZG4","v":0},{"$f":"Questions!EZH4","v":0},{"$f":"Questions!EZI4","v":0},{"$f":"Questions!EZJ4","v":0},{"$f":"Questions!EZK4","v":0},{"$f":"Questions!EZL4","v":0},{"$f":"Questions!EZM4","v":0},{"$f":"Questions!EZN4","v":0},{"$f":"Questions!EZO4","v":0},{"$f":"Questions!EZP4","v":0},{"$f":"Questions!EZQ4","v":0},{"$f":"Questions!EZR4","v":0},{"$f":"Questions!EZS4","v":0},{"$f":"Questions!EZT4","v":0},{"$f":"Questions!EZU4","v":0},{"$f":"Questions!EZV4","v":0},{"$f":"Questions!EZW4","v":0},{"$f":"Questions!EZX4","v":0},{"$f":"Questions!EZY4","v":0},{"$f":"Questions!EZZ4","v":0},{"$f":"Questions!FAA4","v":0},{"$f":"Questions!FAB4","v":0},{"$f":"Questions!FAC4","v":0},{"$f":"Questions!FAD4","v":0},{"$f":"Questions!FAE4","v":0},{"$f":"Questions!FAF4","v":0},{"$f":"Questions!FAG4","v":0},{"$f":"Questions!FAH4","v":0},{"$f":"Questions!FAI4","v":0},{"$f":"Questions!FAJ4","v":0},{"$f":"Questions!FAK4","v":0},{"$f":"Questions!FAL4","v":0},{"$f":"Questions!FAM4","v":0},{"$f":"Questions!FAN4","v":0},{"$f":"Questions!FAO4","v":0},{"$f":"Questions!FAP4","v":0},{"$f":"Questions!FAQ4","v":0},{"$f":"Questions!FAR4","v":0},{"$f":"Questions!FAS4","v":0},{"$f":"Questions!FAT4","v":0},{"$f":"Questions!FAU4","v":0},{"$f":"Questions!FAV4","v":0},{"$f":"Questions!FAW4","v":0},{"$f":"Questions!FAX4","v":0},{"$f":"Questions!FAY4","v":0},{"$f":"Questions!FAZ4","v":0},{"$f":"Questions!FBA4","v":0},{"$f":"Questions!FBB4","v":0},{"$f":"Questions!FBC4","v":0},{"$f":"Questions!FBD4","v":0},{"$f":"Questions!FBE4","v":0},{"$f":"Questions!FBF4","v":0},{"$f":"Questions!FBG4","v":0},{"$f":"Questions!FBH4","v":0},{"$f":"Questions!FBI4","v":0},{"$f":"Questions!FBJ4","v":0},{"$f":"Questions!FBK4","v":0},{"$f":"Questions!FBL4","v":0},{"$f":"Questions!FBM4","v":0},{"$f":"Questions!FBN4","v":0},{"$f":"Questions!FBO4","v":0},{"$f":"Questions!FBP4","v":0},{"$f":"Questions!FBQ4","v":0},{"$f":"Questions!FBR4","v":0},{"$f":"Questions!FBS4","v":0},{"$f":"Questions!FBT4","v":0},{"$f":"Questions!FBU4","v":0},{"$f":"Questions!FBV4","v":0},{"$f":"Questions!FBW4","v":0},{"$f":"Questions!FBX4","v":0},{"$f":"Questions!FBY4","v":0},{"$f":"Questions!FBZ4","v":0},{"$f":"Questions!FCA4","v":0},{"$f":"Questions!FCB4","v":0},{"$f":"Questions!FCC4","v":0},{"$f":"Questions!FCD4","v":0},{"$f":"Questions!FCE4","v":0},{"$f":"Questions!FCF4","v":0},{"$f":"Questions!FCG4","v":0},{"$f":"Questions!FCH4","v":0},{"$f":"Questions!FCI4","v":0},{"$f":"Questions!FCJ4","v":0},{"$f":"Questions!FCK4","v":0},{"$f":"Questions!FCL4","v":0},{"$f":"Questions!FCM4","v":0},{"$f":"Questions!FCN4","v":0},{"$f":"Questions!FCO4","v":0},{"$f":"Questions!FCP4","v":0},{"$f":"Questions!FCQ4","v":0},{"$f":"Questions!FCR4","v":0},{"$f":"Questions!FCS4","v":0},{"$f":"Questions!FCT4","v":0},{"$f":"Questions!FCU4","v":0},{"$f":"Questions!FCV4","v":0},{"$f":"Questions!FCW4","v":0},{"$f":"Questions!FCX4","v":0},{"$f":"Questions!FCY4","v":0},{"$f":"Questions!FCZ4","v":0},{"$f":"Questions!FDA4","v":0},{"$f":"Questions!FDB4","v":0},{"$f":"Questions!FDC4","v":0},{"$f":"Questions!FDD4","v":0},{"$f":"Questions!FDE4","v":0},{"$f":"Questions!FDF4","v":0},{"$f":"Questions!FDG4","v":0},{"$f":"Questions!FDH4","v":0},{"$f":"Questions!FDI4","v":0},{"$f":"Questions!FDJ4","v":0},{"$f":"Questions!FDK4","v":0},{"$f":"Questions!FDL4","v":0},{"$f":"Questions!FDM4","v":0},{"$f":"Questions!FDN4","v":0},{"$f":"Questions!FDO4","v":0},{"$f":"Questions!FDP4","v":0},{"$f":"Questions!FDQ4","v":0},{"$f":"Questions!FDR4","v":0},{"$f":"Questions!FDS4","v":0},{"$f":"Questions!FDT4","v":0},{"$f":"Questions!FDU4","v":0},{"$f":"Questions!FDV4","v":0},{"$f":"Questions!FDW4","v":0},{"$f":"Questions!FDX4","v":0},{"$f":"Questions!FDY4","v":0},{"$f":"Questions!FDZ4","v":0},{"$f":"Questions!FEA4","v":0},{"$f":"Questions!FEB4","v":0},{"$f":"Questions!FEC4","v":0},{"$f":"Questions!FED4","v":0},{"$f":"Questions!FEE4","v":0},{"$f":"Questions!FEF4","v":0},{"$f":"Questions!FEG4","v":0},{"$f":"Questions!FEH4","v":0},{"$f":"Questions!FEI4","v":0},{"$f":"Questions!FEJ4","v":0},{"$f":"Questions!FEK4","v":0},{"$f":"Questions!FEL4","v":0},{"$f":"Questions!FEM4","v":0},{"$f":"Questions!FEN4","v":0},{"$f":"Questions!FEO4","v":0},{"$f":"Questions!FEP4","v":0},{"$f":"Questions!FEQ4","v":0},{"$f":"Questions!FER4","v":0},{"$f":"Questions!FES4","v":0},{"$f":"Questions!FET4","v":0},{"$f":"Questions!FEU4","v":0},{"$f":"Questions!FEV4","v":0},{"$f":"Questions!FEW4","v":0},{"$f":"Questions!FEX4","v":0},{"$f":"Questions!FEY4","v":0},{"$f":"Questions!FEZ4","v":0},{"$f":"Questions!FFA4","v":0},{"$f":"Questions!FFB4","v":0},{"$f":"Questions!FFC4","v":0},{"$f":"Questions!FFD4","v":0},{"$f":"Questions!FFE4","v":0},{"$f":"Questions!FFF4","v":0},{"$f":"Questions!FFG4","v":0},{"$f":"Questions!FFH4","v":0},{"$f":"Questions!FFI4","v":0},{"$f":"Questions!FFJ4","v":0},{"$f":"Questions!FFK4","v":0},{"$f":"Questions!FFL4","v":0},{"$f":"Questions!FFM4","v":0},{"$f":"Questions!FFN4","v":0},{"$f":"Questions!FFO4","v":0},{"$f":"Questions!FFP4","v":0},{"$f":"Questions!FFQ4","v":0},{"$f":"Questions!FFR4","v":0},{"$f":"Questions!FFS4","v":0},{"$f":"Questions!FFT4","v":0},{"$f":"Questions!FFU4","v":0},{"$f":"Questions!FFV4","v":0},{"$f":"Questions!FFW4","v":0},{"$f":"Questions!FFX4","v":0},{"$f":"Questions!FFY4","v":0},{"$f":"Questions!FFZ4","v":0},{"$f":"Questions!FGA4","v":0},{"$f":"Questions!FGB4","v":0},{"$f":"Questions!FGC4","v":0},{"$f":"Questions!FGD4","v":0},{"$f":"Questions!FGE4","v":0},{"$f":"Questions!FGF4","v":0},{"$f":"Questions!FGG4","v":0},{"$f":"Questions!FGH4","v":0},{"$f":"Questions!FGI4","v":0},{"$f":"Questions!FGJ4","v":0},{"$f":"Questions!FGK4","v":0},{"$f":"Questions!FGL4","v":0},{"$f":"Questions!FGM4","v":0},{"$f":"Questions!FGN4","v":0},{"$f":"Questions!FGO4","v":0},{"$f":"Questions!FGP4","v":0},{"$f":"Questions!FGQ4","v":0},{"$f":"Questions!FGR4","v":0},{"$f":"Questions!FGS4","v":0},{"$f":"Questions!FGT4","v":0},{"$f":"Questions!FGU4","v":0},{"$f":"Questions!FGV4","v":0},{"$f":"Questions!FGW4","v":0},{"$f":"Questions!FGX4","v":0},{"$f":"Questions!FGY4","v":0},{"$f":"Questions!FGZ4","v":0},{"$f":"Questions!FHA4","v":0},{"$f":"Questions!FHB4","v":0},{"$f":"Questions!FHC4","v":0},{"$f":"Questions!FHD4","v":0},{"$f":"Questions!FHE4","v":0},{"$f":"Questions!FHF4","v":0},{"$f":"Questions!FHG4","v":0},{"$f":"Questions!FHH4","v":0},{"$f":"Questions!FHI4","v":0},{"$f":"Questions!FHJ4","v":0},{"$f":"Questions!FHK4","v":0},{"$f":"Questions!FHL4","v":0},{"$f":"Questions!FHM4","v":0},{"$f":"Questions!FHN4","v":0},{"$f":"Questions!FHO4","v":0},{"$f":"Questions!FHP4","v":0},{"$f":"Questions!FHQ4","v":0},{"$f":"Questions!FHR4","v":0},{"$f":"Questions!FHS4","v":0},{"$f":"Questions!FHT4","v":0},{"$f":"Questions!FHU4","v":0},{"$f":"Questions!FHV4","v":0},{"$f":"Questions!FHW4","v":0},{"$f":"Questions!FHX4","v":0},{"$f":"Questions!FHY4","v":0},{"$f":"Questions!FHZ4","v":0},{"$f":"Questions!FIA4","v":0},{"$f":"Questions!FIB4","v":0},{"$f":"Questions!FIC4","v":0},{"$f":"Questions!FID4","v":0},{"$f":"Questions!FIE4","v":0},{"$f":"Questions!FIF4","v":0},{"$f":"Questions!FIG4","v":0},{"$f":"Questions!FIH4","v":0},{"$f":"Questions!FII4","v":0},{"$f":"Questions!FIJ4","v":0},{"$f":"Questions!FIK4","v":0},{"$f":"Questions!FIL4","v":0},{"$f":"Questions!FIM4","v":0},{"$f":"Questions!FIN4","v":0},{"$f":"Questions!FIO4","v":0},{"$f":"Questions!FIP4","v":0},{"$f":"Questions!FIQ4","v":0},{"$f":"Questions!FIR4","v":0},{"$f":"Questions!FIS4","v":0},{"$f":"Questions!FIT4","v":0},{"$f":"Questions!FIU4","v":0},{"$f":"Questions!FIV4","v":0},{"$f":"Questions!FIW4","v":0},{"$f":"Questions!FIX4","v":0},{"$f":"Questions!FIY4","v":0},{"$f":"Questions!FIZ4","v":0},{"$f":"Questions!FJA4","v":0},{"$f":"Questions!FJB4","v":0},{"$f":"Questions!FJC4","v":0},{"$f":"Questions!FJD4","v":0},{"$f":"Questions!FJE4","v":0},{"$f":"Questions!FJF4","v":0},{"$f":"Questions!FJG4","v":0},{"$f":"Questions!FJH4","v":0},{"$f":"Questions!FJI4","v":0},{"$f":"Questions!FJJ4","v":0},{"$f":"Questions!FJK4","v":0},{"$f":"Questions!FJL4","v":0},{"$f":"Questions!FJM4","v":0},{"$f":"Questions!FJN4","v":0},{"$f":"Questions!FJO4","v":0},{"$f":"Questions!FJP4","v":0},{"$f":"Questions!FJQ4","v":0},{"$f":"Questions!FJR4","v":0},{"$f":"Questions!FJS4","v":0},{"$f":"Questions!FJT4","v":0},{"$f":"Questions!FJU4","v":0},{"$f":"Questions!FJV4","v":0},{"$f":"Questions!FJW4","v":0},{"$f":"Questions!FJX4","v":0},{"$f":"Questions!FJY4","v":0},{"$f":"Questions!FJZ4","v":0},{"$f":"Questions!FKA4","v":0},{"$f":"Questions!FKB4","v":0},{"$f":"Questions!FKC4","v":0},{"$f":"Questions!FKD4","v":0},{"$f":"Questions!FKE4","v":0},{"$f":"Questions!FKF4","v":0},{"$f":"Questions!FKG4","v":0},{"$f":"Questions!FKH4","v":0},{"$f":"Questions!FKI4","v":0},{"$f":"Questions!FKJ4","v":0},{"$f":"Questions!FKK4","v":0},{"$f":"Questions!FKL4","v":0},{"$f":"Questions!FKM4","v":0},{"$f":"Questions!FKN4","v":0},{"$f":"Questions!FKO4","v":0},{"$f":"Questions!FKP4","v":0},{"$f":"Questions!FKQ4","v":0},{"$f":"Questions!FKR4","v":0},{"$f":"Questions!FKS4","v":0},{"$f":"Questions!FKT4","v":0},{"$f":"Questions!FKU4","v":0},{"$f":"Questions!FKV4","v":0},{"$f":"Questions!FKW4","v":0},{"$f":"Questions!FKX4","v":0},{"$f":"Questions!FKY4","v":0},{"$f":"Questions!FKZ4","v":0},{"$f":"Questions!FLA4","v":0},{"$f":"Questions!FLB4","v":0},{"$f":"Questions!FLC4","v":0},{"$f":"Questions!FLD4","v":0},{"$f":"Questions!FLE4","v":0},{"$f":"Questions!FLF4","v":0},{"$f":"Questions!FLG4","v":0},{"$f":"Questions!FLH4","v":0},{"$f":"Questions!FLI4","v":0},{"$f":"Questions!FLJ4","v":0},{"$f":"Questions!FLK4","v":0},{"$f":"Questions!FLL4","v":0},{"$f":"Questions!FLM4","v":0},{"$f":"Questions!FLN4","v":0},{"$f":"Questions!FLO4","v":0},{"$f":"Questions!FLP4","v":0},{"$f":"Questions!FLQ4","v":0},{"$f":"Questions!FLR4","v":0},{"$f":"Questions!FLS4","v":0},{"$f":"Questions!FLT4","v":0},{"$f":"Questions!FLU4","v":0},{"$f":"Questions!FLV4","v":0},{"$f":"Questions!FLW4","v":0},{"$f":"Questions!FLX4","v":0},{"$f":"Questions!FLY4","v":0},{"$f":"Questions!FLZ4","v":0},{"$f":"Questions!FMA4","v":0},{"$f":"Questions!FMB4","v":0},{"$f":"Questions!FMC4","v":0},{"$f":"Questions!FMD4","v":0},{"$f":"Questions!FME4","v":0},{"$f":"Questions!FMF4","v":0},{"$f":"Questions!FMG4","v":0},{"$f":"Questions!FMH4","v":0},{"$f":"Questions!FMI4","v":0},{"$f":"Questions!FMJ4","v":0},{"$f":"Questions!FMK4","v":0},{"$f":"Questions!FML4","v":0},{"$f":"Questions!FMM4","v":0},{"$f":"Questions!FMN4","v":0},{"$f":"Questions!FMO4","v":0},{"$f":"Questions!FMP4","v":0},{"$f":"Questions!FMQ4","v":0},{"$f":"Questions!FMR4","v":0},{"$f":"Questions!FMS4","v":0},{"$f":"Questions!FMT4","v":0},{"$f":"Questions!FMU4","v":0},{"$f":"Questions!FMV4","v":0},{"$f":"Questions!FMW4","v":0},{"$f":"Questions!FMX4","v":0},{"$f":"Questions!FMY4","v":0},{"$f":"Questions!FMZ4","v":0},{"$f":"Questions!FNA4","v":0},{"$f":"Questions!FNB4","v":0},{"$f":"Questions!FNC4","v":0},{"$f":"Questions!FND4","v":0},{"$f":"Questions!FNE4","v":0},{"$f":"Questions!FNF4","v":0},{"$f":"Questions!FNG4","v":0},{"$f":"Questions!FNH4","v":0},{"$f":"Questions!FNI4","v":0},{"$f":"Questions!FNJ4","v":0},{"$f":"Questions!FNK4","v":0},{"$f":"Questions!FNL4","v":0},{"$f":"Questions!FNM4","v":0},{"$f":"Questions!FNN4","v":0},{"$f":"Questions!FNO4","v":0},{"$f":"Questions!FNP4","v":0},{"$f":"Questions!FNQ4","v":0},{"$f":"Questions!FNR4","v":0},{"$f":"Questions!FNS4","v":0},{"$f":"Questions!FNT4","v":0},{"$f":"Questions!FNU4","v":0},{"$f":"Questions!FNV4","v":0},{"$f":"Questions!FNW4","v":0},{"$f":"Questions!FNX4","v":0},{"$f":"Questions!FNY4","v":0},{"$f":"Questions!FNZ4","v":0},{"$f":"Questions!FOA4","v":0},{"$f":"Questions!FOB4","v":0},{"$f":"Questions!FOC4","v":0},{"$f":"Questions!FOD4","v":0},{"$f":"Questions!FOE4","v":0},{"$f":"Questions!FOF4","v":0},{"$f":"Questions!FOG4","v":0},{"$f":"Questions!FOH4","v":0},{"$f":"Questions!FOI4","v":0},{"$f":"Questions!FOJ4","v":0},{"$f":"Questions!FOK4","v":0},{"$f":"Questions!FOL4","v":0},{"$f":"Questions!FOM4","v":0},{"$f":"Questions!FON4","v":0},{"$f":"Questions!FOO4","v":0},{"$f":"Questions!FOP4","v":0},{"$f":"Questions!FOQ4","v":0},{"$f":"Questions!FOR4","v":0},{"$f":"Questions!FOS4","v":0},{"$f":"Questions!FOT4","v":0},{"$f":"Questions!FOU4","v":0},{"$f":"Questions!FOV4","v":0},{"$f":"Questions!FOW4","v":0},{"$f":"Questions!FOX4","v":0},{"$f":"Questions!FOY4","v":0},{"$f":"Questions!FOZ4","v":0},{"$f":"Questions!FPA4","v":0},{"$f":"Questions!FPB4","v":0},{"$f":"Questions!FPC4","v":0},{"$f":"Questions!FPD4","v":0},{"$f":"Questions!FPE4","v":0},{"$f":"Questions!FPF4","v":0},{"$f":"Questions!FPG4","v":0},{"$f":"Questions!FPH4","v":0},{"$f":"Questions!FPI4","v":0},{"$f":"Questions!FPJ4","v":0},{"$f":"Questions!FPK4","v":0},{"$f":"Questions!FPL4","v":0},{"$f":"Questions!FPM4","v":0},{"$f":"Questions!FPN4","v":0},{"$f":"Questions!FPO4","v":0},{"$f":"Questions!FPP4","v":0},{"$f":"Questions!FPQ4","v":0},{"$f":"Questions!FPR4","v":0},{"$f":"Questions!FPS4","v":0},{"$f":"Questions!FPT4","v":0},{"$f":"Questions!FPU4","v":0},{"$f":"Questions!FPV4","v":0},{"$f":"Questions!FPW4","v":0},{"$f":"Questions!FPX4","v":0},{"$f":"Questions!FPY4","v":0},{"$f":"Questions!FPZ4","v":0},{"$f":"Questions!FQA4","v":0},{"$f":"Questions!FQB4","v":0},{"$f":"Questions!FQC4","v":0},{"$f":"Questions!FQD4","v":0},{"$f":"Questions!FQE4","v":0},{"$f":"Questions!FQF4","v":0},{"$f":"Questions!FQG4","v":0},{"$f":"Questions!FQH4","v":0},{"$f":"Questions!FQI4","v":0},{"$f":"Questions!FQJ4","v":0},{"$f":"Questions!FQK4","v":0},{"$f":"Questions!FQL4","v":0},{"$f":"Questions!FQM4","v":0},{"$f":"Questions!FQN4","v":0},{"$f":"Questions!FQO4","v":0},{"$f":"Questions!FQP4","v":0},{"$f":"Questions!FQQ4","v":0},{"$f":"Questions!FQR4","v":0},{"$f":"Questions!FQS4","v":0},{"$f":"Questions!FQT4","v":0},{"$f":"Questions!FQU4","v":0},{"$f":"Questions!FQV4","v":0},{"$f":"Questions!FQW4","v":0},{"$f":"Questions!FQX4","v":0},{"$f":"Questions!FQY4","v":0},{"$f":"Questions!FQZ4","v":0},{"$f":"Questions!FRA4","v":0},{"$f":"Questions!FRB4","v":0},{"$f":"Questions!FRC4","v":0},{"$f":"Questions!FRD4","v":0},{"$f":"Questions!FRE4","v":0},{"$f":"Questions!FRF4","v":0},{"$f":"Questions!FRG4","v":0},{"$f":"Questions!FRH4","v":0},{"$f":"Questions!FRI4","v":0},{"$f":"Questions!FRJ4","v":0},{"$f":"Questions!FRK4","v":0},{"$f":"Questions!FRL4","v":0},{"$f":"Questions!FRM4","v":0},{"$f":"Questions!FRN4","v":0},{"$f":"Questions!FRO4","v":0},{"$f":"Questions!FRP4","v":0},{"$f":"Questions!FRQ4","v":0},{"$f":"Questions!FRR4","v":0},{"$f":"Questions!FRS4","v":0},{"$f":"Questions!FRT4","v":0},{"$f":"Questions!FRU4","v":0},{"$f":"Questions!FRV4","v":0},{"$f":"Questions!FRW4","v":0},{"$f":"Questions!FRX4","v":0},{"$f":"Questions!FRY4","v":0},{"$f":"Questions!FRZ4","v":0},{"$f":"Questions!FSA4","v":0},{"$f":"Questions!FSB4","v":0},{"$f":"Questions!FSC4","v":0},{"$f":"Questions!FSD4","v":0},{"$f":"Questions!FSE4","v":0},{"$f":"Questions!FSF4","v":0},{"$f":"Questions!FSG4","v":0},{"$f":"Questions!FSH4","v":0},{"$f":"Questions!FSI4","v":0},{"$f":"Questions!FSJ4","v":0},{"$f":"Questions!FSK4","v":0},{"$f":"Questions!FSL4","v":0},{"$f":"Questions!FSM4","v":0},{"$f":"Questions!FSN4","v":0},{"$f":"Questions!FSO4","v":0},{"$f":"Questions!FSP4","v":0},{"$f":"Questions!FSQ4","v":0},{"$f":"Questions!FSR4","v":0},{"$f":"Questions!FSS4","v":0},{"$f":"Questions!FST4","v":0},{"$f":"Questions!FSU4","v":0},{"$f":"Questions!FSV4","v":0},{"$f":"Questions!FSW4","v":0},{"$f":"Questions!FSX4","v":0},{"$f":"Questions!FSY4","v":0},{"$f":"Questions!FSZ4","v":0},{"$f":"Questions!FTA4","v":0},{"$f":"Questions!FTB4","v":0},{"$f":"Questions!FTC4","v":0},{"$f":"Questions!FTD4","v":0},{"$f":"Questions!FTE4","v":0},{"$f":"Questions!FTF4","v":0},{"$f":"Questions!FTG4","v":0},{"$f":"Questions!FTH4","v":0},{"$f":"Questions!FTI4","v":0},{"$f":"Questions!FTJ4","v":0},{"$f":"Questions!FTK4","v":0},{"$f":"Questions!FTL4","v":0},{"$f":"Questions!FTM4","v":0},{"$f":"Questions!FTN4","v":0},{"$f":"Questions!FTO4","v":0},{"$f":"Questions!FTP4","v":0},{"$f":"Questions!FTQ4","v":0},{"$f":"Questions!FTR4","v":0},{"$f":"Questions!FTS4","v":0},{"$f":"Questions!FTT4","v":0},{"$f":"Questions!FTU4","v":0},{"$f":"Questions!FTV4","v":0},{"$f":"Questions!FTW4","v":0},{"$f":"Questions!FTX4","v":0},{"$f":"Questions!FTY4","v":0},{"$f":"Questions!FTZ4","v":0},{"$f":"Questions!FUA4","v":0},{"$f":"Questions!FUB4","v":0},{"$f":"Questions!FUC4","v":0},{"$f":"Questions!FUD4","v":0},{"$f":"Questions!FUE4","v":0},{"$f":"Questions!FUF4","v":0},{"$f":"Questions!FUG4","v":0},{"$f":"Questions!FUH4","v":0},{"$f":"Questions!FUI4","v":0},{"$f":"Questions!FUJ4","v":0},{"$f":"Questions!FUK4","v":0},{"$f":"Questions!FUL4","v":0},{"$f":"Questions!FUM4","v":0},{"$f":"Questions!FUN4","v":0},{"$f":"Questions!FUO4","v":0},{"$f":"Questions!FUP4","v":0},{"$f":"Questions!FUQ4","v":0},{"$f":"Questions!FUR4","v":0},{"$f":"Questions!FUS4","v":0},{"$f":"Questions!FUT4","v":0},{"$f":"Questions!FUU4","v":0},{"$f":"Questions!FUV4","v":0},{"$f":"Questions!FUW4","v":0},{"$f":"Questions!FUX4","v":0},{"$f":"Questions!FUY4","v":0},{"$f":"Questions!FUZ4","v":0},{"$f":"Questions!FVA4","v":0},{"$f":"Questions!FVB4","v":0},{"$f":"Questions!FVC4","v":0},{"$f":"Questions!FVD4","v":0},{"$f":"Questions!FVE4","v":0},{"$f":"Questions!FVF4","v":0},{"$f":"Questions!FVG4","v":0},{"$f":"Questions!FVH4","v":0},{"$f":"Questions!FVI4","v":0},{"$f":"Questions!FVJ4","v":0},{"$f":"Questions!FVK4","v":0},{"$f":"Questions!FVL4","v":0},{"$f":"Questions!FVM4","v":0},{"$f":"Questions!FVN4","v":0},{"$f":"Questions!FVO4","v":0},{"$f":"Questions!FVP4","v":0},{"$f":"Questions!FVQ4","v":0},{"$f":"Questions!FVR4","v":0},{"$f":"Questions!FVS4","v":0},{"$f":"Questions!FVT4","v":0},{"$f":"Questions!FVU4","v":0},{"$f":"Questions!FVV4","v":0},{"$f":"Questions!FVW4","v":0},{"$f":"Questions!FVX4","v":0},{"$f":"Questions!FVY4","v":0},{"$f":"Questions!FVZ4","v":0},{"$f":"Questions!FWA4","v":0},{"$f":"Questions!FWB4","v":0},{"$f":"Questions!FWC4","v":0},{"$f":"Questions!FWD4","v":0},{"$f":"Questions!FWE4","v":0},{"$f":"Questions!FWF4","v":0},{"$f":"Questions!FWG4","v":0},{"$f":"Questions!FWH4","v":0},{"$f":"Questions!FWI4","v":0},{"$f":"Questions!FWJ4","v":0},{"$f":"Questions!FWK4","v":0},{"$f":"Questions!FWL4","v":0},{"$f":"Questions!FWM4","v":0},{"$f":"Questions!FWN4","v":0},{"$f":"Questions!FWO4","v":0},{"$f":"Questions!FWP4","v":0},{"$f":"Questions!FWQ4","v":0},{"$f":"Questions!FWR4","v":0},{"$f":"Questions!FWS4","v":0},{"$f":"Questions!FWT4","v":0},{"$f":"Questions!FWU4","v":0},{"$f":"Questions!FWV4","v":0},{"$f":"Questions!FWW4","v":0},{"$f":"Questions!FWX4","v":0},{"$f":"Questions!FWY4","v":0},{"$f":"Questions!FWZ4","v":0},{"$f":"Questions!FXA4","v":0},{"$f":"Questions!FXB4","v":0},{"$f":"Questions!FXC4","v":0},{"$f":"Questions!FXD4","v":0},{"$f":"Questions!FXE4","v":0},{"$f":"Questions!FXF4","v":0},{"$f":"Questions!FXG4","v":0},{"$f":"Questions!FXH4","v":0},{"$f":"Questions!FXI4","v":0},{"$f":"Questions!FXJ4","v":0},{"$f":"Questions!FXK4","v":0},{"$f":"Questions!FXL4","v":0},{"$f":"Questions!FXM4","v":0},{"$f":"Questions!FXN4","v":0},{"$f":"Questions!FXO4","v":0},{"$f":"Questions!FXP4","v":0},{"$f":"Questions!FXQ4","v":0},{"$f":"Questions!FXR4","v":0},{"$f":"Questions!FXS4","v":0},{"$f":"Questions!FXT4","v":0},{"$f":"Questions!FXU4","v":0},{"$f":"Questions!FXV4","v":0},{"$f":"Questions!FXW4","v":0},{"$f":"Questions!FXX4","v":0},{"$f":"Questions!FXY4","v":0},{"$f":"Questions!FXZ4","v":0},{"$f":"Questions!FYA4","v":0},{"$f":"Questions!FYB4","v":0},{"$f":"Questions!FYC4","v":0},{"$f":"Questions!FYD4","v":0},{"$f":"Questions!FYE4","v":0},{"$f":"Questions!FYF4","v":0},{"$f":"Questions!FYG4","v":0},{"$f":"Questions!FYH4","v":0},{"$f":"Questions!FYI4","v":0},{"$f":"Questions!FYJ4","v":0},{"$f":"Questions!FYK4","v":0},{"$f":"Questions!FYL4","v":0},{"$f":"Questions!FYM4","v":0},{"$f":"Questions!FYN4","v":0},{"$f":"Questions!FYO4","v":0},{"$f":"Questions!FYP4","v":0},{"$f":"Questions!FYQ4","v":0},{"$f":"Questions!FYR4","v":0},{"$f":"Questions!FYS4","v":0},{"$f":"Questions!FYT4","v":0},{"$f":"Questions!FYU4","v":0},{"$f":"Questions!FYV4","v":0},{"$f":"Questions!FYW4","v":0},{"$f":"Questions!FYX4","v":0},{"$f":"Questions!FYY4","v":0},{"$f":"Questions!FYZ4","v":0},{"$f":"Questions!FZA4","v":0},{"$f":"Questions!FZB4","v":0},{"$f":"Questions!FZC4","v":0},{"$f":"Questions!FZD4","v":0},{"$f":"Questions!FZE4","v":0},{"$f":"Questions!FZF4","v":0},{"$f":"Questions!FZG4","v":0},{"$f":"Questions!FZH4","v":0},{"$f":"Questions!FZI4","v":0},{"$f":"Questions!FZJ4","v":0},{"$f":"Questions!FZK4","v":0},{"$f":"Questions!FZL4","v":0},{"$f":"Questions!FZM4","v":0},{"$f":"Questions!FZN4","v":0},{"$f":"Questions!FZO4","v":0},{"$f":"Questions!FZP4","v":0},{"$f":"Questions!FZQ4","v":0},{"$f":"Questions!FZR4","v":0},{"$f":"Questions!FZS4","v":0},{"$f":"Questions!FZT4","v":0},{"$f":"Questions!FZU4","v":0},{"$f":"Questions!FZV4","v":0},{"$f":"Questions!FZW4","v":0},{"$f":"Questions!FZX4","v":0},{"$f":"Questions!FZY4","v":0},{"$f":"Questions!FZZ4","v":0},{"$f":"Questions!GAA4","v":0},{"$f":"Questions!GAB4","v":0},{"$f":"Questions!GAC4","v":0},{"$f":"Questions!GAD4","v":0},{"$f":"Questions!GAE4","v":0},{"$f":"Questions!GAF4","v":0},{"$f":"Questions!GAG4","v":0},{"$f":"Questions!GAH4","v":0},{"$f":"Questions!GAI4","v":0},{"$f":"Questions!GAJ4","v":0},{"$f":"Questions!GAK4","v":0},{"$f":"Questions!GAL4","v":0},{"$f":"Questions!GAM4","v":0},{"$f":"Questions!GAN4","v":0},{"$f":"Questions!GAO4","v":0},{"$f":"Questions!GAP4","v":0},{"$f":"Questions!GAQ4","v":0},{"$f":"Questions!GAR4","v":0},{"$f":"Questions!GAS4","v":0},{"$f":"Questions!GAT4","v":0},{"$f":"Questions!GAU4","v":0},{"$f":"Questions!GAV4","v":0},{"$f":"Questions!GAW4","v":0},{"$f":"Questions!GAX4","v":0},{"$f":"Questions!GAY4","v":0},{"$f":"Questions!GAZ4","v":0},{"$f":"Questions!GBA4","v":0},{"$f":"Questions!GBB4","v":0},{"$f":"Questions!GBC4","v":0},{"$f":"Questions!GBD4","v":0},{"$f":"Questions!GBE4","v":0},{"$f":"Questions!GBF4","v":0},{"$f":"Questions!GBG4","v":0},{"$f":"Questions!GBH4","v":0},{"$f":"Questions!GBI4","v":0},{"$f":"Questions!GBJ4","v":0},{"$f":"Questions!GBK4","v":0},{"$f":"Questions!GBL4","v":0},{"$f":"Questions!GBM4","v":0},{"$f":"Questions!GBN4","v":0},{"$f":"Questions!GBO4","v":0},{"$f":"Questions!GBP4","v":0},{"$f":"Questions!GBQ4","v":0},{"$f":"Questions!GBR4","v":0},{"$f":"Questions!GBS4","v":0},{"$f":"Questions!GBT4","v":0},{"$f":"Questions!GBU4","v":0},{"$f":"Questions!GBV4","v":0},{"$f":"Questions!GBW4","v":0},{"$f":"Questions!GBX4","v":0},{"$f":"Questions!GBY4","v":0},{"$f":"Questions!GBZ4","v":0},{"$f":"Questions!GCA4","v":0},{"$f":"Questions!GCB4","v":0},{"$f":"Questions!GCC4","v":0},{"$f":"Questions!GCD4","v":0},{"$f":"Questions!GCE4","v":0},{"$f":"Questions!GCF4","v":0},{"$f":"Questions!GCG4","v":0},{"$f":"Questions!GCH4","v":0},{"$f":"Questions!GCI4","v":0},{"$f":"Questions!GCJ4","v":0},{"$f":"Questions!GCK4","v":0},{"$f":"Questions!GCL4","v":0},{"$f":"Questions!GCM4","v":0},{"$f":"Questions!GCN4","v":0},{"$f":"Questions!GCO4","v":0},{"$f":"Questions!GCP4","v":0},{"$f":"Questions!GCQ4","v":0},{"$f":"Questions!GCR4","v":0},{"$f":"Questions!GCS4","v":0},{"$f":"Questions!GCT4","v":0},{"$f":"Questions!GCU4","v":0},{"$f":"Questions!GCV4","v":0},{"$f":"Questions!GCW4","v":0},{"$f":"Questions!GCX4","v":0},{"$f":"Questions!GCY4","v":0},{"$f":"Questions!GCZ4","v":0},{"$f":"Questions!GDA4","v":0},{"$f":"Questions!GDB4","v":0},{"$f":"Questions!GDC4","v":0},{"$f":"Questions!GDD4","v":0},{"$f":"Questions!GDE4","v":0},{"$f":"Questions!GDF4","v":0},{"$f":"Questions!GDG4","v":0},{"$f":"Questions!GDH4","v":0},{"$f":"Questions!GDI4","v":0},{"$f":"Questions!GDJ4","v":0},{"$f":"Questions!GDK4","v":0},{"$f":"Questions!GDL4","v":0},{"$f":"Questions!GDM4","v":0},{"$f":"Questions!GDN4","v":0},{"$f":"Questions!GDO4","v":0},{"$f":"Questions!GDP4","v":0},{"$f":"Questions!GDQ4","v":0},{"$f":"Questions!GDR4","v":0},{"$f":"Questions!GDS4","v":0},{"$f":"Questions!GDT4","v":0},{"$f":"Questions!GDU4","v":0},{"$f":"Questions!GDV4","v":0},{"$f":"Questions!GDW4","v":0},{"$f":"Questions!GDX4","v":0},{"$f":"Questions!GDY4","v":0},{"$f":"Questions!GDZ4","v":0},{"$f":"Questions!GEA4","v":0},{"$f":"Questions!GEB4","v":0},{"$f":"Questions!GEC4","v":0},{"$f":"Questions!GED4","v":0},{"$f":"Questions!GEE4","v":0},{"$f":"Questions!GEF4","v":0},{"$f":"Questions!GEG4","v":0},{"$f":"Questions!GEH4","v":0},{"$f":"Questions!GEI4","v":0},{"$f":"Questions!GEJ4","v":0},{"$f":"Questions!GEK4","v":0},{"$f":"Questions!GEL4","v":0},{"$f":"Questions!GEM4","v":0},{"$f":"Questions!GEN4","v":0},{"$f":"Questions!GEO4","v":0},{"$f":"Questions!GEP4","v":0},{"$f":"Questions!GEQ4","v":0},{"$f":"Questions!GER4","v":0},{"$f":"Questions!GES4","v":0},{"$f":"Questions!GET4","v":0},{"$f":"Questions!GEU4","v":0},{"$f":"Questions!GEV4","v":0},{"$f":"Questions!GEW4","v":0},{"$f":"Questions!GEX4","v":0},{"$f":"Questions!GEY4","v":0},{"$f":"Questions!GEZ4","v":0},{"$f":"Questions!GFA4","v":0},{"$f":"Questions!GFB4","v":0},{"$f":"Questions!GFC4","v":0},{"$f":"Questions!GFD4","v":0},{"$f":"Questions!GFE4","v":0},{"$f":"Questions!GFF4","v":0},{"$f":"Questions!GFG4","v":0},{"$f":"Questions!GFH4","v":0},{"$f":"Questions!GFI4","v":0},{"$f":"Questions!GFJ4","v":0},{"$f":"Questions!GFK4","v":0},{"$f":"Questions!GFL4","v":0},{"$f":"Questions!GFM4","v":0},{"$f":"Questions!GFN4","v":0},{"$f":"Questions!GFO4","v":0},{"$f":"Questions!GFP4","v":0},{"$f":"Questions!GFQ4","v":0},{"$f":"Questions!GFR4","v":0},{"$f":"Questions!GFS4","v":0},{"$f":"Questions!GFT4","v":0},{"$f":"Questions!GFU4","v":0},{"$f":"Questions!GFV4","v":0},{"$f":"Questions!GFW4","v":0},{"$f":"Questions!GFX4","v":0},{"$f":"Questions!GFY4","v":0},{"$f":"Questions!GFZ4","v":0},{"$f":"Questions!GGA4","v":0},{"$f":"Questions!GGB4","v":0},{"$f":"Questions!GGC4","v":0},{"$f":"Questions!GGD4","v":0},{"$f":"Questions!GGE4","v":0},{"$f":"Questions!GGF4","v":0},{"$f":"Questions!GGG4","v":0},{"$f":"Questions!GGH4","v":0},{"$f":"Questions!GGI4","v":0},{"$f":"Questions!GGJ4","v":0},{"$f":"Questions!GGK4","v":0},{"$f":"Questions!GGL4","v":0},{"$f":"Questions!GGM4","v":0},{"$f":"Questions!GGN4","v":0},{"$f":"Questions!GGO4","v":0},{"$f":"Questions!GGP4","v":0},{"$f":"Questions!GGQ4","v":0},{"$f":"Questions!GGR4","v":0},{"$f":"Questions!GGS4","v":0},{"$f":"Questions!GGT4","v":0},{"$f":"Questions!GGU4","v":0},{"$f":"Questions!GGV4","v":0},{"$f":"Questions!GGW4","v":0},{"$f":"Questions!GGX4","v":0},{"$f":"Questions!GGY4","v":0},{"$f":"Questions!GGZ4","v":0},{"$f":"Questions!GHA4","v":0},{"$f":"Questions!GHB4","v":0},{"$f":"Questions!GHC4","v":0},{"$f":"Questions!GHD4","v":0},{"$f":"Questions!GHE4","v":0},{"$f":"Questions!GHF4","v":0},{"$f":"Questions!GHG4","v":0},{"$f":"Questions!GHH4","v":0},{"$f":"Questions!GHI4","v":0},{"$f":"Questions!GHJ4","v":0},{"$f":"Questions!GHK4","v":0},{"$f":"Questions!GHL4","v":0},{"$f":"Questions!GHM4","v":0},{"$f":"Questions!GHN4","v":0},{"$f":"Questions!GHO4","v":0},{"$f":"Questions!GHP4","v":0},{"$f":"Questions!GHQ4","v":0},{"$f":"Questions!GHR4","v":0},{"$f":"Questions!GHS4","v":0},{"$f":"Questions!GHT4","v":0},{"$f":"Questions!GHU4","v":0},{"$f":"Questions!GHV4","v":0},{"$f":"Questions!GHW4","v":0},{"$f":"Questions!GHX4","v":0},{"$f":"Questions!GHY4","v":0},{"$f":"Questions!GHZ4","v":0},{"$f":"Questions!GIA4","v":0},{"$f":"Questions!GIB4","v":0},{"$f":"Questions!GIC4","v":0},{"$f":"Questions!GID4","v":0},{"$f":"Questions!GIE4","v":0},{"$f":"Questions!GIF4","v":0},{"$f":"Questions!GIG4","v":0},{"$f":"Questions!GIH4","v":0},{"$f":"Questions!GII4","v":0},{"$f":"Questions!GIJ4","v":0},{"$f":"Questions!GIK4","v":0},{"$f":"Questions!GIL4","v":0},{"$f":"Questions!GIM4","v":0},{"$f":"Questions!GIN4","v":0},{"$f":"Questions!GIO4","v":0},{"$f":"Questions!GIP4","v":0},{"$f":"Questions!GIQ4","v":0},{"$f":"Questions!GIR4","v":0},{"$f":"Questions!GIS4","v":0},{"$f":"Questions!GIT4","v":0},{"$f":"Questions!GIU4","v":0},{"$f":"Questions!GIV4","v":0},{"$f":"Questions!GIW4","v":0},{"$f":"Questions!GIX4","v":0},{"$f":"Questions!GIY4","v":0},{"$f":"Questions!GIZ4","v":0},{"$f":"Questions!GJA4","v":0},{"$f":"Questions!GJB4","v":0},{"$f":"Questions!GJC4","v":0},{"$f":"Questions!GJD4","v":0},{"$f":"Questions!GJE4","v":0},{"$f":"Questions!GJF4","v":0},{"$f":"Questions!GJG4","v":0},{"$f":"Questions!GJH4","v":0},{"$f":"Questions!GJI4","v":0},{"$f":"Questions!GJJ4","v":0},{"$f":"Questions!GJK4","v":0},{"$f":"Questions!GJL4","v":0},{"$f":"Questions!GJM4","v":0},{"$f":"Questions!GJN4","v":0},{"$f":"Questions!GJO4","v":0},{"$f":"Questions!GJP4","v":0},{"$f":"Questions!GJQ4","v":0},{"$f":"Questions!GJR4","v":0},{"$f":"Questions!GJS4","v":0},{"$f":"Questions!GJT4","v":0},{"$f":"Questions!GJU4","v":0},{"$f":"Questions!GJV4","v":0},{"$f":"Questions!GJW4","v":0},{"$f":"Questions!GJX4","v":0},{"$f":"Questions!GJY4","v":0},{"$f":"Questions!GJZ4","v":0},{"$f":"Questions!GKA4","v":0},{"$f":"Questions!GKB4","v":0},{"$f":"Questions!GKC4","v":0},{"$f":"Questions!GKD4","v":0},{"$f":"Questions!GKE4","v":0},{"$f":"Questions!GKF4","v":0},{"$f":"Questions!GKG4","v":0},{"$f":"Questions!GKH4","v":0},{"$f":"Questions!GKI4","v":0},{"$f":"Questions!GKJ4","v":0},{"$f":"Questions!GKK4","v":0},{"$f":"Questions!GKL4","v":0},{"$f":"Questions!GKM4","v":0},{"$f":"Questions!GKN4","v":0},{"$f":"Questions!GKO4","v":0},{"$f":"Questions!GKP4","v":0},{"$f":"Questions!GKQ4","v":0},{"$f":"Questions!GKR4","v":0},{"$f":"Questions!GKS4","v":0},{"$f":"Questions!GKT4","v":0},{"$f":"Questions!GKU4","v":0},{"$f":"Questions!GKV4","v":0},{"$f":"Questions!GKW4","v":0},{"$f":"Questions!GKX4","v":0},{"$f":"Questions!GKY4","v":0},{"$f":"Questions!GKZ4","v":0},{"$f":"Questions!GLA4","v":0},{"$f":"Questions!GLB4","v":0},{"$f":"Questions!GLC4","v":0},{"$f":"Questions!GLD4","v":0},{"$f":"Questions!GLE4","v":0},{"$f":"Questions!GLF4","v":0},{"$f":"Questions!GLG4","v":0},{"$f":"Questions!GLH4","v":0},{"$f":"Questions!GLI4","v":0},{"$f":"Questions!GLJ4","v":0},{"$f":"Questions!GLK4","v":0},{"$f":"Questions!GLL4","v":0},{"$f":"Questions!GLM4","v":0},{"$f":"Questions!GLN4","v":0},{"$f":"Questions!GLO4","v":0},{"$f":"Questions!GLP4","v":0},{"$f":"Questions!GLQ4","v":0},{"$f":"Questions!GLR4","v":0},{"$f":"Questions!GLS4","v":0},{"$f":"Questions!GLT4","v":0},{"$f":"Questions!GLU4","v":0},{"$f":"Questions!GLV4","v":0},{"$f":"Questions!GLW4","v":0},{"$f":"Questions!GLX4","v":0},{"$f":"Questions!GLY4","v":0},{"$f":"Questions!GLZ4","v":0},{"$f":"Questions!GMA4","v":0},{"$f":"Questions!GMB4","v":0},{"$f":"Questions!GMC4","v":0},{"$f":"Questions!GMD4","v":0},{"$f":"Questions!GME4","v":0},{"$f":"Questions!GMF4","v":0},{"$f":"Questions!GMG4","v":0},{"$f":"Questions!GMH4","v":0},{"$f":"Questions!GMI4","v":0},{"$f":"Questions!GMJ4","v":0},{"$f":"Questions!GMK4","v":0},{"$f":"Questions!GML4","v":0},{"$f":"Questions!GMM4","v":0},{"$f":"Questions!GMN4","v":0},{"$f":"Questions!GMO4","v":0},{"$f":"Questions!GMP4","v":0},{"$f":"Questions!GMQ4","v":0},{"$f":"Questions!GMR4","v":0},{"$f":"Questions!GMS4","v":0},{"$f":"Questions!GMT4","v":0},{"$f":"Questions!GMU4","v":0},{"$f":"Questions!GMV4","v":0},{"$f":"Questions!GMW4","v":0},{"$f":"Questions!GMX4","v":0},{"$f":"Questions!GMY4","v":0},{"$f":"Questions!GMZ4","v":0},{"$f":"Questions!GNA4","v":0},{"$f":"Questions!GNB4","v":0},{"$f":"Questions!GNC4","v":0},{"$f":"Questions!GND4","v":0},{"$f":"Questions!GNE4","v":0},{"$f":"Questions!GNF4","v":0},{"$f":"Questions!GNG4","v":0},{"$f":"Questions!GNH4","v":0},{"$f":"Questions!GNI4","v":0},{"$f":"Questions!GNJ4","v":0},{"$f":"Questions!GNK4","v":0},{"$f":"Questions!GNL4","v":0},{"$f":"Questions!GNM4","v":0},{"$f":"Questions!GNN4","v":0},{"$f":"Questions!GNO4","v":0},{"$f":"Questions!GNP4","v":0},{"$f":"Questions!GNQ4","v":0},{"$f":"Questions!GNR4","v":0},{"$f":"Questions!GNS4","v":0},{"$f":"Questions!GNT4","v":0},{"$f":"Questions!GNU4","v":0},{"$f":"Questions!GNV4","v":0},{"$f":"Questions!GNW4","v":0},{"$f":"Questions!GNX4","v":0},{"$f":"Questions!GNY4","v":0},{"$f":"Questions!GNZ4","v":0},{"$f":"Questions!GOA4","v":0},{"$f":"Questions!GOB4","v":0},{"$f":"Questions!GOC4","v":0},{"$f":"Questions!GOD4","v":0},{"$f":"Questions!GOE4","v":0},{"$f":"Questions!GOF4","v":0},{"$f":"Questions!GOG4","v":0},{"$f":"Questions!GOH4","v":0},{"$f":"Questions!GOI4","v":0},{"$f":"Questions!GOJ4","v":0},{"$f":"Questions!GOK4","v":0},{"$f":"Questions!GOL4","v":0},{"$f":"Questions!GOM4","v":0},{"$f":"Questions!GON4","v":0},{"$f":"Questions!GOO4","v":0},{"$f":"Questions!GOP4","v":0},{"$f":"Questions!GOQ4","v":0},{"$f":"Questions!GOR4","v":0},{"$f":"Questions!GOS4","v":0},{"$f":"Questions!GOT4","v":0},{"$f":"Questions!GOU4","v":0},{"$f":"Questions!GOV4","v":0},{"$f":"Questions!GOW4","v":0},{"$f":"Questions!GOX4","v":0},{"$f":"Questions!GOY4","v":0},{"$f":"Questions!GOZ4","v":0},{"$f":"Questions!GPA4","v":0},{"$f":"Questions!GPB4","v":0},{"$f":"Questions!GPC4","v":0},{"$f":"Questions!GPD4","v":0},{"$f":"Questions!GPE4","v":0},{"$f":"Questions!GPF4","v":0},{"$f":"Questions!GPG4","v":0},{"$f":"Questions!GPH4","v":0},{"$f":"Questions!GPI4","v":0},{"$f":"Questions!GPJ4","v":0},{"$f":"Questions!GPK4","v":0},{"$f":"Questions!GPL4","v":0},{"$f":"Questions!GPM4","v":0},{"$f":"Questions!GPN4","v":0},{"$f":"Questions!GPO4","v":0},{"$f":"Questions!GPP4","v":0},{"$f":"Questions!GPQ4","v":0},{"$f":"Questions!GPR4","v":0},{"$f":"Questions!GPS4","v":0},{"$f":"Questions!GPT4","v":0},{"$f":"Questions!GPU4","v":0},{"$f":"Questions!GPV4","v":0},{"$f":"Questions!GPW4","v":0},{"$f":"Questions!GPX4","v":0},{"$f":"Questions!GPY4","v":0},{"$f":"Questions!GPZ4","v":0},{"$f":"Questions!GQA4","v":0},{"$f":"Questions!GQB4","v":0},{"$f":"Questions!GQC4","v":0},{"$f":"Questions!GQD4","v":0},{"$f":"Questions!GQE4","v":0},{"$f":"Questions!GQF4","v":0},{"$f":"Questions!GQG4","v":0},{"$f":"Questions!GQH4","v":0},{"$f":"Questions!GQI4","v":0},{"$f":"Questions!GQJ4","v":0},{"$f":"Questions!GQK4","v":0},{"$f":"Questions!GQL4","v":0},{"$f":"Questions!GQM4","v":0},{"$f":"Questions!GQN4","v":0},{"$f":"Questions!GQO4","v":0},{"$f":"Questions!GQP4","v":0},{"$f":"Questions!GQQ4","v":0},{"$f":"Questions!GQR4","v":0},{"$f":"Questions!GQS4","v":0},{"$f":"Questions!GQT4","v":0},{"$f":"Questions!GQU4","v":0},{"$f":"Questions!GQV4","v":0},{"$f":"Questions!GQW4","v":0},{"$f":"Questions!GQX4","v":0},{"$f":"Questions!GQY4","v":0},{"$f":"Questions!GQZ4","v":0},{"$f":"Questions!GRA4","v":0},{"$f":"Questions!GRB4","v":0},{"$f":"Questions!GRC4","v":0},{"$f":"Questions!GRD4","v":0},{"$f":"Questions!GRE4","v":0},{"$f":"Questions!GRF4","v":0},{"$f":"Questions!GRG4","v":0},{"$f":"Questions!GRH4","v":0},{"$f":"Questions!GRI4","v":0},{"$f":"Questions!GRJ4","v":0},{"$f":"Questions!GRK4","v":0},{"$f":"Questions!GRL4","v":0},{"$f":"Questions!GRM4","v":0},{"$f":"Questions!GRN4","v":0},{"$f":"Questions!GRO4","v":0},{"$f":"Questions!GRP4","v":0},{"$f":"Questions!GRQ4","v":0},{"$f":"Questions!GRR4","v":0},{"$f":"Questions!GRS4","v":0},{"$f":"Questions!GRT4","v":0},{"$f":"Questions!GRU4","v":0},{"$f":"Questions!GRV4","v":0},{"$f":"Questions!GRW4","v":0},{"$f":"Questions!GRX4","v":0},{"$f":"Questions!GRY4","v":0},{"$f":"Questions!GRZ4","v":0},{"$f":"Questions!GSA4","v":0},{"$f":"Questions!GSB4","v":0},{"$f":"Questions!GSC4","v":0},{"$f":"Questions!GSD4","v":0},{"$f":"Questions!GSE4","v":0},{"$f":"Questions!GSF4","v":0},{"$f":"Questions!GSG4","v":0},{"$f":"Questions!GSH4","v":0},{"$f":"Questions!GSI4","v":0},{"$f":"Questions!GSJ4","v":0},{"$f":"Questions!GSK4","v":0},{"$f":"Questions!GSL4","v":0},{"$f":"Questions!GSM4","v":0},{"$f":"Questions!GSN4","v":0},{"$f":"Questions!GSO4","v":0},{"$f":"Questions!GSP4","v":0},{"$f":"Questions!GSQ4","v":0},{"$f":"Questions!GSR4","v":0},{"$f":"Questions!GSS4","v":0},{"$f":"Questions!GST4","v":0},{"$f":"Questions!GSU4","v":0},{"$f":"Questions!GSV4","v":0},{"$f":"Questions!GSW4","v":0},{"$f":"Questions!GSX4","v":0},{"$f":"Questions!GSY4","v":0},{"$f":"Questions!GSZ4","v":0},{"$f":"Questions!GTA4","v":0},{"$f":"Questions!GTB4","v":0},{"$f":"Questions!GTC4","v":0},{"$f":"Questions!GTD4","v":0},{"$f":"Questions!GTE4","v":0},{"$f":"Questions!GTF4","v":0},{"$f":"Questions!GTG4","v":0},{"$f":"Questions!GTH4","v":0},{"$f":"Questions!GTI4","v":0},{"$f":"Questions!GTJ4","v":0},{"$f":"Questions!GTK4","v":0},{"$f":"Questions!GTL4","v":0},{"$f":"Questions!GTM4","v":0},{"$f":"Questions!GTN4","v":0},{"$f":"Questions!GTO4","v":0},{"$f":"Questions!GTP4","v":0},{"$f":"Questions!GTQ4","v":0},{"$f":"Questions!GTR4","v":0},{"$f":"Questions!GTS4","v":0},{"$f":"Questions!GTT4","v":0},{"$f":"Questions!GTU4","v":0},{"$f":"Questions!GTV4","v":0},{"$f":"Questions!GTW4","v":0},{"$f":"Questions!GTX4","v":0},{"$f":"Questions!GTY4","v":0},{"$f":"Questions!GTZ4","v":0},{"$f":"Questions!GUA4","v":0},{"$f":"Questions!GUB4","v":0},{"$f":"Questions!GUC4","v":0},{"$f":"Questions!GUD4","v":0},{"$f":"Questions!GUE4","v":0},{"$f":"Questions!GUF4","v":0},{"$f":"Questions!GUG4","v":0},{"$f":"Questions!GUH4","v":0},{"$f":"Questions!GUI4","v":0},{"$f":"Questions!GUJ4","v":0},{"$f":"Questions!GUK4","v":0},{"$f":"Questions!GUL4","v":0},{"$f":"Questions!GUM4","v":0},{"$f":"Questions!GUN4","v":0},{"$f":"Questions!GUO4","v":0},{"$f":"Questions!GUP4","v":0},{"$f":"Questions!GUQ4","v":0},{"$f":"Questions!GUR4","v":0},{"$f":"Questions!GUS4","v":0},{"$f":"Questions!GUT4","v":0},{"$f":"Questions!GUU4","v":0},{"$f":"Questions!GUV4","v":0},{"$f":"Questions!GUW4","v":0},{"$f":"Questions!GUX4","v":0},{"$f":"Questions!GUY4","v":0},{"$f":"Questions!GUZ4","v":0},{"$f":"Questions!GVA4","v":0},{"$f":"Questions!GVB4","v":0},{"$f":"Questions!GVC4","v":0},{"$f":"Questions!GVD4","v":0},{"$f":"Questions!GVE4","v":0},{"$f":"Questions!GVF4","v":0},{"$f":"Questions!GVG4","v":0},{"$f":"Questions!GVH4","v":0},{"$f":"Questions!GVI4","v":0},{"$f":"Questions!GVJ4","v":0},{"$f":"Questions!GVK4","v":0},{"$f":"Questions!GVL4","v":0},{"$f":"Questions!GVM4","v":0},{"$f":"Questions!GVN4","v":0},{"$f":"Questions!GVO4","v":0},{"$f":"Questions!GVP4","v":0},{"$f":"Questions!GVQ4","v":0},{"$f":"Questions!GVR4","v":0},{"$f":"Questions!GVS4","v":0},{"$f":"Questions!GVT4","v":0},{"$f":"Questions!GVU4","v":0},{"$f":"Questions!GVV4","v":0},{"$f":"Questions!GVW4","v":0},{"$f":"Questions!GVX4","v":0},{"$f":"Questions!GVY4","v":0},{"$f":"Questions!GVZ4","v":0},{"$f":"Questions!GWA4","v":0},{"$f":"Questions!GWB4","v":0},{"$f":"Questions!GWC4","v":0},{"$f":"Questions!GWD4","v":0},{"$f":"Questions!GWE4","v":0},{"$f":"Questions!GWF4","v":0},{"$f":"Questions!GWG4","v":0},{"$f":"Questions!GWH4","v":0},{"$f":"Questions!GWI4","v":0},{"$f":"Questions!GWJ4","v":0},{"$f":"Questions!GWK4","v":0},{"$f":"Questions!GWL4","v":0},{"$f":"Questions!GWM4","v":0},{"$f":"Questions!GWN4","v":0},{"$f":"Questions!GWO4","v":0},{"$f":"Questions!GWP4","v":0},{"$f":"Questions!GWQ4","v":0},{"$f":"Questions!GWR4","v":0},{"$f":"Questions!GWS4","v":0},{"$f":"Questions!GWT4","v":0},{"$f":"Questions!GWU4","v":0},{"$f":"Questions!GWV4","v":0},{"$f":"Questions!GWW4","v":0},{"$f":"Questions!GWX4","v":0},{"$f":"Questions!GWY4","v":0},{"$f":"Questions!GWZ4","v":0},{"$f":"Questions!GXA4","v":0},{"$f":"Questions!GXB4","v":0},{"$f":"Questions!GXC4","v":0},{"$f":"Questions!GXD4","v":0},{"$f":"Questions!GXE4","v":0},{"$f":"Questions!GXF4","v":0},{"$f":"Questions!GXG4","v":0},{"$f":"Questions!GXH4","v":0},{"$f":"Questions!GXI4","v":0},{"$f":"Questions!GXJ4","v":0},{"$f":"Questions!GXK4","v":0},{"$f":"Questions!GXL4","v":0},{"$f":"Questions!GXM4","v":0},{"$f":"Questions!GXN4","v":0},{"$f":"Questions!GXO4","v":0},{"$f":"Questions!GXP4","v":0},{"$f":"Questions!GXQ4","v":0},{"$f":"Questions!GXR4","v":0},{"$f":"Questions!GXS4","v":0},{"$f":"Questions!GXT4","v":0},{"$f":"Questions!GXU4","v":0},{"$f":"Questions!GXV4","v":0},{"$f":"Questions!GXW4","v":0},{"$f":"Questions!GXX4","v":0},{"$f":"Questions!GXY4","v":0},{"$f":"Questions!GXZ4","v":0},{"$f":"Questions!GYA4","v":0},{"$f":"Questions!GYB4","v":0},{"$f":"Questions!GYC4","v":0},{"$f":"Questions!GYD4","v":0},{"$f":"Questions!GYE4","v":0},{"$f":"Questions!GYF4","v":0},{"$f":"Questions!GYG4","v":0},{"$f":"Questions!GYH4","v":0},{"$f":"Questions!GYI4","v":0},{"$f":"Questions!GYJ4","v":0},{"$f":"Questions!GYK4","v":0},{"$f":"Questions!GYL4","v":0},{"$f":"Questions!GYM4","v":0},{"$f":"Questions!GYN4","v":0},{"$f":"Questions!GYO4","v":0},{"$f":"Questions!GYP4","v":0},{"$f":"Questions!GYQ4","v":0},{"$f":"Questions!GYR4","v":0},{"$f":"Questions!GYS4","v":0},{"$f":"Questions!GYT4","v":0},{"$f":"Questions!GYU4","v":0},{"$f":"Questions!GYV4","v":0},{"$f":"Questions!GYW4","v":0},{"$f":"Questions!GYX4","v":0},{"$f":"Questions!GYY4","v":0},{"$f":"Questions!GYZ4","v":0},{"$f":"Questions!GZA4","v":0},{"$f":"Questions!GZB4","v":0},{"$f":"Questions!GZC4","v":0},{"$f":"Questions!GZD4","v":0},{"$f":"Questions!GZE4","v":0},{"$f":"Questions!GZF4","v":0},{"$f":"Questions!GZG4","v":0},{"$f":"Questions!GZH4","v":0},{"$f":"Questions!GZI4","v":0},{"$f":"Questions!GZJ4","v":0},{"$f":"Questions!GZK4","v":0},{"$f":"Questions!GZL4","v":0},{"$f":"Questions!GZM4","v":0},{"$f":"Questions!GZN4","v":0},{"$f":"Questions!GZO4","v":0},{"$f":"Questions!GZP4","v":0},{"$f":"Questions!GZQ4","v":0},{"$f":"Questions!GZR4","v":0},{"$f":"Questions!GZS4","v":0},{"$f":"Questions!GZT4","v":0},{"$f":"Questions!GZU4","v":0},{"$f":"Questions!GZV4","v":0},{"$f":"Questions!GZW4","v":0},{"$f":"Questions!GZX4","v":0},{"$f":"Questions!GZY4","v":0},{"$f":"Questions!GZZ4","v":0},{"$f":"Questions!HAA4","v":0},{"$f":"Questions!HAB4","v":0},{"$f":"Questions!HAC4","v":0},{"$f":"Questions!HAD4","v":0},{"$f":"Questions!HAE4","v":0},{"$f":"Questions!HAF4","v":0},{"$f":"Questions!HAG4","v":0},{"$f":"Questions!HAH4","v":0},{"$f":"Questions!HAI4","v":0},{"$f":"Questions!HAJ4","v":0},{"$f":"Questions!HAK4","v":0},{"$f":"Questions!HAL4","v":0},{"$f":"Questions!HAM4","v":0},{"$f":"Questions!HAN4","v":0},{"$f":"Questions!HAO4","v":0},{"$f":"Questions!HAP4","v":0},{"$f":"Questions!HAQ4","v":0},{"$f":"Questions!HAR4","v":0},{"$f":"Questions!HAS4","v":0},{"$f":"Questions!HAT4","v":0},{"$f":"Questions!HAU4","v":0},{"$f":"Questions!HAV4","v":0},{"$f":"Questions!HAW4","v":0},{"$f":"Questions!HAX4","v":0},{"$f":"Questions!HAY4","v":0},{"$f":"Questions!HAZ4","v":0},{"$f":"Questions!HBA4","v":0},{"$f":"Questions!HBB4","v":0},{"$f":"Questions!HBC4","v":0},{"$f":"Questions!HBD4","v":0},{"$f":"Questions!HBE4","v":0},{"$f":"Questions!HBF4","v":0},{"$f":"Questions!HBG4","v":0},{"$f":"Questions!HBH4","v":0},{"$f":"Questions!HBI4","v":0},{"$f":"Questions!HBJ4","v":0},{"$f":"Questions!HBK4","v":0},{"$f":"Questions!HBL4","v":0},{"$f":"Questions!HBM4","v":0},{"$f":"Questions!HBN4","v":0},{"$f":"Questions!HBO4","v":0},{"$f":"Questions!HBP4","v":0},{"$f":"Questions!HBQ4","v":0},{"$f":"Questions!HBR4","v":0},{"$f":"Questions!HBS4","v":0},{"$f":"Questions!HBT4","v":0},{"$f":"Questions!HBU4","v":0},{"$f":"Questions!HBV4","v":0},{"$f":"Questions!HBW4","v":0},{"$f":"Questions!HBX4","v":0},{"$f":"Questions!HBY4","v":0},{"$f":"Questions!HBZ4","v":0},{"$f":"Questions!HCA4","v":0},{"$f":"Questions!HCB4","v":0},{"$f":"Questions!HCC4","v":0},{"$f":"Questions!HCD4","v":0},{"$f":"Questions!HCE4","v":0},{"$f":"Questions!HCF4","v":0},{"$f":"Questions!HCG4","v":0},{"$f":"Questions!HCH4","v":0},{"$f":"Questions!HCI4","v":0},{"$f":"Questions!HCJ4","v":0},{"$f":"Questions!HCK4","v":0},{"$f":"Questions!HCL4","v":0},{"$f":"Questions!HCM4","v":0},{"$f":"Questions!HCN4","v":0},{"$f":"Questions!HCO4","v":0},{"$f":"Questions!HCP4","v":0},{"$f":"Questions!HCQ4","v":0},{"$f":"Questions!HCR4","v":0},{"$f":"Questions!HCS4","v":0},{"$f":"Questions!HCT4","v":0},{"$f":"Questions!HCU4","v":0},{"$f":"Questions!HCV4","v":0},{"$f":"Questions!HCW4","v":0},{"$f":"Questions!HCX4","v":0},{"$f":"Questions!HCY4","v":0},{"$f":"Questions!HCZ4","v":0},{"$f":"Questions!HDA4","v":0},{"$f":"Questions!HDB4","v":0},{"$f":"Questions!HDC4","v":0},{"$f":"Questions!HDD4","v":0},{"$f":"Questions!HDE4","v":0},{"$f":"Questions!HDF4","v":0},{"$f":"Questions!HDG4","v":0},{"$f":"Questions!HDH4","v":0},{"$f":"Questions!HDI4","v":0},{"$f":"Questions!HDJ4","v":0},{"$f":"Questions!HDK4","v":0},{"$f":"Questions!HDL4","v":0},{"$f":"Questions!HDM4","v":0},{"$f":"Questions!HDN4","v":0},{"$f":"Questions!HDO4","v":0},{"$f":"Questions!HDP4","v":0},{"$f":"Questions!HDQ4","v":0},{"$f":"Questions!HDR4","v":0},{"$f":"Questions!HDS4","v":0},{"$f":"Questions!HDT4","v":0},{"$f":"Questions!HDU4","v":0},{"$f":"Questions!HDV4","v":0},{"$f":"Questions!HDW4","v":0},{"$f":"Questions!HDX4","v":0},{"$f":"Questions!HDY4","v":0},{"$f":"Questions!HDZ4","v":0},{"$f":"Questions!HEA4","v":0},{"$f":"Questions!HEB4","v":0},{"$f":"Questions!HEC4","v":0},{"$f":"Questions!HED4","v":0},{"$f":"Questions!HEE4","v":0},{"$f":"Questions!HEF4","v":0},{"$f":"Questions!HEG4","v":0},{"$f":"Questions!HEH4","v":0},{"$f":"Questions!HEI4","v":0},{"$f":"Questions!HEJ4","v":0},{"$f":"Questions!HEK4","v":0},{"$f":"Questions!HEL4","v":0},{"$f":"Questions!HEM4","v":0},{"$f":"Questions!HEN4","v":0},{"$f":"Questions!HEO4","v":0},{"$f":"Questions!HEP4","v":0},{"$f":"Questions!HEQ4","v":0},{"$f":"Questions!HER4","v":0},{"$f":"Questions!HES4","v":0},{"$f":"Questions!HET4","v":0},{"$f":"Questions!HEU4","v":0},{"$f":"Questions!HEV4","v":0},{"$f":"Questions!HEW4","v":0},{"$f":"Questions!HEX4","v":0},{"$f":"Questions!HEY4","v":0},{"$f":"Questions!HEZ4","v":0},{"$f":"Questions!HFA4","v":0},{"$f":"Questions!HFB4","v":0},{"$f":"Questions!HFC4","v":0},{"$f":"Questions!HFD4","v":0},{"$f":"Questions!HFE4","v":0},{"$f":"Questions!HFF4","v":0},{"$f":"Questions!HFG4","v":0},{"$f":"Questions!HFH4","v":0},{"$f":"Questions!HFI4","v":0},{"$f":"Questions!HFJ4","v":0},{"$f":"Questions!HFK4","v":0},{"$f":"Questions!HFL4","v":0},{"$f":"Questions!HFM4","v":0},{"$f":"Questions!HFN4","v":0},{"$f":"Questions!HFO4","v":0},{"$f":"Questions!HFP4","v":0},{"$f":"Questions!HFQ4","v":0},{"$f":"Questions!HFR4","v":0},{"$f":"Questions!HFS4","v":0},{"$f":"Questions!HFT4","v":0},{"$f":"Questions!HFU4","v":0},{"$f":"Questions!HFV4","v":0},{"$f":"Questions!HFW4","v":0},{"$f":"Questions!HFX4","v":0},{"$f":"Questions!HFY4","v":0},{"$f":"Questions!HFZ4","v":0},{"$f":"Questions!HGA4","v":0},{"$f":"Questions!HGB4","v":0},{"$f":"Questions!HGC4","v":0},{"$f":"Questions!HGD4","v":0},{"$f":"Questions!HGE4","v":0},{"$f":"Questions!HGF4","v":0},{"$f":"Questions!HGG4","v":0},{"$f":"Questions!HGH4","v":0},{"$f":"Questions!HGI4","v":0},{"$f":"Questions!HGJ4","v":0},{"$f":"Questions!HGK4","v":0},{"$f":"Questions!HGL4","v":0},{"$f":"Questions!HGM4","v":0},{"$f":"Questions!HGN4","v":0},{"$f":"Questions!HGO4","v":0},{"$f":"Questions!HGP4","v":0},{"$f":"Questions!HGQ4","v":0},{"$f":"Questions!HGR4","v":0},{"$f":"Questions!HGS4","v":0},{"$f":"Questions!HGT4","v":0},{"$f":"Questions!HGU4","v":0},{"$f":"Questions!HGV4","v":0},{"$f":"Questions!HGW4","v":0},{"$f":"Questions!HGX4","v":0},{"$f":"Questions!HGY4","v":0},{"$f":"Questions!HGZ4","v":0},{"$f":"Questions!HHA4","v":0},{"$f":"Questions!HHB4","v":0},{"$f":"Questions!HHC4","v":0},{"$f":"Questions!HHD4","v":0},{"$f":"Questions!HHE4","v":0},{"$f":"Questions!HHF4","v":0},{"$f":"Questions!HHG4","v":0},{"$f":"Questions!HHH4","v":0},{"$f":"Questions!HHI4","v":0},{"$f":"Questions!HHJ4","v":0},{"$f":"Questions!HHK4","v":0},{"$f":"Questions!HHL4","v":0},{"$f":"Questions!HHM4","v":0},{"$f":"Questions!HHN4","v":0},{"$f":"Questions!HHO4","v":0},{"$f":"Questions!HHP4","v":0},{"$f":"Questions!HHQ4","v":0},{"$f":"Questions!HHR4","v":0},{"$f":"Questions!HHS4","v":0},{"$f":"Questions!HHT4","v":0},{"$f":"Questions!HHU4","v":0},{"$f":"Questions!HHV4","v":0},{"$f":"Questions!HHW4","v":0},{"$f":"Questions!HHX4","v":0},{"$f":"Questions!HHY4","v":0},{"$f":"Questions!HHZ4","v":0},{"$f":"Questions!HIA4","v":0},{"$f":"Questions!HIB4","v":0},{"$f":"Questions!HIC4","v":0},{"$f":"Questions!HID4","v":0},{"$f":"Questions!HIE4","v":0},{"$f":"Questions!HIF4","v":0},{"$f":"Questions!HIG4","v":0},{"$f":"Questions!HIH4","v":0},{"$f":"Questions!HII4","v":0},{"$f":"Questions!HIJ4","v":0},{"$f":"Questions!HIK4","v":0},{"$f":"Questions!HIL4","v":0},{"$f":"Questions!HIM4","v":0},{"$f":"Questions!HIN4","v":0},{"$f":"Questions!HIO4","v":0},{"$f":"Questions!HIP4","v":0},{"$f":"Questions!HIQ4","v":0},{"$f":"Questions!HIR4","v":0},{"$f":"Questions!HIS4","v":0},{"$f":"Questions!HIT4","v":0},{"$f":"Questions!HIU4","v":0},{"$f":"Questions!HIV4","v":0},{"$f":"Questions!HIW4","v":0},{"$f":"Questions!HIX4","v":0},{"$f":"Questions!HIY4","v":0},{"$f":"Questions!HIZ4","v":0},{"$f":"Questions!HJA4","v":0},{"$f":"Questions!HJB4","v":0},{"$f":"Questions!HJC4","v":0},{"$f":"Questions!HJD4","v":0},{"$f":"Questions!HJE4","v":0},{"$f":"Questions!HJF4","v":0},{"$f":"Questions!HJG4","v":0},{"$f":"Questions!HJH4","v":0},{"$f":"Questions!HJI4","v":0},{"$f":"Questions!HJJ4","v":0},{"$f":"Questions!HJK4","v":0},{"$f":"Questions!HJL4","v":0},{"$f":"Questions!HJM4","v":0},{"$f":"Questions!HJN4","v":0},{"$f":"Questions!HJO4","v":0},{"$f":"Questions!HJP4","v":0},{"$f":"Questions!HJQ4","v":0},{"$f":"Questions!HJR4","v":0},{"$f":"Questions!HJS4","v":0},{"$f":"Questions!HJT4","v":0},{"$f":"Questions!HJU4","v":0},{"$f":"Questions!HJV4","v":0},{"$f":"Questions!HJW4","v":0},{"$f":"Questions!HJX4","v":0},{"$f":"Questions!HJY4","v":0},{"$f":"Questions!HJZ4","v":0},{"$f":"Questions!HKA4","v":0},{"$f":"Questions!HKB4","v":0},{"$f":"Questions!HKC4","v":0},{"$f":"Questions!HKD4","v":0},{"$f":"Questions!HKE4","v":0},{"$f":"Questions!HKF4","v":0},{"$f":"Questions!HKG4","v":0},{"$f":"Questions!HKH4","v":0},{"$f":"Questions!HKI4","v":0},{"$f":"Questions!HKJ4","v":0},{"$f":"Questions!HKK4","v":0},{"$f":"Questions!HKL4","v":0},{"$f":"Questions!HKM4","v":0},{"$f":"Questions!HKN4","v":0},{"$f":"Questions!HKO4","v":0},{"$f":"Questions!HKP4","v":0},{"$f":"Questions!HKQ4","v":0},{"$f":"Questions!HKR4","v":0},{"$f":"Questions!HKS4","v":0},{"$f":"Questions!HKT4","v":0},{"$f":"Questions!HKU4","v":0},{"$f":"Questions!HKV4","v":0},{"$f":"Questions!HKW4","v":0},{"$f":"Questions!HKX4","v":0},{"$f":"Questions!HKY4","v":0},{"$f":"Questions!HKZ4","v":0},{"$f":"Questions!HLA4","v":0},{"$f":"Questions!HLB4","v":0},{"$f":"Questions!HLC4","v":0},{"$f":"Questions!HLD4","v":0},{"$f":"Questions!HLE4","v":0},{"$f":"Questions!HLF4","v":0},{"$f":"Questions!HLG4","v":0},{"$f":"Questions!HLH4","v":0},{"$f":"Questions!HLI4","v":0},{"$f":"Questions!HLJ4","v":0},{"$f":"Questions!HLK4","v":0},{"$f":"Questions!HLL4","v":0},{"$f":"Questions!HLM4","v":0},{"$f":"Questions!HLN4","v":0},{"$f":"Questions!HLO4","v":0},{"$f":"Questions!HLP4","v":0},{"$f":"Questions!HLQ4","v":0},{"$f":"Questions!HLR4","v":0},{"$f":"Questions!HLS4","v":0},{"$f":"Questions!HLT4","v":0},{"$f":"Questions!HLU4","v":0},{"$f":"Questions!HLV4","v":0},{"$f":"Questions!HLW4","v":0},{"$f":"Questions!HLX4","v":0},{"$f":"Questions!HLY4","v":0},{"$f":"Questions!HLZ4","v":0},{"$f":"Questions!HMA4","v":0},{"$f":"Questions!HMB4","v":0},{"$f":"Questions!HMC4","v":0},{"$f":"Questions!HMD4","v":0},{"$f":"Questions!HME4","v":0},{"$f":"Questions!HMF4","v":0},{"$f":"Questions!HMG4","v":0},{"$f":"Questions!HMH4","v":0},{"$f":"Questions!HMI4","v":0},{"$f":"Questions!HMJ4","v":0},{"$f":"Questions!HMK4","v":0},{"$f":"Questions!HML4","v":0},{"$f":"Questions!HMM4","v":0},{"$f":"Questions!HMN4","v":0},{"$f":"Questions!HMO4","v":0},{"$f":"Questions!HMP4","v":0},{"$f":"Questions!HMQ4","v":0},{"$f":"Questions!HMR4","v":0},{"$f":"Questions!HMS4","v":0},{"$f":"Questions!HMT4","v":0},{"$f":"Questions!HMU4","v":0},{"$f":"Questions!HMV4","v":0},{"$f":"Questions!HMW4","v":0},{"$f":"Questions!HMX4","v":0},{"$f":"Questions!HMY4","v":0},{"$f":"Questions!HMZ4","v":0},{"$f":"Questions!HNA4","v":0},{"$f":"Questions!HNB4","v":0},{"$f":"Questions!HNC4","v":0},{"$f":"Questions!HND4","v":0},{"$f":"Questions!HNE4","v":0},{"$f":"Questions!HNF4","v":0},{"$f":"Questions!HNG4","v":0},{"$f":"Questions!HNH4","v":0},{"$f":"Questions!HNI4","v":0},{"$f":"Questions!HNJ4","v":0},{"$f":"Questions!HNK4","v":0},{"$f":"Questions!HNL4","v":0},{"$f":"Questions!HNM4","v":0},{"$f":"Questions!HNN4","v":0},{"$f":"Questions!HNO4","v":0},{"$f":"Questions!HNP4","v":0},{"$f":"Questions!HNQ4","v":0},{"$f":"Questions!HNR4","v":0},{"$f":"Questions!HNS4","v":0},{"$f":"Questions!HNT4","v":0},{"$f":"Questions!HNU4","v":0},{"$f":"Questions!HNV4","v":0},{"$f":"Questions!HNW4","v":0},{"$f":"Questions!HNX4","v":0},{"$f":"Questions!HNY4","v":0},{"$f":"Questions!HNZ4","v":0},{"$f":"Questions!HOA4","v":0},{"$f":"Questions!HOB4","v":0},{"$f":"Questions!HOC4","v":0},{"$f":"Questions!HOD4","v":0},{"$f":"Questions!HOE4","v":0},{"$f":"Questions!HOF4","v":0},{"$f":"Questions!HOG4","v":0},{"$f":"Questions!HOH4","v":0},{"$f":"Questions!HOI4","v":0},{"$f":"Questions!HOJ4","v":0},{"$f":"Questions!HOK4","v":0},{"$f":"Questions!HOL4","v":0},{"$f":"Questions!HOM4","v":0},{"$f":"Questions!HON4","v":0},{"$f":"Questions!HOO4","v":0},{"$f":"Questions!HOP4","v":0},{"$f":"Questions!HOQ4","v":0},{"$f":"Questions!HOR4","v":0},{"$f":"Questions!HOS4","v":0},{"$f":"Questions!HOT4","v":0},{"$f":"Questions!HOU4","v":0},{"$f":"Questions!HOV4","v":0},{"$f":"Questions!HOW4","v":0},{"$f":"Questions!HOX4","v":0},{"$f":"Questions!HOY4","v":0},{"$f":"Questions!HOZ4","v":0},{"$f":"Questions!HPA4","v":0},{"$f":"Questions!HPB4","v":0},{"$f":"Questions!HPC4","v":0},{"$f":"Questions!HPD4","v":0},{"$f":"Questions!HPE4","v":0},{"$f":"Questions!HPF4","v":0},{"$f":"Questions!HPG4","v":0},{"$f":"Questions!HPH4","v":0},{"$f":"Questions!HPI4","v":0},{"$f":"Questions!HPJ4","v":0},{"$f":"Questions!HPK4","v":0},{"$f":"Questions!HPL4","v":0},{"$f":"Questions!HPM4","v":0},{"$f":"Questions!HPN4","v":0},{"$f":"Questions!HPO4","v":0},{"$f":"Questions!HPP4","v":0},{"$f":"Questions!HPQ4","v":0},{"$f":"Questions!HPR4","v":0},{"$f":"Questions!HPS4","v":0},{"$f":"Questions!HPT4","v":0},{"$f":"Questions!HPU4","v":0},{"$f":"Questions!HPV4","v":0},{"$f":"Questions!HPW4","v":0},{"$f":"Questions!HPX4","v":0},{"$f":"Questions!HPY4","v":0},{"$f":"Questions!HPZ4","v":0},{"$f":"Questions!HQA4","v":0},{"$f":"Questions!HQB4","v":0},{"$f":"Questions!HQC4","v":0},{"$f":"Questions!HQD4","v":0},{"$f":"Questions!HQE4","v":0},{"$f":"Questions!HQF4","v":0},{"$f":"Questions!HQG4","v":0},{"$f":"Questions!HQH4","v":0},{"$f":"Questions!HQI4","v":0},{"$f":"Questions!HQJ4","v":0},{"$f":"Questions!HQK4","v":0},{"$f":"Questions!HQL4","v":0},{"$f":"Questions!HQM4","v":0},{"$f":"Questions!HQN4","v":0},{"$f":"Questions!HQO4","v":0},{"$f":"Questions!HQP4","v":0},{"$f":"Questions!HQQ4","v":0},{"$f":"Questions!HQR4","v":0},{"$f":"Questions!HQS4","v":0},{"$f":"Questions!HQT4","v":0},{"$f":"Questions!HQU4","v":0},{"$f":"Questions!HQV4","v":0},{"$f":"Questions!HQW4","v":0},{"$f":"Questions!HQX4","v":0},{"$f":"Questions!HQY4","v":0},{"$f":"Questions!HQZ4","v":0},{"$f":"Questions!HRA4","v":0},{"$f":"Questions!HRB4","v":0},{"$f":"Questions!HRC4","v":0},{"$f":"Questions!HRD4","v":0},{"$f":"Questions!HRE4","v":0},{"$f":"Questions!HRF4","v":0},{"$f":"Questions!HRG4","v":0},{"$f":"Questions!HRH4","v":0},{"$f":"Questions!HRI4","v":0},{"$f":"Questions!HRJ4","v":0},{"$f":"Questions!HRK4","v":0},{"$f":"Questions!HRL4","v":0},{"$f":"Questions!HRM4","v":0},{"$f":"Questions!HRN4","v":0},{"$f":"Questions!HRO4","v":0},{"$f":"Questions!HRP4","v":0},{"$f":"Questions!HRQ4","v":0},{"$f":"Questions!HRR4","v":0},{"$f":"Questions!HRS4","v":0},{"$f":"Questions!HRT4","v":0},{"$f":"Questions!HRU4","v":0},{"$f":"Questions!HRV4","v":0},{"$f":"Questions!HRW4","v":0},{"$f":"Questions!HRX4","v":0},{"$f":"Questions!HRY4","v":0},{"$f":"Questions!HRZ4","v":0},{"$f":"Questions!HSA4","v":0},{"$f":"Questions!HSB4","v":0},{"$f":"Questions!HSC4","v":0},{"$f":"Questions!HSD4","v":0},{"$f":"Questions!HSE4","v":0},{"$f":"Questions!HSF4","v":0},{"$f":"Questions!HSG4","v":0},{"$f":"Questions!HSH4","v":0},{"$f":"Questions!HSI4","v":0},{"$f":"Questions!HSJ4","v":0},{"$f":"Questions!HSK4","v":0},{"$f":"Questions!HSL4","v":0},{"$f":"Questions!HSM4","v":0},{"$f":"Questions!HSN4","v":0},{"$f":"Questions!HSO4","v":0},{"$f":"Questions!HSP4","v":0},{"$f":"Questions!HSQ4","v":0},{"$f":"Questions!HSR4","v":0},{"$f":"Questions!HSS4","v":0},{"$f":"Questions!HST4","v":0},{"$f":"Questions!HSU4","v":0},{"$f":"Questions!HSV4","v":0},{"$f":"Questions!HSW4","v":0},{"$f":"Questions!HSX4","v":0},{"$f":"Questions!HSY4","v":0},{"$f":"Questions!HSZ4","v":0},{"$f":"Questions!HTA4","v":0},{"$f":"Questions!HTB4","v":0},{"$f":"Questions!HTC4","v":0},{"$f":"Questions!HTD4","v":0},{"$f":"Questions!HTE4","v":0},{"$f":"Questions!HTF4","v":0},{"$f":"Questions!HTG4","v":0},{"$f":"Questions!HTH4","v":0},{"$f":"Questions!HTI4","v":0},{"$f":"Questions!HTJ4","v":0},{"$f":"Questions!HTK4","v":0},{"$f":"Questions!HTL4","v":0},{"$f":"Questions!HTM4","v":0},{"$f":"Questions!HTN4","v":0},{"$f":"Questions!HTO4","v":0},{"$f":"Questions!HTP4","v":0},{"$f":"Questions!HTQ4","v":0},{"$f":"Questions!HTR4","v":0},{"$f":"Questions!HTS4","v":0},{"$f":"Questions!HTT4","v":0},{"$f":"Questions!HTU4","v":0},{"$f":"Questions!HTV4","v":0},{"$f":"Questions!HTW4","v":0},{"$f":"Questions!HTX4","v":0},{"$f":"Questions!HTY4","v":0},{"$f":"Questions!HTZ4","v":0},{"$f":"Questions!HUA4","v":0},{"$f":"Questions!HUB4","v":0},{"$f":"Questions!HUC4","v":0},{"$f":"Questions!HUD4","v":0},{"$f":"Questions!HUE4","v":0},{"$f":"Questions!HUF4","v":0},{"$f":"Questions!HUG4","v":0},{"$f":"Questions!HUH4","v":0},{"$f":"Questions!HUI4","v":0},{"$f":"Questions!HUJ4","v":0},{"$f":"Questions!HUK4","v":0},{"$f":"Questions!HUL4","v":0},{"$f":"Questions!HUM4","v":0},{"$f":"Questions!HUN4","v":0},{"$f":"Questions!HUO4","v":0},{"$f":"Questions!HUP4","v":0},{"$f":"Questions!HUQ4","v":0},{"$f":"Questions!HUR4","v":0},{"$f":"Questions!HUS4","v":0},{"$f":"Questions!HUT4","v":0},{"$f":"Questions!HUU4","v":0},{"$f":"Questions!HUV4","v":0},{"$f":"Questions!HUW4","v":0},{"$f":"Questions!HUX4","v":0},{"$f":"Questions!HUY4","v":0},{"$f":"Questions!HUZ4","v":0},{"$f":"Questions!HVA4","v":0},{"$f":"Questions!HVB4","v":0},{"$f":"Questions!HVC4","v":0},{"$f":"Questions!HVD4","v":0},{"$f":"Questions!HVE4","v":0},{"$f":"Questions!HVF4","v":0},{"$f":"Questions!HVG4","v":0},{"$f":"Questions!HVH4","v":0},{"$f":"Questions!HVI4","v":0},{"$f":"Questions!HVJ4","v":0},{"$f":"Questions!HVK4","v":0},{"$f":"Questions!HVL4","v":0},{"$f":"Questions!HVM4","v":0},{"$f":"Questions!HVN4","v":0},{"$f":"Questions!HVO4","v":0},{"$f":"Questions!HVP4","v":0},{"$f":"Questions!HVQ4","v":0},{"$f":"Questions!HVR4","v":0},{"$f":"Questions!HVS4","v":0},{"$f":"Questions!HVT4","v":0},{"$f":"Questions!HVU4","v":0},{"$f":"Questions!HVV4","v":0},{"$f":"Questions!HVW4","v":0},{"$f":"Questions!HVX4","v":0},{"$f":"Questions!HVY4","v":0},{"$f":"Questions!HVZ4","v":0},{"$f":"Questions!HWA4","v":0},{"$f":"Questions!HWB4","v":0},{"$f":"Questions!HWC4","v":0},{"$f":"Questions!HWD4","v":0},{"$f":"Questions!HWE4","v":0},{"$f":"Questions!HWF4","v":0},{"$f":"Questions!HWG4","v":0},{"$f":"Questions!HWH4","v":0},{"$f":"Questions!HWI4","v":0},{"$f":"Questions!HWJ4","v":0},{"$f":"Questions!HWK4","v":0},{"$f":"Questions!HWL4","v":0},{"$f":"Questions!HWM4","v":0},{"$f":"Questions!HWN4","v":0},{"$f":"Questions!HWO4","v":0},{"$f":"Questions!HWP4","v":0},{"$f":"Questions!HWQ4","v":0},{"$f":"Questions!HWR4","v":0},{"$f":"Questions!HWS4","v":0},{"$f":"Questions!HWT4","v":0},{"$f":"Questions!HWU4","v":0},{"$f":"Questions!HWV4","v":0},{"$f":"Questions!HWW4","v":0},{"$f":"Questions!HWX4","v":0},{"$f":"Questions!HWY4","v":0},{"$f":"Questions!HWZ4","v":0},{"$f":"Questions!HXA4","v":0},{"$f":"Questions!HXB4","v":0},{"$f":"Questions!HXC4","v":0},{"$f":"Questions!HXD4","v":0},{"$f":"Questions!HXE4","v":0},{"$f":"Questions!HXF4","v":0},{"$f":"Questions!HXG4","v":0},{"$f":"Questions!HXH4","v":0},{"$f":"Questions!HXI4","v":0},{"$f":"Questions!HXJ4","v":0},{"$f":"Questions!HXK4","v":0},{"$f":"Questions!HXL4","v":0},{"$f":"Questions!HXM4","v":0},{"$f":"Questions!HXN4","v":0},{"$f":"Questions!HXO4","v":0},{"$f":"Questions!HXP4","v":0},{"$f":"Questions!HXQ4","v":0},{"$f":"Questions!HXR4","v":0},{"$f":"Questions!HXS4","v":0},{"$f":"Questions!HXT4","v":0},{"$f":"Questions!HXU4","v":0},{"$f":"Questions!HXV4","v":0},{"$f":"Questions!HXW4","v":0},{"$f":"Questions!HXX4","v":0},{"$f":"Questions!HXY4","v":0},{"$f":"Questions!HXZ4","v":0},{"$f":"Questions!HYA4","v":0},{"$f":"Questions!HYB4","v":0},{"$f":"Questions!HYC4","v":0},{"$f":"Questions!HYD4","v":0},{"$f":"Questions!HYE4","v":0},{"$f":"Questions!HYF4","v":0},{"$f":"Questions!HYG4","v":0},{"$f":"Questions!HYH4","v":0},{"$f":"Questions!HYI4","v":0},{"$f":"Questions!HYJ4","v":0},{"$f":"Questions!HYK4","v":0},{"$f":"Questions!HYL4","v":0},{"$f":"Questions!HYM4","v":0},{"$f":"Questions!HYN4","v":0},{"$f":"Questions!HYO4","v":0},{"$f":"Questions!HYP4","v":0},{"$f":"Questions!HYQ4","v":0},{"$f":"Questions!HYR4","v":0},{"$f":"Questions!HYS4","v":0},{"$f":"Questions!HYT4","v":0},{"$f":"Questions!HYU4","v":0},{"$f":"Questions!HYV4","v":0},{"$f":"Questions!HYW4","v":0},{"$f":"Questions!HYX4","v":0},{"$f":"Questions!HYY4","v":0},{"$f":"Questions!HYZ4","v":0},{"$f":"Questions!HZA4","v":0},{"$f":"Questions!HZB4","v":0},{"$f":"Questions!HZC4","v":0},{"$f":"Questions!HZD4","v":0},{"$f":"Questions!HZE4","v":0},{"$f":"Questions!HZF4","v":0},{"$f":"Questions!HZG4","v":0},{"$f":"Questions!HZH4","v":0},{"$f":"Questions!HZI4","v":0},{"$f":"Questions!HZJ4","v":0},{"$f":"Questions!HZK4","v":0},{"$f":"Questions!HZL4","v":0},{"$f":"Questions!HZM4","v":0},{"$f":"Questions!HZN4","v":0},{"$f":"Questions!HZO4","v":0},{"$f":"Questions!HZP4","v":0},{"$f":"Questions!HZQ4","v":0},{"$f":"Questions!HZR4","v":0},{"$f":"Questions!HZS4","v":0},{"$f":"Questions!HZT4","v":0},{"$f":"Questions!HZU4","v":0},{"$f":"Questions!HZV4","v":0},{"$f":"Questions!HZW4","v":0},{"$f":"Questions!HZX4","v":0},{"$f":"Questions!HZY4","v":0},{"$f":"Questions!HZZ4","v":0},{"$f":"Questions!IAA4","v":0},{"$f":"Questions!IAB4","v":0},{"$f":"Questions!IAC4","v":0},{"$f":"Questions!IAD4","v":0},{"$f":"Questions!IAE4","v":0},{"$f":"Questions!IAF4","v":0},{"$f":"Questions!IAG4","v":0},{"$f":"Questions!IAH4","v":0},{"$f":"Questions!IAI4","v":0},{"$f":"Questions!IAJ4","v":0},{"$f":"Questions!IAK4","v":0},{"$f":"Questions!IAL4","v":0},{"$f":"Questions!IAM4","v":0},{"$f":"Questions!IAN4","v":0},{"$f":"Questions!IAO4","v":0},{"$f":"Questions!IAP4","v":0},{"$f":"Questions!IAQ4","v":0},{"$f":"Questions!IAR4","v":0},{"$f":"Questions!IAS4","v":0},{"$f":"Questions!IAT4","v":0},{"$f":"Questions!IAU4","v":0},{"$f":"Questions!IAV4","v":0},{"$f":"Questions!IAW4","v":0},{"$f":"Questions!IAX4","v":0},{"$f":"Questions!IAY4","v":0},{"$f":"Questions!IAZ4","v":0},{"$f":"Questions!IBA4","v":0},{"$f":"Questions!IBB4","v":0},{"$f":"Questions!IBC4","v":0},{"$f":"Questions!IBD4","v":0},{"$f":"Questions!IBE4","v":0},{"$f":"Questions!IBF4","v":0},{"$f":"Questions!IBG4","v":0},{"$f":"Questions!IBH4","v":0},{"$f":"Questions!IBI4","v":0},{"$f":"Questions!IBJ4","v":0},{"$f":"Questions!IBK4","v":0},{"$f":"Questions!IBL4","v":0},{"$f":"Questions!IBM4","v":0},{"$f":"Questions!IBN4","v":0},{"$f":"Questions!IBO4","v":0},{"$f":"Questions!IBP4","v":0},{"$f":"Questions!IBQ4","v":0},{"$f":"Questions!IBR4","v":0},{"$f":"Questions!IBS4","v":0},{"$f":"Questions!IBT4","v":0},{"$f":"Questions!IBU4","v":0},{"$f":"Questions!IBV4","v":0},{"$f":"Questions!IBW4","v":0},{"$f":"Questions!IBX4","v":0},{"$f":"Questions!IBY4","v":0},{"$f":"Questions!IBZ4","v":0},{"$f":"Questions!ICA4","v":0},{"$f":"Questions!ICB4","v":0},{"$f":"Questions!ICC4","v":0},{"$f":"Questions!ICD4","v":0},{"$f":"Questions!ICE4","v":0},{"$f":"Questions!ICF4","v":0},{"$f":"Questions!ICG4","v":0},{"$f":"Questions!ICH4","v":0},{"$f":"Questions!ICI4","v":0},{"$f":"Questions!ICJ4","v":0},{"$f":"Questions!ICK4","v":0},{"$f":"Questions!ICL4","v":0},{"$f":"Questions!ICM4","v":0},{"$f":"Questions!ICN4","v":0},{"$f":"Questions!ICO4","v":0},{"$f":"Questions!ICP4","v":0},{"$f":"Questions!ICQ4","v":0},{"$f":"Questions!ICR4","v":0},{"$f":"Questions!ICS4","v":0},{"$f":"Questions!ICT4","v":0},{"$f":"Questions!ICU4","v":0},{"$f":"Questions!ICV4","v":0},{"$f":"Questions!ICW4","v":0},{"$f":"Questions!ICX4","v":0},{"$f":"Questions!ICY4","v":0},{"$f":"Questions!ICZ4","v":0},{"$f":"Questions!IDA4","v":0},{"$f":"Questions!IDB4","v":0},{"$f":"Questions!IDC4","v":0},{"$f":"Questions!IDD4","v":0},{"$f":"Questions!IDE4","v":0},{"$f":"Questions!IDF4","v":0},{"$f":"Questions!IDG4","v":0},{"$f":"Questions!IDH4","v":0},{"$f":"Questions!IDI4","v":0},{"$f":"Questions!IDJ4","v":0},{"$f":"Questions!IDK4","v":0},{"$f":"Questions!IDL4","v":0},{"$f":"Questions!IDM4","v":0},{"$f":"Questions!IDN4","v":0},{"$f":"Questions!IDO4","v":0},{"$f":"Questions!IDP4","v":0},{"$f":"Questions!IDQ4","v":0},{"$f":"Questions!IDR4","v":0},{"$f":"Questions!IDS4","v":0},{"$f":"Questions!IDT4","v":0},{"$f":"Questions!IDU4","v":0},{"$f":"Questions!IDV4","v":0},{"$f":"Questions!IDW4","v":0},{"$f":"Questions!IDX4","v":0},{"$f":"Questions!IDY4","v":0},{"$f":"Questions!IDZ4","v":0},{"$f":"Questions!IEA4","v":0},{"$f":"Questions!IEB4","v":0},{"$f":"Questions!IEC4","v":0},{"$f":"Questions!IED4","v":0},{"$f":"Questions!IEE4","v":0},{"$f":"Questions!IEF4","v":0},{"$f":"Questions!IEG4","v":0},{"$f":"Questions!IEH4","v":0},{"$f":"Questions!IEI4","v":0},{"$f":"Questions!IEJ4","v":0},{"$f":"Questions!IEK4","v":0},{"$f":"Questions!IEL4","v":0},{"$f":"Questions!IEM4","v":0},{"$f":"Questions!IEN4","v":0},{"$f":"Questions!IEO4","v":0},{"$f":"Questions!IEP4","v":0},{"$f":"Questions!IEQ4","v":0},{"$f":"Questions!IER4","v":0},{"$f":"Questions!IES4","v":0},{"$f":"Questions!IET4","v":0},{"$f":"Questions!IEU4","v":0},{"$f":"Questions!IEV4","v":0},{"$f":"Questions!IEW4","v":0},{"$f":"Questions!IEX4","v":0},{"$f":"Questions!IEY4","v":0},{"$f":"Questions!IEZ4","v":0},{"$f":"Questions!IFA4","v":0},{"$f":"Questions!IFB4","v":0},{"$f":"Questions!IFC4","v":0},{"$f":"Questions!IFD4","v":0},{"$f":"Questions!IFE4","v":0},{"$f":"Questions!IFF4","v":0},{"$f":"Questions!IFG4","v":0},{"$f":"Questions!IFH4","v":0},{"$f":"Questions!IFI4","v":0},{"$f":"Questions!IFJ4","v":0},{"$f":"Questions!IFK4","v":0},{"$f":"Questions!IFL4","v":0},{"$f":"Questions!IFM4","v":0},{"$f":"Questions!IFN4","v":0},{"$f":"Questions!IFO4","v":0},{"$f":"Questions!IFP4","v":0},{"$f":"Questions!IFQ4","v":0},{"$f":"Questions!IFR4","v":0},{"$f":"Questions!IFS4","v":0},{"$f":"Questions!IFT4","v":0},{"$f":"Questions!IFU4","v":0},{"$f":"Questions!IFV4","v":0},{"$f":"Questions!IFW4","v":0},{"$f":"Questions!IFX4","v":0},{"$f":"Questions!IFY4","v":0},{"$f":"Questions!IFZ4","v":0},{"$f":"Questions!IGA4","v":0},{"$f":"Questions!IGB4","v":0},{"$f":"Questions!IGC4","v":0},{"$f":"Questions!IGD4","v":0},{"$f":"Questions!IGE4","v":0},{"$f":"Questions!IGF4","v":0},{"$f":"Questions!IGG4","v":0},{"$f":"Questions!IGH4","v":0},{"$f":"Questions!IGI4","v":0},{"$f":"Questions!IGJ4","v":0},{"$f":"Questions!IGK4","v":0},{"$f":"Questions!IGL4","v":0},{"$f":"Questions!IGM4","v":0},{"$f":"Questions!IGN4","v":0},{"$f":"Questions!IGO4","v":0},{"$f":"Questions!IGP4","v":0},{"$f":"Questions!IGQ4","v":0},{"$f":"Questions!IGR4","v":0},{"$f":"Questions!IGS4","v":0},{"$f":"Questions!IGT4","v":0},{"$f":"Questions!IGU4","v":0},{"$f":"Questions!IGV4","v":0},{"$f":"Questions!IGW4","v":0},{"$f":"Questions!IGX4","v":0},{"$f":"Questions!IGY4","v":0},{"$f":"Questions!IGZ4","v":0},{"$f":"Questions!IHA4","v":0},{"$f":"Questions!IHB4","v":0},{"$f":"Questions!IHC4","v":0},{"$f":"Questions!IHD4","v":0},{"$f":"Questions!IHE4","v":0},{"$f":"Questions!IHF4","v":0},{"$f":"Questions!IHG4","v":0},{"$f":"Questions!IHH4","v":0},{"$f":"Questions!IHI4","v":0},{"$f":"Questions!IHJ4","v":0},{"$f":"Questions!IHK4","v":0},{"$f":"Questions!IHL4","v":0},{"$f":"Questions!IHM4","v":0},{"$f":"Questions!IHN4","v":0},{"$f":"Questions!IHO4","v":0},{"$f":"Questions!IHP4","v":0},{"$f":"Questions!IHQ4","v":0},{"$f":"Questions!IHR4","v":0},{"$f":"Questions!IHS4","v":0},{"$f":"Questions!IHT4","v":0},{"$f":"Questions!IHU4","v":0},{"$f":"Questions!IHV4","v":0},{"$f":"Questions!IHW4","v":0},{"$f":"Questions!IHX4","v":0},{"$f":"Questions!IHY4","v":0},{"$f":"Questions!IHZ4","v":0},{"$f":"Questions!IIA4","v":0},{"$f":"Questions!IIB4","v":0},{"$f":"Questions!IIC4","v":0},{"$f":"Questions!IID4","v":0},{"$f":"Questions!IIE4","v":0},{"$f":"Questions!IIF4","v":0},{"$f":"Questions!IIG4","v":0},{"$f":"Questions!IIH4","v":0},{"$f":"Questions!III4","v":0},{"$f":"Questions!IIJ4","v":0},{"$f":"Questions!IIK4","v":0},{"$f":"Questions!IIL4","v":0},{"$f":"Questions!IIM4","v":0},{"$f":"Questions!IIN4","v":0},{"$f":"Questions!IIO4","v":0},{"$f":"Questions!IIP4","v":0},{"$f":"Questions!IIQ4","v":0},{"$f":"Questions!IIR4","v":0},{"$f":"Questions!IIS4","v":0},{"$f":"Questions!IIT4","v":0},{"$f":"Questions!IIU4","v":0},{"$f":"Questions!IIV4","v":0},{"$f":"Questions!IIW4","v":0},{"$f":"Questions!IIX4","v":0},{"$f":"Questions!IIY4","v":0},{"$f":"Questions!IIZ4","v":0},{"$f":"Questions!IJA4","v":0},{"$f":"Questions!IJB4","v":0},{"$f":"Questions!IJC4","v":0},{"$f":"Questions!IJD4","v":0},{"$f":"Questions!IJE4","v":0},{"$f":"Questions!IJF4","v":0},{"$f":"Questions!IJG4","v":0},{"$f":"Questions!IJH4","v":0},{"$f":"Questions!IJI4","v":0},{"$f":"Questions!IJJ4","v":0},{"$f":"Questions!IJK4","v":0},{"$f":"Questions!IJL4","v":0},{"$f":"Questions!IJM4","v":0},{"$f":"Questions!IJN4","v":0},{"$f":"Questions!IJO4","v":0},{"$f":"Questions!IJP4","v":0},{"$f":"Questions!IJQ4","v":0},{"$f":"Questions!IJR4","v":0},{"$f":"Questions!IJS4","v":0},{"$f":"Questions!IJT4","v":0},{"$f":"Questions!IJU4","v":0},{"$f":"Questions!IJV4","v":0},{"$f":"Questions!IJW4","v":0},{"$f":"Questions!IJX4","v":0},{"$f":"Questions!IJY4","v":0},{"$f":"Questions!IJZ4","v":0},{"$f":"Questions!IKA4","v":0},{"$f":"Questions!IKB4","v":0},{"$f":"Questions!IKC4","v":0},{"$f":"Questions!IKD4","v":0},{"$f":"Questions!IKE4","v":0},{"$f":"Questions!IKF4","v":0},{"$f":"Questions!IKG4","v":0},{"$f":"Questions!IKH4","v":0},{"$f":"Questions!IKI4","v":0},{"$f":"Questions!IKJ4","v":0},{"$f":"Questions!IKK4","v":0},{"$f":"Questions!IKL4","v":0},{"$f":"Questions!IKM4","v":0},{"$f":"Questions!IKN4","v":0},{"$f":"Questions!IKO4","v":0},{"$f":"Questions!IKP4","v":0},{"$f":"Questions!IKQ4","v":0},{"$f":"Questions!IKR4","v":0},{"$f":"Questions!IKS4","v":0},{"$f":"Questions!IKT4","v":0},{"$f":"Questions!IKU4","v":0},{"$f":"Questions!IKV4","v":0},{"$f":"Questions!IKW4","v":0},{"$f":"Questions!IKX4","v":0},{"$f":"Questions!IKY4","v":0},{"$f":"Questions!IKZ4","v":0},{"$f":"Questions!ILA4","v":0},{"$f":"Questions!ILB4","v":0},{"$f":"Questions!ILC4","v":0},{"$f":"Questions!ILD4","v":0},{"$f":"Questions!ILE4","v":0},{"$f":"Questions!ILF4","v":0},{"$f":"Questions!ILG4","v":0},{"$f":"Questions!ILH4","v":0},{"$f":"Questions!ILI4","v":0},{"$f":"Questions!ILJ4","v":0},{"$f":"Questions!ILK4","v":0},{"$f":"Questions!ILL4","v":0},{"$f":"Questions!ILM4","v":0},{"$f":"Questions!ILN4","v":0},{"$f":"Questions!ILO4","v":0},{"$f":"Questions!ILP4","v":0},{"$f":"Questions!ILQ4","v":0},{"$f":"Questions!ILR4","v":0},{"$f":"Questions!ILS4","v":0},{"$f":"Questions!ILT4","v":0},{"$f":"Questions!ILU4","v":0},{"$f":"Questions!ILV4","v":0},{"$f":"Questions!ILW4","v":0},{"$f":"Questions!ILX4","v":0},{"$f":"Questions!ILY4","v":0},{"$f":"Questions!ILZ4","v":0},{"$f":"Questions!IMA4","v":0},{"$f":"Questions!IMB4","v":0},{"$f":"Questions!IMC4","v":0},{"$f":"Questions!IMD4","v":0},{"$f":"Questions!IME4","v":0},{"$f":"Questions!IMF4","v":0},{"$f":"Questions!IMG4","v":0},{"$f":"Questions!IMH4","v":0},{"$f":"Questions!IMI4","v":0},{"$f":"Questions!IMJ4","v":0},{"$f":"Questions!IMK4","v":0},{"$f":"Questions!IML4","v":0},{"$f":"Questions!IMM4","v":0},{"$f":"Questions!IMN4","v":0},{"$f":"Questions!IMO4","v":0},{"$f":"Questions!IMP4","v":0},{"$f":"Questions!IMQ4","v":0},{"$f":"Questions!IMR4","v":0},{"$f":"Questions!IMS4","v":0},{"$f":"Questions!IMT4","v":0},{"$f":"Questions!IMU4","v":0},{"$f":"Questions!IMV4","v":0},{"$f":"Questions!IMW4","v":0},{"$f":"Questions!IMX4","v":0},{"$f":"Questions!IMY4","v":0},{"$f":"Questions!IMZ4","v":0},{"$f":"Questions!INA4","v":0},{"$f":"Questions!INB4","v":0},{"$f":"Questions!INC4","v":0},{"$f":"Questions!IND4","v":0},{"$f":"Questions!INE4","v":0},{"$f":"Questions!INF4","v":0},{"$f":"Questions!ING4","v":0},{"$f":"Questions!INH4","v":0},{"$f":"Questions!INI4","v":0},{"$f":"Questions!INJ4","v":0},{"$f":"Questions!INK4","v":0},{"$f":"Questions!INL4","v":0},{"$f":"Questions!INM4","v":0},{"$f":"Questions!INN4","v":0},{"$f":"Questions!INO4","v":0},{"$f":"Questions!INP4","v":0},{"$f":"Questions!INQ4","v":0},{"$f":"Questions!INR4","v":0},{"$f":"Questions!INS4","v":0},{"$f":"Questions!INT4","v":0},{"$f":"Questions!INU4","v":0},{"$f":"Questions!INV4","v":0},{"$f":"Questions!INW4","v":0},{"$f":"Questions!INX4","v":0},{"$f":"Questions!INY4","v":0},{"$f":"Questions!INZ4","v":0},{"$f":"Questions!IOA4","v":0},{"$f":"Questions!IOB4","v":0},{"$f":"Questions!IOC4","v":0},{"$f":"Questions!IOD4","v":0},{"$f":"Questions!IOE4","v":0},{"$f":"Questions!IOF4","v":0},{"$f":"Questions!IOG4","v":0},{"$f":"Questions!IOH4","v":0},{"$f":"Questions!IOI4","v":0},{"$f":"Questions!IOJ4","v":0},{"$f":"Questions!IOK4","v":0},{"$f":"Questions!IOL4","v":0},{"$f":"Questions!IOM4","v":0},{"$f":"Questions!ION4","v":0},{"$f":"Questions!IOO4","v":0},{"$f":"Questions!IOP4","v":0},{"$f":"Questions!IOQ4","v":0},{"$f":"Questions!IOR4","v":0},{"$f":"Questions!IOS4","v":0},{"$f":"Questions!IOT4","v":0},{"$f":"Questions!IOU4","v":0},{"$f":"Questions!IOV4","v":0},{"$f":"Questions!IOW4","v":0},{"$f":"Questions!IOX4","v":0},{"$f":"Questions!IOY4","v":0},{"$f":"Questions!IOZ4","v":0},{"$f":"Questions!IPA4","v":0},{"$f":"Questions!IPB4","v":0},{"$f":"Questions!IPC4","v":0},{"$f":"Questions!IPD4","v":0},{"$f":"Questions!IPE4","v":0},{"$f":"Questions!IPF4","v":0},{"$f":"Questions!IPG4","v":0},{"$f":"Questions!IPH4","v":0},{"$f":"Questions!IPI4","v":0},{"$f":"Questions!IPJ4","v":0},{"$f":"Questions!IPK4","v":0},{"$f":"Questions!IPL4","v":0},{"$f":"Questions!IPM4","v":0},{"$f":"Questions!IPN4","v":0},{"$f":"Questions!IPO4","v":0},{"$f":"Questions!IPP4","v":0},{"$f":"Questions!IPQ4","v":0},{"$f":"Questions!IPR4","v":0},{"$f":"Questions!IPS4","v":0},{"$f":"Questions!IPT4","v":0},{"$f":"Questions!IPU4","v":0},{"$f":"Questions!IPV4","v":0},{"$f":"Questions!IPW4","v":0},{"$f":"Questions!IPX4","v":0},{"$f":"Questions!IPY4","v":0},{"$f":"Questions!IPZ4","v":0},{"$f":"Questions!IQA4","v":0},{"$f":"Questions!IQB4","v":0},{"$f":"Questions!IQC4","v":0},{"$f":"Questions!IQD4","v":0},{"$f":"Questions!IQE4","v":0},{"$f":"Questions!IQF4","v":0},{"$f":"Questions!IQG4","v":0},{"$f":"Questions!IQH4","v":0},{"$f":"Questions!IQI4","v":0},{"$f":"Questions!IQJ4","v":0},{"$f":"Questions!IQK4","v":0},{"$f":"Questions!IQL4","v":0},{"$f":"Questions!IQM4","v":0},{"$f":"Questions!IQN4","v":0},{"$f":"Questions!IQO4","v":0},{"$f":"Questions!IQP4","v":0},{"$f":"Questions!IQQ4","v":0},{"$f":"Questions!IQR4","v":0},{"$f":"Questions!IQS4","v":0},{"$f":"Questions!IQT4","v":0},{"$f":"Questions!IQU4","v":0},{"$f":"Questions!IQV4","v":0},{"$f":"Questions!IQW4","v":0},{"$f":"Questions!IQX4","v":0},{"$f":"Questions!IQY4","v":0},{"$f":"Questions!IQZ4","v":0},{"$f":"Questions!IRA4","v":0},{"$f":"Questions!IRB4","v":0},{"$f":"Questions!IRC4","v":0},{"$f":"Questions!IRD4","v":0},{"$f":"Questions!IRE4","v":0},{"$f":"Questions!IRF4","v":0},{"$f":"Questions!IRG4","v":0},{"$f":"Questions!IRH4","v":0},{"$f":"Questions!IRI4","v":0},{"$f":"Questions!IRJ4","v":0},{"$f":"Questions!IRK4","v":0},{"$f":"Questions!IRL4","v":0},{"$f":"Questions!IRM4","v":0},{"$f":"Questions!IRN4","v":0},{"$f":"Questions!IRO4","v":0},{"$f":"Questions!IRP4","v":0},{"$f":"Questions!IRQ4","v":0},{"$f":"Questions!IRR4","v":0},{"$f":"Questions!IRS4","v":0},{"$f":"Questions!IRT4","v":0},{"$f":"Questions!IRU4","v":0},{"$f":"Questions!IRV4","v":0},{"$f":"Questions!IRW4","v":0},{"$f":"Questions!IRX4","v":0},{"$f":"Questions!IRY4","v":0},{"$f":"Questions!IRZ4","v":0},{"$f":"Questions!ISA4","v":0},{"$f":"Questions!ISB4","v":0},{"$f":"Questions!ISC4","v":0},{"$f":"Questions!ISD4","v":0},{"$f":"Questions!ISE4","v":0},{"$f":"Questions!ISF4","v":0},{"$f":"Questions!ISG4","v":0},{"$f":"Questions!ISH4","v":0},{"$f":"Questions!ISI4","v":0},{"$f":"Questions!ISJ4","v":0},{"$f":"Questions!ISK4","v":0},{"$f":"Questions!ISL4","v":0},{"$f":"Questions!ISM4","v":0},{"$f":"Questions!ISN4","v":0},{"$f":"Questions!ISO4","v":0},{"$f":"Questions!ISP4","v":0},{"$f":"Questions!ISQ4","v":0},{"$f":"Questions!ISR4","v":0},{"$f":"Questions!ISS4","v":0},{"$f":"Questions!IST4","v":0},{"$f":"Questions!ISU4","v":0},{"$f":"Questions!ISV4","v":0},{"$f":"Questions!ISW4","v":0},{"$f":"Questions!ISX4","v":0},{"$f":"Questions!ISY4","v":0},{"$f":"Questions!ISZ4","v":0},{"$f":"Questions!ITA4","v":0},{"$f":"Questions!ITB4","v":0},{"$f":"Questions!ITC4","v":0},{"$f":"Questions!ITD4","v":0},{"$f":"Questions!ITE4","v":0},{"$f":"Questions!ITF4","v":0},{"$f":"Questions!ITG4","v":0},{"$f":"Questions!ITH4","v":0},{"$f":"Questions!ITI4","v":0},{"$f":"Questions!ITJ4","v":0},{"$f":"Questions!ITK4","v":0},{"$f":"Questions!ITL4","v":0},{"$f":"Questions!ITM4","v":0},{"$f":"Questions!ITN4","v":0},{"$f":"Questions!ITO4","v":0},{"$f":"Questions!ITP4","v":0},{"$f":"Questions!ITQ4","v":0},{"$f":"Questions!ITR4","v":0},{"$f":"Questions!ITS4","v":0},{"$f":"Questions!ITT4","v":0},{"$f":"Questions!ITU4","v":0},{"$f":"Questions!ITV4","v":0},{"$f":"Questions!ITW4","v":0},{"$f":"Questions!ITX4","v":0},{"$f":"Questions!ITY4","v":0},{"$f":"Questions!ITZ4","v":0},{"$f":"Questions!IUA4","v":0},{"$f":"Questions!IUB4","v":0},{"$f":"Questions!IUC4","v":0},{"$f":"Questions!IUD4","v":0},{"$f":"Questions!IUE4","v":0},{"$f":"Questions!IUF4","v":0},{"$f":"Questions!IUG4","v":0},{"$f":"Questions!IUH4","v":0},{"$f":"Questions!IUI4","v":0},{"$f":"Questions!IUJ4","v":0},{"$f":"Questions!IUK4","v":0},{"$f":"Questions!IUL4","v":0},{"$f":"Questions!IUM4","v":0},{"$f":"Questions!IUN4","v":0},{"$f":"Questions!IUO4","v":0},{"$f":"Questions!IUP4","v":0},{"$f":"Questions!IUQ4","v":0},{"$f":"Questions!IUR4","v":0},{"$f":"Questions!IUS4","v":0},{"$f":"Questions!IUT4","v":0},{"$f":"Questions!IUU4","v":0},{"$f":"Questions!IUV4","v":0},{"$f":"Questions!IUW4","v":0},{"$f":"Questions!IUX4","v":0},{"$f":"Questions!IUY4","v":0},{"$f":"Questions!IUZ4","v":0},{"$f":"Questions!IVA4","v":0},{"$f":"Questions!IVB4","v":0},{"$f":"Questions!IVC4","v":0},{"$f":"Questions!IVD4","v":0},{"$f":"Questions!IVE4","v":0},{"$f":"Questions!IVF4","v":0},{"$f":"Questions!IVG4","v":0},{"$f":"Questions!IVH4","v":0},{"$f":"Questions!IVI4","v":0},{"$f":"Questions!IVJ4","v":0},{"$f":"Questions!IVK4","v":0},{"$f":"Questions!IVL4","v":0},{"$f":"Questions!IVM4","v":0},{"$f":"Questions!IVN4","v":0},{"$f":"Questions!IVO4","v":0},{"$f":"Questions!IVP4","v":0},{"$f":"Questions!IVQ4","v":0},{"$f":"Questions!IVR4","v":0},{"$f":"Questions!IVS4","v":0},{"$f":"Questions!IVT4","v":0},{"$f":"Questions!IVU4","v":0},{"$f":"Questions!IVV4","v":0},{"$f":"Questions!IVW4","v":0},{"$f":"Questions!IVX4","v":0},{"$f":"Questions!IVY4","v":0},{"$f":"Questions!IVZ4","v":0},{"$f":"Questions!IWA4","v":0},{"$f":"Questions!IWB4","v":0},{"$f":"Questions!IWC4","v":0},{"$f":"Questions!IWD4","v":0},{"$f":"Questions!IWE4","v":0},{"$f":"Questions!IWF4","v":0},{"$f":"Questions!IWG4","v":0},{"$f":"Questions!IWH4","v":0},{"$f":"Questions!IWI4","v":0},{"$f":"Questions!IWJ4","v":0},{"$f":"Questions!IWK4","v":0},{"$f":"Questions!IWL4","v":0},{"$f":"Questions!IWM4","v":0},{"$f":"Questions!IWN4","v":0},{"$f":"Questions!IWO4","v":0},{"$f":"Questions!IWP4","v":0},{"$f":"Questions!IWQ4","v":0},{"$f":"Questions!IWR4","v":0},{"$f":"Questions!IWS4","v":0},{"$f":"Questions!IWT4","v":0},{"$f":"Questions!IWU4","v":0},{"$f":"Questions!IWV4","v":0},{"$f":"Questions!IWW4","v":0},{"$f":"Questions!IWX4","v":0},{"$f":"Questions!IWY4","v":0},{"$f":"Questions!IWZ4","v":0},{"$f":"Questions!IXA4","v":0},{"$f":"Questions!IXB4","v":0},{"$f":"Questions!IXC4","v":0},{"$f":"Questions!IXD4","v":0},{"$f":"Questions!IXE4","v":0},{"$f":"Questions!IXF4","v":0},{"$f":"Questions!IXG4","v":0},{"$f":"Questions!IXH4","v":0},{"$f":"Questions!IXI4","v":0},{"$f":"Questions!IXJ4","v":0},{"$f":"Questions!IXK4","v":0},{"$f":"Questions!IXL4","v":0},{"$f":"Questions!IXM4","v":0},{"$f":"Questions!IXN4","v":0},{"$f":"Questions!IXO4","v":0},{"$f":"Questions!IXP4","v":0},{"$f":"Questions!IXQ4","v":0},{"$f":"Questions!IXR4","v":0},{"$f":"Questions!IXS4","v":0},{"$f":"Questions!IXT4","v":0},{"$f":"Questions!IXU4","v":0},{"$f":"Questions!IXV4","v":0},{"$f":"Questions!IXW4","v":0},{"$f":"Questions!IXX4","v":0},{"$f":"Questions!IXY4","v":0},{"$f":"Questions!IXZ4","v":0},{"$f":"Questions!IYA4","v":0},{"$f":"Questions!IYB4","v":0},{"$f":"Questions!IYC4","v":0},{"$f":"Questions!IYD4","v":0},{"$f":"Questions!IYE4","v":0},{"$f":"Questions!IYF4","v":0},{"$f":"Questions!IYG4","v":0},{"$f":"Questions!IYH4","v":0},{"$f":"Questions!IYI4","v":0},{"$f":"Questions!IYJ4","v":0},{"$f":"Questions!IYK4","v":0},{"$f":"Questions!IYL4","v":0},{"$f":"Questions!IYM4","v":0},{"$f":"Questions!IYN4","v":0},{"$f":"Questions!IYO4","v":0},{"$f":"Questions!IYP4","v":0},{"$f":"Questions!IYQ4","v":0},{"$f":"Questions!IYR4","v":0},{"$f":"Questions!IYS4","v":0},{"$f":"Questions!IYT4","v":0},{"$f":"Questions!IYU4","v":0},{"$f":"Questions!IYV4","v":0},{"$f":"Questions!IYW4","v":0},{"$f":"Questions!IYX4","v":0},{"$f":"Questions!IYY4","v":0},{"$f":"Questions!IYZ4","v":0},{"$f":"Questions!IZA4","v":0},{"$f":"Questions!IZB4","v":0},{"$f":"Questions!IZC4","v":0},{"$f":"Questions!IZD4","v":0},{"$f":"Questions!IZE4","v":0},{"$f":"Questions!IZF4","v":0},{"$f":"Questions!IZG4","v":0},{"$f":"Questions!IZH4","v":0},{"$f":"Questions!IZI4","v":0},{"$f":"Questions!IZJ4","v":0},{"$f":"Questions!IZK4","v":0},{"$f":"Questions!IZL4","v":0},{"$f":"Questions!IZM4","v":0},{"$f":"Questions!IZN4","v":0},{"$f":"Questions!IZO4","v":0},{"$f":"Questions!IZP4","v":0},{"$f":"Questions!IZQ4","v":0},{"$f":"Questions!IZR4","v":0},{"$f":"Questions!IZS4","v":0},{"$f":"Questions!IZT4","v":0},{"$f":"Questions!IZU4","v":0},{"$f":"Questions!IZV4","v":0},{"$f":"Questions!IZW4","v":0},{"$f":"Questions!IZX4","v":0},{"$f":"Questions!IZY4","v":0},{"$f":"Questions!IZZ4","v":0},{"$f":"Questions!JAA4","v":0},{"$f":"Questions!JAB4","v":0},{"$f":"Questions!JAC4","v":0},{"$f":"Questions!JAD4","v":0},{"$f":"Questions!JAE4","v":0},{"$f":"Questions!JAF4","v":0},{"$f":"Questions!JAG4","v":0},{"$f":"Questions!JAH4","v":0},{"$f":"Questions!JAI4","v":0},{"$f":"Questions!JAJ4","v":0},{"$f":"Questions!JAK4","v":0},{"$f":"Questions!JAL4","v":0},{"$f":"Questions!JAM4","v":0},{"$f":"Questions!JAN4","v":0},{"$f":"Questions!JAO4","v":0},{"$f":"Questions!JAP4","v":0},{"$f":"Questions!JAQ4","v":0},{"$f":"Questions!JAR4","v":0},{"$f":"Questions!JAS4","v":0},{"$f":"Questions!JAT4","v":0},{"$f":"Questions!JAU4","v":0},{"$f":"Questions!JAV4","v":0},{"$f":"Questions!JAW4","v":0},{"$f":"Questions!JAX4","v":0},{"$f":"Questions!JAY4","v":0},{"$f":"Questions!JAZ4","v":0},{"$f":"Questions!JBA4","v":0},{"$f":"Questions!JBB4","v":0},{"$f":"Questions!JBC4","v":0},{"$f":"Questions!JBD4","v":0},{"$f":"Questions!JBE4","v":0},{"$f":"Questions!JBF4","v":0},{"$f":"Questions!JBG4","v":0},{"$f":"Questions!JBH4","v":0},{"$f":"Questions!JBI4","v":0},{"$f":"Questions!JBJ4","v":0},{"$f":"Questions!JBK4","v":0},{"$f":"Questions!JBL4","v":0},{"$f":"Questions!JBM4","v":0},{"$f":"Questions!JBN4","v":0},{"$f":"Questions!JBO4","v":0},{"$f":"Questions!JBP4","v":0},{"$f":"Questions!JBQ4","v":0},{"$f":"Questions!JBR4","v":0},{"$f":"Questions!JBS4","v":0},{"$f":"Questions!JBT4","v":0},{"$f":"Questions!JBU4","v":0},{"$f":"Questions!JBV4","v":0},{"$f":"Questions!JBW4","v":0},{"$f":"Questions!JBX4","v":0},{"$f":"Questions!JBY4","v":0},{"$f":"Questions!JBZ4","v":0},{"$f":"Questions!JCA4","v":0},{"$f":"Questions!JCB4","v":0},{"$f":"Questions!JCC4","v":0},{"$f":"Questions!JCD4","v":0},{"$f":"Questions!JCE4","v":0},{"$f":"Questions!JCF4","v":0},{"$f":"Questions!JCG4","v":0},{"$f":"Questions!JCH4","v":0},{"$f":"Questions!JCI4","v":0},{"$f":"Questions!JCJ4","v":0},{"$f":"Questions!JCK4","v":0},{"$f":"Questions!JCL4","v":0},{"$f":"Questions!JCM4","v":0},{"$f":"Questions!JCN4","v":0},{"$f":"Questions!JCO4","v":0},{"$f":"Questions!JCP4","v":0},{"$f":"Questions!JCQ4","v":0},{"$f":"Questions!JCR4","v":0},{"$f":"Questions!JCS4","v":0},{"$f":"Questions!JCT4","v":0},{"$f":"Questions!JCU4","v":0},{"$f":"Questions!JCV4","v":0},{"$f":"Questions!JCW4","v":0},{"$f":"Questions!JCX4","v":0},{"$f":"Questions!JCY4","v":0},{"$f":"Questions!JCZ4","v":0},{"$f":"Questions!JDA4","v":0},{"$f":"Questions!JDB4","v":0},{"$f":"Questions!JDC4","v":0},{"$f":"Questions!JDD4","v":0},{"$f":"Questions!JDE4","v":0},{"$f":"Questions!JDF4","v":0},{"$f":"Questions!JDG4","v":0},{"$f":"Questions!JDH4","v":0},{"$f":"Questions!JDI4","v":0},{"$f":"Questions!JDJ4","v":0},{"$f":"Questions!JDK4","v":0},{"$f":"Questions!JDL4","v":0},{"$f":"Questions!JDM4","v":0},{"$f":"Questions!JDN4","v":0},{"$f":"Questions!JDO4","v":0},{"$f":"Questions!JDP4","v":0},{"$f":"Questions!JDQ4","v":0},{"$f":"Questions!JDR4","v":0},{"$f":"Questions!JDS4","v":0},{"$f":"Questions!JDT4","v":0},{"$f":"Questions!JDU4","v":0},{"$f":"Questions!JDV4","v":0},{"$f":"Questions!JDW4","v":0},{"$f":"Questions!JDX4","v":0},{"$f":"Questions!JDY4","v":0},{"$f":"Questions!JDZ4","v":0},{"$f":"Questions!JEA4","v":0},{"$f":"Questions!JEB4","v":0},{"$f":"Questions!JEC4","v":0},{"$f":"Questions!JED4","v":0},{"$f":"Questions!JEE4","v":0},{"$f":"Questions!JEF4","v":0},{"$f":"Questions!JEG4","v":0},{"$f":"Questions!JEH4","v":0},{"$f":"Questions!JEI4","v":0},{"$f":"Questions!JEJ4","v":0},{"$f":"Questions!JEK4","v":0},{"$f":"Questions!JEL4","v":0},{"$f":"Questions!JEM4","v":0},{"$f":"Questions!JEN4","v":0},{"$f":"Questions!JEO4","v":0},{"$f":"Questions!JEP4","v":0},{"$f":"Questions!JEQ4","v":0},{"$f":"Questions!JER4","v":0},{"$f":"Questions!JES4","v":0},{"$f":"Questions!JET4","v":0},{"$f":"Questions!JEU4","v":0},{"$f":"Questions!JEV4","v":0},{"$f":"Questions!JEW4","v":0},{"$f":"Questions!JEX4","v":0},{"$f":"Questions!JEY4","v":0},{"$f":"Questions!JEZ4","v":0},{"$f":"Questions!JFA4","v":0},{"$f":"Questions!JFB4","v":0},{"$f":"Questions!JFC4","v":0},{"$f":"Questions!JFD4","v":0},{"$f":"Questions!JFE4","v":0},{"$f":"Questions!JFF4","v":0},{"$f":"Questions!JFG4","v":0},{"$f":"Questions!JFH4","v":0},{"$f":"Questions!JFI4","v":0},{"$f":"Questions!JFJ4","v":0},{"$f":"Questions!JFK4","v":0},{"$f":"Questions!JFL4","v":0},{"$f":"Questions!JFM4","v":0},{"$f":"Questions!JFN4","v":0},{"$f":"Questions!JFO4","v":0},{"$f":"Questions!JFP4","v":0},{"$f":"Questions!JFQ4","v":0},{"$f":"Questions!JFR4","v":0},{"$f":"Questions!JFS4","v":0},{"$f":"Questions!JFT4","v":0},{"$f":"Questions!JFU4","v":0},{"$f":"Questions!JFV4","v":0},{"$f":"Questions!JFW4","v":0},{"$f":"Questions!JFX4","v":0},{"$f":"Questions!JFY4","v":0},{"$f":"Questions!JFZ4","v":0},{"$f":"Questions!JGA4","v":0},{"$f":"Questions!JGB4","v":0},{"$f":"Questions!JGC4","v":0},{"$f":"Questions!JGD4","v":0},{"$f":"Questions!JGE4","v":0},{"$f":"Questions!JGF4","v":0},{"$f":"Questions!JGG4","v":0},{"$f":"Questions!JGH4","v":0},{"$f":"Questions!JGI4","v":0},{"$f":"Questions!JGJ4","v":0},{"$f":"Questions!JGK4","v":0},{"$f":"Questions!JGL4","v":0},{"$f":"Questions!JGM4","v":0},{"$f":"Questions!JGN4","v":0},{"$f":"Questions!JGO4","v":0},{"$f":"Questions!JGP4","v":0},{"$f":"Questions!JGQ4","v":0},{"$f":"Questions!JGR4","v":0},{"$f":"Questions!JGS4","v":0},{"$f":"Questions!JGT4","v":0},{"$f":"Questions!JGU4","v":0},{"$f":"Questions!JGV4","v":0},{"$f":"Questions!JGW4","v":0},{"$f":"Questions!JGX4","v":0},{"$f":"Questions!JGY4","v":0},{"$f":"Questions!JGZ4","v":0},{"$f":"Questions!JHA4","v":0},{"$f":"Questions!JHB4","v":0},{"$f":"Questions!JHC4","v":0},{"$f":"Questions!JHD4","v":0},{"$f":"Questions!JHE4","v":0},{"$f":"Questions!JHF4","v":0},{"$f":"Questions!JHG4","v":0},{"$f":"Questions!JHH4","v":0},{"$f":"Questions!JHI4","v":0},{"$f":"Questions!JHJ4","v":0},{"$f":"Questions!JHK4","v":0},{"$f":"Questions!JHL4","v":0},{"$f":"Questions!JHM4","v":0},{"$f":"Questions!JHN4","v":0},{"$f":"Questions!JHO4","v":0},{"$f":"Questions!JHP4","v":0},{"$f":"Questions!JHQ4","v":0},{"$f":"Questions!JHR4","v":0},{"$f":"Questions!JHS4","v":0},{"$f":"Questions!JHT4","v":0},{"$f":"Questions!JHU4","v":0},{"$f":"Questions!JHV4","v":0},{"$f":"Questions!JHW4","v":0},{"$f":"Questions!JHX4","v":0},{"$f":"Questions!JHY4","v":0},{"$f":"Questions!JHZ4","v":0},{"$f":"Questions!JIA4","v":0},{"$f":"Questions!JIB4","v":0},{"$f":"Questions!JIC4","v":0},{"$f":"Questions!JID4","v":0},{"$f":"Questions!JIE4","v":0},{"$f":"Questions!JIF4","v":0},{"$f":"Questions!JIG4","v":0},{"$f":"Questions!JIH4","v":0},{"$f":"Questions!JII4","v":0},{"$f":"Questions!JIJ4","v":0},{"$f":"Questions!JIK4","v":0},{"$f":"Questions!JIL4","v":0},{"$f":"Questions!JIM4","v":0},{"$f":"Questions!JIN4","v":0},{"$f":"Questions!JIO4","v":0},{"$f":"Questions!JIP4","v":0},{"$f":"Questions!JIQ4","v":0},{"$f":"Questions!JIR4","v":0},{"$f":"Questions!JIS4","v":0},{"$f":"Questions!JIT4","v":0},{"$f":"Questions!JIU4","v":0},{"$f":"Questions!JIV4","v":0},{"$f":"Questions!JIW4","v":0},{"$f":"Questions!JIX4","v":0},{"$f":"Questions!JIY4","v":0},{"$f":"Questions!JIZ4","v":0},{"$f":"Questions!JJA4","v":0},{"$f":"Questions!JJB4","v":0},{"$f":"Questions!JJC4","v":0},{"$f":"Questions!JJD4","v":0},{"$f":"Questions!JJE4","v":0},{"$f":"Questions!JJF4","v":0},{"$f":"Questions!JJG4","v":0},{"$f":"Questions!JJH4","v":0},{"$f":"Questions!JJI4","v":0},{"$f":"Questions!JJJ4","v":0},{"$f":"Questions!JJK4","v":0},{"$f":"Questions!JJL4","v":0},{"$f":"Questions!JJM4","v":0},{"$f":"Questions!JJN4","v":0},{"$f":"Questions!JJO4","v":0},{"$f":"Questions!JJP4","v":0},{"$f":"Questions!JJQ4","v":0},{"$f":"Questions!JJR4","v":0},{"$f":"Questions!JJS4","v":0},{"$f":"Questions!JJT4","v":0},{"$f":"Questions!JJU4","v":0},{"$f":"Questions!JJV4","v":0},{"$f":"Questions!JJW4","v":0},{"$f":"Questions!JJX4","v":0},{"$f":"Questions!JJY4","v":0},{"$f":"Questions!JJZ4","v":0},{"$f":"Questions!JKA4","v":0},{"$f":"Questions!JKB4","v":0},{"$f":"Questions!JKC4","v":0},{"$f":"Questions!JKD4","v":0},{"$f":"Questions!JKE4","v":0},{"$f":"Questions!JKF4","v":0},{"$f":"Questions!JKG4","v":0},{"$f":"Questions!JKH4","v":0},{"$f":"Questions!JKI4","v":0},{"$f":"Questions!JKJ4","v":0},{"$f":"Questions!JKK4","v":0},{"$f":"Questions!JKL4","v":0},{"$f":"Questions!JKM4","v":0},{"$f":"Questions!JKN4","v":0},{"$f":"Questions!JKO4","v":0},{"$f":"Questions!JKP4","v":0},{"$f":"Questions!JKQ4","v":0},{"$f":"Questions!JKR4","v":0},{"$f":"Questions!JKS4","v":0},{"$f":"Questions!JKT4","v":0},{"$f":"Questions!JKU4","v":0},{"$f":"Questions!JKV4","v":0},{"$f":"Questions!JKW4","v":0},{"$f":"Questions!JKX4","v":0},{"$f":"Questions!JKY4","v":0},{"$f":"Questions!JKZ4","v":0},{"$f":"Questions!JLA4","v":0},{"$f":"Questions!JLB4","v":0},{"$f":"Questions!JLC4","v":0},{"$f":"Questions!JLD4","v":0},{"$f":"Questions!JLE4","v":0},{"$f":"Questions!JLF4","v":0},{"$f":"Questions!JLG4","v":0},{"$f":"Questions!JLH4","v":0},{"$f":"Questions!JLI4","v":0},{"$f":"Questions!JLJ4","v":0},{"$f":"Questions!JLK4","v":0},{"$f":"Questions!JLL4","v":0},{"$f":"Questions!JLM4","v":0},{"$f":"Questions!JLN4","v":0},{"$f":"Questions!JLO4","v":0},{"$f":"Questions!JLP4","v":0},{"$f":"Questions!JLQ4","v":0},{"$f":"Questions!JLR4","v":0},{"$f":"Questions!JLS4","v":0},{"$f":"Questions!JLT4","v":0},{"$f":"Questions!JLU4","v":0},{"$f":"Questions!JLV4","v":0},{"$f":"Questions!JLW4","v":0},{"$f":"Questions!JLX4","v":0},{"$f":"Questions!JLY4","v":0},{"$f":"Questions!JLZ4","v":0},{"$f":"Questions!JMA4","v":0},{"$f":"Questions!JMB4","v":0},{"$f":"Questions!JMC4","v":0},{"$f":"Questions!JMD4","v":0},{"$f":"Questions!JME4","v":0},{"$f":"Questions!JMF4","v":0},{"$f":"Questions!JMG4","v":0},{"$f":"Questions!JMH4","v":0},{"$f":"Questions!JMI4","v":0},{"$f":"Questions!JMJ4","v":0},{"$f":"Questions!JMK4","v":0},{"$f":"Questions!JML4","v":0},{"$f":"Questions!JMM4","v":0},{"$f":"Questions!JMN4","v":0},{"$f":"Questions!JMO4","v":0},{"$f":"Questions!JMP4","v":0},{"$f":"Questions!JMQ4","v":0},{"$f":"Questions!JMR4","v":0},{"$f":"Questions!JMS4","v":0},{"$f":"Questions!JMT4","v":0},{"$f":"Questions!JMU4","v":0},{"$f":"Questions!JMV4","v":0},{"$f":"Questions!JMW4","v":0},{"$f":"Questions!JMX4","v":0},{"$f":"Questions!JMY4","v":0},{"$f":"Questions!JMZ4","v":0},{"$f":"Questions!JNA4","v":0},{"$f":"Questions!JNB4","v":0},{"$f":"Questions!JNC4","v":0},{"$f":"Questions!JND4","v":0},{"$f":"Questions!JNE4","v":0},{"$f":"Questions!JNF4","v":0},{"$f":"Questions!JNG4","v":0},{"$f":"Questions!JNH4","v":0},{"$f":"Questions!JNI4","v":0},{"$f":"Questions!JNJ4","v":0},{"$f":"Questions!JNK4","v":0},{"$f":"Questions!JNL4","v":0},{"$f":"Questions!JNM4","v":0},{"$f":"Questions!JNN4","v":0},{"$f":"Questions!JNO4","v":0},{"$f":"Questions!JNP4","v":0},{"$f":"Questions!JNQ4","v":0},{"$f":"Questions!JNR4","v":0},{"$f":"Questions!JNS4","v":0},{"$f":"Questions!JNT4","v":0},{"$f":"Questions!JNU4","v":0},{"$f":"Questions!JNV4","v":0},{"$f":"Questions!JNW4","v":0},{"$f":"Questions!JNX4","v":0},{"$f":"Questions!JNY4","v":0},{"$f":"Questions!JNZ4","v":0},{"$f":"Questions!JOA4","v":0},{"$f":"Questions!JOB4","v":0},{"$f":"Questions!JOC4","v":0},{"$f":"Questions!JOD4","v":0},{"$f":"Questions!JOE4","v":0},{"$f":"Questions!JOF4","v":0},{"$f":"Questions!JOG4","v":0},{"$f":"Questions!JOH4","v":0},{"$f":"Questions!JOI4","v":0},{"$f":"Questions!JOJ4","v":0},{"$f":"Questions!JOK4","v":0},{"$f":"Questions!JOL4","v":0},{"$f":"Questions!JOM4","v":0},{"$f":"Questions!JON4","v":0},{"$f":"Questions!JOO4","v":0},{"$f":"Questions!JOP4","v":0},{"$f":"Questions!JOQ4","v":0},{"$f":"Questions!JOR4","v":0},{"$f":"Questions!JOS4","v":0},{"$f":"Questions!JOT4","v":0},{"$f":"Questions!JOU4","v":0},{"$f":"Questions!JOV4","v":0},{"$f":"Questions!JOW4","v":0},{"$f":"Questions!JOX4","v":0},{"$f":"Questions!JOY4","v":0},{"$f":"Questions!JOZ4","v":0},{"$f":"Questions!JPA4","v":0},{"$f":"Questions!JPB4","v":0},{"$f":"Questions!JPC4","v":0},{"$f":"Questions!JPD4","v":0},{"$f":"Questions!JPE4","v":0},{"$f":"Questions!JPF4","v":0},{"$f":"Questions!JPG4","v":0},{"$f":"Questions!JPH4","v":0},{"$f":"Questions!JPI4","v":0},{"$f":"Questions!JPJ4","v":0},{"$f":"Questions!JPK4","v":0},{"$f":"Questions!JPL4","v":0},{"$f":"Questions!JPM4","v":0},{"$f":"Questions!JPN4","v":0},{"$f":"Questions!JPO4","v":0},{"$f":"Questions!JPP4","v":0},{"$f":"Questions!JPQ4","v":0},{"$f":"Questions!JPR4","v":0},{"$f":"Questions!JPS4","v":0},{"$f":"Questions!JPT4","v":0},{"$f":"Questions!JPU4","v":0},{"$f":"Questions!JPV4","v":0},{"$f":"Questions!JPW4","v":0},{"$f":"Questions!JPX4","v":0},{"$f":"Questions!JPY4","v":0},{"$f":"Questions!JPZ4","v":0},{"$f":"Questions!JQA4","v":0},{"$f":"Questions!JQB4","v":0},{"$f":"Questions!JQC4","v":0},{"$f":"Questions!JQD4","v":0},{"$f":"Questions!JQE4","v":0},{"$f":"Questions!JQF4","v":0},{"$f":"Questions!JQG4","v":0},{"$f":"Questions!JQH4","v":0},{"$f":"Questions!JQI4","v":0},{"$f":"Questions!JQJ4","v":0},{"$f":"Questions!JQK4","v":0},{"$f":"Questions!JQL4","v":0},{"$f":"Questions!JQM4","v":0},{"$f":"Questions!JQN4","v":0},{"$f":"Questions!JQO4","v":0},{"$f":"Questions!JQP4","v":0},{"$f":"Questions!JQQ4","v":0},{"$f":"Questions!JQR4","v":0},{"$f":"Questions!JQS4","v":0},{"$f":"Questions!JQT4","v":0},{"$f":"Questions!JQU4","v":0},{"$f":"Questions!JQV4","v":0},{"$f":"Questions!JQW4","v":0},{"$f":"Questions!JQX4","v":0},{"$f":"Questions!JQY4","v":0},{"$f":"Questions!JQZ4","v":0},{"$f":"Questions!JRA4","v":0},{"$f":"Questions!JRB4","v":0},{"$f":"Questions!JRC4","v":0},{"$f":"Questions!JRD4","v":0},{"$f":"Questions!JRE4","v":0},{"$f":"Questions!JRF4","v":0},{"$f":"Questions!JRG4","v":0},{"$f":"Questions!JRH4","v":0},{"$f":"Questions!JRI4","v":0},{"$f":"Questions!JRJ4","v":0},{"$f":"Questions!JRK4","v":0},{"$f":"Questions!JRL4","v":0},{"$f":"Questions!JRM4","v":0},{"$f":"Questions!JRN4","v":0},{"$f":"Questions!JRO4","v":0},{"$f":"Questions!JRP4","v":0},{"$f":"Questions!JRQ4","v":0},{"$f":"Questions!JRR4","v":0},{"$f":"Questions!JRS4","v":0},{"$f":"Questions!JRT4","v":0},{"$f":"Questions!JRU4","v":0},{"$f":"Questions!JRV4","v":0},{"$f":"Questions!JRW4","v":0},{"$f":"Questions!JRX4","v":0},{"$f":"Questions!JRY4","v":0},{"$f":"Questions!JRZ4","v":0},{"$f":"Questions!JSA4","v":0},{"$f":"Questions!JSB4","v":0},{"$f":"Questions!JSC4","v":0},{"$f":"Questions!JSD4","v":0},{"$f":"Questions!JSE4","v":0},{"$f":"Questions!JSF4","v":0},{"$f":"Questions!JSG4","v":0},{"$f":"Questions!JSH4","v":0},{"$f":"Questions!JSI4","v":0},{"$f":"Questions!JSJ4","v":0},{"$f":"Questions!JSK4","v":0},{"$f":"Questions!JSL4","v":0},{"$f":"Questions!JSM4","v":0},{"$f":"Questions!JSN4","v":0},{"$f":"Questions!JSO4","v":0},{"$f":"Questions!JSP4","v":0},{"$f":"Questions!JSQ4","v":0},{"$f":"Questions!JSR4","v":0},{"$f":"Questions!JSS4","v":0},{"$f":"Questions!JST4","v":0},{"$f":"Questions!JSU4","v":0},{"$f":"Questions!JSV4","v":0},{"$f":"Questions!JSW4","v":0},{"$f":"Questions!JSX4","v":0},{"$f":"Questions!JSY4","v":0},{"$f":"Questions!JSZ4","v":0},{"$f":"Questions!JTA4","v":0},{"$f":"Questions!JTB4","v":0},{"$f":"Questions!JTC4","v":0},{"$f":"Questions!JTD4","v":0},{"$f":"Questions!JTE4","v":0},{"$f":"Questions!JTF4","v":0},{"$f":"Questions!JTG4","v":0},{"$f":"Questions!JTH4","v":0},{"$f":"Questions!JTI4","v":0},{"$f":"Questions!JTJ4","v":0},{"$f":"Questions!JTK4","v":0},{"$f":"Questions!JTL4","v":0},{"$f":"Questions!JTM4","v":0},{"$f":"Questions!JTN4","v":0},{"$f":"Questions!JTO4","v":0},{"$f":"Questions!JTP4","v":0},{"$f":"Questions!JTQ4","v":0},{"$f":"Questions!JTR4","v":0},{"$f":"Questions!JTS4","v":0},{"$f":"Questions!JTT4","v":0},{"$f":"Questions!JTU4","v":0},{"$f":"Questions!JTV4","v":0},{"$f":"Questions!JTW4","v":0},{"$f":"Questions!JTX4","v":0},{"$f":"Questions!JTY4","v":0},{"$f":"Questions!JTZ4","v":0},{"$f":"Questions!JUA4","v":0},{"$f":"Questions!JUB4","v":0},{"$f":"Questions!JUC4","v":0},{"$f":"Questions!JUD4","v":0},{"$f":"Questions!JUE4","v":0},{"$f":"Questions!JUF4","v":0},{"$f":"Questions!JUG4","v":0},{"$f":"Questions!JUH4","v":0},{"$f":"Questions!JUI4","v":0},{"$f":"Questions!JUJ4","v":0},{"$f":"Questions!JUK4","v":0},{"$f":"Questions!JUL4","v":0},{"$f":"Questions!JUM4","v":0},{"$f":"Questions!JUN4","v":0},{"$f":"Questions!JUO4","v":0},{"$f":"Questions!JUP4","v":0},{"$f":"Questions!JUQ4","v":0},{"$f":"Questions!JUR4","v":0},{"$f":"Questions!JUS4","v":0},{"$f":"Questions!JUT4","v":0},{"$f":"Questions!JUU4","v":0},{"$f":"Questions!JUV4","v":0},{"$f":"Questions!JUW4","v":0},{"$f":"Questions!JUX4","v":0},{"$f":"Questions!JUY4","v":0},{"$f":"Questions!JUZ4","v":0},{"$f":"Questions!JVA4","v":0},{"$f":"Questions!JVB4","v":0},{"$f":"Questions!JVC4","v":0},{"$f":"Questions!JVD4","v":0},{"$f":"Questions!JVE4","v":0},{"$f":"Questions!JVF4","v":0},{"$f":"Questions!JVG4","v":0},{"$f":"Questions!JVH4","v":0},{"$f":"Questions!JVI4","v":0},{"$f":"Questions!JVJ4","v":0},{"$f":"Questions!JVK4","v":0},{"$f":"Questions!JVL4","v":0},{"$f":"Questions!JVM4","v":0},{"$f":"Questions!JVN4","v":0},{"$f":"Questions!JVO4","v":0},{"$f":"Questions!JVP4","v":0},{"$f":"Questions!JVQ4","v":0},{"$f":"Questions!JVR4","v":0},{"$f":"Questions!JVS4","v":0},{"$f":"Questions!JVT4","v":0},{"$f":"Questions!JVU4","v":0},{"$f":"Questions!JVV4","v":0},{"$f":"Questions!JVW4","v":0},{"$f":"Questions!JVX4","v":0},{"$f":"Questions!JVY4","v":0},{"$f":"Questions!JVZ4","v":0},{"$f":"Questions!JWA4","v":0},{"$f":"Questions!JWB4","v":0},{"$f":"Questions!JWC4","v":0},{"$f":"Questions!JWD4","v":0},{"$f":"Questions!JWE4","v":0},{"$f":"Questions!JWF4","v":0},{"$f":"Questions!JWG4","v":0},{"$f":"Questions!JWH4","v":0},{"$f":"Questions!JWI4","v":0},{"$f":"Questions!JWJ4","v":0},{"$f":"Questions!JWK4","v":0},{"$f":"Questions!JWL4","v":0},{"$f":"Questions!JWM4","v":0},{"$f":"Questions!JWN4","v":0},{"$f":"Questions!JWO4","v":0},{"$f":"Questions!JWP4","v":0},{"$f":"Questions!JWQ4","v":0},{"$f":"Questions!JWR4","v":0},{"$f":"Questions!JWS4","v":0},{"$f":"Questions!JWT4","v":0},{"$f":"Questions!JWU4","v":0},{"$f":"Questions!JWV4","v":0},{"$f":"Questions!JWW4","v":0},{"$f":"Questions!JWX4","v":0},{"$f":"Questions!JWY4","v":0},{"$f":"Questions!JWZ4","v":0},{"$f":"Questions!JXA4","v":0},{"$f":"Questions!JXB4","v":0},{"$f":"Questions!JXC4","v":0},{"$f":"Questions!JXD4","v":0},{"$f":"Questions!JXE4","v":0},{"$f":"Questions!JXF4","v":0},{"$f":"Questions!JXG4","v":0},{"$f":"Questions!JXH4","v":0},{"$f":"Questions!JXI4","v":0},{"$f":"Questions!JXJ4","v":0},{"$f":"Questions!JXK4","v":0},{"$f":"Questions!JXL4","v":0},{"$f":"Questions!JXM4","v":0},{"$f":"Questions!JXN4","v":0},{"$f":"Questions!JXO4","v":0},{"$f":"Questions!JXP4","v":0},{"$f":"Questions!JXQ4","v":0},{"$f":"Questions!JXR4","v":0},{"$f":"Questions!JXS4","v":0},{"$f":"Questions!JXT4","v":0},{"$f":"Questions!JXU4","v":0},{"$f":"Questions!JXV4","v":0},{"$f":"Questions!JXW4","v":0},{"$f":"Questions!JXX4","v":0},{"$f":"Questions!JXY4","v":0},{"$f":"Questions!JXZ4","v":0},{"$f":"Questions!JYA4","v":0},{"$f":"Questions!JYB4","v":0},{"$f":"Questions!JYC4","v":0},{"$f":"Questions!JYD4","v":0},{"$f":"Questions!JYE4","v":0},{"$f":"Questions!JYF4","v":0},{"$f":"Questions!JYG4","v":0},{"$f":"Questions!JYH4","v":0},{"$f":"Questions!JYI4","v":0},{"$f":"Questions!JYJ4","v":0},{"$f":"Questions!JYK4","v":0},{"$f":"Questions!JYL4","v":0},{"$f":"Questions!JYM4","v":0},{"$f":"Questions!JYN4","v":0},{"$f":"Questions!JYO4","v":0},{"$f":"Questions!JYP4","v":0},{"$f":"Questions!JYQ4","v":0},{"$f":"Questions!JYR4","v":0},{"$f":"Questions!JYS4","v":0},{"$f":"Questions!JYT4","v":0},{"$f":"Questions!JYU4","v":0},{"$f":"Questions!JYV4","v":0},{"$f":"Questions!JYW4","v":0},{"$f":"Questions!JYX4","v":0},{"$f":"Questions!JYY4","v":0},{"$f":"Questions!JYZ4","v":0},{"$f":"Questions!JZA4","v":0},{"$f":"Questions!JZB4","v":0},{"$f":"Questions!JZC4","v":0},{"$f":"Questions!JZD4","v":0},{"$f":"Questions!JZE4","v":0},{"$f":"Questions!JZF4","v":0},{"$f":"Questions!JZG4","v":0},{"$f":"Questions!JZH4","v":0},{"$f":"Questions!JZI4","v":0},{"$f":"Questions!JZJ4","v":0},{"$f":"Questions!JZK4","v":0},{"$f":"Questions!JZL4","v":0},{"$f":"Questions!JZM4","v":0},{"$f":"Questions!JZN4","v":0},{"$f":"Questions!JZO4","v":0},{"$f":"Questions!JZP4","v":0},{"$f":"Questions!JZQ4","v":0},{"$f":"Questions!JZR4","v":0},{"$f":"Questions!JZS4","v":0},{"$f":"Questions!JZT4","v":0},{"$f":"Questions!JZU4","v":0},{"$f":"Questions!JZV4","v":0},{"$f":"Questions!JZW4","v":0},{"$f":"Questions!JZX4","v":0},{"$f":"Questions!JZY4","v":0},{"$f":"Questions!JZZ4","v":0},{"$f":"Questions!KAA4","v":0},{"$f":"Questions!KAB4","v":0},{"$f":"Questions!KAC4","v":0},{"$f":"Questions!KAD4","v":0},{"$f":"Questions!KAE4","v":0},{"$f":"Questions!KAF4","v":0},{"$f":"Questions!KAG4","v":0},{"$f":"Questions!KAH4","v":0},{"$f":"Questions!KAI4","v":0},{"$f":"Questions!KAJ4","v":0},{"$f":"Questions!KAK4","v":0},{"$f":"Questions!KAL4","v":0},{"$f":"Questions!KAM4","v":0},{"$f":"Questions!KAN4","v":0},{"$f":"Questions!KAO4","v":0},{"$f":"Questions!KAP4","v":0},{"$f":"Questions!KAQ4","v":0},{"$f":"Questions!KAR4","v":0},{"$f":"Questions!KAS4","v":0},{"$f":"Questions!KAT4","v":0},{"$f":"Questions!KAU4","v":0},{"$f":"Questions!KAV4","v":0},{"$f":"Questions!KAW4","v":0},{"$f":"Questions!KAX4","v":0},{"$f":"Questions!KAY4","v":0},{"$f":"Questions!KAZ4","v":0},{"$f":"Questions!KBA4","v":0},{"$f":"Questions!KBB4","v":0},{"$f":"Questions!KBC4","v":0},{"$f":"Questions!KBD4","v":0},{"$f":"Questions!KBE4","v":0},{"$f":"Questions!KBF4","v":0},{"$f":"Questions!KBG4","v":0},{"$f":"Questions!KBH4","v":0},{"$f":"Questions!KBI4","v":0},{"$f":"Questions!KBJ4","v":0},{"$f":"Questions!KBK4","v":0},{"$f":"Questions!KBL4","v":0},{"$f":"Questions!KBM4","v":0},{"$f":"Questions!KBN4","v":0},{"$f":"Questions!KBO4","v":0},{"$f":"Questions!KBP4","v":0},{"$f":"Questions!KBQ4","v":0},{"$f":"Questions!KBR4","v":0},{"$f":"Questions!KBS4","v":0},{"$f":"Questions!KBT4","v":0},{"$f":"Questions!KBU4","v":0},{"$f":"Questions!KBV4","v":0},{"$f":"Questions!KBW4","v":0},{"$f":"Questions!KBX4","v":0},{"$f":"Questions!KBY4","v":0},{"$f":"Questions!KBZ4","v":0},{"$f":"Questions!KCA4","v":0},{"$f":"Questions!KCB4","v":0},{"$f":"Questions!KCC4","v":0},{"$f":"Questions!KCD4","v":0},{"$f":"Questions!KCE4","v":0},{"$f":"Questions!KCF4","v":0},{"$f":"Questions!KCG4","v":0},{"$f":"Questions!KCH4","v":0},{"$f":"Questions!KCI4","v":0},{"$f":"Questions!KCJ4","v":0},{"$f":"Questions!KCK4","v":0},{"$f":"Questions!KCL4","v":0},{"$f":"Questions!KCM4","v":0},{"$f":"Questions!KCN4","v":0},{"$f":"Questions!KCO4","v":0},{"$f":"Questions!KCP4","v":0},{"$f":"Questions!KCQ4","v":0},{"$f":"Questions!KCR4","v":0},{"$f":"Questions!KCS4","v":0},{"$f":"Questions!KCT4","v":0},{"$f":"Questions!KCU4","v":0},{"$f":"Questions!KCV4","v":0},{"$f":"Questions!KCW4","v":0},{"$f":"Questions!KCX4","v":0},{"$f":"Questions!KCY4","v":0},{"$f":"Questions!KCZ4","v":0},{"$f":"Questions!KDA4","v":0},{"$f":"Questions!KDB4","v":0},{"$f":"Questions!KDC4","v":0},{"$f":"Questions!KDD4","v":0},{"$f":"Questions!KDE4","v":0},{"$f":"Questions!KDF4","v":0},{"$f":"Questions!KDG4","v":0},{"$f":"Questions!KDH4","v":0},{"$f":"Questions!KDI4","v":0},{"$f":"Questions!KDJ4","v":0},{"$f":"Questions!KDK4","v":0},{"$f":"Questions!KDL4","v":0},{"$f":"Questions!KDM4","v":0},{"$f":"Questions!KDN4","v":0},{"$f":"Questions!KDO4","v":0},{"$f":"Questions!KDP4","v":0},{"$f":"Questions!KDQ4","v":0},{"$f":"Questions!KDR4","v":0},{"$f":"Questions!KDS4","v":0},{"$f":"Questions!KDT4","v":0},{"$f":"Questions!KDU4","v":0},{"$f":"Questions!KDV4","v":0},{"$f":"Questions!KDW4","v":0},{"$f":"Questions!KDX4","v":0},{"$f":"Questions!KDY4","v":0},{"$f":"Questions!KDZ4","v":0},{"$f":"Questions!KEA4","v":0},{"$f":"Questions!KEB4","v":0},{"$f":"Questions!KEC4","v":0},{"$f":"Questions!KED4","v":0},{"$f":"Questions!KEE4","v":0},{"$f":"Questions!KEF4","v":0},{"$f":"Questions!KEG4","v":0},{"$f":"Questions!KEH4","v":0},{"$f":"Questions!KEI4","v":0},{"$f":"Questions!KEJ4","v":0},{"$f":"Questions!KEK4","v":0},{"$f":"Questions!KEL4","v":0},{"$f":"Questions!KEM4","v":0},{"$f":"Questions!KEN4","v":0},{"$f":"Questions!KEO4","v":0},{"$f":"Questions!KEP4","v":0},{"$f":"Questions!KEQ4","v":0},{"$f":"Questions!KER4","v":0},{"$f":"Questions!KES4","v":0},{"$f":"Questions!KET4","v":0},{"$f":"Questions!KEU4","v":0},{"$f":"Questions!KEV4","v":0},{"$f":"Questions!KEW4","v":0},{"$f":"Questions!KEX4","v":0},{"$f":"Questions!KEY4","v":0},{"$f":"Questions!KEZ4","v":0},{"$f":"Questions!KFA4","v":0},{"$f":"Questions!KFB4","v":0},{"$f":"Questions!KFC4","v":0},{"$f":"Questions!KFD4","v":0},{"$f":"Questions!KFE4","v":0},{"$f":"Questions!KFF4","v":0},{"$f":"Questions!KFG4","v":0},{"$f":"Questions!KFH4","v":0},{"$f":"Questions!KFI4","v":0},{"$f":"Questions!KFJ4","v":0},{"$f":"Questions!KFK4","v":0},{"$f":"Questions!KFL4","v":0},{"$f":"Questions!KFM4","v":0},{"$f":"Questions!KFN4","v":0},{"$f":"Questions!KFO4","v":0},{"$f":"Questions!KFP4","v":0},{"$f":"Questions!KFQ4","v":0},{"$f":"Questions!KFR4","v":0},{"$f":"Questions!KFS4","v":0},{"$f":"Questions!KFT4","v":0},{"$f":"Questions!KFU4","v":0},{"$f":"Questions!KFV4","v":0},{"$f":"Questions!KFW4","v":0},{"$f":"Questions!KFX4","v":0},{"$f":"Questions!KFY4","v":0},{"$f":"Questions!KFZ4","v":0},{"$f":"Questions!KGA4","v":0},{"$f":"Questions!KGB4","v":0},{"$f":"Questions!KGC4","v":0},{"$f":"Questions!KGD4","v":0},{"$f":"Questions!KGE4","v":0},{"$f":"Questions!KGF4","v":0},{"$f":"Questions!KGG4","v":0},{"$f":"Questions!KGH4","v":0},{"$f":"Questions!KGI4","v":0},{"$f":"Questions!KGJ4","v":0},{"$f":"Questions!KGK4","v":0},{"$f":"Questions!KGL4","v":0},{"$f":"Questions!KGM4","v":0},{"$f":"Questions!KGN4","v":0},{"$f":"Questions!KGO4","v":0},{"$f":"Questions!KGP4","v":0},{"$f":"Questions!KGQ4","v":0},{"$f":"Questions!KGR4","v":0},{"$f":"Questions!KGS4","v":0},{"$f":"Questions!KGT4","v":0},{"$f":"Questions!KGU4","v":0},{"$f":"Questions!KGV4","v":0},{"$f":"Questions!KGW4","v":0},{"$f":"Questions!KGX4","v":0},{"$f":"Questions!KGY4","v":0},{"$f":"Questions!KGZ4","v":0},{"$f":"Questions!KHA4","v":0},{"$f":"Questions!KHB4","v":0},{"$f":"Questions!KHC4","v":0},{"$f":"Questions!KHD4","v":0},{"$f":"Questions!KHE4","v":0},{"$f":"Questions!KHF4","v":0},{"$f":"Questions!KHG4","v":0},{"$f":"Questions!KHH4","v":0},{"$f":"Questions!KHI4","v":0},{"$f":"Questions!KHJ4","v":0},{"$f":"Questions!KHK4","v":0},{"$f":"Questions!KHL4","v":0},{"$f":"Questions!KHM4","v":0},{"$f":"Questions!KHN4","v":0},{"$f":"Questions!KHO4","v":0},{"$f":"Questions!KHP4","v":0},{"$f":"Questions!KHQ4","v":0},{"$f":"Questions!KHR4","v":0},{"$f":"Questions!KHS4","v":0},{"$f":"Questions!KHT4","v":0},{"$f":"Questions!KHU4","v":0},{"$f":"Questions!KHV4","v":0},{"$f":"Questions!KHW4","v":0},{"$f":"Questions!KHX4","v":0},{"$f":"Questions!KHY4","v":0},{"$f":"Questions!KHZ4","v":0},{"$f":"Questions!KIA4","v":0},{"$f":"Questions!KIB4","v":0},{"$f":"Questions!KIC4","v":0},{"$f":"Questions!KID4","v":0},{"$f":"Questions!KIE4","v":0},{"$f":"Questions!KIF4","v":0},{"$f":"Questions!KIG4","v":0},{"$f":"Questions!KIH4","v":0},{"$f":"Questions!KII4","v":0},{"$f":"Questions!KIJ4","v":0},{"$f":"Questions!KIK4","v":0},{"$f":"Questions!KIL4","v":0},{"$f":"Questions!KIM4","v":0},{"$f":"Questions!KIN4","v":0},{"$f":"Questions!KIO4","v":0},{"$f":"Questions!KIP4","v":0},{"$f":"Questions!KIQ4","v":0},{"$f":"Questions!KIR4","v":0},{"$f":"Questions!KIS4","v":0},{"$f":"Questions!KIT4","v":0},{"$f":"Questions!KIU4","v":0},{"$f":"Questions!KIV4","v":0},{"$f":"Questions!KIW4","v":0},{"$f":"Questions!KIX4","v":0},{"$f":"Questions!KIY4","v":0},{"$f":"Questions!KIZ4","v":0},{"$f":"Questions!KJA4","v":0},{"$f":"Questions!KJB4","v":0},{"$f":"Questions!KJC4","v":0},{"$f":"Questions!KJD4","v":0},{"$f":"Questions!KJE4","v":0},{"$f":"Questions!KJF4","v":0},{"$f":"Questions!KJG4","v":0},{"$f":"Questions!KJH4","v":0},{"$f":"Questions!KJI4","v":0},{"$f":"Questions!KJJ4","v":0},{"$f":"Questions!KJK4","v":0},{"$f":"Questions!KJL4","v":0},{"$f":"Questions!KJM4","v":0},{"$f":"Questions!KJN4","v":0},{"$f":"Questions!KJO4","v":0},{"$f":"Questions!KJP4","v":0},{"$f":"Questions!KJQ4","v":0},{"$f":"Questions!KJR4","v":0},{"$f":"Questions!KJS4","v":0},{"$f":"Questions!KJT4","v":0},{"$f":"Questions!KJU4","v":0},{"$f":"Questions!KJV4","v":0},{"$f":"Questions!KJW4","v":0},{"$f":"Questions!KJX4","v":0},{"$f":"Questions!KJY4","v":0},{"$f":"Questions!KJZ4","v":0},{"$f":"Questions!KKA4","v":0},{"$f":"Questions!KKB4","v":0},{"$f":"Questions!KKC4","v":0},{"$f":"Questions!KKD4","v":0},{"$f":"Questions!KKE4","v":0},{"$f":"Questions!KKF4","v":0},{"$f":"Questions!KKG4","v":0},{"$f":"Questions!KKH4","v":0},{"$f":"Questions!KKI4","v":0},{"$f":"Questions!KKJ4","v":0},{"$f":"Questions!KKK4","v":0},{"$f":"Questions!KKL4","v":0},{"$f":"Questions!KKM4","v":0},{"$f":"Questions!KKN4","v":0},{"$f":"Questions!KKO4","v":0},{"$f":"Questions!KKP4","v":0},{"$f":"Questions!KKQ4","v":0},{"$f":"Questions!KKR4","v":0},{"$f":"Questions!KKS4","v":0},{"$f":"Questions!KKT4","v":0},{"$f":"Questions!KKU4","v":0},{"$f":"Questions!KKV4","v":0},{"$f":"Questions!KKW4","v":0},{"$f":"Questions!KKX4","v":0},{"$f":"Questions!KKY4","v":0},{"$f":"Questions!KKZ4","v":0},{"$f":"Questions!KLA4","v":0},{"$f":"Questions!KLB4","v":0},{"$f":"Questions!KLC4","v":0},{"$f":"Questions!KLD4","v":0},{"$f":"Questions!KLE4","v":0},{"$f":"Questions!KLF4","v":0},{"$f":"Questions!KLG4","v":0},{"$f":"Questions!KLH4","v":0},{"$f":"Questions!KLI4","v":0},{"$f":"Questions!KLJ4","v":0},{"$f":"Questions!KLK4","v":0},{"$f":"Questions!KLL4","v":0},{"$f":"Questions!KLM4","v":0},{"$f":"Questions!KLN4","v":0},{"$f":"Questions!KLO4","v":0},{"$f":"Questions!KLP4","v":0},{"$f":"Questions!KLQ4","v":0},{"$f":"Questions!KLR4","v":0},{"$f":"Questions!KLS4","v":0},{"$f":"Questions!KLT4","v":0},{"$f":"Questions!KLU4","v":0},{"$f":"Questions!KLV4","v":0},{"$f":"Questions!KLW4","v":0},{"$f":"Questions!KLX4","v":0},{"$f":"Questions!KLY4","v":0},{"$f":"Questions!KLZ4","v":0},{"$f":"Questions!KMA4","v":0},{"$f":"Questions!KMB4","v":0},{"$f":"Questions!KMC4","v":0},{"$f":"Questions!KMD4","v":0},{"$f":"Questions!KME4","v":0},{"$f":"Questions!KMF4","v":0},{"$f":"Questions!KMG4","v":0},{"$f":"Questions!KMH4","v":0},{"$f":"Questions!KMI4","v":0},{"$f":"Questions!KMJ4","v":0},{"$f":"Questions!KMK4","v":0},{"$f":"Questions!KML4","v":0},{"$f":"Questions!KMM4","v":0},{"$f":"Questions!KMN4","v":0},{"$f":"Questions!KMO4","v":0},{"$f":"Questions!KMP4","v":0},{"$f":"Questions!KMQ4","v":0},{"$f":"Questions!KMR4","v":0},{"$f":"Questions!KMS4","v":0},{"$f":"Questions!KMT4","v":0},{"$f":"Questions!KMU4","v":0},{"$f":"Questions!KMV4","v":0},{"$f":"Questions!KMW4","v":0},{"$f":"Questions!KMX4","v":0},{"$f":"Questions!KMY4","v":0},{"$f":"Questions!KMZ4","v":0},{"$f":"Questions!KNA4","v":0},{"$f":"Questions!KNB4","v":0},{"$f":"Questions!KNC4","v":0},{"$f":"Questions!KND4","v":0},{"$f":"Questions!KNE4","v":0},{"$f":"Questions!KNF4","v":0},{"$f":"Questions!KNG4","v":0},{"$f":"Questions!KNH4","v":0},{"$f":"Questions!KNI4","v":0},{"$f":"Questions!KNJ4","v":0},{"$f":"Questions!KNK4","v":0},{"$f":"Questions!KNL4","v":0},{"$f":"Questions!KNM4","v":0},{"$f":"Questions!KNN4","v":0},{"$f":"Questions!KNO4","v":0},{"$f":"Questions!KNP4","v":0},{"$f":"Questions!KNQ4","v":0},{"$f":"Questions!KNR4","v":0},{"$f":"Questions!KNS4","v":0},{"$f":"Questions!KNT4","v":0},{"$f":"Questions!KNU4","v":0},{"$f":"Questions!KNV4","v":0},{"$f":"Questions!KNW4","v":0},{"$f":"Questions!KNX4","v":0},{"$f":"Questions!KNY4","v":0},{"$f":"Questions!KNZ4","v":0},{"$f":"Questions!KOA4","v":0},{"$f":"Questions!KOB4","v":0},{"$f":"Questions!KOC4","v":0},{"$f":"Questions!KOD4","v":0},{"$f":"Questions!KOE4","v":0},{"$f":"Questions!KOF4","v":0},{"$f":"Questions!KOG4","v":0},{"$f":"Questions!KOH4","v":0},{"$f":"Questions!KOI4","v":0},{"$f":"Questions!KOJ4","v":0},{"$f":"Questions!KOK4","v":0},{"$f":"Questions!KOL4","v":0},{"$f":"Questions!KOM4","v":0},{"$f":"Questions!KON4","v":0},{"$f":"Questions!KOO4","v":0},{"$f":"Questions!KOP4","v":0},{"$f":"Questions!KOQ4","v":0},{"$f":"Questions!KOR4","v":0},{"$f":"Questions!KOS4","v":0},{"$f":"Questions!KOT4","v":0},{"$f":"Questions!KOU4","v":0},{"$f":"Questions!KOV4","v":0},{"$f":"Questions!KOW4","v":0},{"$f":"Questions!KOX4","v":0},{"$f":"Questions!KOY4","v":0},{"$f":"Questions!KOZ4","v":0},{"$f":"Questions!KPA4","v":0},{"$f":"Questions!KPB4","v":0},{"$f":"Questions!KPC4","v":0},{"$f":"Questions!KPD4","v":0},{"$f":"Questions!KPE4","v":0},{"$f":"Questions!KPF4","v":0},{"$f":"Questions!KPG4","v":0},{"$f":"Questions!KPH4","v":0},{"$f":"Questions!KPI4","v":0},{"$f":"Questions!KPJ4","v":0},{"$f":"Questions!KPK4","v":0},{"$f":"Questions!KPL4","v":0},{"$f":"Questions!KPM4","v":0},{"$f":"Questions!KPN4","v":0},{"$f":"Questions!KPO4","v":0},{"$f":"Questions!KPP4","v":0},{"$f":"Questions!KPQ4","v":0},{"$f":"Questions!KPR4","v":0},{"$f":"Questions!KPS4","v":0},{"$f":"Questions!KPT4","v":0},{"$f":"Questions!KPU4","v":0},{"$f":"Questions!KPV4","v":0},{"$f":"Questions!KPW4","v":0},{"$f":"Questions!KPX4","v":0},{"$f":"Questions!KPY4","v":0},{"$f":"Questions!KPZ4","v":0},{"$f":"Questions!KQA4","v":0},{"$f":"Questions!KQB4","v":0},{"$f":"Questions!KQC4","v":0},{"$f":"Questions!KQD4","v":0},{"$f":"Questions!KQE4","v":0},{"$f":"Questions!KQF4","v":0},{"$f":"Questions!KQG4","v":0},{"$f":"Questions!KQH4","v":0},{"$f":"Questions!KQI4","v":0},{"$f":"Questions!KQJ4","v":0},{"$f":"Questions!KQK4","v":0},{"$f":"Questions!KQL4","v":0},{"$f":"Questions!KQM4","v":0},{"$f":"Questions!KQN4","v":0},{"$f":"Questions!KQO4","v":0},{"$f":"Questions!KQP4","v":0},{"$f":"Questions!KQQ4","v":0},{"$f":"Questions!KQR4","v":0},{"$f":"Questions!KQS4","v":0},{"$f":"Questions!KQT4","v":0},{"$f":"Questions!KQU4","v":0},{"$f":"Questions!KQV4","v":0},{"$f":"Questions!KQW4","v":0},{"$f":"Questions!KQX4","v":0},{"$f":"Questions!KQY4","v":0},{"$f":"Questions!KQZ4","v":0},{"$f":"Questions!KRA4","v":0},{"$f":"Questions!KRB4","v":0},{"$f":"Questions!KRC4","v":0},{"$f":"Questions!KRD4","v":0},{"$f":"Questions!KRE4","v":0},{"$f":"Questions!KRF4","v":0},{"$f":"Questions!KRG4","v":0},{"$f":"Questions!KRH4","v":0},{"$f":"Questions!KRI4","v":0},{"$f":"Questions!KRJ4","v":0},{"$f":"Questions!KRK4","v":0},{"$f":"Questions!KRL4","v":0},{"$f":"Questions!KRM4","v":0},{"$f":"Questions!KRN4","v":0},{"$f":"Questions!KRO4","v":0},{"$f":"Questions!KRP4","v":0},{"$f":"Questions!KRQ4","v":0},{"$f":"Questions!KRR4","v":0},{"$f":"Questions!KRS4","v":0},{"$f":"Questions!KRT4","v":0},{"$f":"Questions!KRU4","v":0},{"$f":"Questions!KRV4","v":0},{"$f":"Questions!KRW4","v":0},{"$f":"Questions!KRX4","v":0},{"$f":"Questions!KRY4","v":0},{"$f":"Questions!KRZ4","v":0},{"$f":"Questions!KSA4","v":0},{"$f":"Questions!KSB4","v":0},{"$f":"Questions!KSC4","v":0},{"$f":"Questions!KSD4","v":0},{"$f":"Questions!KSE4","v":0},{"$f":"Questions!KSF4","v":0},{"$f":"Questions!KSG4","v":0},{"$f":"Questions!KSH4","v":0},{"$f":"Questions!KSI4","v":0},{"$f":"Questions!KSJ4","v":0},{"$f":"Questions!KSK4","v":0},{"$f":"Questions!KSL4","v":0},{"$f":"Questions!KSM4","v":0},{"$f":"Questions!KSN4","v":0},{"$f":"Questions!KSO4","v":0},{"$f":"Questions!KSP4","v":0},{"$f":"Questions!KSQ4","v":0},{"$f":"Questions!KSR4","v":0},{"$f":"Questions!KSS4","v":0},{"$f":"Questions!KST4","v":0},{"$f":"Questions!KSU4","v":0},{"$f":"Questions!KSV4","v":0},{"$f":"Questions!KSW4","v":0},{"$f":"Questions!KSX4","v":0},{"$f":"Questions!KSY4","v":0},{"$f":"Questions!KSZ4","v":0},{"$f":"Questions!KTA4","v":0},{"$f":"Questions!KTB4","v":0},{"$f":"Questions!KTC4","v":0},{"$f":"Questions!KTD4","v":0},{"$f":"Questions!KTE4","v":0},{"$f":"Questions!KTF4","v":0},{"$f":"Questions!KTG4","v":0},{"$f":"Questions!KTH4","v":0},{"$f":"Questions!KTI4","v":0},{"$f":"Questions!KTJ4","v":0},{"$f":"Questions!KTK4","v":0},{"$f":"Questions!KTL4","v":0},{"$f":"Questions!KTM4","v":0},{"$f":"Questions!KTN4","v":0},{"$f":"Questions!KTO4","v":0},{"$f":"Questions!KTP4","v":0},{"$f":"Questions!KTQ4","v":0},{"$f":"Questions!KTR4","v":0},{"$f":"Questions!KTS4","v":0},{"$f":"Questions!KTT4","v":0},{"$f":"Questions!KTU4","v":0},{"$f":"Questions!KTV4","v":0},{"$f":"Questions!KTW4","v":0},{"$f":"Questions!KTX4","v":0},{"$f":"Questions!KTY4","v":0},{"$f":"Questions!KTZ4","v":0},{"$f":"Questions!KUA4","v":0},{"$f":"Questions!KUB4","v":0},{"$f":"Questions!KUC4","v":0},{"$f":"Questions!KUD4","v":0},{"$f":"Questions!KUE4","v":0},{"$f":"Questions!KUF4","v":0},{"$f":"Questions!KUG4","v":0},{"$f":"Questions!KUH4","v":0},{"$f":"Questions!KUI4","v":0},{"$f":"Questions!KUJ4","v":0},{"$f":"Questions!KUK4","v":0},{"$f":"Questions!KUL4","v":0},{"$f":"Questions!KUM4","v":0},{"$f":"Questions!KUN4","v":0},{"$f":"Questions!KUO4","v":0},{"$f":"Questions!KUP4","v":0},{"$f":"Questions!KUQ4","v":0},{"$f":"Questions!KUR4","v":0},{"$f":"Questions!KUS4","v":0},{"$f":"Questions!KUT4","v":0},{"$f":"Questions!KUU4","v":0},{"$f":"Questions!KUV4","v":0},{"$f":"Questions!KUW4","v":0},{"$f":"Questions!KUX4","v":0},{"$f":"Questions!KUY4","v":0},{"$f":"Questions!KUZ4","v":0},{"$f":"Questions!KVA4","v":0},{"$f":"Questions!KVB4","v":0},{"$f":"Questions!KVC4","v":0},{"$f":"Questions!KVD4","v":0},{"$f":"Questions!KVE4","v":0},{"$f":"Questions!KVF4","v":0},{"$f":"Questions!KVG4","v":0},{"$f":"Questions!KVH4","v":0},{"$f":"Questions!KVI4","v":0},{"$f":"Questions!KVJ4","v":0},{"$f":"Questions!KVK4","v":0},{"$f":"Questions!KVL4","v":0},{"$f":"Questions!KVM4","v":0},{"$f":"Questions!KVN4","v":0},{"$f":"Questions!KVO4","v":0},{"$f":"Questions!KVP4","v":0},{"$f":"Questions!KVQ4","v":0},{"$f":"Questions!KVR4","v":0},{"$f":"Questions!KVS4","v":0},{"$f":"Questions!KVT4","v":0},{"$f":"Questions!KVU4","v":0},{"$f":"Questions!KVV4","v":0},{"$f":"Questions!KVW4","v":0},{"$f":"Questions!KVX4","v":0},{"$f":"Questions!KVY4","v":0},{"$f":"Questions!KVZ4","v":0},{"$f":"Questions!KWA4","v":0},{"$f":"Questions!KWB4","v":0},{"$f":"Questions!KWC4","v":0},{"$f":"Questions!KWD4","v":0},{"$f":"Questions!KWE4","v":0},{"$f":"Questions!KWF4","v":0},{"$f":"Questions!KWG4","v":0},{"$f":"Questions!KWH4","v":0},{"$f":"Questions!KWI4","v":0},{"$f":"Questions!KWJ4","v":0},{"$f":"Questions!KWK4","v":0},{"$f":"Questions!KWL4","v":0},{"$f":"Questions!KWM4","v":0},{"$f":"Questions!KWN4","v":0},{"$f":"Questions!KWO4","v":0},{"$f":"Questions!KWP4","v":0},{"$f":"Questions!KWQ4","v":0},{"$f":"Questions!KWR4","v":0},{"$f":"Questions!KWS4","v":0},{"$f":"Questions!KWT4","v":0},{"$f":"Questions!KWU4","v":0},{"$f":"Questions!KWV4","v":0},{"$f":"Questions!KWW4","v":0},{"$f":"Questions!KWX4","v":0},{"$f":"Questions!KWY4","v":0},{"$f":"Questions!KWZ4","v":0},{"$f":"Questions!KXA4","v":0},{"$f":"Questions!KXB4","v":0},{"$f":"Questions!KXC4","v":0},{"$f":"Questions!KXD4","v":0},{"$f":"Questions!KXE4","v":0},{"$f":"Questions!KXF4","v":0},{"$f":"Questions!KXG4","v":0},{"$f":"Questions!KXH4","v":0},{"$f":"Questions!KXI4","v":0},{"$f":"Questions!KXJ4","v":0},{"$f":"Questions!KXK4","v":0},{"$f":"Questions!KXL4","v":0},{"$f":"Questions!KXM4","v":0},{"$f":"Questions!KXN4","v":0},{"$f":"Questions!KXO4","v":0},{"$f":"Questions!KXP4","v":0},{"$f":"Questions!KXQ4","v":0},{"$f":"Questions!KXR4","v":0},{"$f":"Questions!KXS4","v":0},{"$f":"Questions!KXT4","v":0},{"$f":"Questions!KXU4","v":0},{"$f":"Questions!KXV4","v":0},{"$f":"Questions!KXW4","v":0},{"$f":"Questions!KXX4","v":0},{"$f":"Questions!KXY4","v":0},{"$f":"Questions!KXZ4","v":0},{"$f":"Questions!KYA4","v":0},{"$f":"Questions!KYB4","v":0},{"$f":"Questions!KYC4","v":0},{"$f":"Questions!KYD4","v":0},{"$f":"Questions!KYE4","v":0},{"$f":"Questions!KYF4","v":0},{"$f":"Questions!KYG4","v":0},{"$f":"Questions!KYH4","v":0},{"$f":"Questions!KYI4","v":0},{"$f":"Questions!KYJ4","v":0},{"$f":"Questions!KYK4","v":0},{"$f":"Questions!KYL4","v":0},{"$f":"Questions!KYM4","v":0},{"$f":"Questions!KYN4","v":0},{"$f":"Questions!KYO4","v":0},{"$f":"Questions!KYP4","v":0},{"$f":"Questions!KYQ4","v":0},{"$f":"Questions!KYR4","v":0},{"$f":"Questions!KYS4","v":0},{"$f":"Questions!KYT4","v":0},{"$f":"Questions!KYU4","v":0},{"$f":"Questions!KYV4","v":0},{"$f":"Questions!KYW4","v":0},{"$f":"Questions!KYX4","v":0},{"$f":"Questions!KYY4","v":0},{"$f":"Questions!KYZ4","v":0},{"$f":"Questions!KZA4","v":0},{"$f":"Questions!KZB4","v":0},{"$f":"Questions!KZC4","v":0},{"$f":"Questions!KZD4","v":0},{"$f":"Questions!KZE4","v":0},{"$f":"Questions!KZF4","v":0},{"$f":"Questions!KZG4","v":0},{"$f":"Questions!KZH4","v":0},{"$f":"Questions!KZI4","v":0},{"$f":"Questions!KZJ4","v":0},{"$f":"Questions!KZK4","v":0},{"$f":"Questions!KZL4","v":0},{"$f":"Questions!KZM4","v":0},{"$f":"Questions!KZN4","v":0},{"$f":"Questions!KZO4","v":0},{"$f":"Questions!KZP4","v":0},{"$f":"Questions!KZQ4","v":0},{"$f":"Questions!KZR4","v":0},{"$f":"Questions!KZS4","v":0},{"$f":"Questions!KZT4","v":0},{"$f":"Questions!KZU4","v":0},{"$f":"Questions!KZV4","v":0},{"$f":"Questions!KZW4","v":0},{"$f":"Questions!KZX4","v":0},{"$f":"Questions!KZY4","v":0},{"$f":"Questions!KZZ4","v":0},{"$f":"Questions!LAA4","v":0},{"$f":"Questions!LAB4","v":0},{"$f":"Questions!LAC4","v":0},{"$f":"Questions!LAD4","v":0},{"$f":"Questions!LAE4","v":0},{"$f":"Questions!LAF4","v":0},{"$f":"Questions!LAG4","v":0},{"$f":"Questions!LAH4","v":0},{"$f":"Questions!LAI4","v":0},{"$f":"Questions!LAJ4","v":0},{"$f":"Questions!LAK4","v":0},{"$f":"Questions!LAL4","v":0},{"$f":"Questions!LAM4","v":0},{"$f":"Questions!LAN4","v":0},{"$f":"Questions!LAO4","v":0},{"$f":"Questions!LAP4","v":0},{"$f":"Questions!LAQ4","v":0},{"$f":"Questions!LAR4","v":0},{"$f":"Questions!LAS4","v":0},{"$f":"Questions!LAT4","v":0},{"$f":"Questions!LAU4","v":0},{"$f":"Questions!LAV4","v":0},{"$f":"Questions!LAW4","v":0},{"$f":"Questions!LAX4","v":0},{"$f":"Questions!LAY4","v":0},{"$f":"Questions!LAZ4","v":0},{"$f":"Questions!LBA4","v":0},{"$f":"Questions!LBB4","v":0},{"$f":"Questions!LBC4","v":0},{"$f":"Questions!LBD4","v":0},{"$f":"Questions!LBE4","v":0},{"$f":"Questions!LBF4","v":0},{"$f":"Questions!LBG4","v":0},{"$f":"Questions!LBH4","v":0},{"$f":"Questions!LBI4","v":0},{"$f":"Questions!LBJ4","v":0},{"$f":"Questions!LBK4","v":0},{"$f":"Questions!LBL4","v":0},{"$f":"Questions!LBM4","v":0},{"$f":"Questions!LBN4","v":0},{"$f":"Questions!LBO4","v":0},{"$f":"Questions!LBP4","v":0},{"$f":"Questions!LBQ4","v":0},{"$f":"Questions!LBR4","v":0},{"$f":"Questions!LBS4","v":0},{"$f":"Questions!LBT4","v":0},{"$f":"Questions!LBU4","v":0},{"$f":"Questions!LBV4","v":0},{"$f":"Questions!LBW4","v":0},{"$f":"Questions!LBX4","v":0},{"$f":"Questions!LBY4","v":0},{"$f":"Questions!LBZ4","v":0},{"$f":"Questions!LCA4","v":0},{"$f":"Questions!LCB4","v":0},{"$f":"Questions!LCC4","v":0},{"$f":"Questions!LCD4","v":0},{"$f":"Questions!LCE4","v":0},{"$f":"Questions!LCF4","v":0},{"$f":"Questions!LCG4","v":0},{"$f":"Questions!LCH4","v":0},{"$f":"Questions!LCI4","v":0},{"$f":"Questions!LCJ4","v":0},{"$f":"Questions!LCK4","v":0},{"$f":"Questions!LCL4","v":0},{"$f":"Questions!LCM4","v":0},{"$f":"Questions!LCN4","v":0},{"$f":"Questions!LCO4","v":0},{"$f":"Questions!LCP4","v":0},{"$f":"Questions!LCQ4","v":0},{"$f":"Questions!LCR4","v":0},{"$f":"Questions!LCS4","v":0},{"$f":"Questions!LCT4","v":0},{"$f":"Questions!LCU4","v":0},{"$f":"Questions!LCV4","v":0},{"$f":"Questions!LCW4","v":0},{"$f":"Questions!LCX4","v":0},{"$f":"Questions!LCY4","v":0},{"$f":"Questions!LCZ4","v":0},{"$f":"Questions!LDA4","v":0},{"$f":"Questions!LDB4","v":0},{"$f":"Questions!LDC4","v":0},{"$f":"Questions!LDD4","v":0},{"$f":"Questions!LDE4","v":0},{"$f":"Questions!LDF4","v":0},{"$f":"Questions!LDG4","v":0},{"$f":"Questions!LDH4","v":0},{"$f":"Questions!LDI4","v":0},{"$f":"Questions!LDJ4","v":0},{"$f":"Questions!LDK4","v":0},{"$f":"Questions!LDL4","v":0},{"$f":"Questions!LDM4","v":0},{"$f":"Questions!LDN4","v":0},{"$f":"Questions!LDO4","v":0},{"$f":"Questions!LDP4","v":0},{"$f":"Questions!LDQ4","v":0},{"$f":"Questions!LDR4","v":0},{"$f":"Questions!LDS4","v":0},{"$f":"Questions!LDT4","v":0},{"$f":"Questions!LDU4","v":0},{"$f":"Questions!LDV4","v":0},{"$f":"Questions!LDW4","v":0},{"$f":"Questions!LDX4","v":0},{"$f":"Questions!LDY4","v":0},{"$f":"Questions!LDZ4","v":0},{"$f":"Questions!LEA4","v":0},{"$f":"Questions!LEB4","v":0},{"$f":"Questions!LEC4","v":0},{"$f":"Questions!LED4","v":0},{"$f":"Questions!LEE4","v":0},{"$f":"Questions!LEF4","v":0},{"$f":"Questions!LEG4","v":0},{"$f":"Questions!LEH4","v":0},{"$f":"Questions!LEI4","v":0},{"$f":"Questions!LEJ4","v":0},{"$f":"Questions!LEK4","v":0},{"$f":"Questions!LEL4","v":0},{"$f":"Questions!LEM4","v":0},{"$f":"Questions!LEN4","v":0},{"$f":"Questions!LEO4","v":0},{"$f":"Questions!LEP4","v":0},{"$f":"Questions!LEQ4","v":0},{"$f":"Questions!LER4","v":0},{"$f":"Questions!LES4","v":0},{"$f":"Questions!LET4","v":0},{"$f":"Questions!LEU4","v":0},{"$f":"Questions!LEV4","v":0},{"$f":"Questions!LEW4","v":0},{"$f":"Questions!LEX4","v":0},{"$f":"Questions!LEY4","v":0},{"$f":"Questions!LEZ4","v":0},{"$f":"Questions!LFA4","v":0},{"$f":"Questions!LFB4","v":0},{"$f":"Questions!LFC4","v":0},{"$f":"Questions!LFD4","v":0},{"$f":"Questions!LFE4","v":0},{"$f":"Questions!LFF4","v":0},{"$f":"Questions!LFG4","v":0},{"$f":"Questions!LFH4","v":0},{"$f":"Questions!LFI4","v":0},{"$f":"Questions!LFJ4","v":0},{"$f":"Questions!LFK4","v":0},{"$f":"Questions!LFL4","v":0},{"$f":"Questions!LFM4","v":0},{"$f":"Questions!LFN4","v":0},{"$f":"Questions!LFO4","v":0},{"$f":"Questions!LFP4","v":0},{"$f":"Questions!LFQ4","v":0},{"$f":"Questions!LFR4","v":0},{"$f":"Questions!LFS4","v":0},{"$f":"Questions!LFT4","v":0},{"$f":"Questions!LFU4","v":0},{"$f":"Questions!LFV4","v":0},{"$f":"Questions!LFW4","v":0},{"$f":"Questions!LFX4","v":0},{"$f":"Questions!LFY4","v":0},{"$f":"Questions!LFZ4","v":0},{"$f":"Questions!LGA4","v":0},{"$f":"Questions!LGB4","v":0},{"$f":"Questions!LGC4","v":0},{"$f":"Questions!LGD4","v":0},{"$f":"Questions!LGE4","v":0},{"$f":"Questions!LGF4","v":0},{"$f":"Questions!LGG4","v":0},{"$f":"Questions!LGH4","v":0},{"$f":"Questions!LGI4","v":0},{"$f":"Questions!LGJ4","v":0},{"$f":"Questions!LGK4","v":0},{"$f":"Questions!LGL4","v":0},{"$f":"Questions!LGM4","v":0},{"$f":"Questions!LGN4","v":0},{"$f":"Questions!LGO4","v":0},{"$f":"Questions!LGP4","v":0},{"$f":"Questions!LGQ4","v":0},{"$f":"Questions!LGR4","v":0},{"$f":"Questions!LGS4","v":0},{"$f":"Questions!LGT4","v":0},{"$f":"Questions!LGU4","v":0},{"$f":"Questions!LGV4","v":0},{"$f":"Questions!LGW4","v":0},{"$f":"Questions!LGX4","v":0},{"$f":"Questions!LGY4","v":0},{"$f":"Questions!LGZ4","v":0},{"$f":"Questions!LHA4","v":0},{"$f":"Questions!LHB4","v":0},{"$f":"Questions!LHC4","v":0},{"$f":"Questions!LHD4","v":0},{"$f":"Questions!LHE4","v":0},{"$f":"Questions!LHF4","v":0},{"$f":"Questions!LHG4","v":0},{"$f":"Questions!LHH4","v":0},{"$f":"Questions!LHI4","v":0},{"$f":"Questions!LHJ4","v":0},{"$f":"Questions!LHK4","v":0},{"$f":"Questions!LHL4","v":0},{"$f":"Questions!LHM4","v":0},{"$f":"Questions!LHN4","v":0},{"$f":"Questions!LHO4","v":0},{"$f":"Questions!LHP4","v":0},{"$f":"Questions!LHQ4","v":0},{"$f":"Questions!LHR4","v":0},{"$f":"Questions!LHS4","v":0},{"$f":"Questions!LHT4","v":0},{"$f":"Questions!LHU4","v":0},{"$f":"Questions!LHV4","v":0},{"$f":"Questions!LHW4","v":0},{"$f":"Questions!LHX4","v":0},{"$f":"Questions!LHY4","v":0},{"$f":"Questions!LHZ4","v":0},{"$f":"Questions!LIA4","v":0},{"$f":"Questions!LIB4","v":0},{"$f":"Questions!LIC4","v":0},{"$f":"Questions!LID4","v":0},{"$f":"Questions!LIE4","v":0},{"$f":"Questions!LIF4","v":0},{"$f":"Questions!LIG4","v":0},{"$f":"Questions!LIH4","v":0},{"$f":"Questions!LII4","v":0},{"$f":"Questions!LIJ4","v":0},{"$f":"Questions!LIK4","v":0},{"$f":"Questions!LIL4","v":0},{"$f":"Questions!LIM4","v":0},{"$f":"Questions!LIN4","v":0},{"$f":"Questions!LIO4","v":0},{"$f":"Questions!LIP4","v":0},{"$f":"Questions!LIQ4","v":0},{"$f":"Questions!LIR4","v":0},{"$f":"Questions!LIS4","v":0},{"$f":"Questions!LIT4","v":0},{"$f":"Questions!LIU4","v":0},{"$f":"Questions!LIV4","v":0},{"$f":"Questions!LIW4","v":0},{"$f":"Questions!LIX4","v":0},{"$f":"Questions!LIY4","v":0},{"$f":"Questions!LIZ4","v":0},{"$f":"Questions!LJA4","v":0},{"$f":"Questions!LJB4","v":0},{"$f":"Questions!LJC4","v":0},{"$f":"Questions!LJD4","v":0},{"$f":"Questions!LJE4","v":0},{"$f":"Questions!LJF4","v":0},{"$f":"Questions!LJG4","v":0},{"$f":"Questions!LJH4","v":0},{"$f":"Questions!LJI4","v":0},{"$f":"Questions!LJJ4","v":0},{"$f":"Questions!LJK4","v":0},{"$f":"Questions!LJL4","v":0},{"$f":"Questions!LJM4","v":0},{"$f":"Questions!LJN4","v":0},{"$f":"Questions!LJO4","v":0},{"$f":"Questions!LJP4","v":0},{"$f":"Questions!LJQ4","v":0},{"$f":"Questions!LJR4","v":0},{"$f":"Questions!LJS4","v":0},{"$f":"Questions!LJT4","v":0},{"$f":"Questions!LJU4","v":0},{"$f":"Questions!LJV4","v":0},{"$f":"Questions!LJW4","v":0},{"$f":"Questions!LJX4","v":0},{"$f":"Questions!LJY4","v":0},{"$f":"Questions!LJZ4","v":0},{"$f":"Questions!LKA4","v":0},{"$f":"Questions!LKB4","v":0},{"$f":"Questions!LKC4","v":0},{"$f":"Questions!LKD4","v":0},{"$f":"Questions!LKE4","v":0},{"$f":"Questions!LKF4","v":0},{"$f":"Questions!LKG4","v":0},{"$f":"Questions!LKH4","v":0},{"$f":"Questions!LKI4","v":0},{"$f":"Questions!LKJ4","v":0},{"$f":"Questions!LKK4","v":0},{"$f":"Questions!LKL4","v":0},{"$f":"Questions!LKM4","v":0},{"$f":"Questions!LKN4","v":0},{"$f":"Questions!LKO4","v":0},{"$f":"Questions!LKP4","v":0},{"$f":"Questions!LKQ4","v":0},{"$f":"Questions!LKR4","v":0},{"$f":"Questions!LKS4","v":0},{"$f":"Questions!LKT4","v":0},{"$f":"Questions!LKU4","v":0},{"$f":"Questions!LKV4","v":0},{"$f":"Questions!LKW4","v":0},{"$f":"Questions!LKX4","v":0},{"$f":"Questions!LKY4","v":0},{"$f":"Questions!LKZ4","v":0},{"$f":"Questions!LLA4","v":0},{"$f":"Questions!LLB4","v":0},{"$f":"Questions!LLC4","v":0},{"$f":"Questions!LLD4","v":0},{"$f":"Questions!LLE4","v":0},{"$f":"Questions!LLF4","v":0},{"$f":"Questions!LLG4","v":0},{"$f":"Questions!LLH4","v":0},{"$f":"Questions!LLI4","v":0},{"$f":"Questions!LLJ4","v":0},{"$f":"Questions!LLK4","v":0},{"$f":"Questions!LLL4","v":0},{"$f":"Questions!LLM4","v":0},{"$f":"Questions!LLN4","v":0},{"$f":"Questions!LLO4","v":0},{"$f":"Questions!LLP4","v":0},{"$f":"Questions!LLQ4","v":0},{"$f":"Questions!LLR4","v":0},{"$f":"Questions!LLS4","v":0},{"$f":"Questions!LLT4","v":0},{"$f":"Questions!LLU4","v":0},{"$f":"Questions!LLV4","v":0},{"$f":"Questions!LLW4","v":0},{"$f":"Questions!LLX4","v":0},{"$f":"Questions!LLY4","v":0},{"$f":"Questions!LLZ4","v":0},{"$f":"Questions!LMA4","v":0},{"$f":"Questions!LMB4","v":0},{"$f":"Questions!LMC4","v":0},{"$f":"Questions!LMD4","v":0},{"$f":"Questions!LME4","v":0},{"$f":"Questions!LMF4","v":0},{"$f":"Questions!LMG4","v":0},{"$f":"Questions!LMH4","v":0},{"$f":"Questions!LMI4","v":0},{"$f":"Questions!LMJ4","v":0},{"$f":"Questions!LMK4","v":0},{"$f":"Questions!LML4","v":0},{"$f":"Questions!LMM4","v":0},{"$f":"Questions!LMN4","v":0},{"$f":"Questions!LMO4","v":0},{"$f":"Questions!LMP4","v":0},{"$f":"Questions!LMQ4","v":0},{"$f":"Questions!LMR4","v":0},{"$f":"Questions!LMS4","v":0},{"$f":"Questions!LMT4","v":0},{"$f":"Questions!LMU4","v":0},{"$f":"Questions!LMV4","v":0},{"$f":"Questions!LMW4","v":0},{"$f":"Questions!LMX4","v":0},{"$f":"Questions!LMY4","v":0},{"$f":"Questions!LMZ4","v":0},{"$f":"Questions!LNA4","v":0},{"$f":"Questions!LNB4","v":0},{"$f":"Questions!LNC4","v":0},{"$f":"Questions!LND4","v":0},{"$f":"Questions!LNE4","v":0},{"$f":"Questions!LNF4","v":0},{"$f":"Questions!LNG4","v":0},{"$f":"Questions!LNH4","v":0},{"$f":"Questions!LNI4","v":0},{"$f":"Questions!LNJ4","v":0},{"$f":"Questions!LNK4","v":0},{"$f":"Questions!LNL4","v":0},{"$f":"Questions!LNM4","v":0},{"$f":"Questions!LNN4","v":0},{"$f":"Questions!LNO4","v":0},{"$f":"Questions!LNP4","v":0},{"$f":"Questions!LNQ4","v":0},{"$f":"Questions!LNR4","v":0},{"$f":"Questions!LNS4","v":0},{"$f":"Questions!LNT4","v":0},{"$f":"Questions!LNU4","v":0},{"$f":"Questions!LNV4","v":0},{"$f":"Questions!LNW4","v":0},{"$f":"Questions!LNX4","v":0},{"$f":"Questions!LNY4","v":0},{"$f":"Questions!LNZ4","v":0},{"$f":"Questions!LOA4","v":0},{"$f":"Questions!LOB4","v":0},{"$f":"Questions!LOC4","v":0},{"$f":"Questions!LOD4","v":0},{"$f":"Questions!LOE4","v":0},{"$f":"Questions!LOF4","v":0},{"$f":"Questions!LOG4","v":0},{"$f":"Questions!LOH4","v":0},{"$f":"Questions!LOI4","v":0},{"$f":"Questions!LOJ4","v":0},{"$f":"Questions!LOK4","v":0},{"$f":"Questions!LOL4","v":0},{"$f":"Questions!LOM4","v":0},{"$f":"Questions!LON4","v":0},{"$f":"Questions!LOO4","v":0},{"$f":"Questions!LOP4","v":0},{"$f":"Questions!LOQ4","v":0},{"$f":"Questions!LOR4","v":0},{"$f":"Questions!LOS4","v":0},{"$f":"Questions!LOT4","v":0},{"$f":"Questions!LOU4","v":0},{"$f":"Questions!LOV4","v":0},{"$f":"Questions!LOW4","v":0},{"$f":"Questions!LOX4","v":0},{"$f":"Questions!LOY4","v":0},{"$f":"Questions!LOZ4","v":0},{"$f":"Questions!LPA4","v":0},{"$f":"Questions!LPB4","v":0},{"$f":"Questions!LPC4","v":0},{"$f":"Questions!LPD4","v":0},{"$f":"Questions!LPE4","v":0},{"$f":"Questions!LPF4","v":0},{"$f":"Questions!LPG4","v":0},{"$f":"Questions!LPH4","v":0},{"$f":"Questions!LPI4","v":0},{"$f":"Questions!LPJ4","v":0},{"$f":"Questions!LPK4","v":0},{"$f":"Questions!LPL4","v":0},{"$f":"Questions!LPM4","v":0},{"$f":"Questions!LPN4","v":0},{"$f":"Questions!LPO4","v":0},{"$f":"Questions!LPP4","v":0},{"$f":"Questions!LPQ4","v":0},{"$f":"Questions!LPR4","v":0},{"$f":"Questions!LPS4","v":0},{"$f":"Questions!LPT4","v":0},{"$f":"Questions!LPU4","v":0},{"$f":"Questions!LPV4","v":0},{"$f":"Questions!LPW4","v":0},{"$f":"Questions!LPX4","v":0},{"$f":"Questions!LPY4","v":0},{"$f":"Questions!LPZ4","v":0},{"$f":"Questions!LQA4","v":0},{"$f":"Questions!LQB4","v":0},{"$f":"Questions!LQC4","v":0},{"$f":"Questions!LQD4","v":0},{"$f":"Questions!LQE4","v":0},{"$f":"Questions!LQF4","v":0},{"$f":"Questions!LQG4","v":0},{"$f":"Questions!LQH4","v":0},{"$f":"Questions!LQI4","v":0},{"$f":"Questions!LQJ4","v":0},{"$f":"Questions!LQK4","v":0},{"$f":"Questions!LQL4","v":0},{"$f":"Questions!LQM4","v":0},{"$f":"Questions!LQN4","v":0},{"$f":"Questions!LQO4","v":0},{"$f":"Questions!LQP4","v":0},{"$f":"Questions!LQQ4","v":0},{"$f":"Questions!LQR4","v":0},{"$f":"Questions!LQS4","v":0},{"$f":"Questions!LQT4","v":0},{"$f":"Questions!LQU4","v":0},{"$f":"Questions!LQV4","v":0},{"$f":"Questions!LQW4","v":0},{"$f":"Questions!LQX4","v":0},{"$f":"Questions!LQY4","v":0},{"$f":"Questions!LQZ4","v":0},{"$f":"Questions!LRA4","v":0},{"$f":"Questions!LRB4","v":0},{"$f":"Questions!LRC4","v":0},{"$f":"Questions!LRD4","v":0},{"$f":"Questions!LRE4","v":0},{"$f":"Questions!LRF4","v":0},{"$f":"Questions!LRG4","v":0},{"$f":"Questions!LRH4","v":0},{"$f":"Questions!LRI4","v":0},{"$f":"Questions!LRJ4","v":0},{"$f":"Questions!LRK4","v":0},{"$f":"Questions!LRL4","v":0},{"$f":"Questions!LRM4","v":0},{"$f":"Questions!LRN4","v":0},{"$f":"Questions!LRO4","v":0},{"$f":"Questions!LRP4","v":0},{"$f":"Questions!LRQ4","v":0},{"$f":"Questions!LRR4","v":0},{"$f":"Questions!LRS4","v":0},{"$f":"Questions!LRT4","v":0},{"$f":"Questions!LRU4","v":0},{"$f":"Questions!LRV4","v":0},{"$f":"Questions!LRW4","v":0},{"$f":"Questions!LRX4","v":0},{"$f":"Questions!LRY4","v":0},{"$f":"Questions!LRZ4","v":0},{"$f":"Questions!LSA4","v":0},{"$f":"Questions!LSB4","v":0},{"$f":"Questions!LSC4","v":0},{"$f":"Questions!LSD4","v":0},{"$f":"Questions!LSE4","v":0},{"$f":"Questions!LSF4","v":0},{"$f":"Questions!LSG4","v":0},{"$f":"Questions!LSH4","v":0},{"$f":"Questions!LSI4","v":0},{"$f":"Questions!LSJ4","v":0},{"$f":"Questions!LSK4","v":0},{"$f":"Questions!LSL4","v":0},{"$f":"Questions!LSM4","v":0},{"$f":"Questions!LSN4","v":0},{"$f":"Questions!LSO4","v":0},{"$f":"Questions!LSP4","v":0},{"$f":"Questions!LSQ4","v":0},{"$f":"Questions!LSR4","v":0},{"$f":"Questions!LSS4","v":0},{"$f":"Questions!LST4","v":0},{"$f":"Questions!LSU4","v":0},{"$f":"Questions!LSV4","v":0},{"$f":"Questions!LSW4","v":0},{"$f":"Questions!LSX4","v":0},{"$f":"Questions!LSY4","v":0},{"$f":"Questions!LSZ4","v":0},{"$f":"Questions!LTA4","v":0},{"$f":"Questions!LTB4","v":0},{"$f":"Questions!LTC4","v":0},{"$f":"Questions!LTD4","v":0},{"$f":"Questions!LTE4","v":0},{"$f":"Questions!LTF4","v":0},{"$f":"Questions!LTG4","v":0},{"$f":"Questions!LTH4","v":0},{"$f":"Questions!LTI4","v":0},{"$f":"Questions!LTJ4","v":0},{"$f":"Questions!LTK4","v":0},{"$f":"Questions!LTL4","v":0},{"$f":"Questions!LTM4","v":0},{"$f":"Questions!LTN4","v":0},{"$f":"Questions!LTO4","v":0},{"$f":"Questions!LTP4","v":0},{"$f":"Questions!LTQ4","v":0},{"$f":"Questions!LTR4","v":0},{"$f":"Questions!LTS4","v":0},{"$f":"Questions!LTT4","v":0},{"$f":"Questions!LTU4","v":0},{"$f":"Questions!LTV4","v":0},{"$f":"Questions!LTW4","v":0},{"$f":"Questions!LTX4","v":0},{"$f":"Questions!LTY4","v":0},{"$f":"Questions!LTZ4","v":0},{"$f":"Questions!LUA4","v":0},{"$f":"Questions!LUB4","v":0},{"$f":"Questions!LUC4","v":0},{"$f":"Questions!LUD4","v":0},{"$f":"Questions!LUE4","v":0},{"$f":"Questions!LUF4","v":0},{"$f":"Questions!LUG4","v":0},{"$f":"Questions!LUH4","v":0},{"$f":"Questions!LUI4","v":0},{"$f":"Questions!LUJ4","v":0},{"$f":"Questions!LUK4","v":0},{"$f":"Questions!LUL4","v":0},{"$f":"Questions!LUM4","v":0},{"$f":"Questions!LUN4","v":0},{"$f":"Questions!LUO4","v":0},{"$f":"Questions!LUP4","v":0},{"$f":"Questions!LUQ4","v":0},{"$f":"Questions!LUR4","v":0},{"$f":"Questions!LUS4","v":0},{"$f":"Questions!LUT4","v":0},{"$f":"Questions!LUU4","v":0},{"$f":"Questions!LUV4","v":0},{"$f":"Questions!LUW4","v":0},{"$f":"Questions!LUX4","v":0},{"$f":"Questions!LUY4","v":0},{"$f":"Questions!LUZ4","v":0},{"$f":"Questions!LVA4","v":0},{"$f":"Questions!LVB4","v":0},{"$f":"Questions!LVC4","v":0},{"$f":"Questions!LVD4","v":0},{"$f":"Questions!LVE4","v":0},{"$f":"Questions!LVF4","v":0},{"$f":"Questions!LVG4","v":0},{"$f":"Questions!LVH4","v":0},{"$f":"Questions!LVI4","v":0},{"$f":"Questions!LVJ4","v":0},{"$f":"Questions!LVK4","v":0},{"$f":"Questions!LVL4","v":0},{"$f":"Questions!LVM4","v":0},{"$f":"Questions!LVN4","v":0},{"$f":"Questions!LVO4","v":0},{"$f":"Questions!LVP4","v":0},{"$f":"Questions!LVQ4","v":0},{"$f":"Questions!LVR4","v":0},{"$f":"Questions!LVS4","v":0},{"$f":"Questions!LVT4","v":0},{"$f":"Questions!LVU4","v":0},{"$f":"Questions!LVV4","v":0},{"$f":"Questions!LVW4","v":0},{"$f":"Questions!LVX4","v":0},{"$f":"Questions!LVY4","v":0},{"$f":"Questions!LVZ4","v":0},{"$f":"Questions!LWA4","v":0},{"$f":"Questions!LWB4","v":0},{"$f":"Questions!LWC4","v":0},{"$f":"Questions!LWD4","v":0},{"$f":"Questions!LWE4","v":0},{"$f":"Questions!LWF4","v":0},{"$f":"Questions!LWG4","v":0},{"$f":"Questions!LWH4","v":0},{"$f":"Questions!LWI4","v":0},{"$f":"Questions!LWJ4","v":0},{"$f":"Questions!LWK4","v":0},{"$f":"Questions!LWL4","v":0},{"$f":"Questions!LWM4","v":0},{"$f":"Questions!LWN4","v":0},{"$f":"Questions!LWO4","v":0},{"$f":"Questions!LWP4","v":0},{"$f":"Questions!LWQ4","v":0},{"$f":"Questions!LWR4","v":0},{"$f":"Questions!LWS4","v":0},{"$f":"Questions!LWT4","v":0},{"$f":"Questions!LWU4","v":0},{"$f":"Questions!LWV4","v":0},{"$f":"Questions!LWW4","v":0},{"$f":"Questions!LWX4","v":0},{"$f":"Questions!LWY4","v":0},{"$f":"Questions!LWZ4","v":0},{"$f":"Questions!LXA4","v":0},{"$f":"Questions!LXB4","v":0},{"$f":"Questions!LXC4","v":0},{"$f":"Questions!LXD4","v":0},{"$f":"Questions!LXE4","v":0},{"$f":"Questions!LXF4","v":0},{"$f":"Questions!LXG4","v":0},{"$f":"Questions!LXH4","v":0},{"$f":"Questions!LXI4","v":0},{"$f":"Questions!LXJ4","v":0},{"$f":"Questions!LXK4","v":0},{"$f":"Questions!LXL4","v":0},{"$f":"Questions!LXM4","v":0},{"$f":"Questions!LXN4","v":0},{"$f":"Questions!LXO4","v":0},{"$f":"Questions!LXP4","v":0},{"$f":"Questions!LXQ4","v":0},{"$f":"Questions!LXR4","v":0},{"$f":"Questions!LXS4","v":0},{"$f":"Questions!LXT4","v":0},{"$f":"Questions!LXU4","v":0},{"$f":"Questions!LXV4","v":0},{"$f":"Questions!LXW4","v":0},{"$f":"Questions!LXX4","v":0},{"$f":"Questions!LXY4","v":0},{"$f":"Questions!LXZ4","v":0},{"$f":"Questions!LYA4","v":0},{"$f":"Questions!LYB4","v":0},{"$f":"Questions!LYC4","v":0},{"$f":"Questions!LYD4","v":0},{"$f":"Questions!LYE4","v":0},{"$f":"Questions!LYF4","v":0},{"$f":"Questions!LYG4","v":0},{"$f":"Questions!LYH4","v":0},{"$f":"Questions!LYI4","v":0},{"$f":"Questions!LYJ4","v":0},{"$f":"Questions!LYK4","v":0},{"$f":"Questions!LYL4","v":0},{"$f":"Questions!LYM4","v":0},{"$f":"Questions!LYN4","v":0},{"$f":"Questions!LYO4","v":0},{"$f":"Questions!LYP4","v":0},{"$f":"Questions!LYQ4","v":0},{"$f":"Questions!LYR4","v":0},{"$f":"Questions!LYS4","v":0},{"$f":"Questions!LYT4","v":0},{"$f":"Questions!LYU4","v":0},{"$f":"Questions!LYV4","v":0},{"$f":"Questions!LYW4","v":0},{"$f":"Questions!LYX4","v":0},{"$f":"Questions!LYY4","v":0},{"$f":"Questions!LYZ4","v":0},{"$f":"Questions!LZA4","v":0},{"$f":"Questions!LZB4","v":0},{"$f":"Questions!LZC4","v":0},{"$f":"Questions!LZD4","v":0},{"$f":"Questions!LZE4","v":0},{"$f":"Questions!LZF4","v":0},{"$f":"Questions!LZG4","v":0},{"$f":"Questions!LZH4","v":0},{"$f":"Questions!LZI4","v":0},{"$f":"Questions!LZJ4","v":0},{"$f":"Questions!LZK4","v":0},{"$f":"Questions!LZL4","v":0},{"$f":"Questions!LZM4","v":0},{"$f":"Questions!LZN4","v":0},{"$f":"Questions!LZO4","v":0},{"$f":"Questions!LZP4","v":0},{"$f":"Questions!LZQ4","v":0},{"$f":"Questions!LZR4","v":0},{"$f":"Questions!LZS4","v":0},{"$f":"Questions!LZT4","v":0},{"$f":"Questions!LZU4","v":0},{"$f":"Questions!LZV4","v":0},{"$f":"Questions!LZW4","v":0},{"$f":"Questions!LZX4","v":0},{"$f":"Questions!LZY4","v":0},{"$f":"Questions!LZZ4","v":0},{"$f":"Questions!MAA4","v":0},{"$f":"Questions!MAB4","v":0},{"$f":"Questions!MAC4","v":0},{"$f":"Questions!MAD4","v":0},{"$f":"Questions!MAE4","v":0},{"$f":"Questions!MAF4","v":0},{"$f":"Questions!MAG4","v":0},{"$f":"Questions!MAH4","v":0},{"$f":"Questions!MAI4","v":0},{"$f":"Questions!MAJ4","v":0},{"$f":"Questions!MAK4","v":0},{"$f":"Questions!MAL4","v":0},{"$f":"Questions!MAM4","v":0},{"$f":"Questions!MAN4","v":0},{"$f":"Questions!MAO4","v":0},{"$f":"Questions!MAP4","v":0},{"$f":"Questions!MAQ4","v":0},{"$f":"Questions!MAR4","v":0},{"$f":"Questions!MAS4","v":0},{"$f":"Questions!MAT4","v":0},{"$f":"Questions!MAU4","v":0},{"$f":"Questions!MAV4","v":0},{"$f":"Questions!MAW4","v":0},{"$f":"Questions!MAX4","v":0},{"$f":"Questions!MAY4","v":0},{"$f":"Questions!MAZ4","v":0},{"$f":"Questions!MBA4","v":0},{"$f":"Questions!MBB4","v":0},{"$f":"Questions!MBC4","v":0},{"$f":"Questions!MBD4","v":0},{"$f":"Questions!MBE4","v":0},{"$f":"Questions!MBF4","v":0},{"$f":"Questions!MBG4","v":0},{"$f":"Questions!MBH4","v":0},{"$f":"Questions!MBI4","v":0},{"$f":"Questions!MBJ4","v":0},{"$f":"Questions!MBK4","v":0},{"$f":"Questions!MBL4","v":0},{"$f":"Questions!MBM4","v":0},{"$f":"Questions!MBN4","v":0},{"$f":"Questions!MBO4","v":0},{"$f":"Questions!MBP4","v":0},{"$f":"Questions!MBQ4","v":0},{"$f":"Questions!MBR4","v":0},{"$f":"Questions!MBS4","v":0},{"$f":"Questions!MBT4","v":0},{"$f":"Questions!MBU4","v":0},{"$f":"Questions!MBV4","v":0},{"$f":"Questions!MBW4","v":0},{"$f":"Questions!MBX4","v":0},{"$f":"Questions!MBY4","v":0},{"$f":"Questions!MBZ4","v":0},{"$f":"Questions!MCA4","v":0},{"$f":"Questions!MCB4","v":0},{"$f":"Questions!MCC4","v":0},{"$f":"Questions!MCD4","v":0},{"$f":"Questions!MCE4","v":0},{"$f":"Questions!MCF4","v":0},{"$f":"Questions!MCG4","v":0},{"$f":"Questions!MCH4","v":0},{"$f":"Questions!MCI4","v":0},{"$f":"Questions!MCJ4","v":0},{"$f":"Questions!MCK4","v":0},{"$f":"Questions!MCL4","v":0},{"$f":"Questions!MCM4","v":0},{"$f":"Questions!MCN4","v":0},{"$f":"Questions!MCO4","v":0},{"$f":"Questions!MCP4","v":0},{"$f":"Questions!MCQ4","v":0},{"$f":"Questions!MCR4","v":0},{"$f":"Questions!MCS4","v":0},{"$f":"Questions!MCT4","v":0},{"$f":"Questions!MCU4","v":0},{"$f":"Questions!MCV4","v":0},{"$f":"Questions!MCW4","v":0},{"$f":"Questions!MCX4","v":0},{"$f":"Questions!MCY4","v":0},{"$f":"Questions!MCZ4","v":0},{"$f":"Questions!MDA4","v":0},{"$f":"Questions!MDB4","v":0},{"$f":"Questions!MDC4","v":0},{"$f":"Questions!MDD4","v":0},{"$f":"Questions!MDE4","v":0},{"$f":"Questions!MDF4","v":0},{"$f":"Questions!MDG4","v":0},{"$f":"Questions!MDH4","v":0},{"$f":"Questions!MDI4","v":0},{"$f":"Questions!MDJ4","v":0},{"$f":"Questions!MDK4","v":0},{"$f":"Questions!MDL4","v":0},{"$f":"Questions!MDM4","v":0},{"$f":"Questions!MDN4","v":0},{"$f":"Questions!MDO4","v":0},{"$f":"Questions!MDP4","v":0},{"$f":"Questions!MDQ4","v":0},{"$f":"Questions!MDR4","v":0},{"$f":"Questions!MDS4","v":0},{"$f":"Questions!MDT4","v":0},{"$f":"Questions!MDU4","v":0},{"$f":"Questions!MDV4","v":0},{"$f":"Questions!MDW4","v":0},{"$f":"Questions!MDX4","v":0},{"$f":"Questions!MDY4","v":0},{"$f":"Questions!MDZ4","v":0},{"$f":"Questions!MEA4","v":0},{"$f":"Questions!MEB4","v":0},{"$f":"Questions!MEC4","v":0},{"$f":"Questions!MED4","v":0},{"$f":"Questions!MEE4","v":0},{"$f":"Questions!MEF4","v":0},{"$f":"Questions!MEG4","v":0},{"$f":"Questions!MEH4","v":0},{"$f":"Questions!MEI4","v":0},{"$f":"Questions!MEJ4","v":0},{"$f":"Questions!MEK4","v":0},{"$f":"Questions!MEL4","v":0},{"$f":"Questions!MEM4","v":0},{"$f":"Questions!MEN4","v":0},{"$f":"Questions!MEO4","v":0},{"$f":"Questions!MEP4","v":0},{"$f":"Questions!MEQ4","v":0},{"$f":"Questions!MER4","v":0},{"$f":"Questions!MES4","v":0},{"$f":"Questions!MET4","v":0},{"$f":"Questions!MEU4","v":0},{"$f":"Questions!MEV4","v":0},{"$f":"Questions!MEW4","v":0},{"$f":"Questions!MEX4","v":0},{"$f":"Questions!MEY4","v":0},{"$f":"Questions!MEZ4","v":0},{"$f":"Questions!MFA4","v":0},{"$f":"Questions!MFB4","v":0},{"$f":"Questions!MFC4","v":0},{"$f":"Questions!MFD4","v":0},{"$f":"Questions!MFE4","v":0},{"$f":"Questions!MFF4","v":0},{"$f":"Questions!MFG4","v":0},{"$f":"Questions!MFH4","v":0},{"$f":"Questions!MFI4","v":0},{"$f":"Questions!MFJ4","v":0},{"$f":"Questions!MFK4","v":0},{"$f":"Questions!MFL4","v":0},{"$f":"Questions!MFM4","v":0},{"$f":"Questions!MFN4","v":0},{"$f":"Questions!MFO4","v":0},{"$f":"Questions!MFP4","v":0},{"$f":"Questions!MFQ4","v":0},{"$f":"Questions!MFR4","v":0},{"$f":"Questions!MFS4","v":0},{"$f":"Questions!MFT4","v":0},{"$f":"Questions!MFU4","v":0},{"$f":"Questions!MFV4","v":0},{"$f":"Questions!MFW4","v":0},{"$f":"Questions!MFX4","v":0},{"$f":"Questions!MFY4","v":0},{"$f":"Questions!MFZ4","v":0},{"$f":"Questions!MGA4","v":0},{"$f":"Questions!MGB4","v":0},{"$f":"Questions!MGC4","v":0},{"$f":"Questions!MGD4","v":0},{"$f":"Questions!MGE4","v":0},{"$f":"Questions!MGF4","v":0},{"$f":"Questions!MGG4","v":0},{"$f":"Questions!MGH4","v":0},{"$f":"Questions!MGI4","v":0},{"$f":"Questions!MGJ4","v":0},{"$f":"Questions!MGK4","v":0},{"$f":"Questions!MGL4","v":0},{"$f":"Questions!MGM4","v":0},{"$f":"Questions!MGN4","v":0},{"$f":"Questions!MGO4","v":0},{"$f":"Questions!MGP4","v":0},{"$f":"Questions!MGQ4","v":0},{"$f":"Questions!MGR4","v":0},{"$f":"Questions!MGS4","v":0},{"$f":"Questions!MGT4","v":0},{"$f":"Questions!MGU4","v":0},{"$f":"Questions!MGV4","v":0},{"$f":"Questions!MGW4","v":0},{"$f":"Questions!MGX4","v":0},{"$f":"Questions!MGY4","v":0},{"$f":"Questions!MGZ4","v":0},{"$f":"Questions!MHA4","v":0},{"$f":"Questions!MHB4","v":0},{"$f":"Questions!MHC4","v":0},{"$f":"Questions!MHD4","v":0},{"$f":"Questions!MHE4","v":0},{"$f":"Questions!MHF4","v":0},{"$f":"Questions!MHG4","v":0},{"$f":"Questions!MHH4","v":0},{"$f":"Questions!MHI4","v":0},{"$f":"Questions!MHJ4","v":0},{"$f":"Questions!MHK4","v":0},{"$f":"Questions!MHL4","v":0},{"$f":"Questions!MHM4","v":0},{"$f":"Questions!MHN4","v":0},{"$f":"Questions!MHO4","v":0},{"$f":"Questions!MHP4","v":0},{"$f":"Questions!MHQ4","v":0},{"$f":"Questions!MHR4","v":0},{"$f":"Questions!MHS4","v":0},{"$f":"Questions!MHT4","v":0},{"$f":"Questions!MHU4","v":0},{"$f":"Questions!MHV4","v":0},{"$f":"Questions!MHW4","v":0},{"$f":"Questions!MHX4","v":0},{"$f":"Questions!MHY4","v":0},{"$f":"Questions!MHZ4","v":0},{"$f":"Questions!MIA4","v":0},{"$f":"Questions!MIB4","v":0},{"$f":"Questions!MIC4","v":0},{"$f":"Questions!MID4","v":0},{"$f":"Questions!MIE4","v":0},{"$f":"Questions!MIF4","v":0},{"$f":"Questions!MIG4","v":0},{"$f":"Questions!MIH4","v":0},{"$f":"Questions!MII4","v":0},{"$f":"Questions!MIJ4","v":0},{"$f":"Questions!MIK4","v":0},{"$f":"Questions!MIL4","v":0},{"$f":"Questions!MIM4","v":0},{"$f":"Questions!MIN4","v":0},{"$f":"Questions!MIO4","v":0},{"$f":"Questions!MIP4","v":0},{"$f":"Questions!MIQ4","v":0},{"$f":"Questions!MIR4","v":0},{"$f":"Questions!MIS4","v":0},{"$f":"Questions!MIT4","v":0},{"$f":"Questions!MIU4","v":0},{"$f":"Questions!MIV4","v":0},{"$f":"Questions!MIW4","v":0},{"$f":"Questions!MIX4","v":0},{"$f":"Questions!MIY4","v":0},{"$f":"Questions!MIZ4","v":0},{"$f":"Questions!MJA4","v":0},{"$f":"Questions!MJB4","v":0},{"$f":"Questions!MJC4","v":0},{"$f":"Questions!MJD4","v":0},{"$f":"Questions!MJE4","v":0},{"$f":"Questions!MJF4","v":0},{"$f":"Questions!MJG4","v":0},{"$f":"Questions!MJH4","v":0},{"$f":"Questions!MJI4","v":0},{"$f":"Questions!MJJ4","v":0},{"$f":"Questions!MJK4","v":0},{"$f":"Questions!MJL4","v":0},{"$f":"Questions!MJM4","v":0},{"$f":"Questions!MJN4","v":0},{"$f":"Questions!MJO4","v":0},{"$f":"Questions!MJP4","v":0},{"$f":"Questions!MJQ4","v":0},{"$f":"Questions!MJR4","v":0},{"$f":"Questions!MJS4","v":0},{"$f":"Questions!MJT4","v":0},{"$f":"Questions!MJU4","v":0},{"$f":"Questions!MJV4","v":0},{"$f":"Questions!MJW4","v":0},{"$f":"Questions!MJX4","v":0},{"$f":"Questions!MJY4","v":0},{"$f":"Questions!MJZ4","v":0},{"$f":"Questions!MKA4","v":0},{"$f":"Questions!MKB4","v":0},{"$f":"Questions!MKC4","v":0},{"$f":"Questions!MKD4","v":0},{"$f":"Questions!MKE4","v":0},{"$f":"Questions!MKF4","v":0},{"$f":"Questions!MKG4","v":0},{"$f":"Questions!MKH4","v":0},{"$f":"Questions!MKI4","v":0},{"$f":"Questions!MKJ4","v":0},{"$f":"Questions!MKK4","v":0},{"$f":"Questions!MKL4","v":0},{"$f":"Questions!MKM4","v":0},{"$f":"Questions!MKN4","v":0},{"$f":"Questions!MKO4","v":0},{"$f":"Questions!MKP4","v":0},{"$f":"Questions!MKQ4","v":0},{"$f":"Questions!MKR4","v":0},{"$f":"Questions!MKS4","v":0},{"$f":"Questions!MKT4","v":0},{"$f":"Questions!MKU4","v":0},{"$f":"Questions!MKV4","v":0},{"$f":"Questions!MKW4","v":0},{"$f":"Questions!MKX4","v":0},{"$f":"Questions!MKY4","v":0},{"$f":"Questions!MKZ4","v":0},{"$f":"Questions!MLA4","v":0},{"$f":"Questions!MLB4","v":0},{"$f":"Questions!MLC4","v":0},{"$f":"Questions!MLD4","v":0},{"$f":"Questions!MLE4","v":0},{"$f":"Questions!MLF4","v":0},{"$f":"Questions!MLG4","v":0},{"$f":"Questions!MLH4","v":0},{"$f":"Questions!MLI4","v":0},{"$f":"Questions!MLJ4","v":0},{"$f":"Questions!MLK4","v":0},{"$f":"Questions!MLL4","v":0},{"$f":"Questions!MLM4","v":0},{"$f":"Questions!MLN4","v":0},{"$f":"Questions!MLO4","v":0},{"$f":"Questions!MLP4","v":0},{"$f":"Questions!MLQ4","v":0},{"$f":"Questions!MLR4","v":0},{"$f":"Questions!MLS4","v":0},{"$f":"Questions!MLT4","v":0},{"$f":"Questions!MLU4","v":0},{"$f":"Questions!MLV4","v":0},{"$f":"Questions!MLW4","v":0},{"$f":"Questions!MLX4","v":0},{"$f":"Questions!MLY4","v":0},{"$f":"Questions!MLZ4","v":0},{"$f":"Questions!MMA4","v":0},{"$f":"Questions!MMB4","v":0},{"$f":"Questions!MMC4","v":0},{"$f":"Questions!MMD4","v":0},{"$f":"Questions!MME4","v":0},{"$f":"Questions!MMF4","v":0},{"$f":"Questions!MMG4","v":0},{"$f":"Questions!MMH4","v":0},{"$f":"Questions!MMI4","v":0},{"$f":"Questions!MMJ4","v":0},{"$f":"Questions!MMK4","v":0},{"$f":"Questions!MML4","v":0},{"$f":"Questions!MMM4","v":0},{"$f":"Questions!MMN4","v":0},{"$f":"Questions!MMO4","v":0},{"$f":"Questions!MMP4","v":0},{"$f":"Questions!MMQ4","v":0},{"$f":"Questions!MMR4","v":0},{"$f":"Questions!MMS4","v":0},{"$f":"Questions!MMT4","v":0},{"$f":"Questions!MMU4","v":0},{"$f":"Questions!MMV4","v":0},{"$f":"Questions!MMW4","v":0},{"$f":"Questions!MMX4","v":0},{"$f":"Questions!MMY4","v":0},{"$f":"Questions!MMZ4","v":0},{"$f":"Questions!MNA4","v":0},{"$f":"Questions!MNB4","v":0},{"$f":"Questions!MNC4","v":0},{"$f":"Questions!MND4","v":0},{"$f":"Questions!MNE4","v":0},{"$f":"Questions!MNF4","v":0},{"$f":"Questions!MNG4","v":0},{"$f":"Questions!MNH4","v":0},{"$f":"Questions!MNI4","v":0},{"$f":"Questions!MNJ4","v":0},{"$f":"Questions!MNK4","v":0},{"$f":"Questions!MNL4","v":0},{"$f":"Questions!MNM4","v":0},{"$f":"Questions!MNN4","v":0},{"$f":"Questions!MNO4","v":0},{"$f":"Questions!MNP4","v":0},{"$f":"Questions!MNQ4","v":0},{"$f":"Questions!MNR4","v":0},{"$f":"Questions!MNS4","v":0},{"$f":"Questions!MNT4","v":0},{"$f":"Questions!MNU4","v":0},{"$f":"Questions!MNV4","v":0},{"$f":"Questions!MNW4","v":0},{"$f":"Questions!MNX4","v":0},{"$f":"Questions!MNY4","v":0},{"$f":"Questions!MNZ4","v":0},{"$f":"Questions!MOA4","v":0},{"$f":"Questions!MOB4","v":0},{"$f":"Questions!MOC4","v":0},{"$f":"Questions!MOD4","v":0},{"$f":"Questions!MOE4","v":0},{"$f":"Questions!MOF4","v":0},{"$f":"Questions!MOG4","v":0},{"$f":"Questions!MOH4","v":0},{"$f":"Questions!MOI4","v":0},{"$f":"Questions!MOJ4","v":0},{"$f":"Questions!MOK4","v":0},{"$f":"Questions!MOL4","v":0},{"$f":"Questions!MOM4","v":0},{"$f":"Questions!MON4","v":0},{"$f":"Questions!MOO4","v":0},{"$f":"Questions!MOP4","v":0},{"$f":"Questions!MOQ4","v":0},{"$f":"Questions!MOR4","v":0},{"$f":"Questions!MOS4","v":0},{"$f":"Questions!MOT4","v":0},{"$f":"Questions!MOU4","v":0},{"$f":"Questions!MOV4","v":0},{"$f":"Questions!MOW4","v":0},{"$f":"Questions!MOX4","v":0},{"$f":"Questions!MOY4","v":0},{"$f":"Questions!MOZ4","v":0},{"$f":"Questions!MPA4","v":0},{"$f":"Questions!MPB4","v":0},{"$f":"Questions!MPC4","v":0},{"$f":"Questions!MPD4","v":0},{"$f":"Questions!MPE4","v":0},{"$f":"Questions!MPF4","v":0},{"$f":"Questions!MPG4","v":0},{"$f":"Questions!MPH4","v":0},{"$f":"Questions!MPI4","v":0},{"$f":"Questions!MPJ4","v":0},{"$f":"Questions!MPK4","v":0},{"$f":"Questions!MPL4","v":0},{"$f":"Questions!MPM4","v":0},{"$f":"Questions!MPN4","v":0},{"$f":"Questions!MPO4","v":0},{"$f":"Questions!MPP4","v":0},{"$f":"Questions!MPQ4","v":0},{"$f":"Questions!MPR4","v":0},{"$f":"Questions!MPS4","v":0},{"$f":"Questions!MPT4","v":0},{"$f":"Questions!MPU4","v":0},{"$f":"Questions!MPV4","v":0},{"$f":"Questions!MPW4","v":0},{"$f":"Questions!MPX4","v":0},{"$f":"Questions!MPY4","v":0},{"$f":"Questions!MPZ4","v":0},{"$f":"Questions!MQA4","v":0},{"$f":"Questions!MQB4","v":0},{"$f":"Questions!MQC4","v":0},{"$f":"Questions!MQD4","v":0},{"$f":"Questions!MQE4","v":0},{"$f":"Questions!MQF4","v":0},{"$f":"Questions!MQG4","v":0},{"$f":"Questions!MQH4","v":0},{"$f":"Questions!MQI4","v":0},{"$f":"Questions!MQJ4","v":0},{"$f":"Questions!MQK4","v":0},{"$f":"Questions!MQL4","v":0},{"$f":"Questions!MQM4","v":0},{"$f":"Questions!MQN4","v":0},{"$f":"Questions!MQO4","v":0},{"$f":"Questions!MQP4","v":0},{"$f":"Questions!MQQ4","v":0},{"$f":"Questions!MQR4","v":0},{"$f":"Questions!MQS4","v":0},{"$f":"Questions!MQT4","v":0},{"$f":"Questions!MQU4","v":0},{"$f":"Questions!MQV4","v":0},{"$f":"Questions!MQW4","v":0},{"$f":"Questions!MQX4","v":0},{"$f":"Questions!MQY4","v":0},{"$f":"Questions!MQZ4","v":0},{"$f":"Questions!MRA4","v":0},{"$f":"Questions!MRB4","v":0},{"$f":"Questions!MRC4","v":0},{"$f":"Questions!MRD4","v":0},{"$f":"Questions!MRE4","v":0},{"$f":"Questions!MRF4","v":0},{"$f":"Questions!MRG4","v":0},{"$f":"Questions!MRH4","v":0},{"$f":"Questions!MRI4","v":0},{"$f":"Questions!MRJ4","v":0},{"$f":"Questions!MRK4","v":0},{"$f":"Questions!MRL4","v":0},{"$f":"Questions!MRM4","v":0},{"$f":"Questions!MRN4","v":0},{"$f":"Questions!MRO4","v":0},{"$f":"Questions!MRP4","v":0},{"$f":"Questions!MRQ4","v":0},{"$f":"Questions!MRR4","v":0},{"$f":"Questions!MRS4","v":0},{"$f":"Questions!MRT4","v":0},{"$f":"Questions!MRU4","v":0},{"$f":"Questions!MRV4","v":0},{"$f":"Questions!MRW4","v":0},{"$f":"Questions!MRX4","v":0},{"$f":"Questions!MRY4","v":0},{"$f":"Questions!MRZ4","v":0},{"$f":"Questions!MSA4","v":0},{"$f":"Questions!MSB4","v":0},{"$f":"Questions!MSC4","v":0},{"$f":"Questions!MSD4","v":0},{"$f":"Questions!MSE4","v":0},{"$f":"Questions!MSF4","v":0},{"$f":"Questions!MSG4","v":0},{"$f":"Questions!MSH4","v":0},{"$f":"Questions!MSI4","v":0},{"$f":"Questions!MSJ4","v":0},{"$f":"Questions!MSK4","v":0},{"$f":"Questions!MSL4","v":0},{"$f":"Questions!MSM4","v":0},{"$f":"Questions!MSN4","v":0},{"$f":"Questions!MSO4","v":0},{"$f":"Questions!MSP4","v":0},{"$f":"Questions!MSQ4","v":0},{"$f":"Questions!MSR4","v":0},{"$f":"Questions!MSS4","v":0},{"$f":"Questions!MST4","v":0},{"$f":"Questions!MSU4","v":0},{"$f":"Questions!MSV4","v":0},{"$f":"Questions!MSW4","v":0},{"$f":"Questions!MSX4","v":0},{"$f":"Questions!MSY4","v":0},{"$f":"Questions!MSZ4","v":0},{"$f":"Questions!MTA4","v":0},{"$f":"Questions!MTB4","v":0},{"$f":"Questions!MTC4","v":0},{"$f":"Questions!MTD4","v":0},{"$f":"Questions!MTE4","v":0},{"$f":"Questions!MTF4","v":0},{"$f":"Questions!MTG4","v":0},{"$f":"Questions!MTH4","v":0},{"$f":"Questions!MTI4","v":0},{"$f":"Questions!MTJ4","v":0},{"$f":"Questions!MTK4","v":0},{"$f":"Questions!MTL4","v":0},{"$f":"Questions!MTM4","v":0},{"$f":"Questions!MTN4","v":0},{"$f":"Questions!MTO4","v":0},{"$f":"Questions!MTP4","v":0},{"$f":"Questions!MTQ4","v":0},{"$f":"Questions!MTR4","v":0},{"$f":"Questions!MTS4","v":0},{"$f":"Questions!MTT4","v":0},{"$f":"Questions!MTU4","v":0},{"$f":"Questions!MTV4","v":0},{"$f":"Questions!MTW4","v":0},{"$f":"Questions!MTX4","v":0},{"$f":"Questions!MTY4","v":0},{"$f":"Questions!MTZ4","v":0},{"$f":"Questions!MUA4","v":0},{"$f":"Questions!MUB4","v":0},{"$f":"Questions!MUC4","v":0},{"$f":"Questions!MUD4","v":0},{"$f":"Questions!MUE4","v":0},{"$f":"Questions!MUF4","v":0},{"$f":"Questions!MUG4","v":0},{"$f":"Questions!MUH4","v":0},{"$f":"Questions!MUI4","v":0},{"$f":"Questions!MUJ4","v":0},{"$f":"Questions!MUK4","v":0},{"$f":"Questions!MUL4","v":0},{"$f":"Questions!MUM4","v":0},{"$f":"Questions!MUN4","v":0},{"$f":"Questions!MUO4","v":0},{"$f":"Questions!MUP4","v":0},{"$f":"Questions!MUQ4","v":0},{"$f":"Questions!MUR4","v":0},{"$f":"Questions!MUS4","v":0},{"$f":"Questions!MUT4","v":0},{"$f":"Questions!MUU4","v":0},{"$f":"Questions!MUV4","v":0},{"$f":"Questions!MUW4","v":0},{"$f":"Questions!MUX4","v":0},{"$f":"Questions!MUY4","v":0},{"$f":"Questions!MUZ4","v":0},{"$f":"Questions!MVA4","v":0},{"$f":"Questions!MVB4","v":0},{"$f":"Questions!MVC4","v":0},{"$f":"Questions!MVD4","v":0},{"$f":"Questions!MVE4","v":0},{"$f":"Questions!MVF4","v":0},{"$f":"Questions!MVG4","v":0},{"$f":"Questions!MVH4","v":0},{"$f":"Questions!MVI4","v":0},{"$f":"Questions!MVJ4","v":0},{"$f":"Questions!MVK4","v":0},{"$f":"Questions!MVL4","v":0},{"$f":"Questions!MVM4","v":0},{"$f":"Questions!MVN4","v":0},{"$f":"Questions!MVO4","v":0},{"$f":"Questions!MVP4","v":0},{"$f":"Questions!MVQ4","v":0},{"$f":"Questions!MVR4","v":0},{"$f":"Questions!MVS4","v":0},{"$f":"Questions!MVT4","v":0},{"$f":"Questions!MVU4","v":0},{"$f":"Questions!MVV4","v":0},{"$f":"Questions!MVW4","v":0},{"$f":"Questions!MVX4","v":0},{"$f":"Questions!MVY4","v":0},{"$f":"Questions!MVZ4","v":0},{"$f":"Questions!MWA4","v":0},{"$f":"Questions!MWB4","v":0},{"$f":"Questions!MWC4","v":0},{"$f":"Questions!MWD4","v":0},{"$f":"Questions!MWE4","v":0},{"$f":"Questions!MWF4","v":0},{"$f":"Questions!MWG4","v":0},{"$f":"Questions!MWH4","v":0},{"$f":"Questions!MWI4","v":0},{"$f":"Questions!MWJ4","v":0},{"$f":"Questions!MWK4","v":0},{"$f":"Questions!MWL4","v":0},{"$f":"Questions!MWM4","v":0},{"$f":"Questions!MWN4","v":0},{"$f":"Questions!MWO4","v":0},{"$f":"Questions!MWP4","v":0},{"$f":"Questions!MWQ4","v":0},{"$f":"Questions!MWR4","v":0},{"$f":"Questions!MWS4","v":0},{"$f":"Questions!MWT4","v":0},{"$f":"Questions!MWU4","v":0},{"$f":"Questions!MWV4","v":0},{"$f":"Questions!MWW4","v":0},{"$f":"Questions!MWX4","v":0},{"$f":"Questions!MWY4","v":0},{"$f":"Questions!MWZ4","v":0},{"$f":"Questions!MXA4","v":0},{"$f":"Questions!MXB4","v":0},{"$f":"Questions!MXC4","v":0},{"$f":"Questions!MXD4","v":0},{"$f":"Questions!MXE4","v":0},{"$f":"Questions!MXF4","v":0},{"$f":"Questions!MXG4","v":0},{"$f":"Questions!MXH4","v":0},{"$f":"Questions!MXI4","v":0},{"$f":"Questions!MXJ4","v":0},{"$f":"Questions!MXK4","v":0},{"$f":"Questions!MXL4","v":0},{"$f":"Questions!MXM4","v":0},{"$f":"Questions!MXN4","v":0},{"$f":"Questions!MXO4","v":0},{"$f":"Questions!MXP4","v":0},{"$f":"Questions!MXQ4","v":0},{"$f":"Questions!MXR4","v":0},{"$f":"Questions!MXS4","v":0},{"$f":"Questions!MXT4","v":0},{"$f":"Questions!MXU4","v":0},{"$f":"Questions!MXV4","v":0},{"$f":"Questions!MXW4","v":0},{"$f":"Questions!MXX4","v":0},{"$f":"Questions!MXY4","v":0},{"$f":"Questions!MXZ4","v":0},{"$f":"Questions!MYA4","v":0},{"$f":"Questions!MYB4","v":0},{"$f":"Questions!MYC4","v":0},{"$f":"Questions!MYD4","v":0},{"$f":"Questions!MYE4","v":0},{"$f":"Questions!MYF4","v":0},{"$f":"Questions!MYG4","v":0},{"$f":"Questions!MYH4","v":0},{"$f":"Questions!MYI4","v":0},{"$f":"Questions!MYJ4","v":0},{"$f":"Questions!MYK4","v":0},{"$f":"Questions!MYL4","v":0},{"$f":"Questions!MYM4","v":0},{"$f":"Questions!MYN4","v":0},{"$f":"Questions!MYO4","v":0},{"$f":"Questions!MYP4","v":0},{"$f":"Questions!MYQ4","v":0},{"$f":"Questions!MYR4","v":0},{"$f":"Questions!MYS4","v":0},{"$f":"Questions!MYT4","v":0},{"$f":"Questions!MYU4","v":0},{"$f":"Questions!MYV4","v":0},{"$f":"Questions!MYW4","v":0},{"$f":"Questions!MYX4","v":0},{"$f":"Questions!MYY4","v":0},{"$f":"Questions!MYZ4","v":0},{"$f":"Questions!MZA4","v":0},{"$f":"Questions!MZB4","v":0},{"$f":"Questions!MZC4","v":0},{"$f":"Questions!MZD4","v":0},{"$f":"Questions!MZE4","v":0},{"$f":"Questions!MZF4","v":0},{"$f":"Questions!MZG4","v":0},{"$f":"Questions!MZH4","v":0},{"$f":"Questions!MZI4","v":0},{"$f":"Questions!MZJ4","v":0},{"$f":"Questions!MZK4","v":0},{"$f":"Questions!MZL4","v":0},{"$f":"Questions!MZM4","v":0},{"$f":"Questions!MZN4","v":0},{"$f":"Questions!MZO4","v":0},{"$f":"Questions!MZP4","v":0},{"$f":"Questions!MZQ4","v":0},{"$f":"Questions!MZR4","v":0},{"$f":"Questions!MZS4","v":0},{"$f":"Questions!MZT4","v":0},{"$f":"Questions!MZU4","v":0},{"$f":"Questions!MZV4","v":0},{"$f":"Questions!MZW4","v":0},{"$f":"Questions!MZX4","v":0},{"$f":"Questions!MZY4","v":0},{"$f":"Questions!MZZ4","v":0},{"$f":"Questions!NAA4","v":0},{"$f":"Questions!NAB4","v":0},{"$f":"Questions!NAC4","v":0},{"$f":"Questions!NAD4","v":0},{"$f":"Questions!NAE4","v":0},{"$f":"Questions!NAF4","v":0},{"$f":"Questions!NAG4","v":0},{"$f":"Questions!NAH4","v":0},{"$f":"Questions!NAI4","v":0},{"$f":"Questions!NAJ4","v":0},{"$f":"Questions!NAK4","v":0},{"$f":"Questions!NAL4","v":0},{"$f":"Questions!NAM4","v":0},{"$f":"Questions!NAN4","v":0},{"$f":"Questions!NAO4","v":0},{"$f":"Questions!NAP4","v":0},{"$f":"Questions!NAQ4","v":0},{"$f":"Questions!NAR4","v":0},{"$f":"Questions!NAS4","v":0},{"$f":"Questions!NAT4","v":0},{"$f":"Questions!NAU4","v":0},{"$f":"Questions!NAV4","v":0},{"$f":"Questions!NAW4","v":0},{"$f":"Questions!NAX4","v":0},{"$f":"Questions!NAY4","v":0},{"$f":"Questions!NAZ4","v":0},{"$f":"Questions!NBA4","v":0},{"$f":"Questions!NBB4","v":0},{"$f":"Questions!NBC4","v":0},{"$f":"Questions!NBD4","v":0},{"$f":"Questions!NBE4","v":0},{"$f":"Questions!NBF4","v":0},{"$f":"Questions!NBG4","v":0},{"$f":"Questions!NBH4","v":0},{"$f":"Questions!NBI4","v":0},{"$f":"Questions!NBJ4","v":0},{"$f":"Questions!NBK4","v":0},{"$f":"Questions!NBL4","v":0},{"$f":"Questions!NBM4","v":0},{"$f":"Questions!NBN4","v":0},{"$f":"Questions!NBO4","v":0},{"$f":"Questions!NBP4","v":0},{"$f":"Questions!NBQ4","v":0},{"$f":"Questions!NBR4","v":0},{"$f":"Questions!NBS4","v":0},{"$f":"Questions!NBT4","v":0},{"$f":"Questions!NBU4","v":0},{"$f":"Questions!NBV4","v":0},{"$f":"Questions!NBW4","v":0},{"$f":"Questions!NBX4","v":0},{"$f":"Questions!NBY4","v":0},{"$f":"Questions!NBZ4","v":0},{"$f":"Questions!NCA4","v":0},{"$f":"Questions!NCB4","v":0},{"$f":"Questions!NCC4","v":0},{"$f":"Questions!NCD4","v":0},{"$f":"Questions!NCE4","v":0},{"$f":"Questions!NCF4","v":0},{"$f":"Questions!NCG4","v":0},{"$f":"Questions!NCH4","v":0},{"$f":"Questions!NCI4","v":0},{"$f":"Questions!NCJ4","v":0},{"$f":"Questions!NCK4","v":0},{"$f":"Questions!NCL4","v":0},{"$f":"Questions!NCM4","v":0},{"$f":"Questions!NCN4","v":0},{"$f":"Questions!NCO4","v":0},{"$f":"Questions!NCP4","v":0},{"$f":"Questions!NCQ4","v":0},{"$f":"Questions!NCR4","v":0},{"$f":"Questions!NCS4","v":0},{"$f":"Questions!NCT4","v":0},{"$f":"Questions!NCU4","v":0},{"$f":"Questions!NCV4","v":0},{"$f":"Questions!NCW4","v":0},{"$f":"Questions!NCX4","v":0},{"$f":"Questions!NCY4","v":0},{"$f":"Questions!NCZ4","v":0},{"$f":"Questions!NDA4","v":0},{"$f":"Questions!NDB4","v":0},{"$f":"Questions!NDC4","v":0},{"$f":"Questions!NDD4","v":0},{"$f":"Questions!NDE4","v":0},{"$f":"Questions!NDF4","v":0},{"$f":"Questions!NDG4","v":0},{"$f":"Questions!NDH4","v":0},{"$f":"Questions!NDI4","v":0},{"$f":"Questions!NDJ4","v":0},{"$f":"Questions!NDK4","v":0},{"$f":"Questions!NDL4","v":0},{"$f":"Questions!NDM4","v":0},{"$f":"Questions!NDN4","v":0},{"$f":"Questions!NDO4","v":0},{"$f":"Questions!NDP4","v":0},{"$f":"Questions!NDQ4","v":0},{"$f":"Questions!NDR4","v":0},{"$f":"Questions!NDS4","v":0},{"$f":"Questions!NDT4","v":0},{"$f":"Questions!NDU4","v":0},{"$f":"Questions!NDV4","v":0},{"$f":"Questions!NDW4","v":0},{"$f":"Questions!NDX4","v":0},{"$f":"Questions!NDY4","v":0},{"$f":"Questions!NDZ4","v":0},{"$f":"Questions!NEA4","v":0},{"$f":"Questions!NEB4","v":0},{"$f":"Questions!NEC4","v":0},{"$f":"Questions!NED4","v":0},{"$f":"Questions!NEE4","v":0},{"$f":"Questions!NEF4","v":0},{"$f":"Questions!NEG4","v":0},{"$f":"Questions!NEH4","v":0},{"$f":"Questions!NEI4","v":0},{"$f":"Questions!NEJ4","v":0},{"$f":"Questions!NEK4","v":0},{"$f":"Questions!NEL4","v":0},{"$f":"Questions!NEM4","v":0},{"$f":"Questions!NEN4","v":0},{"$f":"Questions!NEO4","v":0},{"$f":"Questions!NEP4","v":0},{"$f":"Questions!NEQ4","v":0},{"$f":"Questions!NER4","v":0},{"$f":"Questions!NES4","v":0},{"$f":"Questions!NET4","v":0},{"$f":"Questions!NEU4","v":0},{"$f":"Questions!NEV4","v":0},{"$f":"Questions!NEW4","v":0},{"$f":"Questions!NEX4","v":0},{"$f":"Questions!NEY4","v":0},{"$f":"Questions!NEZ4","v":0},{"$f":"Questions!NFA4","v":0},{"$f":"Questions!NFB4","v":0},{"$f":"Questions!NFC4","v":0},{"$f":"Questions!NFD4","v":0},{"$f":"Questions!NFE4","v":0},{"$f":"Questions!NFF4","v":0},{"$f":"Questions!NFG4","v":0},{"$f":"Questions!NFH4","v":0},{"$f":"Questions!NFI4","v":0},{"$f":"Questions!NFJ4","v":0},{"$f":"Questions!NFK4","v":0},{"$f":"Questions!NFL4","v":0},{"$f":"Questions!NFM4","v":0},{"$f":"Questions!NFN4","v":0},{"$f":"Questions!NFO4","v":0},{"$f":"Questions!NFP4","v":0},{"$f":"Questions!NFQ4","v":0},{"$f":"Questions!NFR4","v":0},{"$f":"Questions!NFS4","v":0},{"$f":"Questions!NFT4","v":0},{"$f":"Questions!NFU4","v":0},{"$f":"Questions!NFV4","v":0},{"$f":"Questions!NFW4","v":0},{"$f":"Questions!NFX4","v":0},{"$f":"Questions!NFY4","v":0},{"$f":"Questions!NFZ4","v":0},{"$f":"Questions!NGA4","v":0},{"$f":"Questions!NGB4","v":0},{"$f":"Questions!NGC4","v":0},{"$f":"Questions!NGD4","v":0},{"$f":"Questions!NGE4","v":0},{"$f":"Questions!NGF4","v":0},{"$f":"Questions!NGG4","v":0},{"$f":"Questions!NGH4","v":0},{"$f":"Questions!NGI4","v":0},{"$f":"Questions!NGJ4","v":0},{"$f":"Questions!NGK4","v":0},{"$f":"Questions!NGL4","v":0},{"$f":"Questions!NGM4","v":0},{"$f":"Questions!NGN4","v":0},{"$f":"Questions!NGO4","v":0},{"$f":"Questions!NGP4","v":0},{"$f":"Questions!NGQ4","v":0},{"$f":"Questions!NGR4","v":0},{"$f":"Questions!NGS4","v":0},{"$f":"Questions!NGT4","v":0},{"$f":"Questions!NGU4","v":0},{"$f":"Questions!NGV4","v":0},{"$f":"Questions!NGW4","v":0},{"$f":"Questions!NGX4","v":0},{"$f":"Questions!NGY4","v":0},{"$f":"Questions!NGZ4","v":0},{"$f":"Questions!NHA4","v":0},{"$f":"Questions!NHB4","v":0},{"$f":"Questions!NHC4","v":0},{"$f":"Questions!NHD4","v":0},{"$f":"Questions!NHE4","v":0},{"$f":"Questions!NHF4","v":0},{"$f":"Questions!NHG4","v":0},{"$f":"Questions!NHH4","v":0},{"$f":"Questions!NHI4","v":0},{"$f":"Questions!NHJ4","v":0},{"$f":"Questions!NHK4","v":0},{"$f":"Questions!NHL4","v":0},{"$f":"Questions!NHM4","v":0},{"$f":"Questions!NHN4","v":0},{"$f":"Questions!NHO4","v":0},{"$f":"Questions!NHP4","v":0},{"$f":"Questions!NHQ4","v":0},{"$f":"Questions!NHR4","v":0},{"$f":"Questions!NHS4","v":0},{"$f":"Questions!NHT4","v":0},{"$f":"Questions!NHU4","v":0},{"$f":"Questions!NHV4","v":0},{"$f":"Questions!NHW4","v":0},{"$f":"Questions!NHX4","v":0},{"$f":"Questions!NHY4","v":0},{"$f":"Questions!NHZ4","v":0},{"$f":"Questions!NIA4","v":0},{"$f":"Questions!NIB4","v":0},{"$f":"Questions!NIC4","v":0},{"$f":"Questions!NID4","v":0},{"$f":"Questions!NIE4","v":0},{"$f":"Questions!NIF4","v":0},{"$f":"Questions!NIG4","v":0},{"$f":"Questions!NIH4","v":0},{"$f":"Questions!NII4","v":0},{"$f":"Questions!NIJ4","v":0},{"$f":"Questions!NIK4","v":0},{"$f":"Questions!NIL4","v":0},{"$f":"Questions!NIM4","v":0},{"$f":"Questions!NIN4","v":0},{"$f":"Questions!NIO4","v":0},{"$f":"Questions!NIP4","v":0},{"$f":"Questions!NIQ4","v":0},{"$f":"Questions!NIR4","v":0},{"$f":"Questions!NIS4","v":0},{"$f":"Questions!NIT4","v":0},{"$f":"Questions!NIU4","v":0},{"$f":"Questions!NIV4","v":0},{"$f":"Questions!NIW4","v":0},{"$f":"Questions!NIX4","v":0},{"$f":"Questions!NIY4","v":0},{"$f":"Questions!NIZ4","v":0},{"$f":"Questions!NJA4","v":0},{"$f":"Questions!NJB4","v":0},{"$f":"Questions!NJC4","v":0},{"$f":"Questions!NJD4","v":0},{"$f":"Questions!NJE4","v":0},{"$f":"Questions!NJF4","v":0},{"$f":"Questions!NJG4","v":0},{"$f":"Questions!NJH4","v":0},{"$f":"Questions!NJI4","v":0},{"$f":"Questions!NJJ4","v":0},{"$f":"Questions!NJK4","v":0},{"$f":"Questions!NJL4","v":0},{"$f":"Questions!NJM4","v":0},{"$f":"Questions!NJN4","v":0},{"$f":"Questions!NJO4","v":0},{"$f":"Questions!NJP4","v":0},{"$f":"Questions!NJQ4","v":0},{"$f":"Questions!NJR4","v":0},{"$f":"Questions!NJS4","v":0},{"$f":"Questions!NJT4","v":0},{"$f":"Questions!NJU4","v":0},{"$f":"Questions!NJV4","v":0},{"$f":"Questions!NJW4","v":0},{"$f":"Questions!NJX4","v":0},{"$f":"Questions!NJY4","v":0},{"$f":"Questions!NJZ4","v":0},{"$f":"Questions!NKA4","v":0},{"$f":"Questions!NKB4","v":0},{"$f":"Questions!NKC4","v":0},{"$f":"Questions!NKD4","v":0},{"$f":"Questions!NKE4","v":0},{"$f":"Questions!NKF4","v":0},{"$f":"Questions!NKG4","v":0},{"$f":"Questions!NKH4","v":0},{"$f":"Questions!NKI4","v":0},{"$f":"Questions!NKJ4","v":0},{"$f":"Questions!NKK4","v":0},{"$f":"Questions!NKL4","v":0},{"$f":"Questions!NKM4","v":0},{"$f":"Questions!NKN4","v":0},{"$f":"Questions!NKO4","v":0},{"$f":"Questions!NKP4","v":0},{"$f":"Questions!NKQ4","v":0},{"$f":"Questions!NKR4","v":0},{"$f":"Questions!NKS4","v":0},{"$f":"Questions!NKT4","v":0},{"$f":"Questions!NKU4","v":0},{"$f":"Questions!NKV4","v":0},{"$f":"Questions!NKW4","v":0},{"$f":"Questions!NKX4","v":0},{"$f":"Questions!NKY4","v":0},{"$f":"Questions!NKZ4","v":0},{"$f":"Questions!NLA4","v":0},{"$f":"Questions!NLB4","v":0},{"$f":"Questions!NLC4","v":0},{"$f":"Questions!NLD4","v":0},{"$f":"Questions!NLE4","v":0},{"$f":"Questions!NLF4","v":0},{"$f":"Questions!NLG4","v":0},{"$f":"Questions!NLH4","v":0},{"$f":"Questions!NLI4","v":0},{"$f":"Questions!NLJ4","v":0},{"$f":"Questions!NLK4","v":0},{"$f":"Questions!NLL4","v":0},{"$f":"Questions!NLM4","v":0},{"$f":"Questions!NLN4","v":0},{"$f":"Questions!NLO4","v":0},{"$f":"Questions!NLP4","v":0},{"$f":"Questions!NLQ4","v":0},{"$f":"Questions!NLR4","v":0},{"$f":"Questions!NLS4","v":0},{"$f":"Questions!NLT4","v":0},{"$f":"Questions!NLU4","v":0},{"$f":"Questions!NLV4","v":0},{"$f":"Questions!NLW4","v":0},{"$f":"Questions!NLX4","v":0},{"$f":"Questions!NLY4","v":0},{"$f":"Questions!NLZ4","v":0},{"$f":"Questions!NMA4","v":0},{"$f":"Questions!NMB4","v":0},{"$f":"Questions!NMC4","v":0},{"$f":"Questions!NMD4","v":0},{"$f":"Questions!NME4","v":0},{"$f":"Questions!NMF4","v":0},{"$f":"Questions!NMG4","v":0},{"$f":"Questions!NMH4","v":0},{"$f":"Questions!NMI4","v":0},{"$f":"Questions!NMJ4","v":0},{"$f":"Questions!NMK4","v":0},{"$f":"Questions!NML4","v":0},{"$f":"Questions!NMM4","v":0},{"$f":"Questions!NMN4","v":0},{"$f":"Questions!NMO4","v":0},{"$f":"Questions!NMP4","v":0},{"$f":"Questions!NMQ4","v":0},{"$f":"Questions!NMR4","v":0},{"$f":"Questions!NMS4","v":0},{"$f":"Questions!NMT4","v":0},{"$f":"Questions!NMU4","v":0},{"$f":"Questions!NMV4","v":0},{"$f":"Questions!NMW4","v":0},{"$f":"Questions!NMX4","v":0},{"$f":"Questions!NMY4","v":0},{"$f":"Questions!NMZ4","v":0},{"$f":"Questions!NNA4","v":0},{"$f":"Questions!NNB4","v":0},{"$f":"Questions!NNC4","v":0},{"$f":"Questions!NND4","v":0},{"$f":"Questions!NNE4","v":0},{"$f":"Questions!NNF4","v":0},{"$f":"Questions!NNG4","v":0},{"$f":"Questions!NNH4","v":0},{"$f":"Questions!NNI4","v":0},{"$f":"Questions!NNJ4","v":0},{"$f":"Questions!NNK4","v":0},{"$f":"Questions!NNL4","v":0},{"$f":"Questions!NNM4","v":0},{"$f":"Questions!NNN4","v":0},{"$f":"Questions!NNO4","v":0},{"$f":"Questions!NNP4","v":0},{"$f":"Questions!NNQ4","v":0},{"$f":"Questions!NNR4","v":0},{"$f":"Questions!NNS4","v":0},{"$f":"Questions!NNT4","v":0},{"$f":"Questions!NNU4","v":0},{"$f":"Questions!NNV4","v":0},{"$f":"Questions!NNW4","v":0},{"$f":"Questions!NNX4","v":0},{"$f":"Questions!NNY4","v":0},{"$f":"Questions!NNZ4","v":0},{"$f":"Questions!NOA4","v":0},{"$f":"Questions!NOB4","v":0},{"$f":"Questions!NOC4","v":0},{"$f":"Questions!NOD4","v":0},{"$f":"Questions!NOE4","v":0},{"$f":"Questions!NOF4","v":0},{"$f":"Questions!NOG4","v":0},{"$f":"Questions!NOH4","v":0},{"$f":"Questions!NOI4","v":0},{"$f":"Questions!NOJ4","v":0},{"$f":"Questions!NOK4","v":0},{"$f":"Questions!NOL4","v":0},{"$f":"Questions!NOM4","v":0},{"$f":"Questions!NON4","v":0},{"$f":"Questions!NOO4","v":0},{"$f":"Questions!NOP4","v":0},{"$f":"Questions!NOQ4","v":0},{"$f":"Questions!NOR4","v":0},{"$f":"Questions!NOS4","v":0},{"$f":"Questions!NOT4","v":0},{"$f":"Questions!NOU4","v":0},{"$f":"Questions!NOV4","v":0},{"$f":"Questions!NOW4","v":0},{"$f":"Questions!NOX4","v":0},{"$f":"Questions!NOY4","v":0},{"$f":"Questions!NOZ4","v":0},{"$f":"Questions!NPA4","v":0},{"$f":"Questions!NPB4","v":0},{"$f":"Questions!NPC4","v":0},{"$f":"Questions!NPD4","v":0},{"$f":"Questions!NPE4","v":0},{"$f":"Questions!NPF4","v":0},{"$f":"Questions!NPG4","v":0},{"$f":"Questions!NPH4","v":0},{"$f":"Questions!NPI4","v":0},{"$f":"Questions!NPJ4","v":0},{"$f":"Questions!NPK4","v":0},{"$f":"Questions!NPL4","v":0},{"$f":"Questions!NPM4","v":0},{"$f":"Questions!NPN4","v":0},{"$f":"Questions!NPO4","v":0},{"$f":"Questions!NPP4","v":0},{"$f":"Questions!NPQ4","v":0},{"$f":"Questions!NPR4","v":0},{"$f":"Questions!NPS4","v":0},{"$f":"Questions!NPT4","v":0},{"$f":"Questions!NPU4","v":0},{"$f":"Questions!NPV4","v":0},{"$f":"Questions!NPW4","v":0},{"$f":"Questions!NPX4","v":0},{"$f":"Questions!NPY4","v":0},{"$f":"Questions!NPZ4","v":0},{"$f":"Questions!NQA4","v":0},{"$f":"Questions!NQB4","v":0},{"$f":"Questions!NQC4","v":0},{"$f":"Questions!NQD4","v":0},{"$f":"Questions!NQE4","v":0},{"$f":"Questions!NQF4","v":0},{"$f":"Questions!NQG4","v":0},{"$f":"Questions!NQH4","v":0},{"$f":"Questions!NQI4","v":0},{"$f":"Questions!NQJ4","v":0},{"$f":"Questions!NQK4","v":0},{"$f":"Questions!NQL4","v":0},{"$f":"Questions!NQM4","v":0},{"$f":"Questions!NQN4","v":0},{"$f":"Questions!NQO4","v":0},{"$f":"Questions!NQP4","v":0},{"$f":"Questions!NQQ4","v":0},{"$f":"Questions!NQR4","v":0},{"$f":"Questions!NQS4","v":0},{"$f":"Questions!NQT4","v":0},{"$f":"Questions!NQU4","v":0},{"$f":"Questions!NQV4","v":0},{"$f":"Questions!NQW4","v":0},{"$f":"Questions!NQX4","v":0},{"$f":"Questions!NQY4","v":0},{"$f":"Questions!NQZ4","v":0},{"$f":"Questions!NRA4","v":0},{"$f":"Questions!NRB4","v":0},{"$f":"Questions!NRC4","v":0},{"$f":"Questions!NRD4","v":0},{"$f":"Questions!NRE4","v":0},{"$f":"Questions!NRF4","v":0},{"$f":"Questions!NRG4","v":0},{"$f":"Questions!NRH4","v":0},{"$f":"Questions!NRI4","v":0},{"$f":"Questions!NRJ4","v":0},{"$f":"Questions!NRK4","v":0},{"$f":"Questions!NRL4","v":0},{"$f":"Questions!NRM4","v":0},{"$f":"Questions!NRN4","v":0},{"$f":"Questions!NRO4","v":0},{"$f":"Questions!NRP4","v":0},{"$f":"Questions!NRQ4","v":0},{"$f":"Questions!NRR4","v":0},{"$f":"Questions!NRS4","v":0},{"$f":"Questions!NRT4","v":0},{"$f":"Questions!NRU4","v":0},{"$f":"Questions!NRV4","v":0},{"$f":"Questions!NRW4","v":0},{"$f":"Questions!NRX4","v":0},{"$f":"Questions!NRY4","v":0},{"$f":"Questions!NRZ4","v":0},{"$f":"Questions!NSA4","v":0},{"$f":"Questions!NSB4","v":0},{"$f":"Questions!NSC4","v":0},{"$f":"Questions!NSD4","v":0},{"$f":"Questions!NSE4","v":0},{"$f":"Questions!NSF4","v":0},{"$f":"Questions!NSG4","v":0},{"$f":"Questions!NSH4","v":0},{"$f":"Questions!NSI4","v":0},{"$f":"Questions!NSJ4","v":0},{"$f":"Questions!NSK4","v":0},{"$f":"Questions!NSL4","v":0},{"$f":"Questions!NSM4","v":0},{"$f":"Questions!NSN4","v":0},{"$f":"Questions!NSO4","v":0},{"$f":"Questions!NSP4","v":0},{"$f":"Questions!NSQ4","v":0},{"$f":"Questions!NSR4","v":0},{"$f":"Questions!NSS4","v":0},{"$f":"Questions!NST4","v":0},{"$f":"Questions!NSU4","v":0},{"$f":"Questions!NSV4","v":0},{"$f":"Questions!NSW4","v":0},{"$f":"Questions!NSX4","v":0},{"$f":"Questions!NSY4","v":0},{"$f":"Questions!NSZ4","v":0},{"$f":"Questions!NTA4","v":0},{"$f":"Questions!NTB4","v":0},{"$f":"Questions!NTC4","v":0},{"$f":"Questions!NTD4","v":0},{"$f":"Questions!NTE4","v":0},{"$f":"Questions!NTF4","v":0},{"$f":"Questions!NTG4","v":0},{"$f":"Questions!NTH4","v":0},{"$f":"Questions!NTI4","v":0},{"$f":"Questions!NTJ4","v":0},{"$f":"Questions!NTK4","v":0},{"$f":"Questions!NTL4","v":0},{"$f":"Questions!NTM4","v":0},{"$f":"Questions!NTN4","v":0},{"$f":"Questions!NTO4","v":0},{"$f":"Questions!NTP4","v":0},{"$f":"Questions!NTQ4","v":0},{"$f":"Questions!NTR4","v":0},{"$f":"Questions!NTS4","v":0},{"$f":"Questions!NTT4","v":0},{"$f":"Questions!NTU4","v":0},{"$f":"Questions!NTV4","v":0},{"$f":"Questions!NTW4","v":0},{"$f":"Questions!NTX4","v":0},{"$f":"Questions!NTY4","v":0},{"$f":"Questions!NTZ4","v":0},{"$f":"Questions!NUA4","v":0},{"$f":"Questions!NUB4","v":0},{"$f":"Questions!NUC4","v":0},{"$f":"Questions!NUD4","v":0},{"$f":"Questions!NUE4","v":0},{"$f":"Questions!NUF4","v":0},{"$f":"Questions!NUG4","v":0},{"$f":"Questions!NUH4","v":0},{"$f":"Questions!NUI4","v":0},{"$f":"Questions!NUJ4","v":0},{"$f":"Questions!NUK4","v":0},{"$f":"Questions!NUL4","v":0},{"$f":"Questions!NUM4","v":0},{"$f":"Questions!NUN4","v":0},{"$f":"Questions!NUO4","v":0},{"$f":"Questions!NUP4","v":0},{"$f":"Questions!NUQ4","v":0},{"$f":"Questions!NUR4","v":0},{"$f":"Questions!NUS4","v":0},{"$f":"Questions!NUT4","v":0},{"$f":"Questions!NUU4","v":0},{"$f":"Questions!NUV4","v":0},{"$f":"Questions!NUW4","v":0},{"$f":"Questions!NUX4","v":0},{"$f":"Questions!NUY4","v":0},{"$f":"Questions!NUZ4","v":0},{"$f":"Questions!NVA4","v":0},{"$f":"Questions!NVB4","v":0},{"$f":"Questions!NVC4","v":0},{"$f":"Questions!NVD4","v":0},{"$f":"Questions!NVE4","v":0},{"$f":"Questions!NVF4","v":0},{"$f":"Questions!NVG4","v":0},{"$f":"Questions!NVH4","v":0},{"$f":"Questions!NVI4","v":0},{"$f":"Questions!NVJ4","v":0},{"$f":"Questions!NVK4","v":0},{"$f":"Questions!NVL4","v":0},{"$f":"Questions!NVM4","v":0},{"$f":"Questions!NVN4","v":0},{"$f":"Questions!NVO4","v":0},{"$f":"Questions!NVP4","v":0},{"$f":"Questions!NVQ4","v":0},{"$f":"Questions!NVR4","v":0},{"$f":"Questions!NVS4","v":0},{"$f":"Questions!NVT4","v":0},{"$f":"Questions!NVU4","v":0},{"$f":"Questions!NVV4","v":0},{"$f":"Questions!NVW4","v":0},{"$f":"Questions!NVX4","v":0},{"$f":"Questions!NVY4","v":0},{"$f":"Questions!NVZ4","v":0},{"$f":"Questions!NWA4","v":0},{"$f":"Questions!NWB4","v":0},{"$f":"Questions!NWC4","v":0},{"$f":"Questions!NWD4","v":0},{"$f":"Questions!NWE4","v":0},{"$f":"Questions!NWF4","v":0},{"$f":"Questions!NWG4","v":0},{"$f":"Questions!NWH4","v":0},{"$f":"Questions!NWI4","v":0},{"$f":"Questions!NWJ4","v":0},{"$f":"Questions!NWK4","v":0},{"$f":"Questions!NWL4","v":0},{"$f":"Questions!NWM4","v":0},{"$f":"Questions!NWN4","v":0},{"$f":"Questions!NWO4","v":0},{"$f":"Questions!NWP4","v":0},{"$f":"Questions!NWQ4","v":0},{"$f":"Questions!NWR4","v":0},{"$f":"Questions!NWS4","v":0},{"$f":"Questions!NWT4","v":0},{"$f":"Questions!NWU4","v":0},{"$f":"Questions!NWV4","v":0},{"$f":"Questions!NWW4","v":0},{"$f":"Questions!NWX4","v":0},{"$f":"Questions!NWY4","v":0},{"$f":"Questions!NWZ4","v":0},{"$f":"Questions!NXA4","v":0},{"$f":"Questions!NXB4","v":0},{"$f":"Questions!NXC4","v":0},{"$f":"Questions!NXD4","v":0},{"$f":"Questions!NXE4","v":0},{"$f":"Questions!NXF4","v":0},{"$f":"Questions!NXG4","v":0},{"$f":"Questions!NXH4","v":0},{"$f":"Questions!NXI4","v":0},{"$f":"Questions!NXJ4","v":0},{"$f":"Questions!NXK4","v":0},{"$f":"Questions!NXL4","v":0},{"$f":"Questions!NXM4","v":0},{"$f":"Questions!NXN4","v":0},{"$f":"Questions!NXO4","v":0},{"$f":"Questions!NXP4","v":0},{"$f":"Questions!NXQ4","v":0},{"$f":"Questions!NXR4","v":0},{"$f":"Questions!NXS4","v":0},{"$f":"Questions!NXT4","v":0},{"$f":"Questions!NXU4","v":0},{"$f":"Questions!NXV4","v":0},{"$f":"Questions!NXW4","v":0},{"$f":"Questions!NXX4","v":0},{"$f":"Questions!NXY4","v":0},{"$f":"Questions!NXZ4","v":0},{"$f":"Questions!NYA4","v":0},{"$f":"Questions!NYB4","v":0},{"$f":"Questions!NYC4","v":0},{"$f":"Questions!NYD4","v":0},{"$f":"Questions!NYE4","v":0},{"$f":"Questions!NYF4","v":0},{"$f":"Questions!NYG4","v":0},{"$f":"Questions!NYH4","v":0},{"$f":"Questions!NYI4","v":0},{"$f":"Questions!NYJ4","v":0},{"$f":"Questions!NYK4","v":0},{"$f":"Questions!NYL4","v":0},{"$f":"Questions!NYM4","v":0},{"$f":"Questions!NYN4","v":0},{"$f":"Questions!NYO4","v":0},{"$f":"Questions!NYP4","v":0},{"$f":"Questions!NYQ4","v":0},{"$f":"Questions!NYR4","v":0},{"$f":"Questions!NYS4","v":0},{"$f":"Questions!NYT4","v":0},{"$f":"Questions!NYU4","v":0},{"$f":"Questions!NYV4","v":0},{"$f":"Questions!NYW4","v":0},{"$f":"Questions!NYX4","v":0},{"$f":"Questions!NYY4","v":0},{"$f":"Questions!NYZ4","v":0},{"$f":"Questions!NZA4","v":0},{"$f":"Questions!NZB4","v":0},{"$f":"Questions!NZC4","v":0},{"$f":"Questions!NZD4","v":0},{"$f":"Questions!NZE4","v":0},{"$f":"Questions!NZF4","v":0},{"$f":"Questions!NZG4","v":0},{"$f":"Questions!NZH4","v":0},{"$f":"Questions!NZI4","v":0},{"$f":"Questions!NZJ4","v":0},{"$f":"Questions!NZK4","v":0},{"$f":"Questions!NZL4","v":0},{"$f":"Questions!NZM4","v":0},{"$f":"Questions!NZN4","v":0},{"$f":"Questions!NZO4","v":0},{"$f":"Questions!NZP4","v":0},{"$f":"Questions!NZQ4","v":0},{"$f":"Questions!NZR4","v":0},{"$f":"Questions!NZS4","v":0},{"$f":"Questions!NZT4","v":0},{"$f":"Questions!NZU4","v":0},{"$f":"Questions!NZV4","v":0},{"$f":"Questions!NZW4","v":0},{"$f":"Questions!NZX4","v":0},{"$f":"Questions!NZY4","v":0},{"$f":"Questions!NZZ4","v":0},{"$f":"Questions!OAA4","v":0},{"$f":"Questions!OAB4","v":0},{"$f":"Questions!OAC4","v":0},{"$f":"Questions!OAD4","v":0},{"$f":"Questions!OAE4","v":0},{"$f":"Questions!OAF4","v":0},{"$f":"Questions!OAG4","v":0},{"$f":"Questions!OAH4","v":0},{"$f":"Questions!OAI4","v":0},{"$f":"Questions!OAJ4","v":0},{"$f":"Questions!OAK4","v":0},{"$f":"Questions!OAL4","v":0},{"$f":"Questions!OAM4","v":0},{"$f":"Questions!OAN4","v":0},{"$f":"Questions!OAO4","v":0},{"$f":"Questions!OAP4","v":0},{"$f":"Questions!OAQ4","v":0},{"$f":"Questions!OAR4","v":0},{"$f":"Questions!OAS4","v":0},{"$f":"Questions!OAT4","v":0},{"$f":"Questions!OAU4","v":0},{"$f":"Questions!OAV4","v":0},{"$f":"Questions!OAW4","v":0},{"$f":"Questions!OAX4","v":0},{"$f":"Questions!OAY4","v":0},{"$f":"Questions!OAZ4","v":0},{"$f":"Questions!OBA4","v":0},{"$f":"Questions!OBB4","v":0},{"$f":"Questions!OBC4","v":0},{"$f":"Questions!OBD4","v":0},{"$f":"Questions!OBE4","v":0},{"$f":"Questions!OBF4","v":0},{"$f":"Questions!OBG4","v":0},{"$f":"Questions!OBH4","v":0},{"$f":"Questions!OBI4","v":0},{"$f":"Questions!OBJ4","v":0},{"$f":"Questions!OBK4","v":0},{"$f":"Questions!OBL4","v":0},{"$f":"Questions!OBM4","v":0},{"$f":"Questions!OBN4","v":0},{"$f":"Questions!OBO4","v":0},{"$f":"Questions!OBP4","v":0},{"$f":"Questions!OBQ4","v":0},{"$f":"Questions!OBR4","v":0},{"$f":"Questions!OBS4","v":0},{"$f":"Questions!OBT4","v":0},{"$f":"Questions!OBU4","v":0},{"$f":"Questions!OBV4","v":0},{"$f":"Questions!OBW4","v":0},{"$f":"Questions!OBX4","v":0},{"$f":"Questions!OBY4","v":0},{"$f":"Questions!OBZ4","v":0},{"$f":"Questions!OCA4","v":0},{"$f":"Questions!OCB4","v":0},{"$f":"Questions!OCC4","v":0},{"$f":"Questions!OCD4","v":0},{"$f":"Questions!OCE4","v":0},{"$f":"Questions!OCF4","v":0},{"$f":"Questions!OCG4","v":0},{"$f":"Questions!OCH4","v":0},{"$f":"Questions!OCI4","v":0},{"$f":"Questions!OCJ4","v":0},{"$f":"Questions!OCK4","v":0},{"$f":"Questions!OCL4","v":0},{"$f":"Questions!OCM4","v":0},{"$f":"Questions!OCN4","v":0},{"$f":"Questions!OCO4","v":0},{"$f":"Questions!OCP4","v":0},{"$f":"Questions!OCQ4","v":0},{"$f":"Questions!OCR4","v":0},{"$f":"Questions!OCS4","v":0},{"$f":"Questions!OCT4","v":0},{"$f":"Questions!OCU4","v":0},{"$f":"Questions!OCV4","v":0},{"$f":"Questions!OCW4","v":0},{"$f":"Questions!OCX4","v":0},{"$f":"Questions!OCY4","v":0},{"$f":"Questions!OCZ4","v":0},{"$f":"Questions!ODA4","v":0},{"$f":"Questions!ODB4","v":0},{"$f":"Questions!ODC4","v":0},{"$f":"Questions!ODD4","v":0},{"$f":"Questions!ODE4","v":0},{"$f":"Questions!ODF4","v":0},{"$f":"Questions!ODG4","v":0},{"$f":"Questions!ODH4","v":0},{"$f":"Questions!ODI4","v":0},{"$f":"Questions!ODJ4","v":0},{"$f":"Questions!ODK4","v":0},{"$f":"Questions!ODL4","v":0},{"$f":"Questions!ODM4","v":0},{"$f":"Questions!ODN4","v":0},{"$f":"Questions!ODO4","v":0},{"$f":"Questions!ODP4","v":0},{"$f":"Questions!ODQ4","v":0},{"$f":"Questions!ODR4","v":0},{"$f":"Questions!ODS4","v":0},{"$f":"Questions!ODT4","v":0},{"$f":"Questions!ODU4","v":0},{"$f":"Questions!ODV4","v":0},{"$f":"Questions!ODW4","v":0},{"$f":"Questions!ODX4","v":0},{"$f":"Questions!ODY4","v":0},{"$f":"Questions!ODZ4","v":0},{"$f":"Questions!OEA4","v":0},{"$f":"Questions!OEB4","v":0},{"$f":"Questions!OEC4","v":0},{"$f":"Questions!OED4","v":0},{"$f":"Questions!OEE4","v":0},{"$f":"Questions!OEF4","v":0},{"$f":"Questions!OEG4","v":0},{"$f":"Questions!OEH4","v":0},{"$f":"Questions!OEI4","v":0},{"$f":"Questions!OEJ4","v":0},{"$f":"Questions!OEK4","v":0},{"$f":"Questions!OEL4","v":0},{"$f":"Questions!OEM4","v":0},{"$f":"Questions!OEN4","v":0},{"$f":"Questions!OEO4","v":0},{"$f":"Questions!OEP4","v":0},{"$f":"Questions!OEQ4","v":0},{"$f":"Questions!OER4","v":0},{"$f":"Questions!OES4","v":0},{"$f":"Questions!OET4","v":0},{"$f":"Questions!OEU4","v":0},{"$f":"Questions!OEV4","v":0},{"$f":"Questions!OEW4","v":0},{"$f":"Questions!OEX4","v":0},{"$f":"Questions!OEY4","v":0},{"$f":"Questions!OEZ4","v":0},{"$f":"Questions!OFA4","v":0},{"$f":"Questions!OFB4","v":0},{"$f":"Questions!OFC4","v":0},{"$f":"Questions!OFD4","v":0},{"$f":"Questions!OFE4","v":0},{"$f":"Questions!OFF4","v":0},{"$f":"Questions!OFG4","v":0},{"$f":"Questions!OFH4","v":0},{"$f":"Questions!OFI4","v":0},{"$f":"Questions!OFJ4","v":0},{"$f":"Questions!OFK4","v":0},{"$f":"Questions!OFL4","v":0},{"$f":"Questions!OFM4","v":0},{"$f":"Questions!OFN4","v":0},{"$f":"Questions!OFO4","v":0},{"$f":"Questions!OFP4","v":0},{"$f":"Questions!OFQ4","v":0},{"$f":"Questions!OFR4","v":0},{"$f":"Questions!OFS4","v":0},{"$f":"Questions!OFT4","v":0},{"$f":"Questions!OFU4","v":0},{"$f":"Questions!OFV4","v":0},{"$f":"Questions!OFW4","v":0},{"$f":"Questions!OFX4","v":0},{"$f":"Questions!OFY4","v":0},{"$f":"Questions!OFZ4","v":0},{"$f":"Questions!OGA4","v":0},{"$f":"Questions!OGB4","v":0},{"$f":"Questions!OGC4","v":0},{"$f":"Questions!OGD4","v":0},{"$f":"Questions!OGE4","v":0},{"$f":"Questions!OGF4","v":0},{"$f":"Questions!OGG4","v":0},{"$f":"Questions!OGH4","v":0},{"$f":"Questions!OGI4","v":0},{"$f":"Questions!OGJ4","v":0},{"$f":"Questions!OGK4","v":0},{"$f":"Questions!OGL4","v":0},{"$f":"Questions!OGM4","v":0},{"$f":"Questions!OGN4","v":0},{"$f":"Questions!OGO4","v":0},{"$f":"Questions!OGP4","v":0},{"$f":"Questions!OGQ4","v":0},{"$f":"Questions!OGR4","v":0},{"$f":"Questions!OGS4","v":0},{"$f":"Questions!OGT4","v":0},{"$f":"Questions!OGU4","v":0},{"$f":"Questions!OGV4","v":0},{"$f":"Questions!OGW4","v":0},{"$f":"Questions!OGX4","v":0},{"$f":"Questions!OGY4","v":0},{"$f":"Questions!OGZ4","v":0},{"$f":"Questions!OHA4","v":0},{"$f":"Questions!OHB4","v":0},{"$f":"Questions!OHC4","v":0},{"$f":"Questions!OHD4","v":0},{"$f":"Questions!OHE4","v":0},{"$f":"Questions!OHF4","v":0},{"$f":"Questions!OHG4","v":0},{"$f":"Questions!OHH4","v":0},{"$f":"Questions!OHI4","v":0},{"$f":"Questions!OHJ4","v":0},{"$f":"Questions!OHK4","v":0},{"$f":"Questions!OHL4","v":0},{"$f":"Questions!OHM4","v":0},{"$f":"Questions!OHN4","v":0},{"$f":"Questions!OHO4","v":0},{"$f":"Questions!OHP4","v":0},{"$f":"Questions!OHQ4","v":0},{"$f":"Questions!OHR4","v":0},{"$f":"Questions!OHS4","v":0},{"$f":"Questions!OHT4","v":0},{"$f":"Questions!OHU4","v":0},{"$f":"Questions!OHV4","v":0},{"$f":"Questions!OHW4","v":0},{"$f":"Questions!OHX4","v":0},{"$f":"Questions!OHY4","v":0},{"$f":"Questions!OHZ4","v":0},{"$f":"Questions!OIA4","v":0},{"$f":"Questions!OIB4","v":0},{"$f":"Questions!OIC4","v":0},{"$f":"Questions!OID4","v":0},{"$f":"Questions!OIE4","v":0},{"$f":"Questions!OIF4","v":0},{"$f":"Questions!OIG4","v":0},{"$f":"Questions!OIH4","v":0},{"$f":"Questions!OII4","v":0},{"$f":"Questions!OIJ4","v":0},{"$f":"Questions!OIK4","v":0},{"$f":"Questions!OIL4","v":0},{"$f":"Questions!OIM4","v":0},{"$f":"Questions!OIN4","v":0},{"$f":"Questions!OIO4","v":0},{"$f":"Questions!OIP4","v":0},{"$f":"Questions!OIQ4","v":0},{"$f":"Questions!OIR4","v":0},{"$f":"Questions!OIS4","v":0},{"$f":"Questions!OIT4","v":0},{"$f":"Questions!OIU4","v":0},{"$f":"Questions!OIV4","v":0},{"$f":"Questions!OIW4","v":0},{"$f":"Questions!OIX4","v":0},{"$f":"Questions!OIY4","v":0},{"$f":"Questions!OIZ4","v":0},{"$f":"Questions!OJA4","v":0},{"$f":"Questions!OJB4","v":0},{"$f":"Questions!OJC4","v":0},{"$f":"Questions!OJD4","v":0},{"$f":"Questions!OJE4","v":0},{"$f":"Questions!OJF4","v":0},{"$f":"Questions!OJG4","v":0},{"$f":"Questions!OJH4","v":0},{"$f":"Questions!OJI4","v":0},{"$f":"Questions!OJJ4","v":0},{"$f":"Questions!OJK4","v":0},{"$f":"Questions!OJL4","v":0},{"$f":"Questions!OJM4","v":0},{"$f":"Questions!OJN4","v":0},{"$f":"Questions!OJO4","v":0},{"$f":"Questions!OJP4","v":0},{"$f":"Questions!OJQ4","v":0},{"$f":"Questions!OJR4","v":0},{"$f":"Questions!OJS4","v":0},{"$f":"Questions!OJT4","v":0},{"$f":"Questions!OJU4","v":0},{"$f":"Questions!OJV4","v":0},{"$f":"Questions!OJW4","v":0},{"$f":"Questions!OJX4","v":0},{"$f":"Questions!OJY4","v":0},{"$f":"Questions!OJZ4","v":0},{"$f":"Questions!OKA4","v":0},{"$f":"Questions!OKB4","v":0},{"$f":"Questions!OKC4","v":0},{"$f":"Questions!OKD4","v":0},{"$f":"Questions!OKE4","v":0},{"$f":"Questions!OKF4","v":0},{"$f":"Questions!OKG4","v":0},{"$f":"Questions!OKH4","v":0},{"$f":"Questions!OKI4","v":0},{"$f":"Questions!OKJ4","v":0},{"$f":"Questions!OKK4","v":0},{"$f":"Questions!OKL4","v":0},{"$f":"Questions!OKM4","v":0},{"$f":"Questions!OKN4","v":0},{"$f":"Questions!OKO4","v":0},{"$f":"Questions!OKP4","v":0},{"$f":"Questions!OKQ4","v":0},{"$f":"Questions!OKR4","v":0},{"$f":"Questions!OKS4","v":0},{"$f":"Questions!OKT4","v":0},{"$f":"Questions!OKU4","v":0},{"$f":"Questions!OKV4","v":0},{"$f":"Questions!OKW4","v":0},{"$f":"Questions!OKX4","v":0},{"$f":"Questions!OKY4","v":0},{"$f":"Questions!OKZ4","v":0},{"$f":"Questions!OLA4","v":0},{"$f":"Questions!OLB4","v":0},{"$f":"Questions!OLC4","v":0},{"$f":"Questions!OLD4","v":0},{"$f":"Questions!OLE4","v":0},{"$f":"Questions!OLF4","v":0},{"$f":"Questions!OLG4","v":0},{"$f":"Questions!OLH4","v":0},{"$f":"Questions!OLI4","v":0},{"$f":"Questions!OLJ4","v":0},{"$f":"Questions!OLK4","v":0},{"$f":"Questions!OLL4","v":0},{"$f":"Questions!OLM4","v":0},{"$f":"Questions!OLN4","v":0},{"$f":"Questions!OLO4","v":0},{"$f":"Questions!OLP4","v":0},{"$f":"Questions!OLQ4","v":0},{"$f":"Questions!OLR4","v":0},{"$f":"Questions!OLS4","v":0},{"$f":"Questions!OLT4","v":0},{"$f":"Questions!OLU4","v":0},{"$f":"Questions!OLV4","v":0},{"$f":"Questions!OLW4","v":0},{"$f":"Questions!OLX4","v":0},{"$f":"Questions!OLY4","v":0},{"$f":"Questions!OLZ4","v":0},{"$f":"Questions!OMA4","v":0},{"$f":"Questions!OMB4","v":0},{"$f":"Questions!OMC4","v":0},{"$f":"Questions!OMD4","v":0},{"$f":"Questions!OME4","v":0},{"$f":"Questions!OMF4","v":0},{"$f":"Questions!OMG4","v":0},{"$f":"Questions!OMH4","v":0},{"$f":"Questions!OMI4","v":0},{"$f":"Questions!OMJ4","v":0},{"$f":"Questions!OMK4","v":0},{"$f":"Questions!OML4","v":0},{"$f":"Questions!OMM4","v":0},{"$f":"Questions!OMN4","v":0},{"$f":"Questions!OMO4","v":0},{"$f":"Questions!OMP4","v":0},{"$f":"Questions!OMQ4","v":0},{"$f":"Questions!OMR4","v":0},{"$f":"Questions!OMS4","v":0},{"$f":"Questions!OMT4","v":0},{"$f":"Questions!OMU4","v":0},{"$f":"Questions!OMV4","v":0},{"$f":"Questions!OMW4","v":0},{"$f":"Questions!OMX4","v":0},{"$f":"Questions!OMY4","v":0},{"$f":"Questions!OMZ4","v":0},{"$f":"Questions!ONA4","v":0},{"$f":"Questions!ONB4","v":0},{"$f":"Questions!ONC4","v":0},{"$f":"Questions!OND4","v":0},{"$f":"Questions!ONE4","v":0},{"$f":"Questions!ONF4","v":0},{"$f":"Questions!ONG4","v":0},{"$f":"Questions!ONH4","v":0},{"$f":"Questions!ONI4","v":0},{"$f":"Questions!ONJ4","v":0},{"$f":"Questions!ONK4","v":0},{"$f":"Questions!ONL4","v":0},{"$f":"Questions!ONM4","v":0},{"$f":"Questions!ONN4","v":0},{"$f":"Questions!ONO4","v":0},{"$f":"Questions!ONP4","v":0},{"$f":"Questions!ONQ4","v":0},{"$f":"Questions!ONR4","v":0},{"$f":"Questions!ONS4","v":0},{"$f":"Questions!ONT4","v":0},{"$f":"Questions!ONU4","v":0},{"$f":"Questions!ONV4","v":0},{"$f":"Questions!ONW4","v":0},{"$f":"Questions!ONX4","v":0},{"$f":"Questions!ONY4","v":0},{"$f":"Questions!ONZ4","v":0},{"$f":"Questions!OOA4","v":0},{"$f":"Questions!OOB4","v":0},{"$f":"Questions!OOC4","v":0},{"$f":"Questions!OOD4","v":0},{"$f":"Questions!OOE4","v":0},{"$f":"Questions!OOF4","v":0},{"$f":"Questions!OOG4","v":0},{"$f":"Questions!OOH4","v":0},{"$f":"Questions!OOI4","v":0},{"$f":"Questions!OOJ4","v":0},{"$f":"Questions!OOK4","v":0},{"$f":"Questions!OOL4","v":0},{"$f":"Questions!OOM4","v":0},{"$f":"Questions!OON4","v":0},{"$f":"Questions!OOO4","v":0},{"$f":"Questions!OOP4","v":0},{"$f":"Questions!OOQ4","v":0},{"$f":"Questions!OOR4","v":0},{"$f":"Questions!OOS4","v":0},{"$f":"Questions!OOT4","v":0},{"$f":"Questions!OOU4","v":0},{"$f":"Questions!OOV4","v":0},{"$f":"Questions!OOW4","v":0},{"$f":"Questions!OOX4","v":0},{"$f":"Questions!OOY4","v":0},{"$f":"Questions!OOZ4","v":0},{"$f":"Questions!OPA4","v":0},{"$f":"Questions!OPB4","v":0},{"$f":"Questions!OPC4","v":0},{"$f":"Questions!OPD4","v":0},{"$f":"Questions!OPE4","v":0},{"$f":"Questions!OPF4","v":0},{"$f":"Questions!OPG4","v":0},{"$f":"Questions!OPH4","v":0},{"$f":"Questions!OPI4","v":0},{"$f":"Questions!OPJ4","v":0},{"$f":"Questions!OPK4","v":0},{"$f":"Questions!OPL4","v":0},{"$f":"Questions!OPM4","v":0},{"$f":"Questions!OPN4","v":0},{"$f":"Questions!OPO4","v":0},{"$f":"Questions!OPP4","v":0},{"$f":"Questions!OPQ4","v":0},{"$f":"Questions!OPR4","v":0},{"$f":"Questions!OPS4","v":0},{"$f":"Questions!OPT4","v":0},{"$f":"Questions!OPU4","v":0},{"$f":"Questions!OPV4","v":0},{"$f":"Questions!OPW4","v":0},{"$f":"Questions!OPX4","v":0},{"$f":"Questions!OPY4","v":0},{"$f":"Questions!OPZ4","v":0},{"$f":"Questions!OQA4","v":0},{"$f":"Questions!OQB4","v":0},{"$f":"Questions!OQC4","v":0},{"$f":"Questions!OQD4","v":0},{"$f":"Questions!OQE4","v":0},{"$f":"Questions!OQF4","v":0},{"$f":"Questions!OQG4","v":0},{"$f":"Questions!OQH4","v":0},{"$f":"Questions!OQI4","v":0},{"$f":"Questions!OQJ4","v":0},{"$f":"Questions!OQK4","v":0},{"$f":"Questions!OQL4","v":0},{"$f":"Questions!OQM4","v":0},{"$f":"Questions!OQN4","v":0},{"$f":"Questions!OQO4","v":0},{"$f":"Questions!OQP4","v":0},{"$f":"Questions!OQQ4","v":0},{"$f":"Questions!OQR4","v":0},{"$f":"Questions!OQS4","v":0},{"$f":"Questions!OQT4","v":0},{"$f":"Questions!OQU4","v":0},{"$f":"Questions!OQV4","v":0},{"$f":"Questions!OQW4","v":0},{"$f":"Questions!OQX4","v":0},{"$f":"Questions!OQY4","v":0},{"$f":"Questions!OQZ4","v":0},{"$f":"Questions!ORA4","v":0},{"$f":"Questions!ORB4","v":0},{"$f":"Questions!ORC4","v":0},{"$f":"Questions!ORD4","v":0},{"$f":"Questions!ORE4","v":0},{"$f":"Questions!ORF4","v":0},{"$f":"Questions!ORG4","v":0},{"$f":"Questions!ORH4","v":0},{"$f":"Questions!ORI4","v":0},{"$f":"Questions!ORJ4","v":0},{"$f":"Questions!ORK4","v":0},{"$f":"Questions!ORL4","v":0},{"$f":"Questions!ORM4","v":0},{"$f":"Questions!ORN4","v":0},{"$f":"Questions!ORO4","v":0},{"$f":"Questions!ORP4","v":0},{"$f":"Questions!ORQ4","v":0},{"$f":"Questions!ORR4","v":0},{"$f":"Questions!ORS4","v":0},{"$f":"Questions!ORT4","v":0},{"$f":"Questions!ORU4","v":0},{"$f":"Questions!ORV4","v":0},{"$f":"Questions!ORW4","v":0},{"$f":"Questions!ORX4","v":0},{"$f":"Questions!ORY4","v":0},{"$f":"Questions!ORZ4","v":0},{"$f":"Questions!OSA4","v":0},{"$f":"Questions!OSB4","v":0},{"$f":"Questions!OSC4","v":0},{"$f":"Questions!OSD4","v":0},{"$f":"Questions!OSE4","v":0},{"$f":"Questions!OSF4","v":0},{"$f":"Questions!OSG4","v":0},{"$f":"Questions!OSH4","v":0},{"$f":"Questions!OSI4","v":0},{"$f":"Questions!OSJ4","v":0},{"$f":"Questions!OSK4","v":0},{"$f":"Questions!OSL4","v":0},{"$f":"Questions!OSM4","v":0},{"$f":"Questions!OSN4","v":0},{"$f":"Questions!OSO4","v":0},{"$f":"Questions!OSP4","v":0},{"$f":"Questions!OSQ4","v":0},{"$f":"Questions!OSR4","v":0},{"$f":"Questions!OSS4","v":0},{"$f":"Questions!OST4","v":0},{"$f":"Questions!OSU4","v":0},{"$f":"Questions!OSV4","v":0},{"$f":"Questions!OSW4","v":0},{"$f":"Questions!OSX4","v":0},{"$f":"Questions!OSY4","v":0},{"$f":"Questions!OSZ4","v":0},{"$f":"Questions!OTA4","v":0},{"$f":"Questions!OTB4","v":0},{"$f":"Questions!OTC4","v":0},{"$f":"Questions!OTD4","v":0},{"$f":"Questions!OTE4","v":0},{"$f":"Questions!OTF4","v":0},{"$f":"Questions!OTG4","v":0},{"$f":"Questions!OTH4","v":0},{"$f":"Questions!OTI4","v":0},{"$f":"Questions!OTJ4","v":0},{"$f":"Questions!OTK4","v":0},{"$f":"Questions!OTL4","v":0},{"$f":"Questions!OTM4","v":0},{"$f":"Questions!OTN4","v":0},{"$f":"Questions!OTO4","v":0},{"$f":"Questions!OTP4","v":0},{"$f":"Questions!OTQ4","v":0},{"$f":"Questions!OTR4","v":0},{"$f":"Questions!OTS4","v":0},{"$f":"Questions!OTT4","v":0},{"$f":"Questions!OTU4","v":0},{"$f":"Questions!OTV4","v":0},{"$f":"Questions!OTW4","v":0},{"$f":"Questions!OTX4","v":0},{"$f":"Questions!OTY4","v":0},{"$f":"Questions!OTZ4","v":0},{"$f":"Questions!OUA4","v":0},{"$f":"Questions!OUB4","v":0},{"$f":"Questions!OUC4","v":0},{"$f":"Questions!OUD4","v":0},{"$f":"Questions!OUE4","v":0},{"$f":"Questions!OUF4","v":0},{"$f":"Questions!OUG4","v":0},{"$f":"Questions!OUH4","v":0},{"$f":"Questions!OUI4","v":0},{"$f":"Questions!OUJ4","v":0},{"$f":"Questions!OUK4","v":0},{"$f":"Questions!OUL4","v":0},{"$f":"Questions!OUM4","v":0},{"$f":"Questions!OUN4","v":0},{"$f":"Questions!OUO4","v":0},{"$f":"Questions!OUP4","v":0},{"$f":"Questions!OUQ4","v":0},{"$f":"Questions!OUR4","v":0},{"$f":"Questions!OUS4","v":0},{"$f":"Questions!OUT4","v":0},{"$f":"Questions!OUU4","v":0},{"$f":"Questions!OUV4","v":0},{"$f":"Questions!OUW4","v":0},{"$f":"Questions!OUX4","v":0},{"$f":"Questions!OUY4","v":0},{"$f":"Questions!OUZ4","v":0},{"$f":"Questions!OVA4","v":0},{"$f":"Questions!OVB4","v":0},{"$f":"Questions!OVC4","v":0},{"$f":"Questions!OVD4","v":0},{"$f":"Questions!OVE4","v":0},{"$f":"Questions!OVF4","v":0},{"$f":"Questions!OVG4","v":0},{"$f":"Questions!OVH4","v":0},{"$f":"Questions!OVI4","v":0},{"$f":"Questions!OVJ4","v":0},{"$f":"Questions!OVK4","v":0},{"$f":"Questions!OVL4","v":0},{"$f":"Questions!OVM4","v":0},{"$f":"Questions!OVN4","v":0},{"$f":"Questions!OVO4","v":0},{"$f":"Questions!OVP4","v":0},{"$f":"Questions!OVQ4","v":0},{"$f":"Questions!OVR4","v":0},{"$f":"Questions!OVS4","v":0},{"$f":"Questions!OVT4","v":0},{"$f":"Questions!OVU4","v":0},{"$f":"Questions!OVV4","v":0},{"$f":"Questions!OVW4","v":0},{"$f":"Questions!OVX4","v":0},{"$f":"Questions!OVY4","v":0},{"$f":"Questions!OVZ4","v":0},{"$f":"Questions!OWA4","v":0},{"$f":"Questions!OWB4","v":0},{"$f":"Questions!OWC4","v":0},{"$f":"Questions!OWD4","v":0},{"$f":"Questions!OWE4","v":0},{"$f":"Questions!OWF4","v":0},{"$f":"Questions!OWG4","v":0},{"$f":"Questions!OWH4","v":0},{"$f":"Questions!OWI4","v":0},{"$f":"Questions!OWJ4","v":0},{"$f":"Questions!OWK4","v":0},{"$f":"Questions!OWL4","v":0},{"$f":"Questions!OWM4","v":0},{"$f":"Questions!OWN4","v":0},{"$f":"Questions!OWO4","v":0},{"$f":"Questions!OWP4","v":0},{"$f":"Questions!OWQ4","v":0},{"$f":"Questions!OWR4","v":0},{"$f":"Questions!OWS4","v":0},{"$f":"Questions!OWT4","v":0},{"$f":"Questions!OWU4","v":0},{"$f":"Questions!OWV4","v":0},{"$f":"Questions!OWW4","v":0},{"$f":"Questions!OWX4","v":0},{"$f":"Questions!OWY4","v":0},{"$f":"Questions!OWZ4","v":0},{"$f":"Questions!OXA4","v":0},{"$f":"Questions!OXB4","v":0},{"$f":"Questions!OXC4","v":0},{"$f":"Questions!OXD4","v":0},{"$f":"Questions!OXE4","v":0},{"$f":"Questions!OXF4","v":0},{"$f":"Questions!OXG4","v":0},{"$f":"Questions!OXH4","v":0},{"$f":"Questions!OXI4","v":0},{"$f":"Questions!OXJ4","v":0},{"$f":"Questions!OXK4","v":0},{"$f":"Questions!OXL4","v":0},{"$f":"Questions!OXM4","v":0},{"$f":"Questions!OXN4","v":0},{"$f":"Questions!OXO4","v":0},{"$f":"Questions!OXP4","v":0},{"$f":"Questions!OXQ4","v":0},{"$f":"Questions!OXR4","v":0},{"$f":"Questions!OXS4","v":0},{"$f":"Questions!OXT4","v":0},{"$f":"Questions!OXU4","v":0},{"$f":"Questions!OXV4","v":0},{"$f":"Questions!OXW4","v":0},{"$f":"Questions!OXX4","v":0},{"$f":"Questions!OXY4","v":0},{"$f":"Questions!OXZ4","v":0},{"$f":"Questions!OYA4","v":0},{"$f":"Questions!OYB4","v":0},{"$f":"Questions!OYC4","v":0},{"$f":"Questions!OYD4","v":0},{"$f":"Questions!OYE4","v":0},{"$f":"Questions!OYF4","v":0},{"$f":"Questions!OYG4","v":0},{"$f":"Questions!OYH4","v":0},{"$f":"Questions!OYI4","v":0},{"$f":"Questions!OYJ4","v":0},{"$f":"Questions!OYK4","v":0},{"$f":"Questions!OYL4","v":0},{"$f":"Questions!OYM4","v":0},{"$f":"Questions!OYN4","v":0},{"$f":"Questions!OYO4","v":0},{"$f":"Questions!OYP4","v":0},{"$f":"Questions!OYQ4","v":0},{"$f":"Questions!OYR4","v":0},{"$f":"Questions!OYS4","v":0},{"$f":"Questions!OYT4","v":0},{"$f":"Questions!OYU4","v":0},{"$f":"Questions!OYV4","v":0},{"$f":"Questions!OYW4","v":0},{"$f":"Questions!OYX4","v":0},{"$f":"Questions!OYY4","v":0},{"$f":"Questions!OYZ4","v":0},{"$f":"Questions!OZA4","v":0},{"$f":"Questions!OZB4","v":0},{"$f":"Questions!OZC4","v":0},{"$f":"Questions!OZD4","v":0},{"$f":"Questions!OZE4","v":0},{"$f":"Questions!OZF4","v":0},{"$f":"Questions!OZG4","v":0},{"$f":"Questions!OZH4","v":0},{"$f":"Questions!OZI4","v":0},{"$f":"Questions!OZJ4","v":0},{"$f":"Questions!OZK4","v":0},{"$f":"Questions!OZL4","v":0},{"$f":"Questions!OZM4","v":0},{"$f":"Questions!OZN4","v":0},{"$f":"Questions!OZO4","v":0},{"$f":"Questions!OZP4","v":0},{"$f":"Questions!OZQ4","v":0},{"$f":"Questions!OZR4","v":0},{"$f":"Questions!OZS4","v":0},{"$f":"Questions!OZT4","v":0},{"$f":"Questions!OZU4","v":0},{"$f":"Questions!OZV4","v":0},{"$f":"Questions!OZW4","v":0},{"$f":"Questions!OZX4","v":0},{"$f":"Questions!OZY4","v":0},{"$f":"Questions!OZZ4","v":0},{"$f":"Questions!PAA4","v":0},{"$f":"Questions!PAB4","v":0},{"$f":"Questions!PAC4","v":0},{"$f":"Questions!PAD4","v":0},{"$f":"Questions!PAE4","v":0},{"$f":"Questions!PAF4","v":0},{"$f":"Questions!PAG4","v":0},{"$f":"Questions!PAH4","v":0},{"$f":"Questions!PAI4","v":0},{"$f":"Questions!PAJ4","v":0},{"$f":"Questions!PAK4","v":0},{"$f":"Questions!PAL4","v":0},{"$f":"Questions!PAM4","v":0},{"$f":"Questions!PAN4","v":0},{"$f":"Questions!PAO4","v":0},{"$f":"Questions!PAP4","v":0},{"$f":"Questions!PAQ4","v":0},{"$f":"Questions!PAR4","v":0},{"$f":"Questions!PAS4","v":0},{"$f":"Questions!PAT4","v":0},{"$f":"Questions!PAU4","v":0},{"$f":"Questions!PAV4","v":0},{"$f":"Questions!PAW4","v":0},{"$f":"Questions!PAX4","v":0},{"$f":"Questions!PAY4","v":0},{"$f":"Questions!PAZ4","v":0},{"$f":"Questions!PBA4","v":0},{"$f":"Questions!PBB4","v":0},{"$f":"Questions!PBC4","v":0},{"$f":"Questions!PBD4","v":0},{"$f":"Questions!PBE4","v":0},{"$f":"Questions!PBF4","v":0},{"$f":"Questions!PBG4","v":0},{"$f":"Questions!PBH4","v":0},{"$f":"Questions!PBI4","v":0},{"$f":"Questions!PBJ4","v":0},{"$f":"Questions!PBK4","v":0},{"$f":"Questions!PBL4","v":0},{"$f":"Questions!PBM4","v":0},{"$f":"Questions!PBN4","v":0},{"$f":"Questions!PBO4","v":0},{"$f":"Questions!PBP4","v":0},{"$f":"Questions!PBQ4","v":0},{"$f":"Questions!PBR4","v":0},{"$f":"Questions!PBS4","v":0},{"$f":"Questions!PBT4","v":0},{"$f":"Questions!PBU4","v":0},{"$f":"Questions!PBV4","v":0},{"$f":"Questions!PBW4","v":0},{"$f":"Questions!PBX4","v":0},{"$f":"Questions!PBY4","v":0},{"$f":"Questions!PBZ4","v":0},{"$f":"Questions!PCA4","v":0},{"$f":"Questions!PCB4","v":0},{"$f":"Questions!PCC4","v":0},{"$f":"Questions!PCD4","v":0},{"$f":"Questions!PCE4","v":0},{"$f":"Questions!PCF4","v":0},{"$f":"Questions!PCG4","v":0},{"$f":"Questions!PCH4","v":0},{"$f":"Questions!PCI4","v":0},{"$f":"Questions!PCJ4","v":0},{"$f":"Questions!PCK4","v":0},{"$f":"Questions!PCL4","v":0},{"$f":"Questions!PCM4","v":0},{"$f":"Questions!PCN4","v":0},{"$f":"Questions!PCO4","v":0},{"$f":"Questions!PCP4","v":0},{"$f":"Questions!PCQ4","v":0},{"$f":"Questions!PCR4","v":0},{"$f":"Questions!PCS4","v":0},{"$f":"Questions!PCT4","v":0},{"$f":"Questions!PCU4","v":0},{"$f":"Questions!PCV4","v":0},{"$f":"Questions!PCW4","v":0},{"$f":"Questions!PCX4","v":0},{"$f":"Questions!PCY4","v":0},{"$f":"Questions!PCZ4","v":0},{"$f":"Questions!PDA4","v":0},{"$f":"Questions!PDB4","v":0},{"$f":"Questions!PDC4","v":0},{"$f":"Questions!PDD4","v":0},{"$f":"Questions!PDE4","v":0},{"$f":"Questions!PDF4","v":0},{"$f":"Questions!PDG4","v":0},{"$f":"Questions!PDH4","v":0},{"$f":"Questions!PDI4","v":0},{"$f":"Questions!PDJ4","v":0},{"$f":"Questions!PDK4","v":0},{"$f":"Questions!PDL4","v":0},{"$f":"Questions!PDM4","v":0},{"$f":"Questions!PDN4","v":0},{"$f":"Questions!PDO4","v":0},{"$f":"Questions!PDP4","v":0},{"$f":"Questions!PDQ4","v":0},{"$f":"Questions!PDR4","v":0},{"$f":"Questions!PDS4","v":0},{"$f":"Questions!PDT4","v":0},{"$f":"Questions!PDU4","v":0},{"$f":"Questions!PDV4","v":0},{"$f":"Questions!PDW4","v":0},{"$f":"Questions!PDX4","v":0},{"$f":"Questions!PDY4","v":0},{"$f":"Questions!PDZ4","v":0},{"$f":"Questions!PEA4","v":0},{"$f":"Questions!PEB4","v":0},{"$f":"Questions!PEC4","v":0},{"$f":"Questions!PED4","v":0},{"$f":"Questions!PEE4","v":0},{"$f":"Questions!PEF4","v":0},{"$f":"Questions!PEG4","v":0},{"$f":"Questions!PEH4","v":0},{"$f":"Questions!PEI4","v":0},{"$f":"Questions!PEJ4","v":0},{"$f":"Questions!PEK4","v":0},{"$f":"Questions!PEL4","v":0},{"$f":"Questions!PEM4","v":0},{"$f":"Questions!PEN4","v":0},{"$f":"Questions!PEO4","v":0},{"$f":"Questions!PEP4","v":0},{"$f":"Questions!PEQ4","v":0},{"$f":"Questions!PER4","v":0},{"$f":"Questions!PES4","v":0},{"$f":"Questions!PET4","v":0},{"$f":"Questions!PEU4","v":0},{"$f":"Questions!PEV4","v":0},{"$f":"Questions!PEW4","v":0},{"$f":"Questions!PEX4","v":0},{"$f":"Questions!PEY4","v":0},{"$f":"Questions!PEZ4","v":0},{"$f":"Questions!PFA4","v":0},{"$f":"Questions!PFB4","v":0},{"$f":"Questions!PFC4","v":0},{"$f":"Questions!PFD4","v":0},{"$f":"Questions!PFE4","v":0},{"$f":"Questions!PFF4","v":0},{"$f":"Questions!PFG4","v":0},{"$f":"Questions!PFH4","v":0},{"$f":"Questions!PFI4","v":0},{"$f":"Questions!PFJ4","v":0},{"$f":"Questions!PFK4","v":0},{"$f":"Questions!PFL4","v":0},{"$f":"Questions!PFM4","v":0},{"$f":"Questions!PFN4","v":0},{"$f":"Questions!PFO4","v":0},{"$f":"Questions!PFP4","v":0},{"$f":"Questions!PFQ4","v":0},{"$f":"Questions!PFR4","v":0},{"$f":"Questions!PFS4","v":0},{"$f":"Questions!PFT4","v":0},{"$f":"Questions!PFU4","v":0},{"$f":"Questions!PFV4","v":0},{"$f":"Questions!PFW4","v":0},{"$f":"Questions!PFX4","v":0},{"$f":"Questions!PFY4","v":0},{"$f":"Questions!PFZ4","v":0},{"$f":"Questions!PGA4","v":0},{"$f":"Questions!PGB4","v":0},{"$f":"Questions!PGC4","v":0},{"$f":"Questions!PGD4","v":0},{"$f":"Questions!PGE4","v":0},{"$f":"Questions!PGF4","v":0},{"$f":"Questions!PGG4","v":0},{"$f":"Questions!PGH4","v":0},{"$f":"Questions!PGI4","v":0},{"$f":"Questions!PGJ4","v":0},{"$f":"Questions!PGK4","v":0},{"$f":"Questions!PGL4","v":0},{"$f":"Questions!PGM4","v":0},{"$f":"Questions!PGN4","v":0},{"$f":"Questions!PGO4","v":0},{"$f":"Questions!PGP4","v":0},{"$f":"Questions!PGQ4","v":0},{"$f":"Questions!PGR4","v":0},{"$f":"Questions!PGS4","v":0},{"$f":"Questions!PGT4","v":0},{"$f":"Questions!PGU4","v":0},{"$f":"Questions!PGV4","v":0},{"$f":"Questions!PGW4","v":0},{"$f":"Questions!PGX4","v":0},{"$f":"Questions!PGY4","v":0},{"$f":"Questions!PGZ4","v":0},{"$f":"Questions!PHA4","v":0},{"$f":"Questions!PHB4","v":0},{"$f":"Questions!PHC4","v":0},{"$f":"Questions!PHD4","v":0},{"$f":"Questions!PHE4","v":0},{"$f":"Questions!PHF4","v":0},{"$f":"Questions!PHG4","v":0},{"$f":"Questions!PHH4","v":0},{"$f":"Questions!PHI4","v":0},{"$f":"Questions!PHJ4","v":0},{"$f":"Questions!PHK4","v":0},{"$f":"Questions!PHL4","v":0},{"$f":"Questions!PHM4","v":0},{"$f":"Questions!PHN4","v":0},{"$f":"Questions!PHO4","v":0},{"$f":"Questions!PHP4","v":0},{"$f":"Questions!PHQ4","v":0},{"$f":"Questions!PHR4","v":0},{"$f":"Questions!PHS4","v":0},{"$f":"Questions!PHT4","v":0},{"$f":"Questions!PHU4","v":0},{"$f":"Questions!PHV4","v":0},{"$f":"Questions!PHW4","v":0},{"$f":"Questions!PHX4","v":0},{"$f":"Questions!PHY4","v":0},{"$f":"Questions!PHZ4","v":0},{"$f":"Questions!PIA4","v":0},{"$f":"Questions!PIB4","v":0},{"$f":"Questions!PIC4","v":0},{"$f":"Questions!PID4","v":0},{"$f":"Questions!PIE4","v":0},{"$f":"Questions!PIF4","v":0},{"$f":"Questions!PIG4","v":0},{"$f":"Questions!PIH4","v":0},{"$f":"Questions!PII4","v":0},{"$f":"Questions!PIJ4","v":0},{"$f":"Questions!PIK4","v":0},{"$f":"Questions!PIL4","v":0},{"$f":"Questions!PIM4","v":0},{"$f":"Questions!PIN4","v":0},{"$f":"Questions!PIO4","v":0},{"$f":"Questions!PIP4","v":0},{"$f":"Questions!PIQ4","v":0},{"$f":"Questions!PIR4","v":0},{"$f":"Questions!PIS4","v":0},{"$f":"Questions!PIT4","v":0},{"$f":"Questions!PIU4","v":0},{"$f":"Questions!PIV4","v":0},{"$f":"Questions!PIW4","v":0},{"$f":"Questions!PIX4","v":0},{"$f":"Questions!PIY4","v":0},{"$f":"Questions!PIZ4","v":0},{"$f":"Questions!PJA4","v":0},{"$f":"Questions!PJB4","v":0},{"$f":"Questions!PJC4","v":0},{"$f":"Questions!PJD4","v":0},{"$f":"Questions!PJE4","v":0},{"$f":"Questions!PJF4","v":0},{"$f":"Questions!PJG4","v":0},{"$f":"Questions!PJH4","v":0},{"$f":"Questions!PJI4","v":0},{"$f":"Questions!PJJ4","v":0},{"$f":"Questions!PJK4","v":0},{"$f":"Questions!PJL4","v":0},{"$f":"Questions!PJM4","v":0},{"$f":"Questions!PJN4","v":0},{"$f":"Questions!PJO4","v":0},{"$f":"Questions!PJP4","v":0},{"$f":"Questions!PJQ4","v":0},{"$f":"Questions!PJR4","v":0},{"$f":"Questions!PJS4","v":0},{"$f":"Questions!PJT4","v":0},{"$f":"Questions!PJU4","v":0},{"$f":"Questions!PJV4","v":0},{"$f":"Questions!PJW4","v":0},{"$f":"Questions!PJX4","v":0},{"$f":"Questions!PJY4","v":0},{"$f":"Questions!PJZ4","v":0},{"$f":"Questions!PKA4","v":0},{"$f":"Questions!PKB4","v":0},{"$f":"Questions!PKC4","v":0},{"$f":"Questions!PKD4","v":0},{"$f":"Questions!PKE4","v":0},{"$f":"Questions!PKF4","v":0},{"$f":"Questions!PKG4","v":0},{"$f":"Questions!PKH4","v":0},{"$f":"Questions!PKI4","v":0},{"$f":"Questions!PKJ4","v":0},{"$f":"Questions!PKK4","v":0},{"$f":"Questions!PKL4","v":0},{"$f":"Questions!PKM4","v":0},{"$f":"Questions!PKN4","v":0},{"$f":"Questions!PKO4","v":0},{"$f":"Questions!PKP4","v":0},{"$f":"Questions!PKQ4","v":0},{"$f":"Questions!PKR4","v":0},{"$f":"Questions!PKS4","v":0},{"$f":"Questions!PKT4","v":0},{"$f":"Questions!PKU4","v":0},{"$f":"Questions!PKV4","v":0},{"$f":"Questions!PKW4","v":0},{"$f":"Questions!PKX4","v":0},{"$f":"Questions!PKY4","v":0},{"$f":"Questions!PKZ4","v":0},{"$f":"Questions!PLA4","v":0},{"$f":"Questions!PLB4","v":0},{"$f":"Questions!PLC4","v":0},{"$f":"Questions!PLD4","v":0},{"$f":"Questions!PLE4","v":0},{"$f":"Questions!PLF4","v":0},{"$f":"Questions!PLG4","v":0},{"$f":"Questions!PLH4","v":0},{"$f":"Questions!PLI4","v":0},{"$f":"Questions!PLJ4","v":0},{"$f":"Questions!PLK4","v":0},{"$f":"Questions!PLL4","v":0},{"$f":"Questions!PLM4","v":0},{"$f":"Questions!PLN4","v":0},{"$f":"Questions!PLO4","v":0},{"$f":"Questions!PLP4","v":0},{"$f":"Questions!PLQ4","v":0},{"$f":"Questions!PLR4","v":0},{"$f":"Questions!PLS4","v":0},{"$f":"Questions!PLT4","v":0},{"$f":"Questions!PLU4","v":0},{"$f":"Questions!PLV4","v":0},{"$f":"Questions!PLW4","v":0},{"$f":"Questions!PLX4","v":0},{"$f":"Questions!PLY4","v":0},{"$f":"Questions!PLZ4","v":0},{"$f":"Questions!PMA4","v":0},{"$f":"Questions!PMB4","v":0},{"$f":"Questions!PMC4","v":0},{"$f":"Questions!PMD4","v":0},{"$f":"Questions!PME4","v":0},{"$f":"Questions!PMF4","v":0},{"$f":"Questions!PMG4","v":0},{"$f":"Questions!PMH4","v":0},{"$f":"Questions!PMI4","v":0},{"$f":"Questions!PMJ4","v":0},{"$f":"Questions!PMK4","v":0},{"$f":"Questions!PML4","v":0},{"$f":"Questions!PMM4","v":0},{"$f":"Questions!PMN4","v":0},{"$f":"Questions!PMO4","v":0},{"$f":"Questions!PMP4","v":0},{"$f":"Questions!PMQ4","v":0},{"$f":"Questions!PMR4","v":0},{"$f":"Questions!PMS4","v":0},{"$f":"Questions!PMT4","v":0},{"$f":"Questions!PMU4","v":0},{"$f":"Questions!PMV4","v":0},{"$f":"Questions!PMW4","v":0},{"$f":"Questions!PMX4","v":0},{"$f":"Questions!PMY4","v":0},{"$f":"Questions!PMZ4","v":0},{"$f":"Questions!PNA4","v":0},{"$f":"Questions!PNB4","v":0},{"$f":"Questions!PNC4","v":0},{"$f":"Questions!PND4","v":0},{"$f":"Questions!PNE4","v":0},{"$f":"Questions!PNF4","v":0},{"$f":"Questions!PNG4","v":0},{"$f":"Questions!PNH4","v":0},{"$f":"Questions!PNI4","v":0},{"$f":"Questions!PNJ4","v":0},{"$f":"Questions!PNK4","v":0},{"$f":"Questions!PNL4","v":0},{"$f":"Questions!PNM4","v":0},{"$f":"Questions!PNN4","v":0},{"$f":"Questions!PNO4","v":0},{"$f":"Questions!PNP4","v":0},{"$f":"Questions!PNQ4","v":0},{"$f":"Questions!PNR4","v":0},{"$f":"Questions!PNS4","v":0},{"$f":"Questions!PNT4","v":0},{"$f":"Questions!PNU4","v":0},{"$f":"Questions!PNV4","v":0},{"$f":"Questions!PNW4","v":0},{"$f":"Questions!PNX4","v":0},{"$f":"Questions!PNY4","v":0},{"$f":"Questions!PNZ4","v":0},{"$f":"Questions!POA4","v":0},{"$f":"Questions!POB4","v":0},{"$f":"Questions!POC4","v":0},{"$f":"Questions!POD4","v":0},{"$f":"Questions!POE4","v":0},{"$f":"Questions!POF4","v":0},{"$f":"Questions!POG4","v":0},{"$f":"Questions!POH4","v":0},{"$f":"Questions!POI4","v":0},{"$f":"Questions!POJ4","v":0},{"$f":"Questions!POK4","v":0},{"$f":"Questions!POL4","v":0},{"$f":"Questions!POM4","v":0},{"$f":"Questions!PON4","v":0},{"$f":"Questions!POO4","v":0},{"$f":"Questions!POP4","v":0},{"$f":"Questions!POQ4","v":0},{"$f":"Questions!POR4","v":0},{"$f":"Questions!POS4","v":0},{"$f":"Questions!POT4","v":0},{"$f":"Questions!POU4","v":0},{"$f":"Questions!POV4","v":0},{"$f":"Questions!POW4","v":0},{"$f":"Questions!POX4","v":0},{"$f":"Questions!POY4","v":0},{"$f":"Questions!POZ4","v":0},{"$f":"Questions!PPA4","v":0},{"$f":"Questions!PPB4","v":0},{"$f":"Questions!PPC4","v":0},{"$f":"Questions!PPD4","v":0},{"$f":"Questions!PPE4","v":0},{"$f":"Questions!PPF4","v":0},{"$f":"Questions!PPG4","v":0},{"$f":"Questions!PPH4","v":0},{"$f":"Questions!PPI4","v":0},{"$f":"Questions!PPJ4","v":0},{"$f":"Questions!PPK4","v":0},{"$f":"Questions!PPL4","v":0},{"$f":"Questions!PPM4","v":0},{"$f":"Questions!PPN4","v":0},{"$f":"Questions!PPO4","v":0},{"$f":"Questions!PPP4","v":0},{"$f":"Questions!PPQ4","v":0},{"$f":"Questions!PPR4","v":0},{"$f":"Questions!PPS4","v":0},{"$f":"Questions!PPT4","v":0},{"$f":"Questions!PPU4","v":0},{"$f":"Questions!PPV4","v":0},{"$f":"Questions!PPW4","v":0},{"$f":"Questions!PPX4","v":0},{"$f":"Questions!PPY4","v":0},{"$f":"Questions!PPZ4","v":0},{"$f":"Questions!PQA4","v":0},{"$f":"Questions!PQB4","v":0},{"$f":"Questions!PQC4","v":0},{"$f":"Questions!PQD4","v":0},{"$f":"Questions!PQE4","v":0},{"$f":"Questions!PQF4","v":0},{"$f":"Questions!PQG4","v":0},{"$f":"Questions!PQH4","v":0},{"$f":"Questions!PQI4","v":0},{"$f":"Questions!PQJ4","v":0},{"$f":"Questions!PQK4","v":0},{"$f":"Questions!PQL4","v":0},{"$f":"Questions!PQM4","v":0},{"$f":"Questions!PQN4","v":0},{"$f":"Questions!PQO4","v":0},{"$f":"Questions!PQP4","v":0},{"$f":"Questions!PQQ4","v":0},{"$f":"Questions!PQR4","v":0},{"$f":"Questions!PQS4","v":0},{"$f":"Questions!PQT4","v":0},{"$f":"Questions!PQU4","v":0},{"$f":"Questions!PQV4","v":0},{"$f":"Questions!PQW4","v":0},{"$f":"Questions!PQX4","v":0},{"$f":"Questions!PQY4","v":0},{"$f":"Questions!PQZ4","v":0},{"$f":"Questions!PRA4","v":0},{"$f":"Questions!PRB4","v":0},{"$f":"Questions!PRC4","v":0},{"$f":"Questions!PRD4","v":0},{"$f":"Questions!PRE4","v":0},{"$f":"Questions!PRF4","v":0},{"$f":"Questions!PRG4","v":0},{"$f":"Questions!PRH4","v":0},{"$f":"Questions!PRI4","v":0},{"$f":"Questions!PRJ4","v":0},{"$f":"Questions!PRK4","v":0},{"$f":"Questions!PRL4","v":0},{"$f":"Questions!PRM4","v":0},{"$f":"Questions!PRN4","v":0},{"$f":"Questions!PRO4","v":0},{"$f":"Questions!PRP4","v":0},{"$f":"Questions!PRQ4","v":0},{"$f":"Questions!PRR4","v":0},{"$f":"Questions!PRS4","v":0},{"$f":"Questions!PRT4","v":0},{"$f":"Questions!PRU4","v":0},{"$f":"Questions!PRV4","v":0},{"$f":"Questions!PRW4","v":0},{"$f":"Questions!PRX4","v":0},{"$f":"Questions!PRY4","v":0},{"$f":"Questions!PRZ4","v":0},{"$f":"Questions!PSA4","v":0},{"$f":"Questions!PSB4","v":0},{"$f":"Questions!PSC4","v":0},{"$f":"Questions!PSD4","v":0},{"$f":"Questions!PSE4","v":0},{"$f":"Questions!PSF4","v":0},{"$f":"Questions!PSG4","v":0},{"$f":"Questions!PSH4","v":0},{"$f":"Questions!PSI4","v":0},{"$f":"Questions!PSJ4","v":0},{"$f":"Questions!PSK4","v":0},{"$f":"Questions!PSL4","v":0},{"$f":"Questions!PSM4","v":0},{"$f":"Questions!PSN4","v":0},{"$f":"Questions!PSO4","v":0},{"$f":"Questions!PSP4","v":0},{"$f":"Questions!PSQ4","v":0},{"$f":"Questions!PSR4","v":0},{"$f":"Questions!PSS4","v":0},{"$f":"Questions!PST4","v":0},{"$f":"Questions!PSU4","v":0},{"$f":"Questions!PSV4","v":0},{"$f":"Questions!PSW4","v":0},{"$f":"Questions!PSX4","v":0},{"$f":"Questions!PSY4","v":0},{"$f":"Questions!PSZ4","v":0},{"$f":"Questions!PTA4","v":0},{"$f":"Questions!PTB4","v":0},{"$f":"Questions!PTC4","v":0},{"$f":"Questions!PTD4","v":0},{"$f":"Questions!PTE4","v":0},{"$f":"Questions!PTF4","v":0},{"$f":"Questions!PTG4","v":0},{"$f":"Questions!PTH4","v":0},{"$f":"Questions!PTI4","v":0},{"$f":"Questions!PTJ4","v":0},{"$f":"Questions!PTK4","v":0},{"$f":"Questions!PTL4","v":0},{"$f":"Questions!PTM4","v":0},{"$f":"Questions!PTN4","v":0},{"$f":"Questions!PTO4","v":0},{"$f":"Questions!PTP4","v":0},{"$f":"Questions!PTQ4","v":0},{"$f":"Questions!PTR4","v":0},{"$f":"Questions!PTS4","v":0},{"$f":"Questions!PTT4","v":0},{"$f":"Questions!PTU4","v":0},{"$f":"Questions!PTV4","v":0},{"$f":"Questions!PTW4","v":0},{"$f":"Questions!PTX4","v":0},{"$f":"Questions!PTY4","v":0},{"$f":"Questions!PTZ4","v":0},{"$f":"Questions!PUA4","v":0},{"$f":"Questions!PUB4","v":0},{"$f":"Questions!PUC4","v":0},{"$f":"Questions!PUD4","v":0},{"$f":"Questions!PUE4","v":0},{"$f":"Questions!PUF4","v":0},{"$f":"Questions!PUG4","v":0},{"$f":"Questions!PUH4","v":0},{"$f":"Questions!PUI4","v":0},{"$f":"Questions!PUJ4","v":0},{"$f":"Questions!PUK4","v":0},{"$f":"Questions!PUL4","v":0},{"$f":"Questions!PUM4","v":0},{"$f":"Questions!PUN4","v":0},{"$f":"Questions!PUO4","v":0},{"$f":"Questions!PUP4","v":0},{"$f":"Questions!PUQ4","v":0},{"$f":"Questions!PUR4","v":0},{"$f":"Questions!PUS4","v":0},{"$f":"Questions!PUT4","v":0},{"$f":"Questions!PUU4","v":0},{"$f":"Questions!PUV4","v":0},{"$f":"Questions!PUW4","v":0},{"$f":"Questions!PUX4","v":0},{"$f":"Questions!PUY4","v":0},{"$f":"Questions!PUZ4","v":0},{"$f":"Questions!PVA4","v":0},{"$f":"Questions!PVB4","v":0},{"$f":"Questions!PVC4","v":0},{"$f":"Questions!PVD4","v":0},{"$f":"Questions!PVE4","v":0},{"$f":"Questions!PVF4","v":0},{"$f":"Questions!PVG4","v":0},{"$f":"Questions!PVH4","v":0},{"$f":"Questions!PVI4","v":0},{"$f":"Questions!PVJ4","v":0},{"$f":"Questions!PVK4","v":0},{"$f":"Questions!PVL4","v":0},{"$f":"Questions!PVM4","v":0},{"$f":"Questions!PVN4","v":0},{"$f":"Questions!PVO4","v":0},{"$f":"Questions!PVP4","v":0},{"$f":"Questions!PVQ4","v":0},{"$f":"Questions!PVR4","v":0},{"$f":"Questions!PVS4","v":0},{"$f":"Questions!PVT4","v":0},{"$f":"Questions!PVU4","v":0},{"$f":"Questions!PVV4","v":0},{"$f":"Questions!PVW4","v":0},{"$f":"Questions!PVX4","v":0},{"$f":"Questions!PVY4","v":0},{"$f":"Questions!PVZ4","v":0},{"$f":"Questions!PWA4","v":0},{"$f":"Questions!PWB4","v":0},{"$f":"Questions!PWC4","v":0},{"$f":"Questions!PWD4","v":0},{"$f":"Questions!PWE4","v":0},{"$f":"Questions!PWF4","v":0},{"$f":"Questions!PWG4","v":0},{"$f":"Questions!PWH4","v":0},{"$f":"Questions!PWI4","v":0},{"$f":"Questions!PWJ4","v":0},{"$f":"Questions!PWK4","v":0},{"$f":"Questions!PWL4","v":0},{"$f":"Questions!PWM4","v":0},{"$f":"Questions!PWN4","v":0},{"$f":"Questions!PWO4","v":0},{"$f":"Questions!PWP4","v":0},{"$f":"Questions!PWQ4","v":0},{"$f":"Questions!PWR4","v":0},{"$f":"Questions!PWS4","v":0},{"$f":"Questions!PWT4","v":0},{"$f":"Questions!PWU4","v":0},{"$f":"Questions!PWV4","v":0},{"$f":"Questions!PWW4","v":0},{"$f":"Questions!PWX4","v":0},{"$f":"Questions!PWY4","v":0},{"$f":"Questions!PWZ4","v":0},{"$f":"Questions!PXA4","v":0},{"$f":"Questions!PXB4","v":0},{"$f":"Questions!PXC4","v":0},{"$f":"Questions!PXD4","v":0},{"$f":"Questions!PXE4","v":0},{"$f":"Questions!PXF4","v":0},{"$f":"Questions!PXG4","v":0},{"$f":"Questions!PXH4","v":0},{"$f":"Questions!PXI4","v":0},{"$f":"Questions!PXJ4","v":0},{"$f":"Questions!PXK4","v":0},{"$f":"Questions!PXL4","v":0},{"$f":"Questions!PXM4","v":0},{"$f":"Questions!PXN4","v":0},{"$f":"Questions!PXO4","v":0},{"$f":"Questions!PXP4","v":0},{"$f":"Questions!PXQ4","v":0},{"$f":"Questions!PXR4","v":0},{"$f":"Questions!PXS4","v":0},{"$f":"Questions!PXT4","v":0},{"$f":"Questions!PXU4","v":0},{"$f":"Questions!PXV4","v":0},{"$f":"Questions!PXW4","v":0},{"$f":"Questions!PXX4","v":0},{"$f":"Questions!PXY4","v":0},{"$f":"Questions!PXZ4","v":0},{"$f":"Questions!PYA4","v":0},{"$f":"Questions!PYB4","v":0},{"$f":"Questions!PYC4","v":0},{"$f":"Questions!PYD4","v":0},{"$f":"Questions!PYE4","v":0},{"$f":"Questions!PYF4","v":0},{"$f":"Questions!PYG4","v":0},{"$f":"Questions!PYH4","v":0},{"$f":"Questions!PYI4","v":0},{"$f":"Questions!PYJ4","v":0},{"$f":"Questions!PYK4","v":0},{"$f":"Questions!PYL4","v":0},{"$f":"Questions!PYM4","v":0},{"$f":"Questions!PYN4","v":0},{"$f":"Questions!PYO4","v":0},{"$f":"Questions!PYP4","v":0},{"$f":"Questions!PYQ4","v":0},{"$f":"Questions!PYR4","v":0},{"$f":"Questions!PYS4","v":0},{"$f":"Questions!PYT4","v":0},{"$f":"Questions!PYU4","v":0},{"$f":"Questions!PYV4","v":0},{"$f":"Questions!PYW4","v":0},{"$f":"Questions!PYX4","v":0},{"$f":"Questions!PYY4","v":0},{"$f":"Questions!PYZ4","v":0},{"$f":"Questions!PZA4","v":0},{"$f":"Questions!PZB4","v":0},{"$f":"Questions!PZC4","v":0},{"$f":"Questions!PZD4","v":0},{"$f":"Questions!PZE4","v":0},{"$f":"Questions!PZF4","v":0},{"$f":"Questions!PZG4","v":0},{"$f":"Questions!PZH4","v":0},{"$f":"Questions!PZI4","v":0},{"$f":"Questions!PZJ4","v":0},{"$f":"Questions!PZK4","v":0},{"$f":"Questions!PZL4","v":0},{"$f":"Questions!PZM4","v":0},{"$f":"Questions!PZN4","v":0},{"$f":"Questions!PZO4","v":0},{"$f":"Questions!PZP4","v":0},{"$f":"Questions!PZQ4","v":0},{"$f":"Questions!PZR4","v":0},{"$f":"Questions!PZS4","v":0},{"$f":"Questions!PZT4","v":0},{"$f":"Questions!PZU4","v":0},{"$f":"Questions!PZV4","v":0},{"$f":"Questions!PZW4","v":0},{"$f":"Questions!PZX4","v":0},{"$f":"Questions!PZY4","v":0},{"$f":"Questions!PZZ4","v":0},{"$f":"Questions!QAA4","v":0},{"$f":"Questions!QAB4","v":0},{"$f":"Questions!QAC4","v":0},{"$f":"Questions!QAD4","v":0},{"$f":"Questions!QAE4","v":0},{"$f":"Questions!QAF4","v":0},{"$f":"Questions!QAG4","v":0},{"$f":"Questions!QAH4","v":0},{"$f":"Questions!QAI4","v":0},{"$f":"Questions!QAJ4","v":0},{"$f":"Questions!QAK4","v":0},{"$f":"Questions!QAL4","v":0},{"$f":"Questions!QAM4","v":0},{"$f":"Questions!QAN4","v":0},{"$f":"Questions!QAO4","v":0},{"$f":"Questions!QAP4","v":0},{"$f":"Questions!QAQ4","v":0},{"$f":"Questions!QAR4","v":0},{"$f":"Questions!QAS4","v":0},{"$f":"Questions!QAT4","v":0},{"$f":"Questions!QAU4","v":0},{"$f":"Questions!QAV4","v":0},{"$f":"Questions!QAW4","v":0},{"$f":"Questions!QAX4","v":0},{"$f":"Questions!QAY4","v":0},{"$f":"Questions!QAZ4","v":0},{"$f":"Questions!QBA4","v":0},{"$f":"Questions!QBB4","v":0},{"$f":"Questions!QBC4","v":0},{"$f":"Questions!QBD4","v":0},{"$f":"Questions!QBE4","v":0},{"$f":"Questions!QBF4","v":0},{"$f":"Questions!QBG4","v":0},{"$f":"Questions!QBH4","v":0},{"$f":"Questions!QBI4","v":0},{"$f":"Questions!QBJ4","v":0},{"$f":"Questions!QBK4","v":0},{"$f":"Questions!QBL4","v":0},{"$f":"Questions!QBM4","v":0},{"$f":"Questions!QBN4","v":0},{"$f":"Questions!QBO4","v":0},{"$f":"Questions!QBP4","v":0},{"$f":"Questions!QBQ4","v":0},{"$f":"Questions!QBR4","v":0},{"$f":"Questions!QBS4","v":0},{"$f":"Questions!QBT4","v":0},{"$f":"Questions!QBU4","v":0},{"$f":"Questions!QBV4","v":0},{"$f":"Questions!QBW4","v":0},{"$f":"Questions!QBX4","v":0},{"$f":"Questions!QBY4","v":0},{"$f":"Questions!QBZ4","v":0},{"$f":"Questions!QCA4","v":0},{"$f":"Questions!QCB4","v":0},{"$f":"Questions!QCC4","v":0},{"$f":"Questions!QCD4","v":0},{"$f":"Questions!QCE4","v":0},{"$f":"Questions!QCF4","v":0},{"$f":"Questions!QCG4","v":0},{"$f":"Questions!QCH4","v":0},{"$f":"Questions!QCI4","v":0},{"$f":"Questions!QCJ4","v":0},{"$f":"Questions!QCK4","v":0},{"$f":"Questions!QCL4","v":0},{"$f":"Questions!QCM4","v":0},{"$f":"Questions!QCN4","v":0},{"$f":"Questions!QCO4","v":0},{"$f":"Questions!QCP4","v":0},{"$f":"Questions!QCQ4","v":0},{"$f":"Questions!QCR4","v":0},{"$f":"Questions!QCS4","v":0},{"$f":"Questions!QCT4","v":0},{"$f":"Questions!QCU4","v":0},{"$f":"Questions!QCV4","v":0},{"$f":"Questions!QCW4","v":0},{"$f":"Questions!QCX4","v":0},{"$f":"Questions!QCY4","v":0},{"$f":"Questions!QCZ4","v":0},{"$f":"Questions!QDA4","v":0},{"$f":"Questions!QDB4","v":0},{"$f":"Questions!QDC4","v":0},{"$f":"Questions!QDD4","v":0},{"$f":"Questions!QDE4","v":0},{"$f":"Questions!QDF4","v":0},{"$f":"Questions!QDG4","v":0},{"$f":"Questions!QDH4","v":0},{"$f":"Questions!QDI4","v":0},{"$f":"Questions!QDJ4","v":0},{"$f":"Questions!QDK4","v":0},{"$f":"Questions!QDL4","v":0},{"$f":"Questions!QDM4","v":0},{"$f":"Questions!QDN4","v":0},{"$f":"Questions!QDO4","v":0},{"$f":"Questions!QDP4","v":0},{"$f":"Questions!QDQ4","v":0},{"$f":"Questions!QDR4","v":0},{"$f":"Questions!QDS4","v":0},{"$f":"Questions!QDT4","v":0},{"$f":"Questions!QDU4","v":0},{"$f":"Questions!QDV4","v":0},{"$f":"Questions!QDW4","v":0},{"$f":"Questions!QDX4","v":0},{"$f":"Questions!QDY4","v":0},{"$f":"Questions!QDZ4","v":0},{"$f":"Questions!QEA4","v":0},{"$f":"Questions!QEB4","v":0},{"$f":"Questions!QEC4","v":0},{"$f":"Questions!QED4","v":0},{"$f":"Questions!QEE4","v":0},{"$f":"Questions!QEF4","v":0},{"$f":"Questions!QEG4","v":0},{"$f":"Questions!QEH4","v":0},{"$f":"Questions!QEI4","v":0},{"$f":"Questions!QEJ4","v":0},{"$f":"Questions!QEK4","v":0},{"$f":"Questions!QEL4","v":0},{"$f":"Questions!QEM4","v":0},{"$f":"Questions!QEN4","v":0},{"$f":"Questions!QEO4","v":0},{"$f":"Questions!QEP4","v":0},{"$f":"Questions!QEQ4","v":0},{"$f":"Questions!QER4","v":0},{"$f":"Questions!QES4","v":0},{"$f":"Questions!QET4","v":0},{"$f":"Questions!QEU4","v":0},{"$f":"Questions!QEV4","v":0},{"$f":"Questions!QEW4","v":0},{"$f":"Questions!QEX4","v":0},{"$f":"Questions!QEY4","v":0},{"$f":"Questions!QEZ4","v":0},{"$f":"Questions!QFA4","v":0},{"$f":"Questions!QFB4","v":0},{"$f":"Questions!QFC4","v":0},{"$f":"Questions!QFD4","v":0},{"$f":"Questions!QFE4","v":0},{"$f":"Questions!QFF4","v":0},{"$f":"Questions!QFG4","v":0},{"$f":"Questions!QFH4","v":0},{"$f":"Questions!QFI4","v":0},{"$f":"Questions!QFJ4","v":0},{"$f":"Questions!QFK4","v":0},{"$f":"Questions!QFL4","v":0},{"$f":"Questions!QFM4","v":0},{"$f":"Questions!QFN4","v":0},{"$f":"Questions!QFO4","v":0},{"$f":"Questions!QFP4","v":0},{"$f":"Questions!QFQ4","v":0},{"$f":"Questions!QFR4","v":0},{"$f":"Questions!QFS4","v":0},{"$f":"Questions!QFT4","v":0},{"$f":"Questions!QFU4","v":0},{"$f":"Questions!QFV4","v":0},{"$f":"Questions!QFW4","v":0},{"$f":"Questions!QFX4","v":0},{"$f":"Questions!QFY4","v":0},{"$f":"Questions!QFZ4","v":0},{"$f":"Questions!QGA4","v":0},{"$f":"Questions!QGB4","v":0},{"$f":"Questions!QGC4","v":0},{"$f":"Questions!QGD4","v":0},{"$f":"Questions!QGE4","v":0},{"$f":"Questions!QGF4","v":0},{"$f":"Questions!QGG4","v":0},{"$f":"Questions!QGH4","v":0},{"$f":"Questions!QGI4","v":0},{"$f":"Questions!QGJ4","v":0},{"$f":"Questions!QGK4","v":0},{"$f":"Questions!QGL4","v":0},{"$f":"Questions!QGM4","v":0},{"$f":"Questions!QGN4","v":0},{"$f":"Questions!QGO4","v":0},{"$f":"Questions!QGP4","v":0},{"$f":"Questions!QGQ4","v":0},{"$f":"Questions!QGR4","v":0},{"$f":"Questions!QGS4","v":0},{"$f":"Questions!QGT4","v":0},{"$f":"Questions!QGU4","v":0},{"$f":"Questions!QGV4","v":0},{"$f":"Questions!QGW4","v":0},{"$f":"Questions!QGX4","v":0},{"$f":"Questions!QGY4","v":0},{"$f":"Questions!QGZ4","v":0},{"$f":"Questions!QHA4","v":0},{"$f":"Questions!QHB4","v":0},{"$f":"Questions!QHC4","v":0},{"$f":"Questions!QHD4","v":0},{"$f":"Questions!QHE4","v":0},{"$f":"Questions!QHF4","v":0},{"$f":"Questions!QHG4","v":0},{"$f":"Questions!QHH4","v":0},{"$f":"Questions!QHI4","v":0},{"$f":"Questions!QHJ4","v":0},{"$f":"Questions!QHK4","v":0},{"$f":"Questions!QHL4","v":0},{"$f":"Questions!QHM4","v":0},{"$f":"Questions!QHN4","v":0},{"$f":"Questions!QHO4","v":0},{"$f":"Questions!QHP4","v":0},{"$f":"Questions!QHQ4","v":0},{"$f":"Questions!QHR4","v":0},{"$f":"Questions!QHS4","v":0},{"$f":"Questions!QHT4","v":0},{"$f":"Questions!QHU4","v":0},{"$f":"Questions!QHV4","v":0},{"$f":"Questions!QHW4","v":0},{"$f":"Questions!QHX4","v":0},{"$f":"Questions!QHY4","v":0},{"$f":"Questions!QHZ4","v":0},{"$f":"Questions!QIA4","v":0},{"$f":"Questions!QIB4","v":0},{"$f":"Questions!QIC4","v":0},{"$f":"Questions!QID4","v":0},{"$f":"Questions!QIE4","v":0},{"$f":"Questions!QIF4","v":0},{"$f":"Questions!QIG4","v":0},{"$f":"Questions!QIH4","v":0},{"$f":"Questions!QII4","v":0},{"$f":"Questions!QIJ4","v":0},{"$f":"Questions!QIK4","v":0},{"$f":"Questions!QIL4","v":0},{"$f":"Questions!QIM4","v":0},{"$f":"Questions!QIN4","v":0},{"$f":"Questions!QIO4","v":0},{"$f":"Questions!QIP4","v":0},{"$f":"Questions!QIQ4","v":0},{"$f":"Questions!QIR4","v":0},{"$f":"Questions!QIS4","v":0},{"$f":"Questions!QIT4","v":0},{"$f":"Questions!QIU4","v":0},{"$f":"Questions!QIV4","v":0},{"$f":"Questions!QIW4","v":0},{"$f":"Questions!QIX4","v":0},{"$f":"Questions!QIY4","v":0},{"$f":"Questions!QIZ4","v":0},{"$f":"Questions!QJA4","v":0},{"$f":"Questions!QJB4","v":0},{"$f":"Questions!QJC4","v":0},{"$f":"Questions!QJD4","v":0},{"$f":"Questions!QJE4","v":0},{"$f":"Questions!QJF4","v":0},{"$f":"Questions!QJG4","v":0},{"$f":"Questions!QJH4","v":0},{"$f":"Questions!QJI4","v":0},{"$f":"Questions!QJJ4","v":0},{"$f":"Questions!QJK4","v":0},{"$f":"Questions!QJL4","v":0},{"$f":"Questions!QJM4","v":0},{"$f":"Questions!QJN4","v":0},{"$f":"Questions!QJO4","v":0},{"$f":"Questions!QJP4","v":0},{"$f":"Questions!QJQ4","v":0},{"$f":"Questions!QJR4","v":0},{"$f":"Questions!QJS4","v":0},{"$f":"Questions!QJT4","v":0},{"$f":"Questions!QJU4","v":0},{"$f":"Questions!QJV4","v":0},{"$f":"Questions!QJW4","v":0},{"$f":"Questions!QJX4","v":0},{"$f":"Questions!QJY4","v":0},{"$f":"Questions!QJZ4","v":0},{"$f":"Questions!QKA4","v":0},{"$f":"Questions!QKB4","v":0},{"$f":"Questions!QKC4","v":0},{"$f":"Questions!QKD4","v":0},{"$f":"Questions!QKE4","v":0},{"$f":"Questions!QKF4","v":0},{"$f":"Questions!QKG4","v":0},{"$f":"Questions!QKH4","v":0},{"$f":"Questions!QKI4","v":0},{"$f":"Questions!QKJ4","v":0},{"$f":"Questions!QKK4","v":0},{"$f":"Questions!QKL4","v":0},{"$f":"Questions!QKM4","v":0},{"$f":"Questions!QKN4","v":0},{"$f":"Questions!QKO4","v":0},{"$f":"Questions!QKP4","v":0},{"$f":"Questions!QKQ4","v":0},{"$f":"Questions!QKR4","v":0},{"$f":"Questions!QKS4","v":0},{"$f":"Questions!QKT4","v":0},{"$f":"Questions!QKU4","v":0},{"$f":"Questions!QKV4","v":0},{"$f":"Questions!QKW4","v":0},{"$f":"Questions!QKX4","v":0},{"$f":"Questions!QKY4","v":0},{"$f":"Questions!QKZ4","v":0},{"$f":"Questions!QLA4","v":0},{"$f":"Questions!QLB4","v":0},{"$f":"Questions!QLC4","v":0},{"$f":"Questions!QLD4","v":0},{"$f":"Questions!QLE4","v":0},{"$f":"Questions!QLF4","v":0},{"$f":"Questions!QLG4","v":0},{"$f":"Questions!QLH4","v":0},{"$f":"Questions!QLI4","v":0},{"$f":"Questions!QLJ4","v":0},{"$f":"Questions!QLK4","v":0},{"$f":"Questions!QLL4","v":0},{"$f":"Questions!QLM4","v":0},{"$f":"Questions!QLN4","v":0},{"$f":"Questions!QLO4","v":0},{"$f":"Questions!QLP4","v":0},{"$f":"Questions!QLQ4","v":0},{"$f":"Questions!QLR4","v":0},{"$f":"Questions!QLS4","v":0},{"$f":"Questions!QLT4","v":0},{"$f":"Questions!QLU4","v":0},{"$f":"Questions!QLV4","v":0},{"$f":"Questions!QLW4","v":0},{"$f":"Questions!QLX4","v":0},{"$f":"Questions!QLY4","v":0},{"$f":"Questions!QLZ4","v":0},{"$f":"Questions!QMA4","v":0},{"$f":"Questions!QMB4","v":0},{"$f":"Questions!QMC4","v":0},{"$f":"Questions!QMD4","v":0},{"$f":"Questions!QME4","v":0},{"$f":"Questions!QMF4","v":0},{"$f":"Questions!QMG4","v":0},{"$f":"Questions!QMH4","v":0},{"$f":"Questions!QMI4","v":0},{"$f":"Questions!QMJ4","v":0},{"$f":"Questions!QMK4","v":0},{"$f":"Questions!QML4","v":0},{"$f":"Questions!QMM4","v":0},{"$f":"Questions!QMN4","v":0},{"$f":"Questions!QMO4","v":0},{"$f":"Questions!QMP4","v":0},{"$f":"Questions!QMQ4","v":0},{"$f":"Questions!QMR4","v":0},{"$f":"Questions!QMS4","v":0},{"$f":"Questions!QMT4","v":0},{"$f":"Questions!QMU4","v":0},{"$f":"Questions!QMV4","v":0},{"$f":"Questions!QMW4","v":0},{"$f":"Questions!QMX4","v":0},{"$f":"Questions!QMY4","v":0},{"$f":"Questions!QMZ4","v":0},{"$f":"Questions!QNA4","v":0},{"$f":"Questions!QNB4","v":0},{"$f":"Questions!QNC4","v":0},{"$f":"Questions!QND4","v":0},{"$f":"Questions!QNE4","v":0},{"$f":"Questions!QNF4","v":0},{"$f":"Questions!QNG4","v":0},{"$f":"Questions!QNH4","v":0},{"$f":"Questions!QNI4","v":0},{"$f":"Questions!QNJ4","v":0},{"$f":"Questions!QNK4","v":0},{"$f":"Questions!QNL4","v":0},{"$f":"Questions!QNM4","v":0},{"$f":"Questions!QNN4","v":0},{"$f":"Questions!QNO4","v":0},{"$f":"Questions!QNP4","v":0},{"$f":"Questions!QNQ4","v":0},{"$f":"Questions!QNR4","v":0},{"$f":"Questions!QNS4","v":0},{"$f":"Questions!QNT4","v":0},{"$f":"Questions!QNU4","v":0},{"$f":"Questions!QNV4","v":0},{"$f":"Questions!QNW4","v":0},{"$f":"Questions!QNX4","v":0},{"$f":"Questions!QNY4","v":0},{"$f":"Questions!QNZ4","v":0},{"$f":"Questions!QOA4","v":0},{"$f":"Questions!QOB4","v":0},{"$f":"Questions!QOC4","v":0},{"$f":"Questions!QOD4","v":0},{"$f":"Questions!QOE4","v":0},{"$f":"Questions!QOF4","v":0},{"$f":"Questions!QOG4","v":0},{"$f":"Questions!QOH4","v":0},{"$f":"Questions!QOI4","v":0},{"$f":"Questions!QOJ4","v":0},{"$f":"Questions!QOK4","v":0},{"$f":"Questions!QOL4","v":0},{"$f":"Questions!QOM4","v":0},{"$f":"Questions!QON4","v":0},{"$f":"Questions!QOO4","v":0},{"$f":"Questions!QOP4","v":0},{"$f":"Questions!QOQ4","v":0},{"$f":"Questions!QOR4","v":0},{"$f":"Questions!QOS4","v":0},{"$f":"Questions!QOT4","v":0},{"$f":"Questions!QOU4","v":0},{"$f":"Questions!QOV4","v":0},{"$f":"Questions!QOW4","v":0},{"$f":"Questions!QOX4","v":0},{"$f":"Questions!QOY4","v":0},{"$f":"Questions!QOZ4","v":0},{"$f":"Questions!QPA4","v":0},{"$f":"Questions!QPB4","v":0},{"$f":"Questions!QPC4","v":0},{"$f":"Questions!QPD4","v":0},{"$f":"Questions!QPE4","v":0},{"$f":"Questions!QPF4","v":0},{"$f":"Questions!QPG4","v":0},{"$f":"Questions!QPH4","v":0},{"$f":"Questions!QPI4","v":0},{"$f":"Questions!QPJ4","v":0},{"$f":"Questions!QPK4","v":0},{"$f":"Questions!QPL4","v":0},{"$f":"Questions!QPM4","v":0},{"$f":"Questions!QPN4","v":0},{"$f":"Questions!QPO4","v":0},{"$f":"Questions!QPP4","v":0},{"$f":"Questions!QPQ4","v":0},{"$f":"Questions!QPR4","v":0},{"$f":"Questions!QPS4","v":0},{"$f":"Questions!QPT4","v":0},{"$f":"Questions!QPU4","v":0},{"$f":"Questions!QPV4","v":0},{"$f":"Questions!QPW4","v":0},{"$f":"Questions!QPX4","v":0},{"$f":"Questions!QPY4","v":0},{"$f":"Questions!QPZ4","v":0},{"$f":"Questions!QQA4","v":0},{"$f":"Questions!QQB4","v":0},{"$f":"Questions!QQC4","v":0},{"$f":"Questions!QQD4","v":0},{"$f":"Questions!QQE4","v":0},{"$f":"Questions!QQF4","v":0},{"$f":"Questions!QQG4","v":0},{"$f":"Questions!QQH4","v":0},{"$f":"Questions!QQI4","v":0},{"$f":"Questions!QQJ4","v":0},{"$f":"Questions!QQK4","v":0},{"$f":"Questions!QQL4","v":0},{"$f":"Questions!QQM4","v":0},{"$f":"Questions!QQN4","v":0},{"$f":"Questions!QQO4","v":0},{"$f":"Questions!QQP4","v":0},{"$f":"Questions!QQQ4","v":0},{"$f":"Questions!QQR4","v":0},{"$f":"Questions!QQS4","v":0},{"$f":"Questions!QQT4","v":0},{"$f":"Questions!QQU4","v":0},{"$f":"Questions!QQV4","v":0},{"$f":"Questions!QQW4","v":0},{"$f":"Questions!QQX4","v":0},{"$f":"Questions!QQY4","v":0},{"$f":"Questions!QQZ4","v":0},{"$f":"Questions!QRA4","v":0},{"$f":"Questions!QRB4","v":0},{"$f":"Questions!QRC4","v":0},{"$f":"Questions!QRD4","v":0},{"$f":"Questions!QRE4","v":0},{"$f":"Questions!QRF4","v":0},{"$f":"Questions!QRG4","v":0},{"$f":"Questions!QRH4","v":0},{"$f":"Questions!QRI4","v":0},{"$f":"Questions!QRJ4","v":0},{"$f":"Questions!QRK4","v":0},{"$f":"Questions!QRL4","v":0},{"$f":"Questions!QRM4","v":0},{"$f":"Questions!QRN4","v":0},{"$f":"Questions!QRO4","v":0},{"$f":"Questions!QRP4","v":0},{"$f":"Questions!QRQ4","v":0},{"$f":"Questions!QRR4","v":0},{"$f":"Questions!QRS4","v":0},{"$f":"Questions!QRT4","v":0},{"$f":"Questions!QRU4","v":0},{"$f":"Questions!QRV4","v":0},{"$f":"Questions!QRW4","v":0},{"$f":"Questions!QRX4","v":0},{"$f":"Questions!QRY4","v":0},{"$f":"Questions!QRZ4","v":0},{"$f":"Questions!QSA4","v":0},{"$f":"Questions!QSB4","v":0},{"$f":"Questions!QSC4","v":0},{"$f":"Questions!QSD4","v":0},{"$f":"Questions!QSE4","v":0},{"$f":"Questions!QSF4","v":0},{"$f":"Questions!QSG4","v":0},{"$f":"Questions!QSH4","v":0},{"$f":"Questions!QSI4","v":0},{"$f":"Questions!QSJ4","v":0},{"$f":"Questions!QSK4","v":0},{"$f":"Questions!QSL4","v":0},{"$f":"Questions!QSM4","v":0},{"$f":"Questions!QSN4","v":0},{"$f":"Questions!QSO4","v":0},{"$f":"Questions!QSP4","v":0},{"$f":"Questions!QSQ4","v":0},{"$f":"Questions!QSR4","v":0},{"$f":"Questions!QSS4","v":0},{"$f":"Questions!QST4","v":0},{"$f":"Questions!QSU4","v":0},{"$f":"Questions!QSV4","v":0},{"$f":"Questions!QSW4","v":0},{"$f":"Questions!QSX4","v":0},{"$f":"Questions!QSY4","v":0},{"$f":"Questions!QSZ4","v":0},{"$f":"Questions!QTA4","v":0},{"$f":"Questions!QTB4","v":0},{"$f":"Questions!QTC4","v":0},{"$f":"Questions!QTD4","v":0},{"$f":"Questions!QTE4","v":0},{"$f":"Questions!QTF4","v":0},{"$f":"Questions!QTG4","v":0},{"$f":"Questions!QTH4","v":0},{"$f":"Questions!QTI4","v":0},{"$f":"Questions!QTJ4","v":0},{"$f":"Questions!QTK4","v":0},{"$f":"Questions!QTL4","v":0},{"$f":"Questions!QTM4","v":0},{"$f":"Questions!QTN4","v":0},{"$f":"Questions!QTO4","v":0},{"$f":"Questions!QTP4","v":0},{"$f":"Questions!QTQ4","v":0},{"$f":"Questions!QTR4","v":0},{"$f":"Questions!QTS4","v":0},{"$f":"Questions!QTT4","v":0},{"$f":"Questions!QTU4","v":0},{"$f":"Questions!QTV4","v":0},{"$f":"Questions!QTW4","v":0},{"$f":"Questions!QTX4","v":0},{"$f":"Questions!QTY4","v":0},{"$f":"Questions!QTZ4","v":0},{"$f":"Questions!QUA4","v":0},{"$f":"Questions!QUB4","v":0},{"$f":"Questions!QUC4","v":0},{"$f":"Questions!QUD4","v":0},{"$f":"Questions!QUE4","v":0},{"$f":"Questions!QUF4","v":0},{"$f":"Questions!QUG4","v":0},{"$f":"Questions!QUH4","v":0},{"$f":"Questions!QUI4","v":0},{"$f":"Questions!QUJ4","v":0},{"$f":"Questions!QUK4","v":0},{"$f":"Questions!QUL4","v":0},{"$f":"Questions!QUM4","v":0},{"$f":"Questions!QUN4","v":0},{"$f":"Questions!QUO4","v":0},{"$f":"Questions!QUP4","v":0},{"$f":"Questions!QUQ4","v":0},{"$f":"Questions!QUR4","v":0},{"$f":"Questions!QUS4","v":0},{"$f":"Questions!QUT4","v":0},{"$f":"Questions!QUU4","v":0},{"$f":"Questions!QUV4","v":0},{"$f":"Questions!QUW4","v":0},{"$f":"Questions!QUX4","v":0},{"$f":"Questions!QUY4","v":0},{"$f":"Questions!QUZ4","v":0},{"$f":"Questions!QVA4","v":0},{"$f":"Questions!QVB4","v":0},{"$f":"Questions!QVC4","v":0},{"$f":"Questions!QVD4","v":0},{"$f":"Questions!QVE4","v":0},{"$f":"Questions!QVF4","v":0},{"$f":"Questions!QVG4","v":0},{"$f":"Questions!QVH4","v":0},{"$f":"Questions!QVI4","v":0},{"$f":"Questions!QVJ4","v":0},{"$f":"Questions!QVK4","v":0},{"$f":"Questions!QVL4","v":0},{"$f":"Questions!QVM4","v":0},{"$f":"Questions!QVN4","v":0},{"$f":"Questions!QVO4","v":0},{"$f":"Questions!QVP4","v":0},{"$f":"Questions!QVQ4","v":0},{"$f":"Questions!QVR4","v":0},{"$f":"Questions!QVS4","v":0},{"$f":"Questions!QVT4","v":0},{"$f":"Questions!QVU4","v":0},{"$f":"Questions!QVV4","v":0},{"$f":"Questions!QVW4","v":0},{"$f":"Questions!QVX4","v":0},{"$f":"Questions!QVY4","v":0},{"$f":"Questions!QVZ4","v":0},{"$f":"Questions!QWA4","v":0},{"$f":"Questions!QWB4","v":0},{"$f":"Questions!QWC4","v":0},{"$f":"Questions!QWD4","v":0},{"$f":"Questions!QWE4","v":0},{"$f":"Questions!QWF4","v":0},{"$f":"Questions!QWG4","v":0},{"$f":"Questions!QWH4","v":0},{"$f":"Questions!QWI4","v":0},{"$f":"Questions!QWJ4","v":0},{"$f":"Questions!QWK4","v":0},{"$f":"Questions!QWL4","v":0},{"$f":"Questions!QWM4","v":0},{"$f":"Questions!QWN4","v":0},{"$f":"Questions!QWO4","v":0},{"$f":"Questions!QWP4","v":0},{"$f":"Questions!QWQ4","v":0},{"$f":"Questions!QWR4","v":0},{"$f":"Questions!QWS4","v":0},{"$f":"Questions!QWT4","v":0},{"$f":"Questions!QWU4","v":0},{"$f":"Questions!QWV4","v":0},{"$f":"Questions!QWW4","v":0},{"$f":"Questions!QWX4","v":0},{"$f":"Questions!QWY4","v":0},{"$f":"Questions!QWZ4","v":0},{"$f":"Questions!QXA4","v":0},{"$f":"Questions!QXB4","v":0},{"$f":"Questions!QXC4","v":0},{"$f":"Questions!QXD4","v":0},{"$f":"Questions!QXE4","v":0},{"$f":"Questions!QXF4","v":0},{"$f":"Questions!QXG4","v":0},{"$f":"Questions!QXH4","v":0},{"$f":"Questions!QXI4","v":0},{"$f":"Questions!QXJ4","v":0},{"$f":"Questions!QXK4","v":0},{"$f":"Questions!QXL4","v":0},{"$f":"Questions!QXM4","v":0},{"$f":"Questions!QXN4","v":0},{"$f":"Questions!QXO4","v":0},{"$f":"Questions!QXP4","v":0},{"$f":"Questions!QXQ4","v":0},{"$f":"Questions!QXR4","v":0},{"$f":"Questions!QXS4","v":0},{"$f":"Questions!QXT4","v":0},{"$f":"Questions!QXU4","v":0},{"$f":"Questions!QXV4","v":0},{"$f":"Questions!QXW4","v":0},{"$f":"Questions!QXX4","v":0},{"$f":"Questions!QXY4","v":0},{"$f":"Questions!QXZ4","v":0},{"$f":"Questions!QYA4","v":0},{"$f":"Questions!QYB4","v":0},{"$f":"Questions!QYC4","v":0},{"$f":"Questions!QYD4","v":0},{"$f":"Questions!QYE4","v":0},{"$f":"Questions!QYF4","v":0},{"$f":"Questions!QYG4","v":0},{"$f":"Questions!QYH4","v":0},{"$f":"Questions!QYI4","v":0},{"$f":"Questions!QYJ4","v":0},{"$f":"Questions!QYK4","v":0},{"$f":"Questions!QYL4","v":0},{"$f":"Questions!QYM4","v":0},{"$f":"Questions!QYN4","v":0},{"$f":"Questions!QYO4","v":0},{"$f":"Questions!QYP4","v":0},{"$f":"Questions!QYQ4","v":0},{"$f":"Questions!QYR4","v":0},{"$f":"Questions!QYS4","v":0},{"$f":"Questions!QYT4","v":0},{"$f":"Questions!QYU4","v":0},{"$f":"Questions!QYV4","v":0},{"$f":"Questions!QYW4","v":0},{"$f":"Questions!QYX4","v":0},{"$f":"Questions!QYY4","v":0},{"$f":"Questions!QYZ4","v":0},{"$f":"Questions!QZA4","v":0},{"$f":"Questions!QZB4","v":0},{"$f":"Questions!QZC4","v":0},{"$f":"Questions!QZD4","v":0},{"$f":"Questions!QZE4","v":0},{"$f":"Questions!QZF4","v":0},{"$f":"Questions!QZG4","v":0},{"$f":"Questions!QZH4","v":0},{"$f":"Questions!QZI4","v":0},{"$f":"Questions!QZJ4","v":0},{"$f":"Questions!QZK4","v":0},{"$f":"Questions!QZL4","v":0},{"$f":"Questions!QZM4","v":0},{"$f":"Questions!QZN4","v":0},{"$f":"Questions!QZO4","v":0},{"$f":"Questions!QZP4","v":0},{"$f":"Questions!QZQ4","v":0},{"$f":"Questions!QZR4","v":0},{"$f":"Questions!QZS4","v":0},{"$f":"Questions!QZT4","v":0},{"$f":"Questions!QZU4","v":0},{"$f":"Questions!QZV4","v":0},{"$f":"Questions!QZW4","v":0},{"$f":"Questions!QZX4","v":0},{"$f":"Questions!QZY4","v":0},{"$f":"Questions!QZZ4","v":0},{"$f":"Questions!RAA4","v":0},{"$f":"Questions!RAB4","v":0},{"$f":"Questions!RAC4","v":0},{"$f":"Questions!RAD4","v":0},{"$f":"Questions!RAE4","v":0},{"$f":"Questions!RAF4","v":0},{"$f":"Questions!RAG4","v":0},{"$f":"Questions!RAH4","v":0},{"$f":"Questions!RAI4","v":0},{"$f":"Questions!RAJ4","v":0},{"$f":"Questions!RAK4","v":0},{"$f":"Questions!RAL4","v":0},{"$f":"Questions!RAM4","v":0},{"$f":"Questions!RAN4","v":0},{"$f":"Questions!RAO4","v":0},{"$f":"Questions!RAP4","v":0},{"$f":"Questions!RAQ4","v":0},{"$f":"Questions!RAR4","v":0},{"$f":"Questions!RAS4","v":0},{"$f":"Questions!RAT4","v":0},{"$f":"Questions!RAU4","v":0},{"$f":"Questions!RAV4","v":0},{"$f":"Questions!RAW4","v":0},{"$f":"Questions!RAX4","v":0},{"$f":"Questions!RAY4","v":0},{"$f":"Questions!RAZ4","v":0},{"$f":"Questions!RBA4","v":0},{"$f":"Questions!RBB4","v":0},{"$f":"Questions!RBC4","v":0},{"$f":"Questions!RBD4","v":0},{"$f":"Questions!RBE4","v":0},{"$f":"Questions!RBF4","v":0},{"$f":"Questions!RBG4","v":0},{"$f":"Questions!RBH4","v":0},{"$f":"Questions!RBI4","v":0},{"$f":"Questions!RBJ4","v":0},{"$f":"Questions!RBK4","v":0},{"$f":"Questions!RBL4","v":0},{"$f":"Questions!RBM4","v":0},{"$f":"Questions!RBN4","v":0},{"$f":"Questions!RBO4","v":0},{"$f":"Questions!RBP4","v":0},{"$f":"Questions!RBQ4","v":0},{"$f":"Questions!RBR4","v":0},{"$f":"Questions!RBS4","v":0},{"$f":"Questions!RBT4","v":0},{"$f":"Questions!RBU4","v":0},{"$f":"Questions!RBV4","v":0},{"$f":"Questions!RBW4","v":0},{"$f":"Questions!RBX4","v":0},{"$f":"Questions!RBY4","v":0},{"$f":"Questions!RBZ4","v":0},{"$f":"Questions!RCA4","v":0},{"$f":"Questions!RCB4","v":0},{"$f":"Questions!RCC4","v":0},{"$f":"Questions!RCD4","v":0},{"$f":"Questions!RCE4","v":0},{"$f":"Questions!RCF4","v":0},{"$f":"Questions!RCG4","v":0},{"$f":"Questions!RCH4","v":0},{"$f":"Questions!RCI4","v":0},{"$f":"Questions!RCJ4","v":0},{"$f":"Questions!RCK4","v":0},{"$f":"Questions!RCL4","v":0},{"$f":"Questions!RCM4","v":0},{"$f":"Questions!RCN4","v":0},{"$f":"Questions!RCO4","v":0},{"$f":"Questions!RCP4","v":0},{"$f":"Questions!RCQ4","v":0},{"$f":"Questions!RCR4","v":0},{"$f":"Questions!RCS4","v":0},{"$f":"Questions!RCT4","v":0},{"$f":"Questions!RCU4","v":0},{"$f":"Questions!RCV4","v":0},{"$f":"Questions!RCW4","v":0},{"$f":"Questions!RCX4","v":0},{"$f":"Questions!RCY4","v":0},{"$f":"Questions!RCZ4","v":0},{"$f":"Questions!RDA4","v":0},{"$f":"Questions!RDB4","v":0},{"$f":"Questions!RDC4","v":0},{"$f":"Questions!RDD4","v":0},{"$f":"Questions!RDE4","v":0},{"$f":"Questions!RDF4","v":0},{"$f":"Questions!RDG4","v":0},{"$f":"Questions!RDH4","v":0},{"$f":"Questions!RDI4","v":0},{"$f":"Questions!RDJ4","v":0},{"$f":"Questions!RDK4","v":0},{"$f":"Questions!RDL4","v":0},{"$f":"Questions!RDM4","v":0},{"$f":"Questions!RDN4","v":0},{"$f":"Questions!RDO4","v":0},{"$f":"Questions!RDP4","v":0},{"$f":"Questions!RDQ4","v":0},{"$f":"Questions!RDR4","v":0},{"$f":"Questions!RDS4","v":0},{"$f":"Questions!RDT4","v":0},{"$f":"Questions!RDU4","v":0},{"$f":"Questions!RDV4","v":0},{"$f":"Questions!RDW4","v":0},{"$f":"Questions!RDX4","v":0},{"$f":"Questions!RDY4","v":0},{"$f":"Questions!RDZ4","v":0},{"$f":"Questions!REA4","v":0},{"$f":"Questions!REB4","v":0},{"$f":"Questions!REC4","v":0},{"$f":"Questions!RED4","v":0},{"$f":"Questions!REE4","v":0},{"$f":"Questions!REF4","v":0},{"$f":"Questions!REG4","v":0},{"$f":"Questions!REH4","v":0},{"$f":"Questions!REI4","v":0},{"$f":"Questions!REJ4","v":0},{"$f":"Questions!REK4","v":0},{"$f":"Questions!REL4","v":0},{"$f":"Questions!REM4","v":0},{"$f":"Questions!REN4","v":0},{"$f":"Questions!REO4","v":0},{"$f":"Questions!REP4","v":0},{"$f":"Questions!REQ4","v":0},{"$f":"Questions!RER4","v":0},{"$f":"Questions!RES4","v":0},{"$f":"Questions!RET4","v":0},{"$f":"Questions!REU4","v":0},{"$f":"Questions!REV4","v":0},{"$f":"Questions!REW4","v":0},{"$f":"Questions!REX4","v":0},{"$f":"Questions!REY4","v":0},{"$f":"Questions!REZ4","v":0},{"$f":"Questions!RFA4","v":0},{"$f":"Questions!RFB4","v":0},{"$f":"Questions!RFC4","v":0},{"$f":"Questions!RFD4","v":0},{"$f":"Questions!RFE4","v":0},{"$f":"Questions!RFF4","v":0},{"$f":"Questions!RFG4","v":0},{"$f":"Questions!RFH4","v":0},{"$f":"Questions!RFI4","v":0},{"$f":"Questions!RFJ4","v":0},{"$f":"Questions!RFK4","v":0},{"$f":"Questions!RFL4","v":0},{"$f":"Questions!RFM4","v":0},{"$f":"Questions!RFN4","v":0},{"$f":"Questions!RFO4","v":0},{"$f":"Questions!RFP4","v":0},{"$f":"Questions!RFQ4","v":0},{"$f":"Questions!RFR4","v":0},{"$f":"Questions!RFS4","v":0},{"$f":"Questions!RFT4","v":0},{"$f":"Questions!RFU4","v":0},{"$f":"Questions!RFV4","v":0},{"$f":"Questions!RFW4","v":0},{"$f":"Questions!RFX4","v":0},{"$f":"Questions!RFY4","v":0},{"$f":"Questions!RFZ4","v":0},{"$f":"Questions!RGA4","v":0},{"$f":"Questions!RGB4","v":0},{"$f":"Questions!RGC4","v":0},{"$f":"Questions!RGD4","v":0},{"$f":"Questions!RGE4","v":0},{"$f":"Questions!RGF4","v":0},{"$f":"Questions!RGG4","v":0},{"$f":"Questions!RGH4","v":0},{"$f":"Questions!RGI4","v":0},{"$f":"Questions!RGJ4","v":0},{"$f":"Questions!RGK4","v":0},{"$f":"Questions!RGL4","v":0},{"$f":"Questions!RGM4","v":0},{"$f":"Questions!RGN4","v":0},{"$f":"Questions!RGO4","v":0},{"$f":"Questions!RGP4","v":0},{"$f":"Questions!RGQ4","v":0},{"$f":"Questions!RGR4","v":0},{"$f":"Questions!RGS4","v":0},{"$f":"Questions!RGT4","v":0},{"$f":"Questions!RGU4","v":0},{"$f":"Questions!RGV4","v":0},{"$f":"Questions!RGW4","v":0},{"$f":"Questions!RGX4","v":0},{"$f":"Questions!RGY4","v":0},{"$f":"Questions!RGZ4","v":0},{"$f":"Questions!RHA4","v":0},{"$f":"Questions!RHB4","v":0},{"$f":"Questions!RHC4","v":0},{"$f":"Questions!RHD4","v":0},{"$f":"Questions!RHE4","v":0},{"$f":"Questions!RHF4","v":0},{"$f":"Questions!RHG4","v":0},{"$f":"Questions!RHH4","v":0},{"$f":"Questions!RHI4","v":0},{"$f":"Questions!RHJ4","v":0},{"$f":"Questions!RHK4","v":0},{"$f":"Questions!RHL4","v":0},{"$f":"Questions!RHM4","v":0},{"$f":"Questions!RHN4","v":0},{"$f":"Questions!RHO4","v":0},{"$f":"Questions!RHP4","v":0},{"$f":"Questions!RHQ4","v":0},{"$f":"Questions!RHR4","v":0},{"$f":"Questions!RHS4","v":0},{"$f":"Questions!RHT4","v":0},{"$f":"Questions!RHU4","v":0},{"$f":"Questions!RHV4","v":0},{"$f":"Questions!RHW4","v":0},{"$f":"Questions!RHX4","v":0},{"$f":"Questions!RHY4","v":0},{"$f":"Questions!RHZ4","v":0},{"$f":"Questions!RIA4","v":0},{"$f":"Questions!RIB4","v":0},{"$f":"Questions!RIC4","v":0},{"$f":"Questions!RID4","v":0},{"$f":"Questions!RIE4","v":0},{"$f":"Questions!RIF4","v":0},{"$f":"Questions!RIG4","v":0},{"$f":"Questions!RIH4","v":0},{"$f":"Questions!RII4","v":0},{"$f":"Questions!RIJ4","v":0},{"$f":"Questions!RIK4","v":0},{"$f":"Questions!RIL4","v":0},{"$f":"Questions!RIM4","v":0},{"$f":"Questions!RIN4","v":0},{"$f":"Questions!RIO4","v":0},{"$f":"Questions!RIP4","v":0},{"$f":"Questions!RIQ4","v":0},{"$f":"Questions!RIR4","v":0},{"$f":"Questions!RIS4","v":0},{"$f":"Questions!RIT4","v":0},{"$f":"Questions!RIU4","v":0},{"$f":"Questions!RIV4","v":0},{"$f":"Questions!RIW4","v":0},{"$f":"Questions!RIX4","v":0},{"$f":"Questions!RIY4","v":0},{"$f":"Questions!RIZ4","v":0},{"$f":"Questions!RJA4","v":0},{"$f":"Questions!RJB4","v":0},{"$f":"Questions!RJC4","v":0},{"$f":"Questions!RJD4","v":0},{"$f":"Questions!RJE4","v":0},{"$f":"Questions!RJF4","v":0},{"$f":"Questions!RJG4","v":0},{"$f":"Questions!RJH4","v":0},{"$f":"Questions!RJI4","v":0},{"$f":"Questions!RJJ4","v":0},{"$f":"Questions!RJK4","v":0},{"$f":"Questions!RJL4","v":0},{"$f":"Questions!RJM4","v":0},{"$f":"Questions!RJN4","v":0},{"$f":"Questions!RJO4","v":0},{"$f":"Questions!RJP4","v":0},{"$f":"Questions!RJQ4","v":0},{"$f":"Questions!RJR4","v":0},{"$f":"Questions!RJS4","v":0},{"$f":"Questions!RJT4","v":0},{"$f":"Questions!RJU4","v":0},{"$f":"Questions!RJV4","v":0},{"$f":"Questions!RJW4","v":0},{"$f":"Questions!RJX4","v":0},{"$f":"Questions!RJY4","v":0},{"$f":"Questions!RJZ4","v":0},{"$f":"Questions!RKA4","v":0},{"$f":"Questions!RKB4","v":0},{"$f":"Questions!RKC4","v":0},{"$f":"Questions!RKD4","v":0},{"$f":"Questions!RKE4","v":0},{"$f":"Questions!RKF4","v":0},{"$f":"Questions!RKG4","v":0},{"$f":"Questions!RKH4","v":0},{"$f":"Questions!RKI4","v":0},{"$f":"Questions!RKJ4","v":0},{"$f":"Questions!RKK4","v":0},{"$f":"Questions!RKL4","v":0},{"$f":"Questions!RKM4","v":0},{"$f":"Questions!RKN4","v":0},{"$f":"Questions!RKO4","v":0},{"$f":"Questions!RKP4","v":0},{"$f":"Questions!RKQ4","v":0},{"$f":"Questions!RKR4","v":0},{"$f":"Questions!RKS4","v":0},{"$f":"Questions!RKT4","v":0},{"$f":"Questions!RKU4","v":0},{"$f":"Questions!RKV4","v":0},{"$f":"Questions!RKW4","v":0},{"$f":"Questions!RKX4","v":0},{"$f":"Questions!RKY4","v":0},{"$f":"Questions!RKZ4","v":0},{"$f":"Questions!RLA4","v":0},{"$f":"Questions!RLB4","v":0},{"$f":"Questions!RLC4","v":0},{"$f":"Questions!RLD4","v":0},{"$f":"Questions!RLE4","v":0},{"$f":"Questions!RLF4","v":0},{"$f":"Questions!RLG4","v":0},{"$f":"Questions!RLH4","v":0},{"$f":"Questions!RLI4","v":0},{"$f":"Questions!RLJ4","v":0},{"$f":"Questions!RLK4","v":0},{"$f":"Questions!RLL4","v":0},{"$f":"Questions!RLM4","v":0},{"$f":"Questions!RLN4","v":0},{"$f":"Questions!RLO4","v":0},{"$f":"Questions!RLP4","v":0},{"$f":"Questions!RLQ4","v":0},{"$f":"Questions!RLR4","v":0},{"$f":"Questions!RLS4","v":0},{"$f":"Questions!RLT4","v":0},{"$f":"Questions!RLU4","v":0},{"$f":"Questions!RLV4","v":0},{"$f":"Questions!RLW4","v":0},{"$f":"Questions!RLX4","v":0},{"$f":"Questions!RLY4","v":0},{"$f":"Questions!RLZ4","v":0},{"$f":"Questions!RMA4","v":0},{"$f":"Questions!RMB4","v":0},{"$f":"Questions!RMC4","v":0},{"$f":"Questions!RMD4","v":0},{"$f":"Questions!RME4","v":0},{"$f":"Questions!RMF4","v":0},{"$f":"Questions!RMG4","v":0},{"$f":"Questions!RMH4","v":0},{"$f":"Questions!RMI4","v":0},{"$f":"Questions!RMJ4","v":0},{"$f":"Questions!RMK4","v":0},{"$f":"Questions!RML4","v":0},{"$f":"Questions!RMM4","v":0},{"$f":"Questions!RMN4","v":0},{"$f":"Questions!RMO4","v":0},{"$f":"Questions!RMP4","v":0},{"$f":"Questions!RMQ4","v":0},{"$f":"Questions!RMR4","v":0},{"$f":"Questions!RMS4","v":0},{"$f":"Questions!RMT4","v":0},{"$f":"Questions!RMU4","v":0},{"$f":"Questions!RMV4","v":0},{"$f":"Questions!RMW4","v":0},{"$f":"Questions!RMX4","v":0},{"$f":"Questions!RMY4","v":0},{"$f":"Questions!RMZ4","v":0},{"$f":"Questions!RNA4","v":0},{"$f":"Questions!RNB4","v":0},{"$f":"Questions!RNC4","v":0},{"$f":"Questions!RND4","v":0},{"$f":"Questions!RNE4","v":0},{"$f":"Questions!RNF4","v":0},{"$f":"Questions!RNG4","v":0},{"$f":"Questions!RNH4","v":0},{"$f":"Questions!RNI4","v":0},{"$f":"Questions!RNJ4","v":0},{"$f":"Questions!RNK4","v":0},{"$f":"Questions!RNL4","v":0},{"$f":"Questions!RNM4","v":0},{"$f":"Questions!RNN4","v":0},{"$f":"Questions!RNO4","v":0},{"$f":"Questions!RNP4","v":0},{"$f":"Questions!RNQ4","v":0},{"$f":"Questions!RNR4","v":0},{"$f":"Questions!RNS4","v":0},{"$f":"Questions!RNT4","v":0},{"$f":"Questions!RNU4","v":0},{"$f":"Questions!RNV4","v":0},{"$f":"Questions!RNW4","v":0},{"$f":"Questions!RNX4","v":0},{"$f":"Questions!RNY4","v":0},{"$f":"Questions!RNZ4","v":0},{"$f":"Questions!ROA4","v":0},{"$f":"Questions!ROB4","v":0},{"$f":"Questions!ROC4","v":0},{"$f":"Questions!ROD4","v":0},{"$f":"Questions!ROE4","v":0},{"$f":"Questions!ROF4","v":0},{"$f":"Questions!ROG4","v":0},{"$f":"Questions!ROH4","v":0},{"$f":"Questions!ROI4","v":0},{"$f":"Questions!ROJ4","v":0},{"$f":"Questions!ROK4","v":0},{"$f":"Questions!ROL4","v":0},{"$f":"Questions!ROM4","v":0},{"$f":"Questions!RON4","v":0},{"$f":"Questions!ROO4","v":0},{"$f":"Questions!ROP4","v":0},{"$f":"Questions!ROQ4","v":0},{"$f":"Questions!ROR4","v":0},{"$f":"Questions!ROS4","v":0},{"$f":"Questions!ROT4","v":0},{"$f":"Questions!ROU4","v":0},{"$f":"Questions!ROV4","v":0},{"$f":"Questions!ROW4","v":0},{"$f":"Questions!ROX4","v":0},{"$f":"Questions!ROY4","v":0},{"$f":"Questions!ROZ4","v":0},{"$f":"Questions!RPA4","v":0},{"$f":"Questions!RPB4","v":0},{"$f":"Questions!RPC4","v":0},{"$f":"Questions!RPD4","v":0},{"$f":"Questions!RPE4","v":0},{"$f":"Questions!RPF4","v":0},{"$f":"Questions!RPG4","v":0},{"$f":"Questions!RPH4","v":0},{"$f":"Questions!RPI4","v":0},{"$f":"Questions!RPJ4","v":0},{"$f":"Questions!RPK4","v":0},{"$f":"Questions!RPL4","v":0},{"$f":"Questions!RPM4","v":0},{"$f":"Questions!RPN4","v":0},{"$f":"Questions!RPO4","v":0},{"$f":"Questions!RPP4","v":0},{"$f":"Questions!RPQ4","v":0},{"$f":"Questions!RPR4","v":0},{"$f":"Questions!RPS4","v":0},{"$f":"Questions!RPT4","v":0},{"$f":"Questions!RPU4","v":0},{"$f":"Questions!RPV4","v":0},{"$f":"Questions!RPW4","v":0},{"$f":"Questions!RPX4","v":0},{"$f":"Questions!RPY4","v":0},{"$f":"Questions!RPZ4","v":0},{"$f":"Questions!RQA4","v":0},{"$f":"Questions!RQB4","v":0},{"$f":"Questions!RQC4","v":0},{"$f":"Questions!RQD4","v":0},{"$f":"Questions!RQE4","v":0},{"$f":"Questions!RQF4","v":0},{"$f":"Questions!RQG4","v":0},{"$f":"Questions!RQH4","v":0},{"$f":"Questions!RQI4","v":0},{"$f":"Questions!RQJ4","v":0},{"$f":"Questions!RQK4","v":0},{"$f":"Questions!RQL4","v":0},{"$f":"Questions!RQM4","v":0},{"$f":"Questions!RQN4","v":0},{"$f":"Questions!RQO4","v":0},{"$f":"Questions!RQP4","v":0},{"$f":"Questions!RQQ4","v":0},{"$f":"Questions!RQR4","v":0},{"$f":"Questions!RQS4","v":0},{"$f":"Questions!RQT4","v":0},{"$f":"Questions!RQU4","v":0},{"$f":"Questions!RQV4","v":0},{"$f":"Questions!RQW4","v":0},{"$f":"Questions!RQX4","v":0},{"$f":"Questions!RQY4","v":0},{"$f":"Questions!RQZ4","v":0},{"$f":"Questions!RRA4","v":0},{"$f":"Questions!RRB4","v":0},{"$f":"Questions!RRC4","v":0},{"$f":"Questions!RRD4","v":0},{"$f":"Questions!RRE4","v":0},{"$f":"Questions!RRF4","v":0},{"$f":"Questions!RRG4","v":0},{"$f":"Questions!RRH4","v":0},{"$f":"Questions!RRI4","v":0},{"$f":"Questions!RRJ4","v":0},{"$f":"Questions!RRK4","v":0},{"$f":"Questions!RRL4","v":0},{"$f":"Questions!RRM4","v":0},{"$f":"Questions!RRN4","v":0},{"$f":"Questions!RRO4","v":0},{"$f":"Questions!RRP4","v":0},{"$f":"Questions!RRQ4","v":0},{"$f":"Questions!RRR4","v":0},{"$f":"Questions!RRS4","v":0},{"$f":"Questions!RRT4","v":0},{"$f":"Questions!RRU4","v":0},{"$f":"Questions!RRV4","v":0},{"$f":"Questions!RRW4","v":0},{"$f":"Questions!RRX4","v":0},{"$f":"Questions!RRY4","v":0},{"$f":"Questions!RRZ4","v":0},{"$f":"Questions!RSA4","v":0},{"$f":"Questions!RSB4","v":0},{"$f":"Questions!RSC4","v":0},{"$f":"Questions!RSD4","v":0},{"$f":"Questions!RSE4","v":0},{"$f":"Questions!RSF4","v":0},{"$f":"Questions!RSG4","v":0},{"$f":"Questions!RSH4","v":0},{"$f":"Questions!RSI4","v":0},{"$f":"Questions!RSJ4","v":0},{"$f":"Questions!RSK4","v":0},{"$f":"Questions!RSL4","v":0},{"$f":"Questions!RSM4","v":0},{"$f":"Questions!RSN4","v":0},{"$f":"Questions!RSO4","v":0},{"$f":"Questions!RSP4","v":0},{"$f":"Questions!RSQ4","v":0},{"$f":"Questions!RSR4","v":0},{"$f":"Questions!RSS4","v":0},{"$f":"Questions!RST4","v":0},{"$f":"Questions!RSU4","v":0},{"$f":"Questions!RSV4","v":0},{"$f":"Questions!RSW4","v":0},{"$f":"Questions!RSX4","v":0},{"$f":"Questions!RSY4","v":0},{"$f":"Questions!RSZ4","v":0},{"$f":"Questions!RTA4","v":0},{"$f":"Questions!RTB4","v":0},{"$f":"Questions!RTC4","v":0},{"$f":"Questions!RTD4","v":0},{"$f":"Questions!RTE4","v":0},{"$f":"Questions!RTF4","v":0},{"$f":"Questions!RTG4","v":0},{"$f":"Questions!RTH4","v":0},{"$f":"Questions!RTI4","v":0},{"$f":"Questions!RTJ4","v":0},{"$f":"Questions!RTK4","v":0},{"$f":"Questions!RTL4","v":0},{"$f":"Questions!RTM4","v":0},{"$f":"Questions!RTN4","v":0},{"$f":"Questions!RTO4","v":0},{"$f":"Questions!RTP4","v":0},{"$f":"Questions!RTQ4","v":0},{"$f":"Questions!RTR4","v":0},{"$f":"Questions!RTS4","v":0},{"$f":"Questions!RTT4","v":0},{"$f":"Questions!RTU4","v":0},{"$f":"Questions!RTV4","v":0},{"$f":"Questions!RTW4","v":0},{"$f":"Questions!RTX4","v":0},{"$f":"Questions!RTY4","v":0},{"$f":"Questions!RTZ4","v":0},{"$f":"Questions!RUA4","v":0},{"$f":"Questions!RUB4","v":0},{"$f":"Questions!RUC4","v":0},{"$f":"Questions!RUD4","v":0},{"$f":"Questions!RUE4","v":0},{"$f":"Questions!RUF4","v":0},{"$f":"Questions!RUG4","v":0},{"$f":"Questions!RUH4","v":0},{"$f":"Questions!RUI4","v":0},{"$f":"Questions!RUJ4","v":0},{"$f":"Questions!RUK4","v":0},{"$f":"Questions!RUL4","v":0},{"$f":"Questions!RUM4","v":0},{"$f":"Questions!RUN4","v":0},{"$f":"Questions!RUO4","v":0},{"$f":"Questions!RUP4","v":0},{"$f":"Questions!RUQ4","v":0},{"$f":"Questions!RUR4","v":0},{"$f":"Questions!RUS4","v":0},{"$f":"Questions!RUT4","v":0},{"$f":"Questions!RUU4","v":0},{"$f":"Questions!RUV4","v":0},{"$f":"Questions!RUW4","v":0},{"$f":"Questions!RUX4","v":0},{"$f":"Questions!RUY4","v":0},{"$f":"Questions!RUZ4","v":0},{"$f":"Questions!RVA4","v":0},{"$f":"Questions!RVB4","v":0},{"$f":"Questions!RVC4","v":0},{"$f":"Questions!RVD4","v":0},{"$f":"Questions!RVE4","v":0},{"$f":"Questions!RVF4","v":0},{"$f":"Questions!RVG4","v":0},{"$f":"Questions!RVH4","v":0},{"$f":"Questions!RVI4","v":0},{"$f":"Questions!RVJ4","v":0},{"$f":"Questions!RVK4","v":0},{"$f":"Questions!RVL4","v":0},{"$f":"Questions!RVM4","v":0},{"$f":"Questions!RVN4","v":0},{"$f":"Questions!RVO4","v":0},{"$f":"Questions!RVP4","v":0},{"$f":"Questions!RVQ4","v":0},{"$f":"Questions!RVR4","v":0},{"$f":"Questions!RVS4","v":0},{"$f":"Questions!RVT4","v":0},{"$f":"Questions!RVU4","v":0},{"$f":"Questions!RVV4","v":0},{"$f":"Questions!RVW4","v":0},{"$f":"Questions!RVX4","v":0},{"$f":"Questions!RVY4","v":0},{"$f":"Questions!RVZ4","v":0},{"$f":"Questions!RWA4","v":0},{"$f":"Questions!RWB4","v":0},{"$f":"Questions!RWC4","v":0},{"$f":"Questions!RWD4","v":0},{"$f":"Questions!RWE4","v":0},{"$f":"Questions!RWF4","v":0},{"$f":"Questions!RWG4","v":0},{"$f":"Questions!RWH4","v":0},{"$f":"Questions!RWI4","v":0},{"$f":"Questions!RWJ4","v":0},{"$f":"Questions!RWK4","v":0},{"$f":"Questions!RWL4","v":0},{"$f":"Questions!RWM4","v":0},{"$f":"Questions!RWN4","v":0},{"$f":"Questions!RWO4","v":0},{"$f":"Questions!RWP4","v":0},{"$f":"Questions!RWQ4","v":0},{"$f":"Questions!RWR4","v":0},{"$f":"Questions!RWS4","v":0},{"$f":"Questions!RWT4","v":0},{"$f":"Questions!RWU4","v":0},{"$f":"Questions!RWV4","v":0},{"$f":"Questions!RWW4","v":0},{"$f":"Questions!RWX4","v":0},{"$f":"Questions!RWY4","v":0},{"$f":"Questions!RWZ4","v":0},{"$f":"Questions!RXA4","v":0},{"$f":"Questions!RXB4","v":0},{"$f":"Questions!RXC4","v":0},{"$f":"Questions!RXD4","v":0},{"$f":"Questions!RXE4","v":0},{"$f":"Questions!RXF4","v":0},{"$f":"Questions!RXG4","v":0},{"$f":"Questions!RXH4","v":0},{"$f":"Questions!RXI4","v":0},{"$f":"Questions!RXJ4","v":0},{"$f":"Questions!RXK4","v":0},{"$f":"Questions!RXL4","v":0},{"$f":"Questions!RXM4","v":0},{"$f":"Questions!RXN4","v":0},{"$f":"Questions!RXO4","v":0},{"$f":"Questions!RXP4","v":0},{"$f":"Questions!RXQ4","v":0},{"$f":"Questions!RXR4","v":0},{"$f":"Questions!RXS4","v":0},{"$f":"Questions!RXT4","v":0},{"$f":"Questions!RXU4","v":0},{"$f":"Questions!RXV4","v":0},{"$f":"Questions!RXW4","v":0},{"$f":"Questions!RXX4","v":0},{"$f":"Questions!RXY4","v":0},{"$f":"Questions!RXZ4","v":0},{"$f":"Questions!RYA4","v":0},{"$f":"Questions!RYB4","v":0},{"$f":"Questions!RYC4","v":0},{"$f":"Questions!RYD4","v":0},{"$f":"Questions!RYE4","v":0},{"$f":"Questions!RYF4","v":0},{"$f":"Questions!RYG4","v":0},{"$f":"Questions!RYH4","v":0},{"$f":"Questions!RYI4","v":0},{"$f":"Questions!RYJ4","v":0},{"$f":"Questions!RYK4","v":0},{"$f":"Questions!RYL4","v":0},{"$f":"Questions!RYM4","v":0},{"$f":"Questions!RYN4","v":0},{"$f":"Questions!RYO4","v":0},{"$f":"Questions!RYP4","v":0},{"$f":"Questions!RYQ4","v":0},{"$f":"Questions!RYR4","v":0},{"$f":"Questions!RYS4","v":0},{"$f":"Questions!RYT4","v":0},{"$f":"Questions!RYU4","v":0},{"$f":"Questions!RYV4","v":0},{"$f":"Questions!RYW4","v":0},{"$f":"Questions!RYX4","v":0},{"$f":"Questions!RYY4","v":0},{"$f":"Questions!RYZ4","v":0},{"$f":"Questions!RZA4","v":0},{"$f":"Questions!RZB4","v":0},{"$f":"Questions!RZC4","v":0},{"$f":"Questions!RZD4","v":0},{"$f":"Questions!RZE4","v":0},{"$f":"Questions!RZF4","v":0},{"$f":"Questions!RZG4","v":0},{"$f":"Questions!RZH4","v":0},{"$f":"Questions!RZI4","v":0},{"$f":"Questions!RZJ4","v":0},{"$f":"Questions!RZK4","v":0},{"$f":"Questions!RZL4","v":0},{"$f":"Questions!RZM4","v":0},{"$f":"Questions!RZN4","v":0},{"$f":"Questions!RZO4","v":0},{"$f":"Questions!RZP4","v":0},{"$f":"Questions!RZQ4","v":0},{"$f":"Questions!RZR4","v":0},{"$f":"Questions!RZS4","v":0},{"$f":"Questions!RZT4","v":0},{"$f":"Questions!RZU4","v":0},{"$f":"Questions!RZV4","v":0},{"$f":"Questions!RZW4","v":0},{"$f":"Questions!RZX4","v":0},{"$f":"Questions!RZY4","v":0},{"$f":"Questions!RZZ4","v":0},{"$f":"Questions!SAA4","v":0},{"$f":"Questions!SAB4","v":0},{"$f":"Questions!SAC4","v":0},{"$f":"Questions!SAD4","v":0},{"$f":"Questions!SAE4","v":0},{"$f":"Questions!SAF4","v":0},{"$f":"Questions!SAG4","v":0},{"$f":"Questions!SAH4","v":0},{"$f":"Questions!SAI4","v":0},{"$f":"Questions!SAJ4","v":0},{"$f":"Questions!SAK4","v":0},{"$f":"Questions!SAL4","v":0},{"$f":"Questions!SAM4","v":0},{"$f":"Questions!SAN4","v":0},{"$f":"Questions!SAO4","v":0},{"$f":"Questions!SAP4","v":0},{"$f":"Questions!SAQ4","v":0},{"$f":"Questions!SAR4","v":0},{"$f":"Questions!SAS4","v":0},{"$f":"Questions!SAT4","v":0},{"$f":"Questions!SAU4","v":0},{"$f":"Questions!SAV4","v":0},{"$f":"Questions!SAW4","v":0},{"$f":"Questions!SAX4","v":0},{"$f":"Questions!SAY4","v":0},{"$f":"Questions!SAZ4","v":0},{"$f":"Questions!SBA4","v":0},{"$f":"Questions!SBB4","v":0},{"$f":"Questions!SBC4","v":0},{"$f":"Questions!SBD4","v":0},{"$f":"Questions!SBE4","v":0},{"$f":"Questions!SBF4","v":0},{"$f":"Questions!SBG4","v":0},{"$f":"Questions!SBH4","v":0},{"$f":"Questions!SBI4","v":0},{"$f":"Questions!SBJ4","v":0},{"$f":"Questions!SBK4","v":0},{"$f":"Questions!SBL4","v":0},{"$f":"Questions!SBM4","v":0},{"$f":"Questions!SBN4","v":0},{"$f":"Questions!SBO4","v":0},{"$f":"Questions!SBP4","v":0},{"$f":"Questions!SBQ4","v":0},{"$f":"Questions!SBR4","v":0},{"$f":"Questions!SBS4","v":0},{"$f":"Questions!SBT4","v":0},{"$f":"Questions!SBU4","v":0},{"$f":"Questions!SBV4","v":0},{"$f":"Questions!SBW4","v":0},{"$f":"Questions!SBX4","v":0},{"$f":"Questions!SBY4","v":0},{"$f":"Questions!SBZ4","v":0},{"$f":"Questions!SCA4","v":0},{"$f":"Questions!SCB4","v":0},{"$f":"Questions!SCC4","v":0},{"$f":"Questions!SCD4","v":0},{"$f":"Questions!SCE4","v":0},{"$f":"Questions!SCF4","v":0},{"$f":"Questions!SCG4","v":0},{"$f":"Questions!SCH4","v":0},{"$f":"Questions!SCI4","v":0},{"$f":"Questions!SCJ4","v":0},{"$f":"Questions!SCK4","v":0},{"$f":"Questions!SCL4","v":0},{"$f":"Questions!SCM4","v":0},{"$f":"Questions!SCN4","v":0},{"$f":"Questions!SCO4","v":0},{"$f":"Questions!SCP4","v":0},{"$f":"Questions!SCQ4","v":0},{"$f":"Questions!SCR4","v":0},{"$f":"Questions!SCS4","v":0},{"$f":"Questions!SCT4","v":0},{"$f":"Questions!SCU4","v":0},{"$f":"Questions!SCV4","v":0},{"$f":"Questions!SCW4","v":0},{"$f":"Questions!SCX4","v":0},{"$f":"Questions!SCY4","v":0},{"$f":"Questions!SCZ4","v":0},{"$f":"Questions!SDA4","v":0},{"$f":"Questions!SDB4","v":0},{"$f":"Questions!SDC4","v":0},{"$f":"Questions!SDD4","v":0},{"$f":"Questions!SDE4","v":0},{"$f":"Questions!SDF4","v":0},{"$f":"Questions!SDG4","v":0},{"$f":"Questions!SDH4","v":0},{"$f":"Questions!SDI4","v":0},{"$f":"Questions!SDJ4","v":0},{"$f":"Questions!SDK4","v":0},{"$f":"Questions!SDL4","v":0},{"$f":"Questions!SDM4","v":0},{"$f":"Questions!SDN4","v":0},{"$f":"Questions!SDO4","v":0},{"$f":"Questions!SDP4","v":0},{"$f":"Questions!SDQ4","v":0},{"$f":"Questions!SDR4","v":0},{"$f":"Questions!SDS4","v":0},{"$f":"Questions!SDT4","v":0},{"$f":"Questions!SDU4","v":0},{"$f":"Questions!SDV4","v":0},{"$f":"Questions!SDW4","v":0},{"$f":"Questions!SDX4","v":0},{"$f":"Questions!SDY4","v":0},{"$f":"Questions!SDZ4","v":0},{"$f":"Questions!SEA4","v":0},{"$f":"Questions!SEB4","v":0},{"$f":"Questions!SEC4","v":0},{"$f":"Questions!SED4","v":0},{"$f":"Questions!SEE4","v":0},{"$f":"Questions!SEF4","v":0},{"$f":"Questions!SEG4","v":0},{"$f":"Questions!SEH4","v":0},{"$f":"Questions!SEI4","v":0},{"$f":"Questions!SEJ4","v":0},{"$f":"Questions!SEK4","v":0},{"$f":"Questions!SEL4","v":0},{"$f":"Questions!SEM4","v":0},{"$f":"Questions!SEN4","v":0},{"$f":"Questions!SEO4","v":0},{"$f":"Questions!SEP4","v":0},{"$f":"Questions!SEQ4","v":0},{"$f":"Questions!SER4","v":0},{"$f":"Questions!SES4","v":0},{"$f":"Questions!SET4","v":0},{"$f":"Questions!SEU4","v":0},{"$f":"Questions!SEV4","v":0},{"$f":"Questions!SEW4","v":0},{"$f":"Questions!SEX4","v":0},{"$f":"Questions!SEY4","v":0},{"$f":"Questions!SEZ4","v":0},{"$f":"Questions!SFA4","v":0},{"$f":"Questions!SFB4","v":0},{"$f":"Questions!SFC4","v":0},{"$f":"Questions!SFD4","v":0},{"$f":"Questions!SFE4","v":0},{"$f":"Questions!SFF4","v":0},{"$f":"Questions!SFG4","v":0},{"$f":"Questions!SFH4","v":0},{"$f":"Questions!SFI4","v":0},{"$f":"Questions!SFJ4","v":0},{"$f":"Questions!SFK4","v":0},{"$f":"Questions!SFL4","v":0},{"$f":"Questions!SFM4","v":0},{"$f":"Questions!SFN4","v":0},{"$f":"Questions!SFO4","v":0},{"$f":"Questions!SFP4","v":0},{"$f":"Questions!SFQ4","v":0},{"$f":"Questions!SFR4","v":0},{"$f":"Questions!SFS4","v":0},{"$f":"Questions!SFT4","v":0},{"$f":"Questions!SFU4","v":0},{"$f":"Questions!SFV4","v":0},{"$f":"Questions!SFW4","v":0},{"$f":"Questions!SFX4","v":0},{"$f":"Questions!SFY4","v":0},{"$f":"Questions!SFZ4","v":0},{"$f":"Questions!SGA4","v":0},{"$f":"Questions!SGB4","v":0},{"$f":"Questions!SGC4","v":0},{"$f":"Questions!SGD4","v":0},{"$f":"Questions!SGE4","v":0},{"$f":"Questions!SGF4","v":0},{"$f":"Questions!SGG4","v":0},{"$f":"Questions!SGH4","v":0},{"$f":"Questions!SGI4","v":0},{"$f":"Questions!SGJ4","v":0},{"$f":"Questions!SGK4","v":0},{"$f":"Questions!SGL4","v":0},{"$f":"Questions!SGM4","v":0},{"$f":"Questions!SGN4","v":0},{"$f":"Questions!SGO4","v":0},{"$f":"Questions!SGP4","v":0},{"$f":"Questions!SGQ4","v":0},{"$f":"Questions!SGR4","v":0},{"$f":"Questions!SGS4","v":0},{"$f":"Questions!SGT4","v":0},{"$f":"Questions!SGU4","v":0},{"$f":"Questions!SGV4","v":0},{"$f":"Questions!SGW4","v":0},{"$f":"Questions!SGX4","v":0},{"$f":"Questions!SGY4","v":0},{"$f":"Questions!SGZ4","v":0},{"$f":"Questions!SHA4","v":0},{"$f":"Questions!SHB4","v":0},{"$f":"Questions!SHC4","v":0},{"$f":"Questions!SHD4","v":0},{"$f":"Questions!SHE4","v":0},{"$f":"Questions!SHF4","v":0},{"$f":"Questions!SHG4","v":0},{"$f":"Questions!SHH4","v":0},{"$f":"Questions!SHI4","v":0},{"$f":"Questions!SHJ4","v":0},{"$f":"Questions!SHK4","v":0},{"$f":"Questions!SHL4","v":0},{"$f":"Questions!SHM4","v":0},{"$f":"Questions!SHN4","v":0},{"$f":"Questions!SHO4","v":0},{"$f":"Questions!SHP4","v":0},{"$f":"Questions!SHQ4","v":0},{"$f":"Questions!SHR4","v":0},{"$f":"Questions!SHS4","v":0},{"$f":"Questions!SHT4","v":0},{"$f":"Questions!SHU4","v":0},{"$f":"Questions!SHV4","v":0},{"$f":"Questions!SHW4","v":0},{"$f":"Questions!SHX4","v":0},{"$f":"Questions!SHY4","v":0},{"$f":"Questions!SHZ4","v":0},{"$f":"Questions!SIA4","v":0},{"$f":"Questions!SIB4","v":0},{"$f":"Questions!SIC4","v":0},{"$f":"Questions!SID4","v":0},{"$f":"Questions!SIE4","v":0},{"$f":"Questions!SIF4","v":0},{"$f":"Questions!SIG4","v":0},{"$f":"Questions!SIH4","v":0},{"$f":"Questions!SII4","v":0},{"$f":"Questions!SIJ4","v":0},{"$f":"Questions!SIK4","v":0},{"$f":"Questions!SIL4","v":0},{"$f":"Questions!SIM4","v":0},{"$f":"Questions!SIN4","v":0},{"$f":"Questions!SIO4","v":0},{"$f":"Questions!SIP4","v":0},{"$f":"Questions!SIQ4","v":0},{"$f":"Questions!SIR4","v":0},{"$f":"Questions!SIS4","v":0},{"$f":"Questions!SIT4","v":0},{"$f":"Questions!SIU4","v":0},{"$f":"Questions!SIV4","v":0},{"$f":"Questions!SIW4","v":0},{"$f":"Questions!SIX4","v":0},{"$f":"Questions!SIY4","v":0},{"$f":"Questions!SIZ4","v":0},{"$f":"Questions!SJA4","v":0},{"$f":"Questions!SJB4","v":0},{"$f":"Questions!SJC4","v":0},{"$f":"Questions!SJD4","v":0},{"$f":"Questions!SJE4","v":0},{"$f":"Questions!SJF4","v":0},{"$f":"Questions!SJG4","v":0},{"$f":"Questions!SJH4","v":0},{"$f":"Questions!SJI4","v":0},{"$f":"Questions!SJJ4","v":0},{"$f":"Questions!SJK4","v":0},{"$f":"Questions!SJL4","v":0},{"$f":"Questions!SJM4","v":0},{"$f":"Questions!SJN4","v":0},{"$f":"Questions!SJO4","v":0},{"$f":"Questions!SJP4","v":0},{"$f":"Questions!SJQ4","v":0},{"$f":"Questions!SJR4","v":0},{"$f":"Questions!SJS4","v":0},{"$f":"Questions!SJT4","v":0},{"$f":"Questions!SJU4","v":0},{"$f":"Questions!SJV4","v":0},{"$f":"Questions!SJW4","v":0},{"$f":"Questions!SJX4","v":0},{"$f":"Questions!SJY4","v":0},{"$f":"Questions!SJZ4","v":0},{"$f":"Questions!SKA4","v":0},{"$f":"Questions!SKB4","v":0},{"$f":"Questions!SKC4","v":0},{"$f":"Questions!SKD4","v":0},{"$f":"Questions!SKE4","v":0},{"$f":"Questions!SKF4","v":0},{"$f":"Questions!SKG4","v":0},{"$f":"Questions!SKH4","v":0},{"$f":"Questions!SKI4","v":0},{"$f":"Questions!SKJ4","v":0},{"$f":"Questions!SKK4","v":0},{"$f":"Questions!SKL4","v":0},{"$f":"Questions!SKM4","v":0},{"$f":"Questions!SKN4","v":0},{"$f":"Questions!SKO4","v":0},{"$f":"Questions!SKP4","v":0},{"$f":"Questions!SKQ4","v":0},{"$f":"Questions!SKR4","v":0},{"$f":"Questions!SKS4","v":0},{"$f":"Questions!SKT4","v":0},{"$f":"Questions!SKU4","v":0},{"$f":"Questions!SKV4","v":0},{"$f":"Questions!SKW4","v":0},{"$f":"Questions!SKX4","v":0},{"$f":"Questions!SKY4","v":0},{"$f":"Questions!SKZ4","v":0},{"$f":"Questions!SLA4","v":0},{"$f":"Questions!SLB4","v":0},{"$f":"Questions!SLC4","v":0},{"$f":"Questions!SLD4","v":0},{"$f":"Questions!SLE4","v":0},{"$f":"Questions!SLF4","v":0},{"$f":"Questions!SLG4","v":0},{"$f":"Questions!SLH4","v":0},{"$f":"Questions!SLI4","v":0},{"$f":"Questions!SLJ4","v":0},{"$f":"Questions!SLK4","v":0},{"$f":"Questions!SLL4","v":0},{"$f":"Questions!SLM4","v":0},{"$f":"Questions!SLN4","v":0},{"$f":"Questions!SLO4","v":0},{"$f":"Questions!SLP4","v":0},{"$f":"Questions!SLQ4","v":0},{"$f":"Questions!SLR4","v":0},{"$f":"Questions!SLS4","v":0},{"$f":"Questions!SLT4","v":0},{"$f":"Questions!SLU4","v":0},{"$f":"Questions!SLV4","v":0},{"$f":"Questions!SLW4","v":0},{"$f":"Questions!SLX4","v":0},{"$f":"Questions!SLY4","v":0},{"$f":"Questions!SLZ4","v":0},{"$f":"Questions!SMA4","v":0},{"$f":"Questions!SMB4","v":0},{"$f":"Questions!SMC4","v":0},{"$f":"Questions!SMD4","v":0},{"$f":"Questions!SME4","v":0},{"$f":"Questions!SMF4","v":0},{"$f":"Questions!SMG4","v":0},{"$f":"Questions!SMH4","v":0},{"$f":"Questions!SMI4","v":0},{"$f":"Questions!SMJ4","v":0},{"$f":"Questions!SMK4","v":0},{"$f":"Questions!SML4","v":0},{"$f":"Questions!SMM4","v":0},{"$f":"Questions!SMN4","v":0},{"$f":"Questions!SMO4","v":0},{"$f":"Questions!SMP4","v":0},{"$f":"Questions!SMQ4","v":0},{"$f":"Questions!SMR4","v":0},{"$f":"Questions!SMS4","v":0},{"$f":"Questions!SMT4","v":0},{"$f":"Questions!SMU4","v":0},{"$f":"Questions!SMV4","v":0},{"$f":"Questions!SMW4","v":0},{"$f":"Questions!SMX4","v":0},{"$f":"Questions!SMY4","v":0},{"$f":"Questions!SMZ4","v":0},{"$f":"Questions!SNA4","v":0},{"$f":"Questions!SNB4","v":0},{"$f":"Questions!SNC4","v":0},{"$f":"Questions!SND4","v":0},{"$f":"Questions!SNE4","v":0},{"$f":"Questions!SNF4","v":0},{"$f":"Questions!SNG4","v":0},{"$f":"Questions!SNH4","v":0},{"$f":"Questions!SNI4","v":0},{"$f":"Questions!SNJ4","v":0},{"$f":"Questions!SNK4","v":0},{"$f":"Questions!SNL4","v":0},{"$f":"Questions!SNM4","v":0},{"$f":"Questions!SNN4","v":0},{"$f":"Questions!SNO4","v":0},{"$f":"Questions!SNP4","v":0},{"$f":"Questions!SNQ4","v":0},{"$f":"Questions!SNR4","v":0},{"$f":"Questions!SNS4","v":0},{"$f":"Questions!SNT4","v":0},{"$f":"Questions!SNU4","v":0},{"$f":"Questions!SNV4","v":0},{"$f":"Questions!SNW4","v":0},{"$f":"Questions!SNX4","v":0},{"$f":"Questions!SNY4","v":0},{"$f":"Questions!SNZ4","v":0},{"$f":"Questions!SOA4","v":0},{"$f":"Questions!SOB4","v":0},{"$f":"Questions!SOC4","v":0},{"$f":"Questions!SOD4","v":0},{"$f":"Questions!SOE4","v":0},{"$f":"Questions!SOF4","v":0},{"$f":"Questions!SOG4","v":0},{"$f":"Questions!SOH4","v":0},{"$f":"Questions!SOI4","v":0},{"$f":"Questions!SOJ4","v":0},{"$f":"Questions!SOK4","v":0},{"$f":"Questions!SOL4","v":0},{"$f":"Questions!SOM4","v":0},{"$f":"Questions!SON4","v":0},{"$f":"Questions!SOO4","v":0},{"$f":"Questions!SOP4","v":0},{"$f":"Questions!SOQ4","v":0},{"$f":"Questions!SOR4","v":0},{"$f":"Questions!SOS4","v":0},{"$f":"Questions!SOT4","v":0},{"$f":"Questions!SOU4","v":0},{"$f":"Questions!SOV4","v":0},{"$f":"Questions!SOW4","v":0},{"$f":"Questions!SOX4","v":0},{"$f":"Questions!SOY4","v":0},{"$f":"Questions!SOZ4","v":0},{"$f":"Questions!SPA4","v":0},{"$f":"Questions!SPB4","v":0},{"$f":"Questions!SPC4","v":0},{"$f":"Questions!SPD4","v":0},{"$f":"Questions!SPE4","v":0},{"$f":"Questions!SPF4","v":0},{"$f":"Questions!SPG4","v":0},{"$f":"Questions!SPH4","v":0},{"$f":"Questions!SPI4","v":0},{"$f":"Questions!SPJ4","v":0},{"$f":"Questions!SPK4","v":0},{"$f":"Questions!SPL4","v":0},{"$f":"Questions!SPM4","v":0},{"$f":"Questions!SPN4","v":0},{"$f":"Questions!SPO4","v":0},{"$f":"Questions!SPP4","v":0},{"$f":"Questions!SPQ4","v":0},{"$f":"Questions!SPR4","v":0},{"$f":"Questions!SPS4","v":0},{"$f":"Questions!SPT4","v":0},{"$f":"Questions!SPU4","v":0},{"$f":"Questions!SPV4","v":0},{"$f":"Questions!SPW4","v":0},{"$f":"Questions!SPX4","v":0},{"$f":"Questions!SPY4","v":0},{"$f":"Questions!SPZ4","v":0},{"$f":"Questions!SQA4","v":0},{"$f":"Questions!SQB4","v":0},{"$f":"Questions!SQC4","v":0},{"$f":"Questions!SQD4","v":0},{"$f":"Questions!SQE4","v":0},{"$f":"Questions!SQF4","v":0},{"$f":"Questions!SQG4","v":0},{"$f":"Questions!SQH4","v":0},{"$f":"Questions!SQI4","v":0},{"$f":"Questions!SQJ4","v":0},{"$f":"Questions!SQK4","v":0},{"$f":"Questions!SQL4","v":0},{"$f":"Questions!SQM4","v":0},{"$f":"Questions!SQN4","v":0},{"$f":"Questions!SQO4","v":0},{"$f":"Questions!SQP4","v":0},{"$f":"Questions!SQQ4","v":0},{"$f":"Questions!SQR4","v":0},{"$f":"Questions!SQS4","v":0},{"$f":"Questions!SQT4","v":0},{"$f":"Questions!SQU4","v":0},{"$f":"Questions!SQV4","v":0},{"$f":"Questions!SQW4","v":0},{"$f":"Questions!SQX4","v":0},{"$f":"Questions!SQY4","v":0},{"$f":"Questions!SQZ4","v":0},{"$f":"Questions!SRA4","v":0},{"$f":"Questions!SRB4","v":0},{"$f":"Questions!SRC4","v":0},{"$f":"Questions!SRD4","v":0},{"$f":"Questions!SRE4","v":0},{"$f":"Questions!SRF4","v":0},{"$f":"Questions!SRG4","v":0},{"$f":"Questions!SRH4","v":0},{"$f":"Questions!SRI4","v":0},{"$f":"Questions!SRJ4","v":0},{"$f":"Questions!SRK4","v":0},{"$f":"Questions!SRL4","v":0},{"$f":"Questions!SRM4","v":0},{"$f":"Questions!SRN4","v":0},{"$f":"Questions!SRO4","v":0},{"$f":"Questions!SRP4","v":0},{"$f":"Questions!SRQ4","v":0},{"$f":"Questions!SRR4","v":0},{"$f":"Questions!SRS4","v":0},{"$f":"Questions!SRT4","v":0},{"$f":"Questions!SRU4","v":0},{"$f":"Questions!SRV4","v":0},{"$f":"Questions!SRW4","v":0},{"$f":"Questions!SRX4","v":0},{"$f":"Questions!SRY4","v":0},{"$f":"Questions!SRZ4","v":0},{"$f":"Questions!SSA4","v":0},{"$f":"Questions!SSB4","v":0},{"$f":"Questions!SSC4","v":0},{"$f":"Questions!SSD4","v":0},{"$f":"Questions!SSE4","v":0},{"$f":"Questions!SSF4","v":0},{"$f":"Questions!SSG4","v":0},{"$f":"Questions!SSH4","v":0},{"$f":"Questions!SSI4","v":0},{"$f":"Questions!SSJ4","v":0},{"$f":"Questions!SSK4","v":0},{"$f":"Questions!SSL4","v":0},{"$f":"Questions!SSM4","v":0},{"$f":"Questions!SSN4","v":0},{"$f":"Questions!SSO4","v":0},{"$f":"Questions!SSP4","v":0},{"$f":"Questions!SSQ4","v":0},{"$f":"Questions!SSR4","v":0},{"$f":"Questions!SSS4","v":0},{"$f":"Questions!SST4","v":0},{"$f":"Questions!SSU4","v":0},{"$f":"Questions!SSV4","v":0},{"$f":"Questions!SSW4","v":0},{"$f":"Questions!SSX4","v":0},{"$f":"Questions!SSY4","v":0},{"$f":"Questions!SSZ4","v":0},{"$f":"Questions!STA4","v":0},{"$f":"Questions!STB4","v":0},{"$f":"Questions!STC4","v":0},{"$f":"Questions!STD4","v":0},{"$f":"Questions!STE4","v":0},{"$f":"Questions!STF4","v":0},{"$f":"Questions!STG4","v":0},{"$f":"Questions!STH4","v":0},{"$f":"Questions!STI4","v":0},{"$f":"Questions!STJ4","v":0},{"$f":"Questions!STK4","v":0},{"$f":"Questions!STL4","v":0},{"$f":"Questions!STM4","v":0},{"$f":"Questions!STN4","v":0},{"$f":"Questions!STO4","v":0},{"$f":"Questions!STP4","v":0},{"$f":"Questions!STQ4","v":0},{"$f":"Questions!STR4","v":0},{"$f":"Questions!STS4","v":0},{"$f":"Questions!STT4","v":0},{"$f":"Questions!STU4","v":0},{"$f":"Questions!STV4","v":0},{"$f":"Questions!STW4","v":0},{"$f":"Questions!STX4","v":0},{"$f":"Questions!STY4","v":0},{"$f":"Questions!STZ4","v":0},{"$f":"Questions!SUA4","v":0},{"$f":"Questions!SUB4","v":0},{"$f":"Questions!SUC4","v":0},{"$f":"Questions!SUD4","v":0},{"$f":"Questions!SUE4","v":0},{"$f":"Questions!SUF4","v":0},{"$f":"Questions!SUG4","v":0},{"$f":"Questions!SUH4","v":0},{"$f":"Questions!SUI4","v":0},{"$f":"Questions!SUJ4","v":0},{"$f":"Questions!SUK4","v":0},{"$f":"Questions!SUL4","v":0},{"$f":"Questions!SUM4","v":0},{"$f":"Questions!SUN4","v":0},{"$f":"Questions!SUO4","v":0},{"$f":"Questions!SUP4","v":0},{"$f":"Questions!SUQ4","v":0},{"$f":"Questions!SUR4","v":0},{"$f":"Questions!SUS4","v":0},{"$f":"Questions!SUT4","v":0},{"$f":"Questions!SUU4","v":0},{"$f":"Questions!SUV4","v":0},{"$f":"Questions!SUW4","v":0},{"$f":"Questions!SUX4","v":0},{"$f":"Questions!SUY4","v":0},{"$f":"Questions!SUZ4","v":0},{"$f":"Questions!SVA4","v":0},{"$f":"Questions!SVB4","v":0},{"$f":"Questions!SVC4","v":0},{"$f":"Questions!SVD4","v":0},{"$f":"Questions!SVE4","v":0},{"$f":"Questions!SVF4","v":0},{"$f":"Questions!SVG4","v":0},{"$f":"Questions!SVH4","v":0},{"$f":"Questions!SVI4","v":0},{"$f":"Questions!SVJ4","v":0},{"$f":"Questions!SVK4","v":0},{"$f":"Questions!SVL4","v":0},{"$f":"Questions!SVM4","v":0},{"$f":"Questions!SVN4","v":0},{"$f":"Questions!SVO4","v":0},{"$f":"Questions!SVP4","v":0},{"$f":"Questions!SVQ4","v":0},{"$f":"Questions!SVR4","v":0},{"$f":"Questions!SVS4","v":0},{"$f":"Questions!SVT4","v":0},{"$f":"Questions!SVU4","v":0},{"$f":"Questions!SVV4","v":0},{"$f":"Questions!SVW4","v":0},{"$f":"Questions!SVX4","v":0},{"$f":"Questions!SVY4","v":0},{"$f":"Questions!SVZ4","v":0},{"$f":"Questions!SWA4","v":0},{"$f":"Questions!SWB4","v":0},{"$f":"Questions!SWC4","v":0},{"$f":"Questions!SWD4","v":0},{"$f":"Questions!SWE4","v":0},{"$f":"Questions!SWF4","v":0},{"$f":"Questions!SWG4","v":0},{"$f":"Questions!SWH4","v":0},{"$f":"Questions!SWI4","v":0},{"$f":"Questions!SWJ4","v":0},{"$f":"Questions!SWK4","v":0},{"$f":"Questions!SWL4","v":0},{"$f":"Questions!SWM4","v":0},{"$f":"Questions!SWN4","v":0},{"$f":"Questions!SWO4","v":0},{"$f":"Questions!SWP4","v":0},{"$f":"Questions!SWQ4","v":0},{"$f":"Questions!SWR4","v":0},{"$f":"Questions!SWS4","v":0},{"$f":"Questions!SWT4","v":0},{"$f":"Questions!SWU4","v":0},{"$f":"Questions!SWV4","v":0},{"$f":"Questions!SWW4","v":0},{"$f":"Questions!SWX4","v":0},{"$f":"Questions!SWY4","v":0},{"$f":"Questions!SWZ4","v":0},{"$f":"Questions!SXA4","v":0},{"$f":"Questions!SXB4","v":0},{"$f":"Questions!SXC4","v":0},{"$f":"Questions!SXD4","v":0},{"$f":"Questions!SXE4","v":0},{"$f":"Questions!SXF4","v":0},{"$f":"Questions!SXG4","v":0},{"$f":"Questions!SXH4","v":0},{"$f":"Questions!SXI4","v":0},{"$f":"Questions!SXJ4","v":0},{"$f":"Questions!SXK4","v":0},{"$f":"Questions!SXL4","v":0},{"$f":"Questions!SXM4","v":0},{"$f":"Questions!SXN4","v":0},{"$f":"Questions!SXO4","v":0},{"$f":"Questions!SXP4","v":0},{"$f":"Questions!SXQ4","v":0},{"$f":"Questions!SXR4","v":0},{"$f":"Questions!SXS4","v":0},{"$f":"Questions!SXT4","v":0},{"$f":"Questions!SXU4","v":0},{"$f":"Questions!SXV4","v":0},{"$f":"Questions!SXW4","v":0},{"$f":"Questions!SXX4","v":0},{"$f":"Questions!SXY4","v":0},{"$f":"Questions!SXZ4","v":0},{"$f":"Questions!SYA4","v":0},{"$f":"Questions!SYB4","v":0},{"$f":"Questions!SYC4","v":0},{"$f":"Questions!SYD4","v":0},{"$f":"Questions!SYE4","v":0},{"$f":"Questions!SYF4","v":0},{"$f":"Questions!SYG4","v":0},{"$f":"Questions!SYH4","v":0},{"$f":"Questions!SYI4","v":0},{"$f":"Questions!SYJ4","v":0},{"$f":"Questions!SYK4","v":0},{"$f":"Questions!SYL4","v":0},{"$f":"Questions!SYM4","v":0},{"$f":"Questions!SYN4","v":0},{"$f":"Questions!SYO4","v":0},{"$f":"Questions!SYP4","v":0},{"$f":"Questions!SYQ4","v":0},{"$f":"Questions!SYR4","v":0},{"$f":"Questions!SYS4","v":0},{"$f":"Questions!SYT4","v":0},{"$f":"Questions!SYU4","v":0},{"$f":"Questions!SYV4","v":0},{"$f":"Questions!SYW4","v":0},{"$f":"Questions!SYX4","v":0},{"$f":"Questions!SYY4","v":0},{"$f":"Questions!SYZ4","v":0},{"$f":"Questions!SZA4","v":0},{"$f":"Questions!SZB4","v":0},{"$f":"Questions!SZC4","v":0},{"$f":"Questions!SZD4","v":0},{"$f":"Questions!SZE4","v":0},{"$f":"Questions!SZF4","v":0},{"$f":"Questions!SZG4","v":0},{"$f":"Questions!SZH4","v":0},{"$f":"Questions!SZI4","v":0},{"$f":"Questions!SZJ4","v":0},{"$f":"Questions!SZK4","v":0},{"$f":"Questions!SZL4","v":0},{"$f":"Questions!SZM4","v":0},{"$f":"Questions!SZN4","v":0},{"$f":"Questions!SZO4","v":0},{"$f":"Questions!SZP4","v":0},{"$f":"Questions!SZQ4","v":0},{"$f":"Questions!SZR4","v":0},{"$f":"Questions!SZS4","v":0},{"$f":"Questions!SZT4","v":0},{"$f":"Questions!SZU4","v":0},{"$f":"Questions!SZV4","v":0},{"$f":"Questions!SZW4","v":0},{"$f":"Questions!SZX4","v":0},{"$f":"Questions!SZY4","v":0},{"$f":"Questions!SZZ4","v":0},{"$f":"Questions!TAA4","v":0},{"$f":"Questions!TAB4","v":0},{"$f":"Questions!TAC4","v":0},{"$f":"Questions!TAD4","v":0},{"$f":"Questions!TAE4","v":0},{"$f":"Questions!TAF4","v":0},{"$f":"Questions!TAG4","v":0},{"$f":"Questions!TAH4","v":0},{"$f":"Questions!TAI4","v":0},{"$f":"Questions!TAJ4","v":0},{"$f":"Questions!TAK4","v":0},{"$f":"Questions!TAL4","v":0},{"$f":"Questions!TAM4","v":0},{"$f":"Questions!TAN4","v":0},{"$f":"Questions!TAO4","v":0},{"$f":"Questions!TAP4","v":0},{"$f":"Questions!TAQ4","v":0},{"$f":"Questions!TAR4","v":0},{"$f":"Questions!TAS4","v":0},{"$f":"Questions!TAT4","v":0},{"$f":"Questions!TAU4","v":0},{"$f":"Questions!TAV4","v":0},{"$f":"Questions!TAW4","v":0},{"$f":"Questions!TAX4","v":0},{"$f":"Questions!TAY4","v":0},{"$f":"Questions!TAZ4","v":0},{"$f":"Questions!TBA4","v":0},{"$f":"Questions!TBB4","v":0},{"$f":"Questions!TBC4","v":0},{"$f":"Questions!TBD4","v":0},{"$f":"Questions!TBE4","v":0},{"$f":"Questions!TBF4","v":0},{"$f":"Questions!TBG4","v":0},{"$f":"Questions!TBH4","v":0},{"$f":"Questions!TBI4","v":0},{"$f":"Questions!TBJ4","v":0},{"$f":"Questions!TBK4","v":0},{"$f":"Questions!TBL4","v":0},{"$f":"Questions!TBM4","v":0},{"$f":"Questions!TBN4","v":0},{"$f":"Questions!TBO4","v":0},{"$f":"Questions!TBP4","v":0},{"$f":"Questions!TBQ4","v":0},{"$f":"Questions!TBR4","v":0},{"$f":"Questions!TBS4","v":0},{"$f":"Questions!TBT4","v":0},{"$f":"Questions!TBU4","v":0},{"$f":"Questions!TBV4","v":0},{"$f":"Questions!TBW4","v":0},{"$f":"Questions!TBX4","v":0},{"$f":"Questions!TBY4","v":0},{"$f":"Questions!TBZ4","v":0},{"$f":"Questions!TCA4","v":0},{"$f":"Questions!TCB4","v":0},{"$f":"Questions!TCC4","v":0},{"$f":"Questions!TCD4","v":0},{"$f":"Questions!TCE4","v":0},{"$f":"Questions!TCF4","v":0},{"$f":"Questions!TCG4","v":0},{"$f":"Questions!TCH4","v":0},{"$f":"Questions!TCI4","v":0},{"$f":"Questions!TCJ4","v":0},{"$f":"Questions!TCK4","v":0},{"$f":"Questions!TCL4","v":0},{"$f":"Questions!TCM4","v":0},{"$f":"Questions!TCN4","v":0},{"$f":"Questions!TCO4","v":0},{"$f":"Questions!TCP4","v":0},{"$f":"Questions!TCQ4","v":0},{"$f":"Questions!TCR4","v":0},{"$f":"Questions!TCS4","v":0},{"$f":"Questions!TCT4","v":0},{"$f":"Questions!TCU4","v":0},{"$f":"Questions!TCV4","v":0},{"$f":"Questions!TCW4","v":0},{"$f":"Questions!TCX4","v":0},{"$f":"Questions!TCY4","v":0},{"$f":"Questions!TCZ4","v":0},{"$f":"Questions!TDA4","v":0},{"$f":"Questions!TDB4","v":0},{"$f":"Questions!TDC4","v":0},{"$f":"Questions!TDD4","v":0},{"$f":"Questions!TDE4","v":0},{"$f":"Questions!TDF4","v":0},{"$f":"Questions!TDG4","v":0},{"$f":"Questions!TDH4","v":0},{"$f":"Questions!TDI4","v":0},{"$f":"Questions!TDJ4","v":0},{"$f":"Questions!TDK4","v":0},{"$f":"Questions!TDL4","v":0},{"$f":"Questions!TDM4","v":0},{"$f":"Questions!TDN4","v":0},{"$f":"Questions!TDO4","v":0},{"$f":"Questions!TDP4","v":0},{"$f":"Questions!TDQ4","v":0},{"$f":"Questions!TDR4","v":0},{"$f":"Questions!TDS4","v":0},{"$f":"Questions!TDT4","v":0},{"$f":"Questions!TDU4","v":0},{"$f":"Questions!TDV4","v":0},{"$f":"Questions!TDW4","v":0},{"$f":"Questions!TDX4","v":0},{"$f":"Questions!TDY4","v":0},{"$f":"Questions!TDZ4","v":0},{"$f":"Questions!TEA4","v":0},{"$f":"Questions!TEB4","v":0},{"$f":"Questions!TEC4","v":0},{"$f":"Questions!TED4","v":0},{"$f":"Questions!TEE4","v":0},{"$f":"Questions!TEF4","v":0},{"$f":"Questions!TEG4","v":0},{"$f":"Questions!TEH4","v":0},{"$f":"Questions!TEI4","v":0},{"$f":"Questions!TEJ4","v":0},{"$f":"Questions!TEK4","v":0},{"$f":"Questions!TEL4","v":0},{"$f":"Questions!TEM4","v":0},{"$f":"Questions!TEN4","v":0},{"$f":"Questions!TEO4","v":0},{"$f":"Questions!TEP4","v":0},{"$f":"Questions!TEQ4","v":0},{"$f":"Questions!TER4","v":0},{"$f":"Questions!TES4","v":0},{"$f":"Questions!TET4","v":0},{"$f":"Questions!TEU4","v":0},{"$f":"Questions!TEV4","v":0},{"$f":"Questions!TEW4","v":0},{"$f":"Questions!TEX4","v":0},{"$f":"Questions!TEY4","v":0},{"$f":"Questions!TEZ4","v":0},{"$f":"Questions!TFA4","v":0},{"$f":"Questions!TFB4","v":0},{"$f":"Questions!TFC4","v":0},{"$f":"Questions!TFD4","v":0},{"$f":"Questions!TFE4","v":0},{"$f":"Questions!TFF4","v":0},{"$f":"Questions!TFG4","v":0},{"$f":"Questions!TFH4","v":0},{"$f":"Questions!TFI4","v":0},{"$f":"Questions!TFJ4","v":0},{"$f":"Questions!TFK4","v":0},{"$f":"Questions!TFL4","v":0},{"$f":"Questions!TFM4","v":0},{"$f":"Questions!TFN4","v":0},{"$f":"Questions!TFO4","v":0},{"$f":"Questions!TFP4","v":0},{"$f":"Questions!TFQ4","v":0},{"$f":"Questions!TFR4","v":0},{"$f":"Questions!TFS4","v":0},{"$f":"Questions!TFT4","v":0},{"$f":"Questions!TFU4","v":0},{"$f":"Questions!TFV4","v":0},{"$f":"Questions!TFW4","v":0},{"$f":"Questions!TFX4","v":0},{"$f":"Questions!TFY4","v":0},{"$f":"Questions!TFZ4","v":0},{"$f":"Questions!TGA4","v":0},{"$f":"Questions!TGB4","v":0},{"$f":"Questions!TGC4","v":0},{"$f":"Questions!TGD4","v":0},{"$f":"Questions!TGE4","v":0},{"$f":"Questions!TGF4","v":0},{"$f":"Questions!TGG4","v":0},{"$f":"Questions!TGH4","v":0},{"$f":"Questions!TGI4","v":0},{"$f":"Questions!TGJ4","v":0},{"$f":"Questions!TGK4","v":0},{"$f":"Questions!TGL4","v":0},{"$f":"Questions!TGM4","v":0},{"$f":"Questions!TGN4","v":0},{"$f":"Questions!TGO4","v":0},{"$f":"Questions!TGP4","v":0},{"$f":"Questions!TGQ4","v":0},{"$f":"Questions!TGR4","v":0},{"$f":"Questions!TGS4","v":0},{"$f":"Questions!TGT4","v":0},{"$f":"Questions!TGU4","v":0},{"$f":"Questions!TGV4","v":0},{"$f":"Questions!TGW4","v":0},{"$f":"Questions!TGX4","v":0},{"$f":"Questions!TGY4","v":0},{"$f":"Questions!TGZ4","v":0},{"$f":"Questions!THA4","v":0},{"$f":"Questions!THB4","v":0},{"$f":"Questions!THC4","v":0},{"$f":"Questions!THD4","v":0},{"$f":"Questions!THE4","v":0},{"$f":"Questions!THF4","v":0},{"$f":"Questions!THG4","v":0},{"$f":"Questions!THH4","v":0},{"$f":"Questions!THI4","v":0},{"$f":"Questions!THJ4","v":0},{"$f":"Questions!THK4","v":0},{"$f":"Questions!THL4","v":0},{"$f":"Questions!THM4","v":0},{"$f":"Questions!THN4","v":0},{"$f":"Questions!THO4","v":0},{"$f":"Questions!THP4","v":0},{"$f":"Questions!THQ4","v":0},{"$f":"Questions!THR4","v":0},{"$f":"Questions!THS4","v":0},{"$f":"Questions!THT4","v":0},{"$f":"Questions!THU4","v":0},{"$f":"Questions!THV4","v":0},{"$f":"Questions!THW4","v":0},{"$f":"Questions!THX4","v":0},{"$f":"Questions!THY4","v":0},{"$f":"Questions!THZ4","v":0},{"$f":"Questions!TIA4","v":0},{"$f":"Questions!TIB4","v":0},{"$f":"Questions!TIC4","v":0},{"$f":"Questions!TID4","v":0},{"$f":"Questions!TIE4","v":0},{"$f":"Questions!TIF4","v":0},{"$f":"Questions!TIG4","v":0},{"$f":"Questions!TIH4","v":0},{"$f":"Questions!TII4","v":0},{"$f":"Questions!TIJ4","v":0},{"$f":"Questions!TIK4","v":0},{"$f":"Questions!TIL4","v":0},{"$f":"Questions!TIM4","v":0},{"$f":"Questions!TIN4","v":0},{"$f":"Questions!TIO4","v":0},{"$f":"Questions!TIP4","v":0},{"$f":"Questions!TIQ4","v":0},{"$f":"Questions!TIR4","v":0},{"$f":"Questions!TIS4","v":0},{"$f":"Questions!TIT4","v":0},{"$f":"Questions!TIU4","v":0},{"$f":"Questions!TIV4","v":0},{"$f":"Questions!TIW4","v":0},{"$f":"Questions!TIX4","v":0},{"$f":"Questions!TIY4","v":0},{"$f":"Questions!TIZ4","v":0},{"$f":"Questions!TJA4","v":0},{"$f":"Questions!TJB4","v":0},{"$f":"Questions!TJC4","v":0},{"$f":"Questions!TJD4","v":0},{"$f":"Questions!TJE4","v":0},{"$f":"Questions!TJF4","v":0},{"$f":"Questions!TJG4","v":0},{"$f":"Questions!TJH4","v":0},{"$f":"Questions!TJI4","v":0},{"$f":"Questions!TJJ4","v":0},{"$f":"Questions!TJK4","v":0},{"$f":"Questions!TJL4","v":0},{"$f":"Questions!TJM4","v":0},{"$f":"Questions!TJN4","v":0},{"$f":"Questions!TJO4","v":0},{"$f":"Questions!TJP4","v":0},{"$f":"Questions!TJQ4","v":0},{"$f":"Questions!TJR4","v":0},{"$f":"Questions!TJS4","v":0},{"$f":"Questions!TJT4","v":0},{"$f":"Questions!TJU4","v":0},{"$f":"Questions!TJV4","v":0},{"$f":"Questions!TJW4","v":0},{"$f":"Questions!TJX4","v":0},{"$f":"Questions!TJY4","v":0},{"$f":"Questions!TJZ4","v":0},{"$f":"Questions!TKA4","v":0},{"$f":"Questions!TKB4","v":0},{"$f":"Questions!TKC4","v":0},{"$f":"Questions!TKD4","v":0},{"$f":"Questions!TKE4","v":0},{"$f":"Questions!TKF4","v":0},{"$f":"Questions!TKG4","v":0},{"$f":"Questions!TKH4","v":0},{"$f":"Questions!TKI4","v":0},{"$f":"Questions!TKJ4","v":0},{"$f":"Questions!TKK4","v":0},{"$f":"Questions!TKL4","v":0},{"$f":"Questions!TKM4","v":0},{"$f":"Questions!TKN4","v":0},{"$f":"Questions!TKO4","v":0},{"$f":"Questions!TKP4","v":0},{"$f":"Questions!TKQ4","v":0},{"$f":"Questions!TKR4","v":0},{"$f":"Questions!TKS4","v":0},{"$f":"Questions!TKT4","v":0},{"$f":"Questions!TKU4","v":0},{"$f":"Questions!TKV4","v":0},{"$f":"Questions!TKW4","v":0},{"$f":"Questions!TKX4","v":0},{"$f":"Questions!TKY4","v":0},{"$f":"Questions!TKZ4","v":0},{"$f":"Questions!TLA4","v":0},{"$f":"Questions!TLB4","v":0},{"$f":"Questions!TLC4","v":0},{"$f":"Questions!TLD4","v":0},{"$f":"Questions!TLE4","v":0},{"$f":"Questions!TLF4","v":0},{"$f":"Questions!TLG4","v":0},{"$f":"Questions!TLH4","v":0},{"$f":"Questions!TLI4","v":0},{"$f":"Questions!TLJ4","v":0},{"$f":"Questions!TLK4","v":0},{"$f":"Questions!TLL4","v":0},{"$f":"Questions!TLM4","v":0},{"$f":"Questions!TLN4","v":0},{"$f":"Questions!TLO4","v":0},{"$f":"Questions!TLP4","v":0},{"$f":"Questions!TLQ4","v":0},{"$f":"Questions!TLR4","v":0},{"$f":"Questions!TLS4","v":0},{"$f":"Questions!TLT4","v":0},{"$f":"Questions!TLU4","v":0},{"$f":"Questions!TLV4","v":0},{"$f":"Questions!TLW4","v":0},{"$f":"Questions!TLX4","v":0},{"$f":"Questions!TLY4","v":0},{"$f":"Questions!TLZ4","v":0},{"$f":"Questions!TMA4","v":0},{"$f":"Questions!TMB4","v":0},{"$f":"Questions!TMC4","v":0},{"$f":"Questions!TMD4","v":0},{"$f":"Questions!TME4","v":0},{"$f":"Questions!TMF4","v":0},{"$f":"Questions!TMG4","v":0},{"$f":"Questions!TMH4","v":0},{"$f":"Questions!TMI4","v":0},{"$f":"Questions!TMJ4","v":0},{"$f":"Questions!TMK4","v":0},{"$f":"Questions!TML4","v":0},{"$f":"Questions!TMM4","v":0},{"$f":"Questions!TMN4","v":0},{"$f":"Questions!TMO4","v":0},{"$f":"Questions!TMP4","v":0},{"$f":"Questions!TMQ4","v":0},{"$f":"Questions!TMR4","v":0},{"$f":"Questions!TMS4","v":0},{"$f":"Questions!TMT4","v":0},{"$f":"Questions!TMU4","v":0},{"$f":"Questions!TMV4","v":0},{"$f":"Questions!TMW4","v":0},{"$f":"Questions!TMX4","v":0},{"$f":"Questions!TMY4","v":0},{"$f":"Questions!TMZ4","v":0},{"$f":"Questions!TNA4","v":0},{"$f":"Questions!TNB4","v":0},{"$f":"Questions!TNC4","v":0},{"$f":"Questions!TND4","v":0},{"$f":"Questions!TNE4","v":0},{"$f":"Questions!TNF4","v":0},{"$f":"Questions!TNG4","v":0},{"$f":"Questions!TNH4","v":0},{"$f":"Questions!TNI4","v":0},{"$f":"Questions!TNJ4","v":0},{"$f":"Questions!TNK4","v":0},{"$f":"Questions!TNL4","v":0},{"$f":"Questions!TNM4","v":0},{"$f":"Questions!TNN4","v":0},{"$f":"Questions!TNO4","v":0},{"$f":"Questions!TNP4","v":0},{"$f":"Questions!TNQ4","v":0},{"$f":"Questions!TNR4","v":0},{"$f":"Questions!TNS4","v":0},{"$f":"Questions!TNT4","v":0},{"$f":"Questions!TNU4","v":0},{"$f":"Questions!TNV4","v":0},{"$f":"Questions!TNW4","v":0},{"$f":"Questions!TNX4","v":0},{"$f":"Questions!TNY4","v":0},{"$f":"Questions!TNZ4","v":0},{"$f":"Questions!TOA4","v":0},{"$f":"Questions!TOB4","v":0},{"$f":"Questions!TOC4","v":0},{"$f":"Questions!TOD4","v":0},{"$f":"Questions!TOE4","v":0},{"$f":"Questions!TOF4","v":0},{"$f":"Questions!TOG4","v":0},{"$f":"Questions!TOH4","v":0},{"$f":"Questions!TOI4","v":0},{"$f":"Questions!TOJ4","v":0},{"$f":"Questions!TOK4","v":0},{"$f":"Questions!TOL4","v":0},{"$f":"Questions!TOM4","v":0},{"$f":"Questions!TON4","v":0},{"$f":"Questions!TOO4","v":0},{"$f":"Questions!TOP4","v":0},{"$f":"Questions!TOQ4","v":0},{"$f":"Questions!TOR4","v":0},{"$f":"Questions!TOS4","v":0},{"$f":"Questions!TOT4","v":0},{"$f":"Questions!TOU4","v":0},{"$f":"Questions!TOV4","v":0},{"$f":"Questions!TOW4","v":0},{"$f":"Questions!TOX4","v":0},{"$f":"Questions!TOY4","v":0},{"$f":"Questions!TOZ4","v":0},{"$f":"Questions!TPA4","v":0},{"$f":"Questions!TPB4","v":0},{"$f":"Questions!TPC4","v":0},{"$f":"Questions!TPD4","v":0},{"$f":"Questions!TPE4","v":0},{"$f":"Questions!TPF4","v":0},{"$f":"Questions!TPG4","v":0},{"$f":"Questions!TPH4","v":0},{"$f":"Questions!TPI4","v":0},{"$f":"Questions!TPJ4","v":0},{"$f":"Questions!TPK4","v":0},{"$f":"Questions!TPL4","v":0},{"$f":"Questions!TPM4","v":0},{"$f":"Questions!TPN4","v":0},{"$f":"Questions!TPO4","v":0},{"$f":"Questions!TPP4","v":0},{"$f":"Questions!TPQ4","v":0},{"$f":"Questions!TPR4","v":0},{"$f":"Questions!TPS4","v":0},{"$f":"Questions!TPT4","v":0},{"$f":"Questions!TPU4","v":0},{"$f":"Questions!TPV4","v":0},{"$f":"Questions!TPW4","v":0},{"$f":"Questions!TPX4","v":0},{"$f":"Questions!TPY4","v":0},{"$f":"Questions!TPZ4","v":0},{"$f":"Questions!TQA4","v":0},{"$f":"Questions!TQB4","v":0},{"$f":"Questions!TQC4","v":0},{"$f":"Questions!TQD4","v":0},{"$f":"Questions!TQE4","v":0},{"$f":"Questions!TQF4","v":0},{"$f":"Questions!TQG4","v":0},{"$f":"Questions!TQH4","v":0},{"$f":"Questions!TQI4","v":0},{"$f":"Questions!TQJ4","v":0},{"$f":"Questions!TQK4","v":0},{"$f":"Questions!TQL4","v":0},{"$f":"Questions!TQM4","v":0},{"$f":"Questions!TQN4","v":0},{"$f":"Questions!TQO4","v":0},{"$f":"Questions!TQP4","v":0},{"$f":"Questions!TQQ4","v":0},{"$f":"Questions!TQR4","v":0},{"$f":"Questions!TQS4","v":0},{"$f":"Questions!TQT4","v":0},{"$f":"Questions!TQU4","v":0},{"$f":"Questions!TQV4","v":0},{"$f":"Questions!TQW4","v":0},{"$f":"Questions!TQX4","v":0},{"$f":"Questions!TQY4","v":0},{"$f":"Questions!TQZ4","v":0},{"$f":"Questions!TRA4","v":0},{"$f":"Questions!TRB4","v":0},{"$f":"Questions!TRC4","v":0},{"$f":"Questions!TRD4","v":0},{"$f":"Questions!TRE4","v":0},{"$f":"Questions!TRF4","v":0},{"$f":"Questions!TRG4","v":0},{"$f":"Questions!TRH4","v":0},{"$f":"Questions!TRI4","v":0},{"$f":"Questions!TRJ4","v":0},{"$f":"Questions!TRK4","v":0},{"$f":"Questions!TRL4","v":0},{"$f":"Questions!TRM4","v":0},{"$f":"Questions!TRN4","v":0},{"$f":"Questions!TRO4","v":0},{"$f":"Questions!TRP4","v":0},{"$f":"Questions!TRQ4","v":0},{"$f":"Questions!TRR4","v":0},{"$f":"Questions!TRS4","v":0},{"$f":"Questions!TRT4","v":0},{"$f":"Questions!TRU4","v":0},{"$f":"Questions!TRV4","v":0},{"$f":"Questions!TRW4","v":0},{"$f":"Questions!TRX4","v":0},{"$f":"Questions!TRY4","v":0},{"$f":"Questions!TRZ4","v":0},{"$f":"Questions!TSA4","v":0},{"$f":"Questions!TSB4","v":0},{"$f":"Questions!TSC4","v":0},{"$f":"Questions!TSD4","v":0},{"$f":"Questions!TSE4","v":0},{"$f":"Questions!TSF4","v":0},{"$f":"Questions!TSG4","v":0},{"$f":"Questions!TSH4","v":0},{"$f":"Questions!TSI4","v":0},{"$f":"Questions!TSJ4","v":0},{"$f":"Questions!TSK4","v":0},{"$f":"Questions!TSL4","v":0},{"$f":"Questions!TSM4","v":0},{"$f":"Questions!TSN4","v":0},{"$f":"Questions!TSO4","v":0},{"$f":"Questions!TSP4","v":0},{"$f":"Questions!TSQ4","v":0},{"$f":"Questions!TSR4","v":0},{"$f":"Questions!TSS4","v":0},{"$f":"Questions!TST4","v":0},{"$f":"Questions!TSU4","v":0},{"$f":"Questions!TSV4","v":0},{"$f":"Questions!TSW4","v":0},{"$f":"Questions!TSX4","v":0},{"$f":"Questions!TSY4","v":0},{"$f":"Questions!TSZ4","v":0},{"$f":"Questions!TTA4","v":0},{"$f":"Questions!TTB4","v":0},{"$f":"Questions!TTC4","v":0},{"$f":"Questions!TTD4","v":0},{"$f":"Questions!TTE4","v":0},{"$f":"Questions!TTF4","v":0},{"$f":"Questions!TTG4","v":0},{"$f":"Questions!TTH4","v":0},{"$f":"Questions!TTI4","v":0},{"$f":"Questions!TTJ4","v":0},{"$f":"Questions!TTK4","v":0},{"$f":"Questions!TTL4","v":0},{"$f":"Questions!TTM4","v":0},{"$f":"Questions!TTN4","v":0},{"$f":"Questions!TTO4","v":0},{"$f":"Questions!TTP4","v":0},{"$f":"Questions!TTQ4","v":0},{"$f":"Questions!TTR4","v":0},{"$f":"Questions!TTS4","v":0},{"$f":"Questions!TTT4","v":0},{"$f":"Questions!TTU4","v":0},{"$f":"Questions!TTV4","v":0},{"$f":"Questions!TTW4","v":0},{"$f":"Questions!TTX4","v":0},{"$f":"Questions!TTY4","v":0},{"$f":"Questions!TTZ4","v":0},{"$f":"Questions!TUA4","v":0},{"$f":"Questions!TUB4","v":0},{"$f":"Questions!TUC4","v":0},{"$f":"Questions!TUD4","v":0},{"$f":"Questions!TUE4","v":0},{"$f":"Questions!TUF4","v":0},{"$f":"Questions!TUG4","v":0},{"$f":"Questions!TUH4","v":0},{"$f":"Questions!TUI4","v":0},{"$f":"Questions!TUJ4","v":0},{"$f":"Questions!TUK4","v":0},{"$f":"Questions!TUL4","v":0},{"$f":"Questions!TUM4","v":0},{"$f":"Questions!TUN4","v":0},{"$f":"Questions!TUO4","v":0},{"$f":"Questions!TUP4","v":0},{"$f":"Questions!TUQ4","v":0},{"$f":"Questions!TUR4","v":0},{"$f":"Questions!TUS4","v":0},{"$f":"Questions!TUT4","v":0},{"$f":"Questions!TUU4","v":0},{"$f":"Questions!TUV4","v":0},{"$f":"Questions!TUW4","v":0},{"$f":"Questions!TUX4","v":0},{"$f":"Questions!TUY4","v":0},{"$f":"Questions!TUZ4","v":0},{"$f":"Questions!TVA4","v":0},{"$f":"Questions!TVB4","v":0},{"$f":"Questions!TVC4","v":0},{"$f":"Questions!TVD4","v":0},{"$f":"Questions!TVE4","v":0},{"$f":"Questions!TVF4","v":0},{"$f":"Questions!TVG4","v":0},{"$f":"Questions!TVH4","v":0},{"$f":"Questions!TVI4","v":0},{"$f":"Questions!TVJ4","v":0},{"$f":"Questions!TVK4","v":0},{"$f":"Questions!TVL4","v":0},{"$f":"Questions!TVM4","v":0},{"$f":"Questions!TVN4","v":0},{"$f":"Questions!TVO4","v":0},{"$f":"Questions!TVP4","v":0},{"$f":"Questions!TVQ4","v":0},{"$f":"Questions!TVR4","v":0},{"$f":"Questions!TVS4","v":0},{"$f":"Questions!TVT4","v":0},{"$f":"Questions!TVU4","v":0},{"$f":"Questions!TVV4","v":0},{"$f":"Questions!TVW4","v":0},{"$f":"Questions!TVX4","v":0},{"$f":"Questions!TVY4","v":0},{"$f":"Questions!TVZ4","v":0},{"$f":"Questions!TWA4","v":0},{"$f":"Questions!TWB4","v":0},{"$f":"Questions!TWC4","v":0},{"$f":"Questions!TWD4","v":0},{"$f":"Questions!TWE4","v":0},{"$f":"Questions!TWF4","v":0},{"$f":"Questions!TWG4","v":0},{"$f":"Questions!TWH4","v":0},{"$f":"Questions!TWI4","v":0},{"$f":"Questions!TWJ4","v":0},{"$f":"Questions!TWK4","v":0},{"$f":"Questions!TWL4","v":0},{"$f":"Questions!TWM4","v":0},{"$f":"Questions!TWN4","v":0},{"$f":"Questions!TWO4","v":0},{"$f":"Questions!TWP4","v":0},{"$f":"Questions!TWQ4","v":0},{"$f":"Questions!TWR4","v":0},{"$f":"Questions!TWS4","v":0},{"$f":"Questions!TWT4","v":0},{"$f":"Questions!TWU4","v":0},{"$f":"Questions!TWV4","v":0},{"$f":"Questions!TWW4","v":0},{"$f":"Questions!TWX4","v":0},{"$f":"Questions!TWY4","v":0},{"$f":"Questions!TWZ4","v":0},{"$f":"Questions!TXA4","v":0},{"$f":"Questions!TXB4","v":0},{"$f":"Questions!TXC4","v":0},{"$f":"Questions!TXD4","v":0},{"$f":"Questions!TXE4","v":0},{"$f":"Questions!TXF4","v":0},{"$f":"Questions!TXG4","v":0},{"$f":"Questions!TXH4","v":0},{"$f":"Questions!TXI4","v":0},{"$f":"Questions!TXJ4","v":0},{"$f":"Questions!TXK4","v":0},{"$f":"Questions!TXL4","v":0},{"$f":"Questions!TXM4","v":0},{"$f":"Questions!TXN4","v":0},{"$f":"Questions!TXO4","v":0},{"$f":"Questions!TXP4","v":0},{"$f":"Questions!TXQ4","v":0},{"$f":"Questions!TXR4","v":0},{"$f":"Questions!TXS4","v":0},{"$f":"Questions!TXT4","v":0},{"$f":"Questions!TXU4","v":0},{"$f":"Questions!TXV4","v":0},{"$f":"Questions!TXW4","v":0},{"$f":"Questions!TXX4","v":0},{"$f":"Questions!TXY4","v":0},{"$f":"Questions!TXZ4","v":0},{"$f":"Questions!TYA4","v":0},{"$f":"Questions!TYB4","v":0},{"$f":"Questions!TYC4","v":0},{"$f":"Questions!TYD4","v":0},{"$f":"Questions!TYE4","v":0},{"$f":"Questions!TYF4","v":0},{"$f":"Questions!TYG4","v":0},{"$f":"Questions!TYH4","v":0},{"$f":"Questions!TYI4","v":0},{"$f":"Questions!TYJ4","v":0},{"$f":"Questions!TYK4","v":0},{"$f":"Questions!TYL4","v":0},{"$f":"Questions!TYM4","v":0},{"$f":"Questions!TYN4","v":0},{"$f":"Questions!TYO4","v":0},{"$f":"Questions!TYP4","v":0},{"$f":"Questions!TYQ4","v":0},{"$f":"Questions!TYR4","v":0},{"$f":"Questions!TYS4","v":0},{"$f":"Questions!TYT4","v":0},{"$f":"Questions!TYU4","v":0},{"$f":"Questions!TYV4","v":0},{"$f":"Questions!TYW4","v":0},{"$f":"Questions!TYX4","v":0},{"$f":"Questions!TYY4","v":0},{"$f":"Questions!TYZ4","v":0},{"$f":"Questions!TZA4","v":0},{"$f":"Questions!TZB4","v":0},{"$f":"Questions!TZC4","v":0},{"$f":"Questions!TZD4","v":0},{"$f":"Questions!TZE4","v":0},{"$f":"Questions!TZF4","v":0},{"$f":"Questions!TZG4","v":0},{"$f":"Questions!TZH4","v":0},{"$f":"Questions!TZI4","v":0},{"$f":"Questions!TZJ4","v":0},{"$f":"Questions!TZK4","v":0},{"$f":"Questions!TZL4","v":0},{"$f":"Questions!TZM4","v":0},{"$f":"Questions!TZN4","v":0},{"$f":"Questions!TZO4","v":0},{"$f":"Questions!TZP4","v":0},{"$f":"Questions!TZQ4","v":0},{"$f":"Questions!TZR4","v":0},{"$f":"Questions!TZS4","v":0},{"$f":"Questions!TZT4","v":0},{"$f":"Questions!TZU4","v":0},{"$f":"Questions!TZV4","v":0},{"$f":"Questions!TZW4","v":0},{"$f":"Questions!TZX4","v":0},{"$f":"Questions!TZY4","v":0},{"$f":"Questions!TZZ4","v":0},{"$f":"Questions!UAA4","v":0},{"$f":"Questions!UAB4","v":0},{"$f":"Questions!UAC4","v":0},{"$f":"Questions!UAD4","v":0},{"$f":"Questions!UAE4","v":0},{"$f":"Questions!UAF4","v":0},{"$f":"Questions!UAG4","v":0},{"$f":"Questions!UAH4","v":0},{"$f":"Questions!UAI4","v":0},{"$f":"Questions!UAJ4","v":0},{"$f":"Questions!UAK4","v":0},{"$f":"Questions!UAL4","v":0},{"$f":"Questions!UAM4","v":0},{"$f":"Questions!UAN4","v":0},{"$f":"Questions!UAO4","v":0},{"$f":"Questions!UAP4","v":0},{"$f":"Questions!UAQ4","v":0},{"$f":"Questions!UAR4","v":0},{"$f":"Questions!UAS4","v":0},{"$f":"Questions!UAT4","v":0},{"$f":"Questions!UAU4","v":0},{"$f":"Questions!UAV4","v":0},{"$f":"Questions!UAW4","v":0},{"$f":"Questions!UAX4","v":0},{"$f":"Questions!UAY4","v":0},{"$f":"Questions!UAZ4","v":0},{"$f":"Questions!UBA4","v":0},{"$f":"Questions!UBB4","v":0},{"$f":"Questions!UBC4","v":0},{"$f":"Questions!UBD4","v":0},{"$f":"Questions!UBE4","v":0},{"$f":"Questions!UBF4","v":0},{"$f":"Questions!UBG4","v":0},{"$f":"Questions!UBH4","v":0},{"$f":"Questions!UBI4","v":0},{"$f":"Questions!UBJ4","v":0},{"$f":"Questions!UBK4","v":0},{"$f":"Questions!UBL4","v":0},{"$f":"Questions!UBM4","v":0},{"$f":"Questions!UBN4","v":0},{"$f":"Questions!UBO4","v":0},{"$f":"Questions!UBP4","v":0},{"$f":"Questions!UBQ4","v":0},{"$f":"Questions!UBR4","v":0},{"$f":"Questions!UBS4","v":0},{"$f":"Questions!UBT4","v":0},{"$f":"Questions!UBU4","v":0},{"$f":"Questions!UBV4","v":0},{"$f":"Questions!UBW4","v":0},{"$f":"Questions!UBX4","v":0},{"$f":"Questions!UBY4","v":0},{"$f":"Questions!UBZ4","v":0},{"$f":"Questions!UCA4","v":0},{"$f":"Questions!UCB4","v":0},{"$f":"Questions!UCC4","v":0},{"$f":"Questions!UCD4","v":0},{"$f":"Questions!UCE4","v":0},{"$f":"Questions!UCF4","v":0},{"$f":"Questions!UCG4","v":0},{"$f":"Questions!UCH4","v":0},{"$f":"Questions!UCI4","v":0},{"$f":"Questions!UCJ4","v":0},{"$f":"Questions!UCK4","v":0},{"$f":"Questions!UCL4","v":0},{"$f":"Questions!UCM4","v":0},{"$f":"Questions!UCN4","v":0},{"$f":"Questions!UCO4","v":0},{"$f":"Questions!UCP4","v":0},{"$f":"Questions!UCQ4","v":0},{"$f":"Questions!UCR4","v":0},{"$f":"Questions!UCS4","v":0},{"$f":"Questions!UCT4","v":0},{"$f":"Questions!UCU4","v":0},{"$f":"Questions!UCV4","v":0},{"$f":"Questions!UCW4","v":0},{"$f":"Questions!UCX4","v":0},{"$f":"Questions!UCY4","v":0},{"$f":"Questions!UCZ4","v":0},{"$f":"Questions!UDA4","v":0},{"$f":"Questions!UDB4","v":0},{"$f":"Questions!UDC4","v":0},{"$f":"Questions!UDD4","v":0},{"$f":"Questions!UDE4","v":0},{"$f":"Questions!UDF4","v":0},{"$f":"Questions!UDG4","v":0},{"$f":"Questions!UDH4","v":0},{"$f":"Questions!UDI4","v":0},{"$f":"Questions!UDJ4","v":0},{"$f":"Questions!UDK4","v":0},{"$f":"Questions!UDL4","v":0},{"$f":"Questions!UDM4","v":0},{"$f":"Questions!UDN4","v":0},{"$f":"Questions!UDO4","v":0},{"$f":"Questions!UDP4","v":0},{"$f":"Questions!UDQ4","v":0},{"$f":"Questions!UDR4","v":0},{"$f":"Questions!UDS4","v":0},{"$f":"Questions!UDT4","v":0},{"$f":"Questions!UDU4","v":0},{"$f":"Questions!UDV4","v":0},{"$f":"Questions!UDW4","v":0},{"$f":"Questions!UDX4","v":0},{"$f":"Questions!UDY4","v":0},{"$f":"Questions!UDZ4","v":0},{"$f":"Questions!UEA4","v":0},{"$f":"Questions!UEB4","v":0},{"$f":"Questions!UEC4","v":0},{"$f":"Questions!UED4","v":0},{"$f":"Questions!UEE4","v":0},{"$f":"Questions!UEF4","v":0},{"$f":"Questions!UEG4","v":0},{"$f":"Questions!UEH4","v":0},{"$f":"Questions!UEI4","v":0},{"$f":"Questions!UEJ4","v":0},{"$f":"Questions!UEK4","v":0},{"$f":"Questions!UEL4","v":0},{"$f":"Questions!UEM4","v":0},{"$f":"Questions!UEN4","v":0},{"$f":"Questions!UEO4","v":0},{"$f":"Questions!UEP4","v":0},{"$f":"Questions!UEQ4","v":0},{"$f":"Questions!UER4","v":0},{"$f":"Questions!UES4","v":0},{"$f":"Questions!UET4","v":0},{"$f":"Questions!UEU4","v":0},{"$f":"Questions!UEV4","v":0},{"$f":"Questions!UEW4","v":0},{"$f":"Questions!UEX4","v":0},{"$f":"Questions!UEY4","v":0},{"$f":"Questions!UEZ4","v":0},{"$f":"Questions!UFA4","v":0},{"$f":"Questions!UFB4","v":0},{"$f":"Questions!UFC4","v":0},{"$f":"Questions!UFD4","v":0},{"$f":"Questions!UFE4","v":0},{"$f":"Questions!UFF4","v":0},{"$f":"Questions!UFG4","v":0},{"$f":"Questions!UFH4","v":0},{"$f":"Questions!UFI4","v":0},{"$f":"Questions!UFJ4","v":0},{"$f":"Questions!UFK4","v":0},{"$f":"Questions!UFL4","v":0},{"$f":"Questions!UFM4","v":0},{"$f":"Questions!UFN4","v":0},{"$f":"Questions!UFO4","v":0},{"$f":"Questions!UFP4","v":0},{"$f":"Questions!UFQ4","v":0},{"$f":"Questions!UFR4","v":0},{"$f":"Questions!UFS4","v":0},{"$f":"Questions!UFT4","v":0},{"$f":"Questions!UFU4","v":0},{"$f":"Questions!UFV4","v":0},{"$f":"Questions!UFW4","v":0},{"$f":"Questions!UFX4","v":0},{"$f":"Questions!UFY4","v":0},{"$f":"Questions!UFZ4","v":0},{"$f":"Questions!UGA4","v":0},{"$f":"Questions!UGB4","v":0},{"$f":"Questions!UGC4","v":0},{"$f":"Questions!UGD4","v":0},{"$f":"Questions!UGE4","v":0},{"$f":"Questions!UGF4","v":0},{"$f":"Questions!UGG4","v":0},{"$f":"Questions!UGH4","v":0},{"$f":"Questions!UGI4","v":0},{"$f":"Questions!UGJ4","v":0},{"$f":"Questions!UGK4","v":0},{"$f":"Questions!UGL4","v":0},{"$f":"Questions!UGM4","v":0},{"$f":"Questions!UGN4","v":0},{"$f":"Questions!UGO4","v":0},{"$f":"Questions!UGP4","v":0},{"$f":"Questions!UGQ4","v":0},{"$f":"Questions!UGR4","v":0},{"$f":"Questions!UGS4","v":0},{"$f":"Questions!UGT4","v":0},{"$f":"Questions!UGU4","v":0},{"$f":"Questions!UGV4","v":0},{"$f":"Questions!UGW4","v":0},{"$f":"Questions!UGX4","v":0},{"$f":"Questions!UGY4","v":0},{"$f":"Questions!UGZ4","v":0},{"$f":"Questions!UHA4","v":0},{"$f":"Questions!UHB4","v":0},{"$f":"Questions!UHC4","v":0},{"$f":"Questions!UHD4","v":0},{"$f":"Questions!UHE4","v":0},{"$f":"Questions!UHF4","v":0},{"$f":"Questions!UHG4","v":0},{"$f":"Questions!UHH4","v":0},{"$f":"Questions!UHI4","v":0},{"$f":"Questions!UHJ4","v":0},{"$f":"Questions!UHK4","v":0},{"$f":"Questions!UHL4","v":0},{"$f":"Questions!UHM4","v":0},{"$f":"Questions!UHN4","v":0},{"$f":"Questions!UHO4","v":0},{"$f":"Questions!UHP4","v":0},{"$f":"Questions!UHQ4","v":0},{"$f":"Questions!UHR4","v":0},{"$f":"Questions!UHS4","v":0},{"$f":"Questions!UHT4","v":0},{"$f":"Questions!UHU4","v":0},{"$f":"Questions!UHV4","v":0},{"$f":"Questions!UHW4","v":0},{"$f":"Questions!UHX4","v":0},{"$f":"Questions!UHY4","v":0},{"$f":"Questions!UHZ4","v":0},{"$f":"Questions!UIA4","v":0},{"$f":"Questions!UIB4","v":0},{"$f":"Questions!UIC4","v":0},{"$f":"Questions!UID4","v":0},{"$f":"Questions!UIE4","v":0},{"$f":"Questions!UIF4","v":0},{"$f":"Questions!UIG4","v":0},{"$f":"Questions!UIH4","v":0},{"$f":"Questions!UII4","v":0},{"$f":"Questions!UIJ4","v":0},{"$f":"Questions!UIK4","v":0},{"$f":"Questions!UIL4","v":0},{"$f":"Questions!UIM4","v":0},{"$f":"Questions!UIN4","v":0},{"$f":"Questions!UIO4","v":0},{"$f":"Questions!UIP4","v":0},{"$f":"Questions!UIQ4","v":0},{"$f":"Questions!UIR4","v":0},{"$f":"Questions!UIS4","v":0},{"$f":"Questions!UIT4","v":0},{"$f":"Questions!UIU4","v":0},{"$f":"Questions!UIV4","v":0},{"$f":"Questions!UIW4","v":0},{"$f":"Questions!UIX4","v":0},{"$f":"Questions!UIY4","v":0},{"$f":"Questions!UIZ4","v":0},{"$f":"Questions!UJA4","v":0},{"$f":"Questions!UJB4","v":0},{"$f":"Questions!UJC4","v":0},{"$f":"Questions!UJD4","v":0},{"$f":"Questions!UJE4","v":0},{"$f":"Questions!UJF4","v":0},{"$f":"Questions!UJG4","v":0},{"$f":"Questions!UJH4","v":0},{"$f":"Questions!UJI4","v":0},{"$f":"Questions!UJJ4","v":0},{"$f":"Questions!UJK4","v":0},{"$f":"Questions!UJL4","v":0},{"$f":"Questions!UJM4","v":0},{"$f":"Questions!UJN4","v":0},{"$f":"Questions!UJO4","v":0},{"$f":"Questions!UJP4","v":0},{"$f":"Questions!UJQ4","v":0},{"$f":"Questions!UJR4","v":0},{"$f":"Questions!UJS4","v":0},{"$f":"Questions!UJT4","v":0},{"$f":"Questions!UJU4","v":0},{"$f":"Questions!UJV4","v":0},{"$f":"Questions!UJW4","v":0},{"$f":"Questions!UJX4","v":0},{"$f":"Questions!UJY4","v":0},{"$f":"Questions!UJZ4","v":0},{"$f":"Questions!UKA4","v":0},{"$f":"Questions!UKB4","v":0},{"$f":"Questions!UKC4","v":0},{"$f":"Questions!UKD4","v":0},{"$f":"Questions!UKE4","v":0},{"$f":"Questions!UKF4","v":0},{"$f":"Questions!UKG4","v":0},{"$f":"Questions!UKH4","v":0},{"$f":"Questions!UKI4","v":0},{"$f":"Questions!UKJ4","v":0},{"$f":"Questions!UKK4","v":0},{"$f":"Questions!UKL4","v":0},{"$f":"Questions!UKM4","v":0},{"$f":"Questions!UKN4","v":0},{"$f":"Questions!UKO4","v":0},{"$f":"Questions!UKP4","v":0},{"$f":"Questions!UKQ4","v":0},{"$f":"Questions!UKR4","v":0},{"$f":"Questions!UKS4","v":0},{"$f":"Questions!UKT4","v":0},{"$f":"Questions!UKU4","v":0},{"$f":"Questions!UKV4","v":0},{"$f":"Questions!UKW4","v":0},{"$f":"Questions!UKX4","v":0},{"$f":"Questions!UKY4","v":0},{"$f":"Questions!UKZ4","v":0},{"$f":"Questions!ULA4","v":0},{"$f":"Questions!ULB4","v":0},{"$f":"Questions!ULC4","v":0},{"$f":"Questions!ULD4","v":0},{"$f":"Questions!ULE4","v":0},{"$f":"Questions!ULF4","v":0},{"$f":"Questions!ULG4","v":0},{"$f":"Questions!ULH4","v":0},{"$f":"Questions!ULI4","v":0},{"$f":"Questions!ULJ4","v":0},{"$f":"Questions!ULK4","v":0},{"$f":"Questions!ULL4","v":0},{"$f":"Questions!ULM4","v":0},{"$f":"Questions!ULN4","v":0},{"$f":"Questions!ULO4","v":0},{"$f":"Questions!ULP4","v":0},{"$f":"Questions!ULQ4","v":0},{"$f":"Questions!ULR4","v":0},{"$f":"Questions!ULS4","v":0},{"$f":"Questions!ULT4","v":0},{"$f":"Questions!ULU4","v":0},{"$f":"Questions!ULV4","v":0},{"$f":"Questions!ULW4","v":0},{"$f":"Questions!ULX4","v":0},{"$f":"Questions!ULY4","v":0},{"$f":"Questions!ULZ4","v":0},{"$f":"Questions!UMA4","v":0},{"$f":"Questions!UMB4","v":0},{"$f":"Questions!UMC4","v":0},{"$f":"Questions!UMD4","v":0},{"$f":"Questions!UME4","v":0},{"$f":"Questions!UMF4","v":0},{"$f":"Questions!UMG4","v":0},{"$f":"Questions!UMH4","v":0},{"$f":"Questions!UMI4","v":0},{"$f":"Questions!UMJ4","v":0},{"$f":"Questions!UMK4","v":0},{"$f":"Questions!UML4","v":0},{"$f":"Questions!UMM4","v":0},{"$f":"Questions!UMN4","v":0},{"$f":"Questions!UMO4","v":0},{"$f":"Questions!UMP4","v":0},{"$f":"Questions!UMQ4","v":0},{"$f":"Questions!UMR4","v":0},{"$f":"Questions!UMS4","v":0},{"$f":"Questions!UMT4","v":0},{"$f":"Questions!UMU4","v":0},{"$f":"Questions!UMV4","v":0},{"$f":"Questions!UMW4","v":0},{"$f":"Questions!UMX4","v":0},{"$f":"Questions!UMY4","v":0},{"$f":"Questions!UMZ4","v":0},{"$f":"Questions!UNA4","v":0},{"$f":"Questions!UNB4","v":0},{"$f":"Questions!UNC4","v":0},{"$f":"Questions!UND4","v":0},{"$f":"Questions!UNE4","v":0},{"$f":"Questions!UNF4","v":0},{"$f":"Questions!UNG4","v":0},{"$f":"Questions!UNH4","v":0},{"$f":"Questions!UNI4","v":0},{"$f":"Questions!UNJ4","v":0},{"$f":"Questions!UNK4","v":0},{"$f":"Questions!UNL4","v":0},{"$f":"Questions!UNM4","v":0},{"$f":"Questions!UNN4","v":0},{"$f":"Questions!UNO4","v":0},{"$f":"Questions!UNP4","v":0},{"$f":"Questions!UNQ4","v":0},{"$f":"Questions!UNR4","v":0},{"$f":"Questions!UNS4","v":0},{"$f":"Questions!UNT4","v":0},{"$f":"Questions!UNU4","v":0},{"$f":"Questions!UNV4","v":0},{"$f":"Questions!UNW4","v":0},{"$f":"Questions!UNX4","v":0},{"$f":"Questions!UNY4","v":0},{"$f":"Questions!UNZ4","v":0},{"$f":"Questions!UOA4","v":0},{"$f":"Questions!UOB4","v":0},{"$f":"Questions!UOC4","v":0},{"$f":"Questions!UOD4","v":0},{"$f":"Questions!UOE4","v":0},{"$f":"Questions!UOF4","v":0},{"$f":"Questions!UOG4","v":0},{"$f":"Questions!UOH4","v":0},{"$f":"Questions!UOI4","v":0},{"$f":"Questions!UOJ4","v":0},{"$f":"Questions!UOK4","v":0},{"$f":"Questions!UOL4","v":0},{"$f":"Questions!UOM4","v":0},{"$f":"Questions!UON4","v":0},{"$f":"Questions!UOO4","v":0},{"$f":"Questions!UOP4","v":0},{"$f":"Questions!UOQ4","v":0},{"$f":"Questions!UOR4","v":0},{"$f":"Questions!UOS4","v":0},{"$f":"Questions!UOT4","v":0},{"$f":"Questions!UOU4","v":0},{"$f":"Questions!UOV4","v":0},{"$f":"Questions!UOW4","v":0},{"$f":"Questions!UOX4","v":0},{"$f":"Questions!UOY4","v":0},{"$f":"Questions!UOZ4","v":0},{"$f":"Questions!UPA4","v":0},{"$f":"Questions!UPB4","v":0},{"$f":"Questions!UPC4","v":0},{"$f":"Questions!UPD4","v":0},{"$f":"Questions!UPE4","v":0},{"$f":"Questions!UPF4","v":0},{"$f":"Questions!UPG4","v":0},{"$f":"Questions!UPH4","v":0},{"$f":"Questions!UPI4","v":0},{"$f":"Questions!UPJ4","v":0},{"$f":"Questions!UPK4","v":0},{"$f":"Questions!UPL4","v":0},{"$f":"Questions!UPM4","v":0},{"$f":"Questions!UPN4","v":0},{"$f":"Questions!UPO4","v":0},{"$f":"Questions!UPP4","v":0},{"$f":"Questions!UPQ4","v":0},{"$f":"Questions!UPR4","v":0},{"$f":"Questions!UPS4","v":0},{"$f":"Questions!UPT4","v":0},{"$f":"Questions!UPU4","v":0},{"$f":"Questions!UPV4","v":0},{"$f":"Questions!UPW4","v":0},{"$f":"Questions!UPX4","v":0},{"$f":"Questions!UPY4","v":0},{"$f":"Questions!UPZ4","v":0},{"$f":"Questions!UQA4","v":0},{"$f":"Questions!UQB4","v":0},{"$f":"Questions!UQC4","v":0},{"$f":"Questions!UQD4","v":0},{"$f":"Questions!UQE4","v":0},{"$f":"Questions!UQF4","v":0},{"$f":"Questions!UQG4","v":0},{"$f":"Questions!UQH4","v":0},{"$f":"Questions!UQI4","v":0},{"$f":"Questions!UQJ4","v":0},{"$f":"Questions!UQK4","v":0},{"$f":"Questions!UQL4","v":0},{"$f":"Questions!UQM4","v":0},{"$f":"Questions!UQN4","v":0},{"$f":"Questions!UQO4","v":0},{"$f":"Questions!UQP4","v":0},{"$f":"Questions!UQQ4","v":0},{"$f":"Questions!UQR4","v":0},{"$f":"Questions!UQS4","v":0},{"$f":"Questions!UQT4","v":0},{"$f":"Questions!UQU4","v":0},{"$f":"Questions!UQV4","v":0},{"$f":"Questions!UQW4","v":0},{"$f":"Questions!UQX4","v":0},{"$f":"Questions!UQY4","v":0},{"$f":"Questions!UQZ4","v":0},{"$f":"Questions!URA4","v":0},{"$f":"Questions!URB4","v":0},{"$f":"Questions!URC4","v":0},{"$f":"Questions!URD4","v":0},{"$f":"Questions!URE4","v":0},{"$f":"Questions!URF4","v":0},{"$f":"Questions!URG4","v":0},{"$f":"Questions!URH4","v":0},{"$f":"Questions!URI4","v":0},{"$f":"Questions!URJ4","v":0},{"$f":"Questions!URK4","v":0},{"$f":"Questions!URL4","v":0},{"$f":"Questions!URM4","v":0},{"$f":"Questions!URN4","v":0},{"$f":"Questions!URO4","v":0},{"$f":"Questions!URP4","v":0},{"$f":"Questions!URQ4","v":0},{"$f":"Questions!URR4","v":0},{"$f":"Questions!URS4","v":0},{"$f":"Questions!URT4","v":0},{"$f":"Questions!URU4","v":0},{"$f":"Questions!URV4","v":0},{"$f":"Questions!URW4","v":0},{"$f":"Questions!URX4","v":0},{"$f":"Questions!URY4","v":0},{"$f":"Questions!URZ4","v":0},{"$f":"Questions!USA4","v":0},{"$f":"Questions!USB4","v":0},{"$f":"Questions!USC4","v":0},{"$f":"Questions!USD4","v":0},{"$f":"Questions!USE4","v":0},{"$f":"Questions!USF4","v":0},{"$f":"Questions!USG4","v":0},{"$f":"Questions!USH4","v":0},{"$f":"Questions!USI4","v":0},{"$f":"Questions!USJ4","v":0},{"$f":"Questions!USK4","v":0},{"$f":"Questions!USL4","v":0},{"$f":"Questions!USM4","v":0},{"$f":"Questions!USN4","v":0},{"$f":"Questions!USO4","v":0},{"$f":"Questions!USP4","v":0},{"$f":"Questions!USQ4","v":0},{"$f":"Questions!USR4","v":0},{"$f":"Questions!USS4","v":0},{"$f":"Questions!UST4","v":0},{"$f":"Questions!USU4","v":0},{"$f":"Questions!USV4","v":0},{"$f":"Questions!USW4","v":0},{"$f":"Questions!USX4","v":0},{"$f":"Questions!USY4","v":0},{"$f":"Questions!USZ4","v":0},{"$f":"Questions!UTA4","v":0},{"$f":"Questions!UTB4","v":0},{"$f":"Questions!UTC4","v":0},{"$f":"Questions!UTD4","v":0},{"$f":"Questions!UTE4","v":0},{"$f":"Questions!UTF4","v":0},{"$f":"Questions!UTG4","v":0},{"$f":"Questions!UTH4","v":0},{"$f":"Questions!UTI4","v":0},{"$f":"Questions!UTJ4","v":0},{"$f":"Questions!UTK4","v":0},{"$f":"Questions!UTL4","v":0},{"$f":"Questions!UTM4","v":0},{"$f":"Questions!UTN4","v":0},{"$f":"Questions!UTO4","v":0},{"$f":"Questions!UTP4","v":0},{"$f":"Questions!UTQ4","v":0},{"$f":"Questions!UTR4","v":0},{"$f":"Questions!UTS4","v":0},{"$f":"Questions!UTT4","v":0},{"$f":"Questions!UTU4","v":0},{"$f":"Questions!UTV4","v":0},{"$f":"Questions!UTW4","v":0},{"$f":"Questions!UTX4","v":0},{"$f":"Questions!UTY4","v":0},{"$f":"Questions!UTZ4","v":0},{"$f":"Questions!UUA4","v":0},{"$f":"Questions!UUB4","v":0},{"$f":"Questions!UUC4","v":0},{"$f":"Questions!UUD4","v":0},{"$f":"Questions!UUE4","v":0},{"$f":"Questions!UUF4","v":0},{"$f":"Questions!UUG4","v":0},{"$f":"Questions!UUH4","v":0},{"$f":"Questions!UUI4","v":0},{"$f":"Questions!UUJ4","v":0},{"$f":"Questions!UUK4","v":0},{"$f":"Questions!UUL4","v":0},{"$f":"Questions!UUM4","v":0},{"$f":"Questions!UUN4","v":0},{"$f":"Questions!UUO4","v":0},{"$f":"Questions!UUP4","v":0},{"$f":"Questions!UUQ4","v":0},{"$f":"Questions!UUR4","v":0},{"$f":"Questions!UUS4","v":0},{"$f":"Questions!UUT4","v":0},{"$f":"Questions!UUU4","v":0},{"$f":"Questions!UUV4","v":0},{"$f":"Questions!UUW4","v":0},{"$f":"Questions!UUX4","v":0},{"$f":"Questions!UUY4","v":0},{"$f":"Questions!UUZ4","v":0},{"$f":"Questions!UVA4","v":0},{"$f":"Questions!UVB4","v":0},{"$f":"Questions!UVC4","v":0},{"$f":"Questions!UVD4","v":0},{"$f":"Questions!UVE4","v":0},{"$f":"Questions!UVF4","v":0},{"$f":"Questions!UVG4","v":0},{"$f":"Questions!UVH4","v":0},{"$f":"Questions!UVI4","v":0},{"$f":"Questions!UVJ4","v":0},{"$f":"Questions!UVK4","v":0},{"$f":"Questions!UVL4","v":0},{"$f":"Questions!UVM4","v":0},{"$f":"Questions!UVN4","v":0},{"$f":"Questions!UVO4","v":0},{"$f":"Questions!UVP4","v":0},{"$f":"Questions!UVQ4","v":0},{"$f":"Questions!UVR4","v":0},{"$f":"Questions!UVS4","v":0},{"$f":"Questions!UVT4","v":0},{"$f":"Questions!UVU4","v":0},{"$f":"Questions!UVV4","v":0},{"$f":"Questions!UVW4","v":0},{"$f":"Questions!UVX4","v":0},{"$f":"Questions!UVY4","v":0},{"$f":"Questions!UVZ4","v":0},{"$f":"Questions!UWA4","v":0},{"$f":"Questions!UWB4","v":0},{"$f":"Questions!UWC4","v":0},{"$f":"Questions!UWD4","v":0},{"$f":"Questions!UWE4","v":0},{"$f":"Questions!UWF4","v":0},{"$f":"Questions!UWG4","v":0},{"$f":"Questions!UWH4","v":0},{"$f":"Questions!UWI4","v":0},{"$f":"Questions!UWJ4","v":0},{"$f":"Questions!UWK4","v":0},{"$f":"Questions!UWL4","v":0},{"$f":"Questions!UWM4","v":0},{"$f":"Questions!UWN4","v":0},{"$f":"Questions!UWO4","v":0},{"$f":"Questions!UWP4","v":0},{"$f":"Questions!UWQ4","v":0},{"$f":"Questions!UWR4","v":0},{"$f":"Questions!UWS4","v":0},{"$f":"Questions!UWT4","v":0},{"$f":"Questions!UWU4","v":0},{"$f":"Questions!UWV4","v":0},{"$f":"Questions!UWW4","v":0},{"$f":"Questions!UWX4","v":0},{"$f":"Questions!UWY4","v":0},{"$f":"Questions!UWZ4","v":0},{"$f":"Questions!UXA4","v":0},{"$f":"Questions!UXB4","v":0},{"$f":"Questions!UXC4","v":0},{"$f":"Questions!UXD4","v":0},{"$f":"Questions!UXE4","v":0},{"$f":"Questions!UXF4","v":0},{"$f":"Questions!UXG4","v":0},{"$f":"Questions!UXH4","v":0},{"$f":"Questions!UXI4","v":0},{"$f":"Questions!UXJ4","v":0},{"$f":"Questions!UXK4","v":0},{"$f":"Questions!UXL4","v":0},{"$f":"Questions!UXM4","v":0},{"$f":"Questions!UXN4","v":0},{"$f":"Questions!UXO4","v":0},{"$f":"Questions!UXP4","v":0},{"$f":"Questions!UXQ4","v":0},{"$f":"Questions!UXR4","v":0},{"$f":"Questions!UXS4","v":0},{"$f":"Questions!UXT4","v":0},{"$f":"Questions!UXU4","v":0},{"$f":"Questions!UXV4","v":0},{"$f":"Questions!UXW4","v":0},{"$f":"Questions!UXX4","v":0},{"$f":"Questions!UXY4","v":0},{"$f":"Questions!UXZ4","v":0},{"$f":"Questions!UYA4","v":0},{"$f":"Questions!UYB4","v":0},{"$f":"Questions!UYC4","v":0},{"$f":"Questions!UYD4","v":0},{"$f":"Questions!UYE4","v":0},{"$f":"Questions!UYF4","v":0},{"$f":"Questions!UYG4","v":0},{"$f":"Questions!UYH4","v":0},{"$f":"Questions!UYI4","v":0},{"$f":"Questions!UYJ4","v":0},{"$f":"Questions!UYK4","v":0},{"$f":"Questions!UYL4","v":0},{"$f":"Questions!UYM4","v":0},{"$f":"Questions!UYN4","v":0},{"$f":"Questions!UYO4","v":0},{"$f":"Questions!UYP4","v":0},{"$f":"Questions!UYQ4","v":0},{"$f":"Questions!UYR4","v":0},{"$f":"Questions!UYS4","v":0},{"$f":"Questions!UYT4","v":0},{"$f":"Questions!UYU4","v":0},{"$f":"Questions!UYV4","v":0},{"$f":"Questions!UYW4","v":0},{"$f":"Questions!UYX4","v":0},{"$f":"Questions!UYY4","v":0},{"$f":"Questions!UYZ4","v":0},{"$f":"Questions!UZA4","v":0},{"$f":"Questions!UZB4","v":0},{"$f":"Questions!UZC4","v":0},{"$f":"Questions!UZD4","v":0},{"$f":"Questions!UZE4","v":0},{"$f":"Questions!UZF4","v":0},{"$f":"Questions!UZG4","v":0},{"$f":"Questions!UZH4","v":0},{"$f":"Questions!UZI4","v":0},{"$f":"Questions!UZJ4","v":0},{"$f":"Questions!UZK4","v":0},{"$f":"Questions!UZL4","v":0},{"$f":"Questions!UZM4","v":0},{"$f":"Questions!UZN4","v":0},{"$f":"Questions!UZO4","v":0},{"$f":"Questions!UZP4","v":0},{"$f":"Questions!UZQ4","v":0},{"$f":"Questions!UZR4","v":0},{"$f":"Questions!UZS4","v":0},{"$f":"Questions!UZT4","v":0},{"$f":"Questions!UZU4","v":0},{"$f":"Questions!UZV4","v":0},{"$f":"Questions!UZW4","v":0},{"$f":"Questions!UZX4","v":0},{"$f":"Questions!UZY4","v":0},{"$f":"Questions!UZZ4","v":0},{"$f":"Questions!VAA4","v":0},{"$f":"Questions!VAB4","v":0},{"$f":"Questions!VAC4","v":0},{"$f":"Questions!VAD4","v":0},{"$f":"Questions!VAE4","v":0},{"$f":"Questions!VAF4","v":0},{"$f":"Questions!VAG4","v":0},{"$f":"Questions!VAH4","v":0},{"$f":"Questions!VAI4","v":0},{"$f":"Questions!VAJ4","v":0},{"$f":"Questions!VAK4","v":0},{"$f":"Questions!VAL4","v":0},{"$f":"Questions!VAM4","v":0},{"$f":"Questions!VAN4","v":0},{"$f":"Questions!VAO4","v":0},{"$f":"Questions!VAP4","v":0},{"$f":"Questions!VAQ4","v":0},{"$f":"Questions!VAR4","v":0},{"$f":"Questions!VAS4","v":0},{"$f":"Questions!VAT4","v":0},{"$f":"Questions!VAU4","v":0},{"$f":"Questions!VAV4","v":0},{"$f":"Questions!VAW4","v":0},{"$f":"Questions!VAX4","v":0},{"$f":"Questions!VAY4","v":0},{"$f":"Questions!VAZ4","v":0},{"$f":"Questions!VBA4","v":0},{"$f":"Questions!VBB4","v":0},{"$f":"Questions!VBC4","v":0},{"$f":"Questions!VBD4","v":0},{"$f":"Questions!VBE4","v":0},{"$f":"Questions!VBF4","v":0},{"$f":"Questions!VBG4","v":0},{"$f":"Questions!VBH4","v":0},{"$f":"Questions!VBI4","v":0},{"$f":"Questions!VBJ4","v":0},{"$f":"Questions!VBK4","v":0},{"$f":"Questions!VBL4","v":0},{"$f":"Questions!VBM4","v":0},{"$f":"Questions!VBN4","v":0},{"$f":"Questions!VBO4","v":0},{"$f":"Questions!VBP4","v":0},{"$f":"Questions!VBQ4","v":0},{"$f":"Questions!VBR4","v":0},{"$f":"Questions!VBS4","v":0},{"$f":"Questions!VBT4","v":0},{"$f":"Questions!VBU4","v":0},{"$f":"Questions!VBV4","v":0},{"$f":"Questions!VBW4","v":0},{"$f":"Questions!VBX4","v":0},{"$f":"Questions!VBY4","v":0},{"$f":"Questions!VBZ4","v":0},{"$f":"Questions!VCA4","v":0},{"$f":"Questions!VCB4","v":0},{"$f":"Questions!VCC4","v":0},{"$f":"Questions!VCD4","v":0},{"$f":"Questions!VCE4","v":0},{"$f":"Questions!VCF4","v":0},{"$f":"Questions!VCG4","v":0},{"$f":"Questions!VCH4","v":0},{"$f":"Questions!VCI4","v":0},{"$f":"Questions!VCJ4","v":0},{"$f":"Questions!VCK4","v":0},{"$f":"Questions!VCL4","v":0},{"$f":"Questions!VCM4","v":0},{"$f":"Questions!VCN4","v":0},{"$f":"Questions!VCO4","v":0},{"$f":"Questions!VCP4","v":0},{"$f":"Questions!VCQ4","v":0},{"$f":"Questions!VCR4","v":0},{"$f":"Questions!VCS4","v":0},{"$f":"Questions!VCT4","v":0},{"$f":"Questions!VCU4","v":0},{"$f":"Questions!VCV4","v":0},{"$f":"Questions!VCW4","v":0},{"$f":"Questions!VCX4","v":0},{"$f":"Questions!VCY4","v":0},{"$f":"Questions!VCZ4","v":0},{"$f":"Questions!VDA4","v":0},{"$f":"Questions!VDB4","v":0},{"$f":"Questions!VDC4","v":0},{"$f":"Questions!VDD4","v":0},{"$f":"Questions!VDE4","v":0},{"$f":"Questions!VDF4","v":0},{"$f":"Questions!VDG4","v":0},{"$f":"Questions!VDH4","v":0},{"$f":"Questions!VDI4","v":0},{"$f":"Questions!VDJ4","v":0},{"$f":"Questions!VDK4","v":0},{"$f":"Questions!VDL4","v":0},{"$f":"Questions!VDM4","v":0},{"$f":"Questions!VDN4","v":0},{"$f":"Questions!VDO4","v":0},{"$f":"Questions!VDP4","v":0},{"$f":"Questions!VDQ4","v":0},{"$f":"Questions!VDR4","v":0},{"$f":"Questions!VDS4","v":0},{"$f":"Questions!VDT4","v":0},{"$f":"Questions!VDU4","v":0},{"$f":"Questions!VDV4","v":0},{"$f":"Questions!VDW4","v":0},{"$f":"Questions!VDX4","v":0},{"$f":"Questions!VDY4","v":0},{"$f":"Questions!VDZ4","v":0},{"$f":"Questions!VEA4","v":0},{"$f":"Questions!VEB4","v":0},{"$f":"Questions!VEC4","v":0},{"$f":"Questions!VED4","v":0},{"$f":"Questions!VEE4","v":0},{"$f":"Questions!VEF4","v":0},{"$f":"Questions!VEG4","v":0},{"$f":"Questions!VEH4","v":0},{"$f":"Questions!VEI4","v":0},{"$f":"Questions!VEJ4","v":0},{"$f":"Questions!VEK4","v":0},{"$f":"Questions!VEL4","v":0},{"$f":"Questions!VEM4","v":0},{"$f":"Questions!VEN4","v":0},{"$f":"Questions!VEO4","v":0},{"$f":"Questions!VEP4","v":0},{"$f":"Questions!VEQ4","v":0},{"$f":"Questions!VER4","v":0},{"$f":"Questions!VES4","v":0},{"$f":"Questions!VET4","v":0},{"$f":"Questions!VEU4","v":0},{"$f":"Questions!VEV4","v":0},{"$f":"Questions!VEW4","v":0},{"$f":"Questions!VEX4","v":0},{"$f":"Questions!VEY4","v":0},{"$f":"Questions!VEZ4","v":0},{"$f":"Questions!VFA4","v":0},{"$f":"Questions!VFB4","v":0},{"$f":"Questions!VFC4","v":0},{"$f":"Questions!VFD4","v":0},{"$f":"Questions!VFE4","v":0},{"$f":"Questions!VFF4","v":0},{"$f":"Questions!VFG4","v":0},{"$f":"Questions!VFH4","v":0},{"$f":"Questions!VFI4","v":0},{"$f":"Questions!VFJ4","v":0},{"$f":"Questions!VFK4","v":0},{"$f":"Questions!VFL4","v":0},{"$f":"Questions!VFM4","v":0},{"$f":"Questions!VFN4","v":0},{"$f":"Questions!VFO4","v":0},{"$f":"Questions!VFP4","v":0},{"$f":"Questions!VFQ4","v":0},{"$f":"Questions!VFR4","v":0},{"$f":"Questions!VFS4","v":0},{"$f":"Questions!VFT4","v":0},{"$f":"Questions!VFU4","v":0},{"$f":"Questions!VFV4","v":0},{"$f":"Questions!VFW4","v":0},{"$f":"Questions!VFX4","v":0},{"$f":"Questions!VFY4","v":0},{"$f":"Questions!VFZ4","v":0},{"$f":"Questions!VGA4","v":0},{"$f":"Questions!VGB4","v":0},{"$f":"Questions!VGC4","v":0},{"$f":"Questions!VGD4","v":0},{"$f":"Questions!VGE4","v":0},{"$f":"Questions!VGF4","v":0},{"$f":"Questions!VGG4","v":0},{"$f":"Questions!VGH4","v":0},{"$f":"Questions!VGI4","v":0},{"$f":"Questions!VGJ4","v":0},{"$f":"Questions!VGK4","v":0},{"$f":"Questions!VGL4","v":0},{"$f":"Questions!VGM4","v":0},{"$f":"Questions!VGN4","v":0},{"$f":"Questions!VGO4","v":0},{"$f":"Questions!VGP4","v":0},{"$f":"Questions!VGQ4","v":0},{"$f":"Questions!VGR4","v":0},{"$f":"Questions!VGS4","v":0},{"$f":"Questions!VGT4","v":0},{"$f":"Questions!VGU4","v":0},{"$f":"Questions!VGV4","v":0},{"$f":"Questions!VGW4","v":0},{"$f":"Questions!VGX4","v":0},{"$f":"Questions!VGY4","v":0},{"$f":"Questions!VGZ4","v":0},{"$f":"Questions!VHA4","v":0},{"$f":"Questions!VHB4","v":0},{"$f":"Questions!VHC4","v":0},{"$f":"Questions!VHD4","v":0},{"$f":"Questions!VHE4","v":0},{"$f":"Questions!VHF4","v":0},{"$f":"Questions!VHG4","v":0},{"$f":"Questions!VHH4","v":0},{"$f":"Questions!VHI4","v":0},{"$f":"Questions!VHJ4","v":0},{"$f":"Questions!VHK4","v":0},{"$f":"Questions!VHL4","v":0},{"$f":"Questions!VHM4","v":0},{"$f":"Questions!VHN4","v":0},{"$f":"Questions!VHO4","v":0},{"$f":"Questions!VHP4","v":0},{"$f":"Questions!VHQ4","v":0},{"$f":"Questions!VHR4","v":0},{"$f":"Questions!VHS4","v":0},{"$f":"Questions!VHT4","v":0},{"$f":"Questions!VHU4","v":0},{"$f":"Questions!VHV4","v":0},{"$f":"Questions!VHW4","v":0},{"$f":"Questions!VHX4","v":0},{"$f":"Questions!VHY4","v":0},{"$f":"Questions!VHZ4","v":0},{"$f":"Questions!VIA4","v":0},{"$f":"Questions!VIB4","v":0},{"$f":"Questions!VIC4","v":0},{"$f":"Questions!VID4","v":0},{"$f":"Questions!VIE4","v":0},{"$f":"Questions!VIF4","v":0},{"$f":"Questions!VIG4","v":0},{"$f":"Questions!VIH4","v":0},{"$f":"Questions!VII4","v":0},{"$f":"Questions!VIJ4","v":0},{"$f":"Questions!VIK4","v":0},{"$f":"Questions!VIL4","v":0},{"$f":"Questions!VIM4","v":0},{"$f":"Questions!VIN4","v":0},{"$f":"Questions!VIO4","v":0},{"$f":"Questions!VIP4","v":0},{"$f":"Questions!VIQ4","v":0},{"$f":"Questions!VIR4","v":0},{"$f":"Questions!VIS4","v":0},{"$f":"Questions!VIT4","v":0},{"$f":"Questions!VIU4","v":0},{"$f":"Questions!VIV4","v":0},{"$f":"Questions!VIW4","v":0},{"$f":"Questions!VIX4","v":0},{"$f":"Questions!VIY4","v":0},{"$f":"Questions!VIZ4","v":0},{"$f":"Questions!VJA4","v":0},{"$f":"Questions!VJB4","v":0},{"$f":"Questions!VJC4","v":0},{"$f":"Questions!VJD4","v":0},{"$f":"Questions!VJE4","v":0},{"$f":"Questions!VJF4","v":0},{"$f":"Questions!VJG4","v":0},{"$f":"Questions!VJH4","v":0},{"$f":"Questions!VJI4","v":0},{"$f":"Questions!VJJ4","v":0},{"$f":"Questions!VJK4","v":0},{"$f":"Questions!VJL4","v":0},{"$f":"Questions!VJM4","v":0},{"$f":"Questions!VJN4","v":0},{"$f":"Questions!VJO4","v":0},{"$f":"Questions!VJP4","v":0},{"$f":"Questions!VJQ4","v":0},{"$f":"Questions!VJR4","v":0},{"$f":"Questions!VJS4","v":0},{"$f":"Questions!VJT4","v":0},{"$f":"Questions!VJU4","v":0},{"$f":"Questions!VJV4","v":0},{"$f":"Questions!VJW4","v":0},{"$f":"Questions!VJX4","v":0},{"$f":"Questions!VJY4","v":0},{"$f":"Questions!VJZ4","v":0},{"$f":"Questions!VKA4","v":0},{"$f":"Questions!VKB4","v":0},{"$f":"Questions!VKC4","v":0},{"$f":"Questions!VKD4","v":0},{"$f":"Questions!VKE4","v":0},{"$f":"Questions!VKF4","v":0},{"$f":"Questions!VKG4","v":0},{"$f":"Questions!VKH4","v":0},{"$f":"Questions!VKI4","v":0},{"$f":"Questions!VKJ4","v":0},{"$f":"Questions!VKK4","v":0},{"$f":"Questions!VKL4","v":0},{"$f":"Questions!VKM4","v":0},{"$f":"Questions!VKN4","v":0},{"$f":"Questions!VKO4","v":0},{"$f":"Questions!VKP4","v":0},{"$f":"Questions!VKQ4","v":0},{"$f":"Questions!VKR4","v":0},{"$f":"Questions!VKS4","v":0},{"$f":"Questions!VKT4","v":0},{"$f":"Questions!VKU4","v":0},{"$f":"Questions!VKV4","v":0},{"$f":"Questions!VKW4","v":0},{"$f":"Questions!VKX4","v":0},{"$f":"Questions!VKY4","v":0},{"$f":"Questions!VKZ4","v":0},{"$f":"Questions!VLA4","v":0},{"$f":"Questions!VLB4","v":0},{"$f":"Questions!VLC4","v":0},{"$f":"Questions!VLD4","v":0},{"$f":"Questions!VLE4","v":0},{"$f":"Questions!VLF4","v":0},{"$f":"Questions!VLG4","v":0},{"$f":"Questions!VLH4","v":0},{"$f":"Questions!VLI4","v":0},{"$f":"Questions!VLJ4","v":0},{"$f":"Questions!VLK4","v":0},{"$f":"Questions!VLL4","v":0},{"$f":"Questions!VLM4","v":0},{"$f":"Questions!VLN4","v":0},{"$f":"Questions!VLO4","v":0},{"$f":"Questions!VLP4","v":0},{"$f":"Questions!VLQ4","v":0},{"$f":"Questions!VLR4","v":0},{"$f":"Questions!VLS4","v":0},{"$f":"Questions!VLT4","v":0},{"$f":"Questions!VLU4","v":0},{"$f":"Questions!VLV4","v":0},{"$f":"Questions!VLW4","v":0},{"$f":"Questions!VLX4","v":0},{"$f":"Questions!VLY4","v":0},{"$f":"Questions!VLZ4","v":0},{"$f":"Questions!VMA4","v":0},{"$f":"Questions!VMB4","v":0},{"$f":"Questions!VMC4","v":0},{"$f":"Questions!VMD4","v":0},{"$f":"Questions!VME4","v":0},{"$f":"Questions!VMF4","v":0},{"$f":"Questions!VMG4","v":0},{"$f":"Questions!VMH4","v":0},{"$f":"Questions!VMI4","v":0},{"$f":"Questions!VMJ4","v":0},{"$f":"Questions!VMK4","v":0},{"$f":"Questions!VML4","v":0},{"$f":"Questions!VMM4","v":0},{"$f":"Questions!VMN4","v":0},{"$f":"Questions!VMO4","v":0},{"$f":"Questions!VMP4","v":0},{"$f":"Questions!VMQ4","v":0},{"$f":"Questions!VMR4","v":0},{"$f":"Questions!VMS4","v":0},{"$f":"Questions!VMT4","v":0},{"$f":"Questions!VMU4","v":0},{"$f":"Questions!VMV4","v":0},{"$f":"Questions!VMW4","v":0},{"$f":"Questions!VMX4","v":0},{"$f":"Questions!VMY4","v":0},{"$f":"Questions!VMZ4","v":0},{"$f":"Questions!VNA4","v":0},{"$f":"Questions!VNB4","v":0},{"$f":"Questions!VNC4","v":0},{"$f":"Questions!VND4","v":0},{"$f":"Questions!VNE4","v":0},{"$f":"Questions!VNF4","v":0},{"$f":"Questions!VNG4","v":0},{"$f":"Questions!VNH4","v":0},{"$f":"Questions!VNI4","v":0},{"$f":"Questions!VNJ4","v":0},{"$f":"Questions!VNK4","v":0},{"$f":"Questions!VNL4","v":0},{"$f":"Questions!VNM4","v":0},{"$f":"Questions!VNN4","v":0},{"$f":"Questions!VNO4","v":0},{"$f":"Questions!VNP4","v":0},{"$f":"Questions!VNQ4","v":0},{"$f":"Questions!VNR4","v":0},{"$f":"Questions!VNS4","v":0},{"$f":"Questions!VNT4","v":0},{"$f":"Questions!VNU4","v":0},{"$f":"Questions!VNV4","v":0},{"$f":"Questions!VNW4","v":0},{"$f":"Questions!VNX4","v":0},{"$f":"Questions!VNY4","v":0},{"$f":"Questions!VNZ4","v":0},{"$f":"Questions!VOA4","v":0},{"$f":"Questions!VOB4","v":0},{"$f":"Questions!VOC4","v":0},{"$f":"Questions!VOD4","v":0},{"$f":"Questions!VOE4","v":0},{"$f":"Questions!VOF4","v":0},{"$f":"Questions!VOG4","v":0},{"$f":"Questions!VOH4","v":0},{"$f":"Questions!VOI4","v":0},{"$f":"Questions!VOJ4","v":0},{"$f":"Questions!VOK4","v":0},{"$f":"Questions!VOL4","v":0},{"$f":"Questions!VOM4","v":0},{"$f":"Questions!VON4","v":0},{"$f":"Questions!VOO4","v":0},{"$f":"Questions!VOP4","v":0},{"$f":"Questions!VOQ4","v":0},{"$f":"Questions!VOR4","v":0},{"$f":"Questions!VOS4","v":0},{"$f":"Questions!VOT4","v":0},{"$f":"Questions!VOU4","v":0},{"$f":"Questions!VOV4","v":0},{"$f":"Questions!VOW4","v":0},{"$f":"Questions!VOX4","v":0},{"$f":"Questions!VOY4","v":0},{"$f":"Questions!VOZ4","v":0},{"$f":"Questions!VPA4","v":0},{"$f":"Questions!VPB4","v":0},{"$f":"Questions!VPC4","v":0},{"$f":"Questions!VPD4","v":0},{"$f":"Questions!VPE4","v":0},{"$f":"Questions!VPF4","v":0},{"$f":"Questions!VPG4","v":0},{"$f":"Questions!VPH4","v":0},{"$f":"Questions!VPI4","v":0},{"$f":"Questions!VPJ4","v":0},{"$f":"Questions!VPK4","v":0},{"$f":"Questions!VPL4","v":0},{"$f":"Questions!VPM4","v":0},{"$f":"Questions!VPN4","v":0},{"$f":"Questions!VPO4","v":0},{"$f":"Questions!VPP4","v":0},{"$f":"Questions!VPQ4","v":0},{"$f":"Questions!VPR4","v":0},{"$f":"Questions!VPS4","v":0},{"$f":"Questions!VPT4","v":0},{"$f":"Questions!VPU4","v":0},{"$f":"Questions!VPV4","v":0},{"$f":"Questions!VPW4","v":0},{"$f":"Questions!VPX4","v":0},{"$f":"Questions!VPY4","v":0},{"$f":"Questions!VPZ4","v":0},{"$f":"Questions!VQA4","v":0},{"$f":"Questions!VQB4","v":0},{"$f":"Questions!VQC4","v":0},{"$f":"Questions!VQD4","v":0},{"$f":"Questions!VQE4","v":0},{"$f":"Questions!VQF4","v":0},{"$f":"Questions!VQG4","v":0},{"$f":"Questions!VQH4","v":0},{"$f":"Questions!VQI4","v":0},{"$f":"Questions!VQJ4","v":0},{"$f":"Questions!VQK4","v":0},{"$f":"Questions!VQL4","v":0},{"$f":"Questions!VQM4","v":0},{"$f":"Questions!VQN4","v":0},{"$f":"Questions!VQO4","v":0},{"$f":"Questions!VQP4","v":0},{"$f":"Questions!VQQ4","v":0},{"$f":"Questions!VQR4","v":0},{"$f":"Questions!VQS4","v":0},{"$f":"Questions!VQT4","v":0},{"$f":"Questions!VQU4","v":0},{"$f":"Questions!VQV4","v":0},{"$f":"Questions!VQW4","v":0},{"$f":"Questions!VQX4","v":0},{"$f":"Questions!VQY4","v":0},{"$f":"Questions!VQZ4","v":0},{"$f":"Questions!VRA4","v":0},{"$f":"Questions!VRB4","v":0},{"$f":"Questions!VRC4","v":0},{"$f":"Questions!VRD4","v":0},{"$f":"Questions!VRE4","v":0},{"$f":"Questions!VRF4","v":0},{"$f":"Questions!VRG4","v":0},{"$f":"Questions!VRH4","v":0},{"$f":"Questions!VRI4","v":0},{"$f":"Questions!VRJ4","v":0},{"$f":"Questions!VRK4","v":0},{"$f":"Questions!VRL4","v":0},{"$f":"Questions!VRM4","v":0},{"$f":"Questions!VRN4","v":0},{"$f":"Questions!VRO4","v":0},{"$f":"Questions!VRP4","v":0},{"$f":"Questions!VRQ4","v":0},{"$f":"Questions!VRR4","v":0},{"$f":"Questions!VRS4","v":0},{"$f":"Questions!VRT4","v":0},{"$f":"Questions!VRU4","v":0},{"$f":"Questions!VRV4","v":0},{"$f":"Questions!VRW4","v":0},{"$f":"Questions!VRX4","v":0},{"$f":"Questions!VRY4","v":0},{"$f":"Questions!VRZ4","v":0},{"$f":"Questions!VSA4","v":0},{"$f":"Questions!VSB4","v":0},{"$f":"Questions!VSC4","v":0},{"$f":"Questions!VSD4","v":0},{"$f":"Questions!VSE4","v":0},{"$f":"Questions!VSF4","v":0},{"$f":"Questions!VSG4","v":0},{"$f":"Questions!VSH4","v":0},{"$f":"Questions!VSI4","v":0},{"$f":"Questions!VSJ4","v":0},{"$f":"Questions!VSK4","v":0},{"$f":"Questions!VSL4","v":0},{"$f":"Questions!VSM4","v":0},{"$f":"Questions!VSN4","v":0},{"$f":"Questions!VSO4","v":0},{"$f":"Questions!VSP4","v":0},{"$f":"Questions!VSQ4","v":0},{"$f":"Questions!VSR4","v":0},{"$f":"Questions!VSS4","v":0},{"$f":"Questions!VST4","v":0},{"$f":"Questions!VSU4","v":0},{"$f":"Questions!VSV4","v":0},{"$f":"Questions!VSW4","v":0},{"$f":"Questions!VSX4","v":0},{"$f":"Questions!VSY4","v":0},{"$f":"Questions!VSZ4","v":0},{"$f":"Questions!VTA4","v":0},{"$f":"Questions!VTB4","v":0},{"$f":"Questions!VTC4","v":0},{"$f":"Questions!VTD4","v":0},{"$f":"Questions!VTE4","v":0},{"$f":"Questions!VTF4","v":0},{"$f":"Questions!VTG4","v":0},{"$f":"Questions!VTH4","v":0},{"$f":"Questions!VTI4","v":0},{"$f":"Questions!VTJ4","v":0},{"$f":"Questions!VTK4","v":0},{"$f":"Questions!VTL4","v":0},{"$f":"Questions!VTM4","v":0},{"$f":"Questions!VTN4","v":0},{"$f":"Questions!VTO4","v":0},{"$f":"Questions!VTP4","v":0},{"$f":"Questions!VTQ4","v":0},{"$f":"Questions!VTR4","v":0},{"$f":"Questions!VTS4","v":0},{"$f":"Questions!VTT4","v":0},{"$f":"Questions!VTU4","v":0},{"$f":"Questions!VTV4","v":0},{"$f":"Questions!VTW4","v":0},{"$f":"Questions!VTX4","v":0},{"$f":"Questions!VTY4","v":0},{"$f":"Questions!VTZ4","v":0},{"$f":"Questions!VUA4","v":0},{"$f":"Questions!VUB4","v":0},{"$f":"Questions!VUC4","v":0},{"$f":"Questions!VUD4","v":0},{"$f":"Questions!VUE4","v":0},{"$f":"Questions!VUF4","v":0},{"$f":"Questions!VUG4","v":0},{"$f":"Questions!VUH4","v":0},{"$f":"Questions!VUI4","v":0},{"$f":"Questions!VUJ4","v":0},{"$f":"Questions!VUK4","v":0},{"$f":"Questions!VUL4","v":0},{"$f":"Questions!VUM4","v":0},{"$f":"Questions!VUN4","v":0},{"$f":"Questions!VUO4","v":0},{"$f":"Questions!VUP4","v":0},{"$f":"Questions!VUQ4","v":0},{"$f":"Questions!VUR4","v":0},{"$f":"Questions!VUS4","v":0},{"$f":"Questions!VUT4","v":0},{"$f":"Questions!VUU4","v":0},{"$f":"Questions!VUV4","v":0},{"$f":"Questions!VUW4","v":0},{"$f":"Questions!VUX4","v":0},{"$f":"Questions!VUY4","v":0},{"$f":"Questions!VUZ4","v":0},{"$f":"Questions!VVA4","v":0},{"$f":"Questions!VVB4","v":0},{"$f":"Questions!VVC4","v":0},{"$f":"Questions!VVD4","v":0},{"$f":"Questions!VVE4","v":0},{"$f":"Questions!VVF4","v":0},{"$f":"Questions!VVG4","v":0},{"$f":"Questions!VVH4","v":0},{"$f":"Questions!VVI4","v":0},{"$f":"Questions!VVJ4","v":0},{"$f":"Questions!VVK4","v":0},{"$f":"Questions!VVL4","v":0},{"$f":"Questions!VVM4","v":0},{"$f":"Questions!VVN4","v":0},{"$f":"Questions!VVO4","v":0},{"$f":"Questions!VVP4","v":0},{"$f":"Questions!VVQ4","v":0},{"$f":"Questions!VVR4","v":0},{"$f":"Questions!VVS4","v":0},{"$f":"Questions!VVT4","v":0},{"$f":"Questions!VVU4","v":0},{"$f":"Questions!VVV4","v":0},{"$f":"Questions!VVW4","v":0},{"$f":"Questions!VVX4","v":0},{"$f":"Questions!VVY4","v":0},{"$f":"Questions!VVZ4","v":0},{"$f":"Questions!VWA4","v":0},{"$f":"Questions!VWB4","v":0},{"$f":"Questions!VWC4","v":0},{"$f":"Questions!VWD4","v":0},{"$f":"Questions!VWE4","v":0},{"$f":"Questions!VWF4","v":0},{"$f":"Questions!VWG4","v":0},{"$f":"Questions!VWH4","v":0},{"$f":"Questions!VWI4","v":0},{"$f":"Questions!VWJ4","v":0},{"$f":"Questions!VWK4","v":0},{"$f":"Questions!VWL4","v":0},{"$f":"Questions!VWM4","v":0},{"$f":"Questions!VWN4","v":0},{"$f":"Questions!VWO4","v":0},{"$f":"Questions!VWP4","v":0},{"$f":"Questions!VWQ4","v":0},{"$f":"Questions!VWR4","v":0},{"$f":"Questions!VWS4","v":0},{"$f":"Questions!VWT4","v":0},{"$f":"Questions!VWU4","v":0},{"$f":"Questions!VWV4","v":0},{"$f":"Questions!VWW4","v":0},{"$f":"Questions!VWX4","v":0},{"$f":"Questions!VWY4","v":0},{"$f":"Questions!VWZ4","v":0},{"$f":"Questions!VXA4","v":0},{"$f":"Questions!VXB4","v":0},{"$f":"Questions!VXC4","v":0},{"$f":"Questions!VXD4","v":0},{"$f":"Questions!VXE4","v":0},{"$f":"Questions!VXF4","v":0},{"$f":"Questions!VXG4","v":0},{"$f":"Questions!VXH4","v":0},{"$f":"Questions!VXI4","v":0},{"$f":"Questions!VXJ4","v":0},{"$f":"Questions!VXK4","v":0},{"$f":"Questions!VXL4","v":0},{"$f":"Questions!VXM4","v":0},{"$f":"Questions!VXN4","v":0},{"$f":"Questions!VXO4","v":0},{"$f":"Questions!VXP4","v":0},{"$f":"Questions!VXQ4","v":0},{"$f":"Questions!VXR4","v":0},{"$f":"Questions!VXS4","v":0},{"$f":"Questions!VXT4","v":0},{"$f":"Questions!VXU4","v":0},{"$f":"Questions!VXV4","v":0},{"$f":"Questions!VXW4","v":0},{"$f":"Questions!VXX4","v":0},{"$f":"Questions!VXY4","v":0},{"$f":"Questions!VXZ4","v":0},{"$f":"Questions!VYA4","v":0},{"$f":"Questions!VYB4","v":0},{"$f":"Questions!VYC4","v":0},{"$f":"Questions!VYD4","v":0},{"$f":"Questions!VYE4","v":0},{"$f":"Questions!VYF4","v":0},{"$f":"Questions!VYG4","v":0},{"$f":"Questions!VYH4","v":0},{"$f":"Questions!VYI4","v":0},{"$f":"Questions!VYJ4","v":0},{"$f":"Questions!VYK4","v":0},{"$f":"Questions!VYL4","v":0},{"$f":"Questions!VYM4","v":0},{"$f":"Questions!VYN4","v":0},{"$f":"Questions!VYO4","v":0},{"$f":"Questions!VYP4","v":0},{"$f":"Questions!VYQ4","v":0},{"$f":"Questions!VYR4","v":0},{"$f":"Questions!VYS4","v":0},{"$f":"Questions!VYT4","v":0},{"$f":"Questions!VYU4","v":0},{"$f":"Questions!VYV4","v":0},{"$f":"Questions!VYW4","v":0},{"$f":"Questions!VYX4","v":0},{"$f":"Questions!VYY4","v":0},{"$f":"Questions!VYZ4","v":0},{"$f":"Questions!VZA4","v":0},{"$f":"Questions!VZB4","v":0},{"$f":"Questions!VZC4","v":0},{"$f":"Questions!VZD4","v":0},{"$f":"Questions!VZE4","v":0},{"$f":"Questions!VZF4","v":0},{"$f":"Questions!VZG4","v":0},{"$f":"Questions!VZH4","v":0},{"$f":"Questions!VZI4","v":0},{"$f":"Questions!VZJ4","v":0},{"$f":"Questions!VZK4","v":0},{"$f":"Questions!VZL4","v":0},{"$f":"Questions!VZM4","v":0},{"$f":"Questions!VZN4","v":0},{"$f":"Questions!VZO4","v":0},{"$f":"Questions!VZP4","v":0},{"$f":"Questions!VZQ4","v":0},{"$f":"Questions!VZR4","v":0},{"$f":"Questions!VZS4","v":0},{"$f":"Questions!VZT4","v":0},{"$f":"Questions!VZU4","v":0},{"$f":"Questions!VZV4","v":0},{"$f":"Questions!VZW4","v":0},{"$f":"Questions!VZX4","v":0},{"$f":"Questions!VZY4","v":0},{"$f":"Questions!VZZ4","v":0},{"$f":"Questions!WAA4","v":0},{"$f":"Questions!WAB4","v":0},{"$f":"Questions!WAC4","v":0},{"$f":"Questions!WAD4","v":0},{"$f":"Questions!WAE4","v":0},{"$f":"Questions!WAF4","v":0},{"$f":"Questions!WAG4","v":0},{"$f":"Questions!WAH4","v":0},{"$f":"Questions!WAI4","v":0},{"$f":"Questions!WAJ4","v":0},{"$f":"Questions!WAK4","v":0},{"$f":"Questions!WAL4","v":0},{"$f":"Questions!WAM4","v":0},{"$f":"Questions!WAN4","v":0},{"$f":"Questions!WAO4","v":0},{"$f":"Questions!WAP4","v":0},{"$f":"Questions!WAQ4","v":0},{"$f":"Questions!WAR4","v":0},{"$f":"Questions!WAS4","v":0},{"$f":"Questions!WAT4","v":0},{"$f":"Questions!WAU4","v":0},{"$f":"Questions!WAV4","v":0},{"$f":"Questions!WAW4","v":0},{"$f":"Questions!WAX4","v":0},{"$f":"Questions!WAY4","v":0},{"$f":"Questions!WAZ4","v":0},{"$f":"Questions!WBA4","v":0},{"$f":"Questions!WBB4","v":0},{"$f":"Questions!WBC4","v":0},{"$f":"Questions!WBD4","v":0},{"$f":"Questions!WBE4","v":0},{"$f":"Questions!WBF4","v":0},{"$f":"Questions!WBG4","v":0},{"$f":"Questions!WBH4","v":0},{"$f":"Questions!WBI4","v":0},{"$f":"Questions!WBJ4","v":0},{"$f":"Questions!WBK4","v":0},{"$f":"Questions!WBL4","v":0},{"$f":"Questions!WBM4","v":0},{"$f":"Questions!WBN4","v":0},{"$f":"Questions!WBO4","v":0},{"$f":"Questions!WBP4","v":0},{"$f":"Questions!WBQ4","v":0},{"$f":"Questions!WBR4","v":0},{"$f":"Questions!WBS4","v":0},{"$f":"Questions!WBT4","v":0},{"$f":"Questions!WBU4","v":0},{"$f":"Questions!WBV4","v":0},{"$f":"Questions!WBW4","v":0},{"$f":"Questions!WBX4","v":0},{"$f":"Questions!WBY4","v":0},{"$f":"Questions!WBZ4","v":0},{"$f":"Questions!WCA4","v":0},{"$f":"Questions!WCB4","v":0},{"$f":"Questions!WCC4","v":0},{"$f":"Questions!WCD4","v":0},{"$f":"Questions!WCE4","v":0},{"$f":"Questions!WCF4","v":0},{"$f":"Questions!WCG4","v":0},{"$f":"Questions!WCH4","v":0},{"$f":"Questions!WCI4","v":0},{"$f":"Questions!WCJ4","v":0},{"$f":"Questions!WCK4","v":0},{"$f":"Questions!WCL4","v":0},{"$f":"Questions!WCM4","v":0},{"$f":"Questions!WCN4","v":0},{"$f":"Questions!WCO4","v":0},{"$f":"Questions!WCP4","v":0},{"$f":"Questions!WCQ4","v":0},{"$f":"Questions!WCR4","v":0},{"$f":"Questions!WCS4","v":0},{"$f":"Questions!WCT4","v":0},{"$f":"Questions!WCU4","v":0},{"$f":"Questions!WCV4","v":0},{"$f":"Questions!WCW4","v":0},{"$f":"Questions!WCX4","v":0},{"$f":"Questions!WCY4","v":0},{"$f":"Questions!WCZ4","v":0},{"$f":"Questions!WDA4","v":0},{"$f":"Questions!WDB4","v":0},{"$f":"Questions!WDC4","v":0},{"$f":"Questions!WDD4","v":0},{"$f":"Questions!WDE4","v":0},{"$f":"Questions!WDF4","v":0},{"$f":"Questions!WDG4","v":0},{"$f":"Questions!WDH4","v":0},{"$f":"Questions!WDI4","v":0},{"$f":"Questions!WDJ4","v":0},{"$f":"Questions!WDK4","v":0},{"$f":"Questions!WDL4","v":0},{"$f":"Questions!WDM4","v":0},{"$f":"Questions!WDN4","v":0},{"$f":"Questions!WDO4","v":0},{"$f":"Questions!WDP4","v":0},{"$f":"Questions!WDQ4","v":0},{"$f":"Questions!WDR4","v":0},{"$f":"Questions!WDS4","v":0},{"$f":"Questions!WDT4","v":0},{"$f":"Questions!WDU4","v":0},{"$f":"Questions!WDV4","v":0},{"$f":"Questions!WDW4","v":0},{"$f":"Questions!WDX4","v":0},{"$f":"Questions!WDY4","v":0},{"$f":"Questions!WDZ4","v":0},{"$f":"Questions!WEA4","v":0},{"$f":"Questions!WEB4","v":0},{"$f":"Questions!WEC4","v":0},{"$f":"Questions!WED4","v":0},{"$f":"Questions!WEE4","v":0},{"$f":"Questions!WEF4","v":0},{"$f":"Questions!WEG4","v":0},{"$f":"Questions!WEH4","v":0},{"$f":"Questions!WEI4","v":0},{"$f":"Questions!WEJ4","v":0},{"$f":"Questions!WEK4","v":0},{"$f":"Questions!WEL4","v":0},{"$f":"Questions!WEM4","v":0},{"$f":"Questions!WEN4","v":0},{"$f":"Questions!WEO4","v":0},{"$f":"Questions!WEP4","v":0},{"$f":"Questions!WEQ4","v":0},{"$f":"Questions!WER4","v":0},{"$f":"Questions!WES4","v":0},{"$f":"Questions!WET4","v":0},{"$f":"Questions!WEU4","v":0},{"$f":"Questions!WEV4","v":0},{"$f":"Questions!WEW4","v":0},{"$f":"Questions!WEX4","v":0},{"$f":"Questions!WEY4","v":0},{"$f":"Questions!WEZ4","v":0},{"$f":"Questions!WFA4","v":0},{"$f":"Questions!WFB4","v":0},{"$f":"Questions!WFC4","v":0},{"$f":"Questions!WFD4","v":0},{"$f":"Questions!WFE4","v":0},{"$f":"Questions!WFF4","v":0},{"$f":"Questions!WFG4","v":0},{"$f":"Questions!WFH4","v":0},{"$f":"Questions!WFI4","v":0},{"$f":"Questions!WFJ4","v":0},{"$f":"Questions!WFK4","v":0},{"$f":"Questions!WFL4","v":0},{"$f":"Questions!WFM4","v":0},{"$f":"Questions!WFN4","v":0},{"$f":"Questions!WFO4","v":0},{"$f":"Questions!WFP4","v":0},{"$f":"Questions!WFQ4","v":0},{"$f":"Questions!WFR4","v":0},{"$f":"Questions!WFS4","v":0},{"$f":"Questions!WFT4","v":0},{"$f":"Questions!WFU4","v":0},{"$f":"Questions!WFV4","v":0},{"$f":"Questions!WFW4","v":0},{"$f":"Questions!WFX4","v":0},{"$f":"Questions!WFY4","v":0},{"$f":"Questions!WFZ4","v":0},{"$f":"Questions!WGA4","v":0},{"$f":"Questions!WGB4","v":0},{"$f":"Questions!WGC4","v":0},{"$f":"Questions!WGD4","v":0},{"$f":"Questions!WGE4","v":0},{"$f":"Questions!WGF4","v":0},{"$f":"Questions!WGG4","v":0},{"$f":"Questions!WGH4","v":0},{"$f":"Questions!WGI4","v":0},{"$f":"Questions!WGJ4","v":0},{"$f":"Questions!WGK4","v":0},{"$f":"Questions!WGL4","v":0},{"$f":"Questions!WGM4","v":0},{"$f":"Questions!WGN4","v":0},{"$f":"Questions!WGO4","v":0},{"$f":"Questions!WGP4","v":0},{"$f":"Questions!WGQ4","v":0},{"$f":"Questions!WGR4","v":0},{"$f":"Questions!WGS4","v":0},{"$f":"Questions!WGT4","v":0},{"$f":"Questions!WGU4","v":0},{"$f":"Questions!WGV4","v":0},{"$f":"Questions!WGW4","v":0},{"$f":"Questions!WGX4","v":0},{"$f":"Questions!WGY4","v":0},{"$f":"Questions!WGZ4","v":0},{"$f":"Questions!WHA4","v":0},{"$f":"Questions!WHB4","v":0},{"$f":"Questions!WHC4","v":0},{"$f":"Questions!WHD4","v":0},{"$f":"Questions!WHE4","v":0},{"$f":"Questions!WHF4","v":0},{"$f":"Questions!WHG4","v":0},{"$f":"Questions!WHH4","v":0},{"$f":"Questions!WHI4","v":0},{"$f":"Questions!WHJ4","v":0},{"$f":"Questions!WHK4","v":0},{"$f":"Questions!WHL4","v":0},{"$f":"Questions!WHM4","v":0},{"$f":"Questions!WHN4","v":0},{"$f":"Questions!WHO4","v":0},{"$f":"Questions!WHP4","v":0},{"$f":"Questions!WHQ4","v":0},{"$f":"Questions!WHR4","v":0},{"$f":"Questions!WHS4","v":0},{"$f":"Questions!WHT4","v":0},{"$f":"Questions!WHU4","v":0},{"$f":"Questions!WHV4","v":0},{"$f":"Questions!WHW4","v":0},{"$f":"Questions!WHX4","v":0},{"$f":"Questions!WHY4","v":0},{"$f":"Questions!WHZ4","v":0},{"$f":"Questions!WIA4","v":0},{"$f":"Questions!WIB4","v":0},{"$f":"Questions!WIC4","v":0},{"$f":"Questions!WID4","v":0},{"$f":"Questions!WIE4","v":0},{"$f":"Questions!WIF4","v":0},{"$f":"Questions!WIG4","v":0},{"$f":"Questions!WIH4","v":0},{"$f":"Questions!WII4","v":0},{"$f":"Questions!WIJ4","v":0},{"$f":"Questions!WIK4","v":0},{"$f":"Questions!WIL4","v":0},{"$f":"Questions!WIM4","v":0},{"$f":"Questions!WIN4","v":0},{"$f":"Questions!WIO4","v":0},{"$f":"Questions!WIP4","v":0},{"$f":"Questions!WIQ4","v":0},{"$f":"Questions!WIR4","v":0},{"$f":"Questions!WIS4","v":0},{"$f":"Questions!WIT4","v":0},{"$f":"Questions!WIU4","v":0},{"$f":"Questions!WIV4","v":0},{"$f":"Questions!WIW4","v":0},{"$f":"Questions!WIX4","v":0},{"$f":"Questions!WIY4","v":0},{"$f":"Questions!WIZ4","v":0},{"$f":"Questions!WJA4","v":0},{"$f":"Questions!WJB4","v":0},{"$f":"Questions!WJC4","v":0},{"$f":"Questions!WJD4","v":0},{"$f":"Questions!WJE4","v":0},{"$f":"Questions!WJF4","v":0},{"$f":"Questions!WJG4","v":0},{"$f":"Questions!WJH4","v":0},{"$f":"Questions!WJI4","v":0},{"$f":"Questions!WJJ4","v":0},{"$f":"Questions!WJK4","v":0},{"$f":"Questions!WJL4","v":0},{"$f":"Questions!WJM4","v":0},{"$f":"Questions!WJN4","v":0},{"$f":"Questions!WJO4","v":0},{"$f":"Questions!WJP4","v":0},{"$f":"Questions!WJQ4","v":0},{"$f":"Questions!WJR4","v":0},{"$f":"Questions!WJS4","v":0},{"$f":"Questions!WJT4","v":0},{"$f":"Questions!WJU4","v":0},{"$f":"Questions!WJV4","v":0},{"$f":"Questions!WJW4","v":0},{"$f":"Questions!WJX4","v":0},{"$f":"Questions!WJY4","v":0},{"$f":"Questions!WJZ4","v":0},{"$f":"Questions!WKA4","v":0},{"$f":"Questions!WKB4","v":0},{"$f":"Questions!WKC4","v":0},{"$f":"Questions!WKD4","v":0},{"$f":"Questions!WKE4","v":0},{"$f":"Questions!WKF4","v":0},{"$f":"Questions!WKG4","v":0},{"$f":"Questions!WKH4","v":0},{"$f":"Questions!WKI4","v":0},{"$f":"Questions!WKJ4","v":0},{"$f":"Questions!WKK4","v":0},{"$f":"Questions!WKL4","v":0},{"$f":"Questions!WKM4","v":0},{"$f":"Questions!WKN4","v":0},{"$f":"Questions!WKO4","v":0},{"$f":"Questions!WKP4","v":0},{"$f":"Questions!WKQ4","v":0},{"$f":"Questions!WKR4","v":0},{"$f":"Questions!WKS4","v":0},{"$f":"Questions!WKT4","v":0},{"$f":"Questions!WKU4","v":0},{"$f":"Questions!WKV4","v":0},{"$f":"Questions!WKW4","v":0},{"$f":"Questions!WKX4","v":0},{"$f":"Questions!WKY4","v":0},{"$f":"Questions!WKZ4","v":0},{"$f":"Questions!WLA4","v":0},{"$f":"Questions!WLB4","v":0},{"$f":"Questions!WLC4","v":0},{"$f":"Questions!WLD4","v":0},{"$f":"Questions!WLE4","v":0},{"$f":"Questions!WLF4","v":0},{"$f":"Questions!WLG4","v":0},{"$f":"Questions!WLH4","v":0},{"$f":"Questions!WLI4","v":0},{"$f":"Questions!WLJ4","v":0},{"$f":"Questions!WLK4","v":0},{"$f":"Questions!WLL4","v":0},{"$f":"Questions!WLM4","v":0},{"$f":"Questions!WLN4","v":0},{"$f":"Questions!WLO4","v":0},{"$f":"Questions!WLP4","v":0},{"$f":"Questions!WLQ4","v":0},{"$f":"Questions!WLR4","v":0},{"$f":"Questions!WLS4","v":0},{"$f":"Questions!WLT4","v":0},{"$f":"Questions!WLU4","v":0},{"$f":"Questions!WLV4","v":0},{"$f":"Questions!WLW4","v":0},{"$f":"Questions!WLX4","v":0},{"$f":"Questions!WLY4","v":0},{"$f":"Questions!WLZ4","v":0},{"$f":"Questions!WMA4","v":0},{"$f":"Questions!WMB4","v":0},{"$f":"Questions!WMC4","v":0},{"$f":"Questions!WMD4","v":0},{"$f":"Questions!WME4","v":0},{"$f":"Questions!WMF4","v":0},{"$f":"Questions!WMG4","v":0},{"$f":"Questions!WMH4","v":0},{"$f":"Questions!WMI4","v":0},{"$f":"Questions!WMJ4","v":0},{"$f":"Questions!WMK4","v":0},{"$f":"Questions!WML4","v":0},{"$f":"Questions!WMM4","v":0},{"$f":"Questions!WMN4","v":0},{"$f":"Questions!WMO4","v":0},{"$f":"Questions!WMP4","v":0},{"$f":"Questions!WMQ4","v":0},{"$f":"Questions!WMR4","v":0},{"$f":"Questions!WMS4","v":0},{"$f":"Questions!WMT4","v":0},{"$f":"Questions!WMU4","v":0},{"$f":"Questions!WMV4","v":0},{"$f":"Questions!WMW4","v":0},{"$f":"Questions!WMX4","v":0},{"$f":"Questions!WMY4","v":0},{"$f":"Questions!WMZ4","v":0},{"$f":"Questions!WNA4","v":0},{"$f":"Questions!WNB4","v":0},{"$f":"Questions!WNC4","v":0},{"$f":"Questions!WND4","v":0},{"$f":"Questions!WNE4","v":0},{"$f":"Questions!WNF4","v":0},{"$f":"Questions!WNG4","v":0},{"$f":"Questions!WNH4","v":0},{"$f":"Questions!WNI4","v":0},{"$f":"Questions!WNJ4","v":0},{"$f":"Questions!WNK4","v":0},{"$f":"Questions!WNL4","v":0},{"$f":"Questions!WNM4","v":0},{"$f":"Questions!WNN4","v":0},{"$f":"Questions!WNO4","v":0},{"$f":"Questions!WNP4","v":0},{"$f":"Questions!WNQ4","v":0},{"$f":"Questions!WNR4","v":0},{"$f":"Questions!WNS4","v":0},{"$f":"Questions!WNT4","v":0},{"$f":"Questions!WNU4","v":0},{"$f":"Questions!WNV4","v":0},{"$f":"Questions!WNW4","v":0},{"$f":"Questions!WNX4","v":0},{"$f":"Questions!WNY4","v":0},{"$f":"Questions!WNZ4","v":0},{"$f":"Questions!WOA4","v":0},{"$f":"Questions!WOB4","v":0},{"$f":"Questions!WOC4","v":0},{"$f":"Questions!WOD4","v":0},{"$f":"Questions!WOE4","v":0},{"$f":"Questions!WOF4","v":0},{"$f":"Questions!WOG4","v":0},{"$f":"Questions!WOH4","v":0},{"$f":"Questions!WOI4","v":0},{"$f":"Questions!WOJ4","v":0},{"$f":"Questions!WOK4","v":0},{"$f":"Questions!WOL4","v":0},{"$f":"Questions!WOM4","v":0},{"$f":"Questions!WON4","v":0},{"$f":"Questions!WOO4","v":0},{"$f":"Questions!WOP4","v":0},{"$f":"Questions!WOQ4","v":0},{"$f":"Questions!WOR4","v":0},{"$f":"Questions!WOS4","v":0},{"$f":"Questions!WOT4","v":0},{"$f":"Questions!WOU4","v":0},{"$f":"Questions!WOV4","v":0},{"$f":"Questions!WOW4","v":0},{"$f":"Questions!WOX4","v":0},{"$f":"Questions!WOY4","v":0},{"$f":"Questions!WOZ4","v":0},{"$f":"Questions!WPA4","v":0},{"$f":"Questions!WPB4","v":0},{"$f":"Questions!WPC4","v":0},{"$f":"Questions!WPD4","v":0},{"$f":"Questions!WPE4","v":0},{"$f":"Questions!WPF4","v":0},{"$f":"Questions!WPG4","v":0},{"$f":"Questions!WPH4","v":0},{"$f":"Questions!WPI4","v":0},{"$f":"Questions!WPJ4","v":0},{"$f":"Questions!WPK4","v":0},{"$f":"Questions!WPL4","v":0},{"$f":"Questions!WPM4","v":0},{"$f":"Questions!WPN4","v":0},{"$f":"Questions!WPO4","v":0},{"$f":"Questions!WPP4","v":0},{"$f":"Questions!WPQ4","v":0},{"$f":"Questions!WPR4","v":0},{"$f":"Questions!WPS4","v":0},{"$f":"Questions!WPT4","v":0},{"$f":"Questions!WPU4","v":0},{"$f":"Questions!WPV4","v":0},{"$f":"Questions!WPW4","v":0},{"$f":"Questions!WPX4","v":0},{"$f":"Questions!WPY4","v":0},{"$f":"Questions!WPZ4","v":0},{"$f":"Questions!WQA4","v":0},{"$f":"Questions!WQB4","v":0},{"$f":"Questions!WQC4","v":0},{"$f":"Questions!WQD4","v":0},{"$f":"Questions!WQE4","v":0},{"$f":"Questions!WQF4","v":0},{"$f":"Questions!WQG4","v":0},{"$f":"Questions!WQH4","v":0},{"$f":"Questions!WQI4","v":0},{"$f":"Questions!WQJ4","v":0},{"$f":"Questions!WQK4","v":0},{"$f":"Questions!WQL4","v":0},{"$f":"Questions!WQM4","v":0},{"$f":"Questions!WQN4","v":0},{"$f":"Questions!WQO4","v":0},{"$f":"Questions!WQP4","v":0},{"$f":"Questions!WQQ4","v":0},{"$f":"Questions!WQR4","v":0},{"$f":"Questions!WQS4","v":0},{"$f":"Questions!WQT4","v":0},{"$f":"Questions!WQU4","v":0},{"$f":"Questions!WQV4","v":0},{"$f":"Questions!WQW4","v":0},{"$f":"Questions!WQX4","v":0},{"$f":"Questions!WQY4","v":0},{"$f":"Questions!WQZ4","v":0},{"$f":"Questions!WRA4","v":0},{"$f":"Questions!WRB4","v":0},{"$f":"Questions!WRC4","v":0},{"$f":"Questions!WRD4","v":0},{"$f":"Questions!WRE4","v":0},{"$f":"Questions!WRF4","v":0},{"$f":"Questions!WRG4","v":0},{"$f":"Questions!WRH4","v":0},{"$f":"Questions!WRI4","v":0},{"$f":"Questions!WRJ4","v":0},{"$f":"Questions!WRK4","v":0},{"$f":"Questions!WRL4","v":0},{"$f":"Questions!WRM4","v":0},{"$f":"Questions!WRN4","v":0},{"$f":"Questions!WRO4","v":0},{"$f":"Questions!WRP4","v":0},{"$f":"Questions!WRQ4","v":0},{"$f":"Questions!WRR4","v":0},{"$f":"Questions!WRS4","v":0},{"$f":"Questions!WRT4","v":0},{"$f":"Questions!WRU4","v":0},{"$f":"Questions!WRV4","v":0},{"$f":"Questions!WRW4","v":0},{"$f":"Questions!WRX4","v":0},{"$f":"Questions!WRY4","v":0},{"$f":"Questions!WRZ4","v":0},{"$f":"Questions!WSA4","v":0},{"$f":"Questions!WSB4","v":0},{"$f":"Questions!WSC4","v":0},{"$f":"Questions!WSD4","v":0},{"$f":"Questions!WSE4","v":0},{"$f":"Questions!WSF4","v":0},{"$f":"Questions!WSG4","v":0},{"$f":"Questions!WSH4","v":0},{"$f":"Questions!WSI4","v":0},{"$f":"Questions!WSJ4","v":0},{"$f":"Questions!WSK4","v":0},{"$f":"Questions!WSL4","v":0},{"$f":"Questions!WSM4","v":0},{"$f":"Questions!WSN4","v":0},{"$f":"Questions!WSO4","v":0},{"$f":"Questions!WSP4","v":0},{"$f":"Questions!WSQ4","v":0},{"$f":"Questions!WSR4","v":0},{"$f":"Questions!WSS4","v":0},{"$f":"Questions!WST4","v":0},{"$f":"Questions!WSU4","v":0},{"$f":"Questions!WSV4","v":0},{"$f":"Questions!WSW4","v":0},{"$f":"Questions!WSX4","v":0},{"$f":"Questions!WSY4","v":0},{"$f":"Questions!WSZ4","v":0},{"$f":"Questions!WTA4","v":0},{"$f":"Questions!WTB4","v":0},{"$f":"Questions!WTC4","v":0},{"$f":"Questions!WTD4","v":0},{"$f":"Questions!WTE4","v":0},{"$f":"Questions!WTF4","v":0},{"$f":"Questions!WTG4","v":0},{"$f":"Questions!WTH4","v":0},{"$f":"Questions!WTI4","v":0},{"$f":"Questions!WTJ4","v":0},{"$f":"Questions!WTK4","v":0},{"$f":"Questions!WTL4","v":0},{"$f":"Questions!WTM4","v":0},{"$f":"Questions!WTN4","v":0},{"$f":"Questions!WTO4","v":0},{"$f":"Questions!WTP4","v":0},{"$f":"Questions!WTQ4","v":0},{"$f":"Questions!WTR4","v":0},{"$f":"Questions!WTS4","v":0},{"$f":"Questions!WTT4","v":0},{"$f":"Questions!WTU4","v":0},{"$f":"Questions!WTV4","v":0},{"$f":"Questions!WTW4","v":0},{"$f":"Questions!WTX4","v":0},{"$f":"Questions!WTY4","v":0},{"$f":"Questions!WTZ4","v":0},{"$f":"Questions!WUA4","v":0},{"$f":"Questions!WUB4","v":0},{"$f":"Questions!WUC4","v":0},{"$f":"Questions!WUD4","v":0},{"$f":"Questions!WUE4","v":0},{"$f":"Questions!WUF4","v":0},{"$f":"Questions!WUG4","v":0},{"$f":"Questions!WUH4","v":0},{"$f":"Questions!WUI4","v":0},{"$f":"Questions!WUJ4","v":0},{"$f":"Questions!WUK4","v":0},{"$f":"Questions!WUL4","v":0},{"$f":"Questions!WUM4","v":0},{"$f":"Questions!WUN4","v":0},{"$f":"Questions!WUO4","v":0},{"$f":"Questions!WUP4","v":0},{"$f":"Questions!WUQ4","v":0},{"$f":"Questions!WUR4","v":0},{"$f":"Questions!WUS4","v":0},{"$f":"Questions!WUT4","v":0},{"$f":"Questions!WUU4","v":0},{"$f":"Questions!WUV4","v":0},{"$f":"Questions!WUW4","v":0},{"$f":"Questions!WUX4","v":0},{"$f":"Questions!WUY4","v":0},{"$f":"Questions!WUZ4","v":0},{"$f":"Questions!WVA4","v":0},{"$f":"Questions!WVB4","v":0},{"$f":"Questions!WVC4","v":0},{"$f":"Questions!WVD4","v":0},{"$f":"Questions!WVE4","v":0},{"$f":"Questions!WVF4","v":0},{"$f":"Questions!WVG4","v":0},{"$f":"Questions!WVH4","v":0},{"$f":"Questions!WVI4","v":0},{"$f":"Questions!WVJ4","v":0},{"$f":"Questions!WVK4","v":0},{"$f":"Questions!WVL4","v":0},{"$f":"Questions!WVM4","v":0},{"$f":"Questions!WVN4","v":0},{"$f":"Questions!WVO4","v":0},{"$f":"Questions!WVP4","v":0},{"$f":"Questions!WVQ4","v":0},{"$f":"Questions!WVR4","v":0},{"$f":"Questions!WVS4","v":0},{"$f":"Questions!WVT4","v":0},{"$f":"Questions!WVU4","v":0},{"$f":"Questions!WVV4","v":0},{"$f":"Questions!WVW4","v":0},{"$f":"Questions!WVX4","v":0},{"$f":"Questions!WVY4","v":0},{"$f":"Questions!WVZ4","v":0},{"$f":"Questions!WWA4","v":0},{"$f":"Questions!WWB4","v":0},{"$f":"Questions!WWC4","v":0},{"$f":"Questions!WWD4","v":0},{"$f":"Questions!WWE4","v":0},{"$f":"Questions!WWF4","v":0},{"$f":"Questions!WWG4","v":0},{"$f":"Questions!WWH4","v":0},{"$f":"Questions!WWI4","v":0},{"$f":"Questions!WWJ4","v":0},{"$f":"Questions!WWK4","v":0},{"$f":"Questions!WWL4","v":0},{"$f":"Questions!WWM4","v":0},{"$f":"Questions!WWN4","v":0},{"$f":"Questions!WWO4","v":0},{"$f":"Questions!WWP4","v":0},{"$f":"Questions!WWQ4","v":0},{"$f":"Questions!WWR4","v":0},{"$f":"Questions!WWS4","v":0},{"$f":"Questions!WWT4","v":0},{"$f":"Questions!WWU4","v":0},{"$f":"Questions!WWV4","v":0},{"$f":"Questions!WWW4","v":0},{"$f":"Questions!WWX4","v":0},{"$f":"Questions!WWY4","v":0},{"$f":"Questions!WWZ4","v":0},{"$f":"Questions!WXA4","v":0},{"$f":"Questions!WXB4","v":0},{"$f":"Questions!WXC4","v":0},{"$f":"Questions!WXD4","v":0},{"$f":"Questions!WXE4","v":0},{"$f":"Questions!WXF4","v":0},{"$f":"Questions!WXG4","v":0},{"$f":"Questions!WXH4","v":0},{"$f":"Questions!WXI4","v":0},{"$f":"Questions!WXJ4","v":0},{"$f":"Questions!WXK4","v":0},{"$f":"Questions!WXL4","v":0},{"$f":"Questions!WXM4","v":0},{"$f":"Questions!WXN4","v":0},{"$f":"Questions!WXO4","v":0},{"$f":"Questions!WXP4","v":0},{"$f":"Questions!WXQ4","v":0},{"$f":"Questions!WXR4","v":0},{"$f":"Questions!WXS4","v":0},{"$f":"Questions!WXT4","v":0},{"$f":"Questions!WXU4","v":0},{"$f":"Questions!WXV4","v":0},{"$f":"Questions!WXW4","v":0},{"$f":"Questions!WXX4","v":0},{"$f":"Questions!WXY4","v":0},{"$f":"Questions!WXZ4","v":0},{"$f":"Questions!WYA4","v":0},{"$f":"Questions!WYB4","v":0},{"$f":"Questions!WYC4","v":0},{"$f":"Questions!WYD4","v":0},{"$f":"Questions!WYE4","v":0},{"$f":"Questions!WYF4","v":0},{"$f":"Questions!WYG4","v":0},{"$f":"Questions!WYH4","v":0},{"$f":"Questions!WYI4","v":0},{"$f":"Questions!WYJ4","v":0},{"$f":"Questions!WYK4","v":0},{"$f":"Questions!WYL4","v":0},{"$f":"Questions!WYM4","v":0},{"$f":"Questions!WYN4","v":0},{"$f":"Questions!WYO4","v":0},{"$f":"Questions!WYP4","v":0},{"$f":"Questions!WYQ4","v":0},{"$f":"Questions!WYR4","v":0},{"$f":"Questions!WYS4","v":0},{"$f":"Questions!WYT4","v":0},{"$f":"Questions!WYU4","v":0},{"$f":"Questions!WYV4","v":0},{"$f":"Questions!WYW4","v":0},{"$f":"Questions!WYX4","v":0},{"$f":"Questions!WYY4","v":0},{"$f":"Questions!WYZ4","v":0},{"$f":"Questions!WZA4","v":0},{"$f":"Questions!WZB4","v":0},{"$f":"Questions!WZC4","v":0},{"$f":"Questions!WZD4","v":0},{"$f":"Questions!WZE4","v":0},{"$f":"Questions!WZF4","v":0},{"$f":"Questions!WZG4","v":0},{"$f":"Questions!WZH4","v":0},{"$f":"Questions!WZI4","v":0},{"$f":"Questions!WZJ4","v":0},{"$f":"Questions!WZK4","v":0},{"$f":"Questions!WZL4","v":0},{"$f":"Questions!WZM4","v":0},{"$f":"Questions!WZN4","v":0},{"$f":"Questions!WZO4","v":0},{"$f":"Questions!WZP4","v":0},{"$f":"Questions!WZQ4","v":0},{"$f":"Questions!WZR4","v":0},{"$f":"Questions!WZS4","v":0},{"$f":"Questions!WZT4","v":0},{"$f":"Questions!WZU4","v":0},{"$f":"Questions!WZV4","v":0},{"$f":"Questions!WZW4","v":0},{"$f":"Questions!WZX4","v":0},{"$f":"Questions!WZY4","v":0},{"$f":"Questions!WZZ4","v":0},{"$f":"Questions!XAA4","v":0},{"$f":"Questions!XAB4","v":0},{"$f":"Questions!XAC4","v":0},{"$f":"Questions!XAD4","v":0},{"$f":"Questions!XAE4","v":0},{"$f":"Questions!XAF4","v":0},{"$f":"Questions!XAG4","v":0},{"$f":"Questions!XAH4","v":0},{"$f":"Questions!XAI4","v":0},{"$f":"Questions!XAJ4","v":0},{"$f":"Questions!XAK4","v":0},{"$f":"Questions!XAL4","v":0},{"$f":"Questions!XAM4","v":0},{"$f":"Questions!XAN4","v":0},{"$f":"Questions!XAO4","v":0},{"$f":"Questions!XAP4","v":0},{"$f":"Questions!XAQ4","v":0},{"$f":"Questions!XAR4","v":0},{"$f":"Questions!XAS4","v":0},{"$f":"Questions!XAT4","v":0},{"$f":"Questions!XAU4","v":0},{"$f":"Questions!XAV4","v":0},{"$f":"Questions!XAW4","v":0},{"$f":"Questions!XAX4","v":0},{"$f":"Questions!XAY4","v":0},{"$f":"Questions!XAZ4","v":0},{"$f":"Questions!XBA4","v":0},{"$f":"Questions!XBB4","v":0},{"$f":"Questions!XBC4","v":0},{"$f":"Questions!XBD4","v":0},{"$f":"Questions!XBE4","v":0},{"$f":"Questions!XBF4","v":0},{"$f":"Questions!XBG4","v":0},{"$f":"Questions!XBH4","v":0},{"$f":"Questions!XBI4","v":0},{"$f":"Questions!XBJ4","v":0},{"$f":"Questions!XBK4","v":0},{"$f":"Questions!XBL4","v":0},{"$f":"Questions!XBM4","v":0},{"$f":"Questions!XBN4","v":0},{"$f":"Questions!XBO4","v":0},{"$f":"Questions!XBP4","v":0},{"$f":"Questions!XBQ4","v":0},{"$f":"Questions!XBR4","v":0},{"$f":"Questions!XBS4","v":0},{"$f":"Questions!XBT4","v":0},{"$f":"Questions!XBU4","v":0},{"$f":"Questions!XBV4","v":0},{"$f":"Questions!XBW4","v":0},{"$f":"Questions!XBX4","v":0},{"$f":"Questions!XBY4","v":0},{"$f":"Questions!XBZ4","v":0},{"$f":"Questions!XCA4","v":0},{"$f":"Questions!XCB4","v":0},{"$f":"Questions!XCC4","v":0},{"$f":"Questions!XCD4","v":0},{"$f":"Questions!XCE4","v":0},{"$f":"Questions!XCF4","v":0},{"$f":"Questions!XCG4","v":0},{"$f":"Questions!XCH4","v":0},{"$f":"Questions!XCI4","v":0},{"$f":"Questions!XCJ4","v":0},{"$f":"Questions!XCK4","v":0},{"$f":"Questions!XCL4","v":0},{"$f":"Questions!XCM4","v":0},{"$f":"Questions!XCN4","v":0},{"$f":"Questions!XCO4","v":0},{"$f":"Questions!XCP4","v":0},{"$f":"Questions!XCQ4","v":0},{"$f":"Questions!XCR4","v":0},{"$f":"Questions!XCS4","v":0},{"$f":"Questions!XCT4","v":0},{"$f":"Questions!XCU4","v":0},{"$f":"Questions!XCV4","v":0},{"$f":"Questions!XCW4","v":0},{"$f":"Questions!XCX4","v":0},{"$f":"Questions!XCY4","v":0},{"$f":"Questions!XCZ4","v":0},{"$f":"Questions!XDA4","v":0},{"$f":"Questions!XDB4","v":0},{"$f":"Questions!XDC4","v":0},{"$f":"Questions!XDD4","v":0},{"$f":"Questions!XDE4","v":0},{"$f":"Questions!XDF4","v":0},{"$f":"Questions!XDG4","v":0},{"$f":"Questions!XDH4","v":0},{"$f":"Questions!XDI4","v":0},{"$f":"Questions!XDJ4","v":0},{"$f":"Questions!XDK4","v":0},{"$f":"Questions!XDL4","v":0},{"$f":"Questions!XDM4","v":0},{"$f":"Questions!XDN4","v":0},{"$f":"Questions!XDO4","v":0},{"$f":"Questions!XDP4","v":0},{"$f":"Questions!XDQ4","v":0},{"$f":"Questions!XDR4","v":0},{"$f":"Questions!XDS4","v":0},{"$f":"Questions!XDT4","v":0},{"$f":"Questions!XDU4","v":0},{"$f":"Questions!XDV4","v":0},{"$f":"Questions!XDW4","v":0},{"$f":"Questions!XDX4","v":0},{"$f":"Questions!XDY4","v":0},{"$f":"Questions!XDZ4","v":0},{"$f":"Questions!XEA4","v":0},{"$f":"Questions!XEB4","v":0},{"$f":"Questions!XEC4","v":0},{"$f":"Questions!XED4","v":0},{"$f":"Questions!XEE4","v":0},{"$f":"Questions!XEF4","v":0},{"$f":"Questions!XEG4","v":0},{"$f":"Questions!XEH4","v":0},{"$f":"Questions!XEI4","v":0},{"$f":"Questions!XEJ4","v":0},{"$f":"Questions!XEK4","v":0},{"$f":"Questions!XEL4","v":0},{"$f":"Questions!XEM4","v":0},{"$f":"Questions!XEN4","v":0},{"$f":"Questions!XEO4","v":0},{"$f":"Questions!XEP4","v":0},{"$f":"Questions!XEQ4","v":0},{"$f":"Questions!XER4","v":0},{"$f":"Questions!XES4","v":0},{"$f":"Questions!XET4","v":0},{"$f":"Questions!XEU4","v":0},{"$f":"Questions!XEV4","v":0},{"$f":"Questions!XEW4","v":0},{"$f":"Questions!XEX4","v":0},{"$f":"Questions!XEY4","v":0},{"$f":"Questions!XEZ4","v":0},{"$f":"Questions!XFA4","v":0},{"$f":"Questions!XFB4","v":0},{"$f":"Questions!XFC4","v":0},{"$f":"Questions!XFD4","v":0},{"$f":"Questions!#REF!","v":{"$error":"#REF!"}},{"$f":"Questions!#REF!","v":{"$error":"#REF!"}},{"$f":"Questions!#REF!","v":{"$error":"#REF!"}},{"$f":"Questions!#REF!","v":{"$error":"#REF!"}},{"$f":"Questions!#REF!","v":{"$error":"#REF!"}},{"$f":"Questions!#REF!","v":{"$error":"#REF!"}},{"$f":"Questions!#REF!","v":{"$error":"#REF!"}},{"$f":"Questions!#REF!","v":{"$error":"#REF!"}},{"$f":"Questions!#REF!","v":{"$error":"#REF!"}},{"$f":"Questions!#REF!","v":{"$error":"#REF!"}},{"$f":"Questions!#REF!","v":{"$error":"#REF!"}},{"$f":"Questions!#REF!","v":{"$error":"#REF!"}},{"$f":"Questions!#REF!","v":{"$error":"#REF!"}}]
[null,{"$f":"Questions!O5","v":5},{"$f":"Questions!P5","v":"School-wide enablers"},{"$f":"Questions!Q5","v":"2. Give priority to financial education initiatives "},{"$f":"Questions!R5","v":"The centre has a vision and strategic planning including financial education which it will share with all stakeholders"},{"$f":"Questions!S5","v":"Updates to senior management and governing body (in relation to the development of financial education) "},{"$f":"Questions!T5","v":"Self-report survey question (teacher/school level)"},{"$f":"Questions!U5","v":"Q - How frequently has your school sent internal updates mentioning financial education development? A -  Never / Rarely  / Sometimes / Often "},{"$f":"Questions!W5","v":0},{"$f":"Questions!V5","v":"C - Pa mor aml mae eich ysgol wedi anfon diweddariadau mewnol yn crybwyll datblygu addysg ariannol? A - Byth / Yn anaml / Weithiau / Yn aml "}]
[null,{"$f":"Questions!O6","v":52},{"$f":"Questions!P6","v":"Championing and promoting financial education"},{"$f":"Questions!Q6","v":"Engaging with parents/carers and local stakeholders"},{"$f":"Questions!R6","v":"Teachers report on individual student achievement to their parents/carers, and class/year/school-level achievement to other stakeholders"},{"$f":"Questions!S6","v":"Teachers provide parents/carers with individual feedback on their children's financial capability gains and report on the financial capability gains of the year group as a whole "},{"$f":"Questions!T6","v":"Self-report survey question (teacher level) "},{"$f":"Questions!U6","v":"Q1. How frequently have you included pupils' financial capability learning in school reports going to parents/carers/year group? A - very frequently - frequently - rarely - never "},{"$f":"Questions!W6","v":0},{"$f":"Questions!V6","v":"C1. Pa mor aml ydych chi wedi cynnwys addysg gallu ariannol y disgyblion mewn adroddiadau ysgol sy’n mynd at rieni/gofalwyr/grŵp blwyddyn? A - yn aml iawn - yn aml - yn anaml - byth "}]
[null,{"$f":"Questions!O7","v":""},{"$f":"Questions!P7","v":""},{"$f":"Questions!Q7","v":""},{"$f":"Questions!R7","v":""},{"$f":"Questions!S7","v":""},{"$f":"Questions!T7","v":""},{"$f":"Questions!U7","v":""},{"$f":"Questions!W7","v":""},{"$f":"Questions!V7","v":""}]
[null,{"$f":"Questions!O8","v":""},{"$f":"Questions!P8","v":""},{"$f":"Questions!Q8","v":""},{"$f":"Questions!R8","v":""},{"$f":"Questions!S8","v":""},{"$f":"Questions!T8","v":""},{"$f":"Questions!U8","v":""},{"$f":"Questions!W8","v":""},{"$f":"Questions!V8","v":""}]
[null,{"$f":"Questions!O9","v":""},{"$f":"Questions!P9","v":""},{"$f":"Questions!Q9","v":""},{"$f":"Questions!R9","v":""},{"$f":"Questions!S9","v":""},{"$f":"Questions!T9","v":""},{"$f":"Questions!U9","v":""},{"$f":"Questions!W9","v":""},{"$f":"Questions!V9","v":""}]
[null,{"$f":"Questions!O10","v":""},{"$f":"Questions!P10","v":""},{"$f":"Questions!Q10","v":""},{"$f":"Questions!R10","v":""},{"$f":"Questions!S10","v":""},{"$f":"Questions!T10","v":""},{"$f":"Questions!U10","v":""},{"$f":"Questions!W10","v":""},{"$f":"Questions!V10","v":""}]
[null,{"$f":"Questions!O11","v":""},{"$f":"Questions!P11","v":""},{"$f":"Questions!Q11","v":""},{"$f":"Questions!R11","v":""},{"$f":"Questions!S11","v":""},{"$f":"Questions!T11","v":""},{"$f":"Questions!U11","v":""},{"$f":"Questions!W11","v":""},{"$f":"Questions!V11","v":""}]
[null,{"$f":"Questions!O12","v":""},{"$f":"Questions!P12","v":""},{"$f":"Questions!Q12","v":""},{"$f":"Questions!R12","v":""},{"$f":"Questions!S12","v":""},{"$f":"Questions!T12","v":""},{"$f":"Questions!U12","v":""},{"$f":"Questions!W12","v":""},{"$f":"Questions!V12","v":""}]
[null,{"$f":"Questions!O13","v":""},{"$f":"Questions!P13","v":""},{"$f":"Questions!Q13","v":""},{"$f":"Questions!R13","v":""},{"$f":"Questions!S13","v":""},{"$f":"Questions!T13","v":""},{"$f":"Questions!U13","v":""},{"$f":"Questions!W13","v":""},{"$f":"Questions!V13","v":""}]
[null,{"$f":"Questions!O14","v":""},{"$f":"Questions!P14","v":""},{"$f":"Questions!Q14","v":""},{"$f":"Questions!R14","v":""},{"$f":"Questions!S14","v":""},{"$f":"Questions!T14","v":""},{"$f":"Questions!U14","v":""},{"$f":"Questions!W14","v":""},{"$f":"Questions!V14","v":""}]
[null,{"$f":"Questions!O15","v":""},{"$f":"Questions!P15","v":""},{"$f":"Questions!Q15","v":""},{"$f":"Questions!R15","v":""},{"$f":"Questions!S15","v":""},{"$f":"Questions!T15","v":""},{"$f":"Questions!U15","v":""},{"$f":"Questions!W15","v":""},{"$f":"Questions!V15","v":""}]
[null,{"$f":"Questions!O16","v":""},{"$f":"Questions!P16","v":""},{"$f":"Questions!Q16","v":""},{"$f":"Questions!R16","v":""},{"$f":"Questions!S16","v":""},{"$f":"Questions!T16","v":""},{"$f":"Questions!U16","v":""},{"$f":"Questions!W16","v":""},{"$f":"Questions!V16","v":""}]
[null,{"$f":"Questions!O17","v":""},{"$f":"Questions!P17","v":""},{"$f":"Questions!Q17","v":""},{"$f":"Questions!R17","v":""},{"$f":"Questions!S17","v":""},{"$f":"Questions!T17","v":""},{"$f":"Questions!U17","v":""},{"$f":"Questions!W17","v":""},{"$f":"Questions!V17","v":""}]
[null,{"$f":"Questions!O18","v":""},{"$f":"Questions!P18","v":""},{"$f":"Questions!Q18","v":""},{"$f":"Questions!R18","v":""},{"$f":"Questions!S18","v":""},{"$f":"Questions!T18","v":""},{"$f":"Questions!U18","v":""},{"$f":"Questions!W18","v":""},{"$f":"Questions!V18","v":""}]
[null,{"$f":"Questions!O19","v":""},{"$f":"Questions!P19","v":""},{"$f":"Questions!Q19","v":""},{"$f":"Questions!R19","v":""},{"$f":"Questions!S19","v":""},{"$f":"Questions!T19","v":""},{"$f":"Questions!U19","v":""},{"$f":"Questions!W19","v":""},{"$f":"Questions!V19","v":""}]
[null,{"$f":"Questions!O20","v":""},{"$f":"Questions!P20","v":""},{"$f":"Questions!Q20","v":""},{"$f":"Questions!R20","v":""},{"$f":"Questions!S20","v":""},{"$f":"Questions!T20","v":""},{"$f":"Questions!U20","v":""},{"$f":"Questions!W20","v":""},{"$f":"Questions!V20","v":""}]
[null,{"$f":"Questions!O21","v":""},{"$f":"Questions!P21","v":""},{"$f":"Questions!Q21","v":""},{"$f":"Questions!R21","v":""},{"$f":"Questions!S21","v":""},{"$f":"Questions!T21","v":""},{"$f":"Questions!U21","v":""},{"$f":"Questions!W21","v":""},{"$f":"Questions!V21","v":""}]
[null,{"$f":"Questions!O22","v":""},{"$f":"Questions!P22","v":""},{"$f":"Questions!Q22","v":""},{"$f":"Questions!R22","v":""},{"$f":"Questions!S22","v":""},{"$f":"Questions!T22","v":""},{"$f":"Questions!U22","v":""},{"$f":"Questions!W22","v":""},{"$f":"Questions!V22","v":""}]
[null,{"$f":"Questions!O23","v":""},{"$f":"Questions!P23","v":""},{"$f":"Questions!Q23","v":""},{"$f":"Questions!R23","v":""},{"$f":"Questions!S23","v":""},{"$f":"Questions!T23","v":""},{"$f":"Questions!U23","v":""},{"$f":"Questions!W23","v":""},{"$f":"Questions!V23","v":""}]
[null,{"$f":"Questions!O24","v":""},{"$f":"Questions!P24","v":""},{"$f":"Questions!Q24","v":""},{"$f":"Questions!R24","v":""},{"$f":"Questions!S24","v":""},{"$f":"Questions!T24","v":""},{"$f":"Questions!U24","v":""},{"$f":"Questions!W24","v":""},{"$f":"Questions!V24","v":""}]
[null,{"$f":"Questions!O25","v":""},{"$f":"Questions!P25","v":""},{"$f":"Questions!Q25","v":""},{"$f":"Questions!R25","v":""},{"$f":"Questions!S25","v":""},{"$f":"Questions!T25","v":""},{"$f":"Questions!U25","v":""},{"$f":"Questions!W25","v":""},{"$f":"Questions!V25","v":""}]
[null,{"$f":"Questions!O26","v":""},{"$f":"Questions!P26","v":""},{"$f":"Questions!Q26","v":""},{"$f":"Questions!R26","v":""},{"$f":"Questions!S26","v":""},{"$f":"Questions!T26","v":""},{"$f":"Questions!U26","v":""},{"$f":"Questions!W26","v":""},{"$f":"Questions!V26","v":""}]
[null,{"$f":"Questions!O27","v":""},{"$f":"Questions!P27","v":""},{"$f":"Questions!Q27","v":""},{"$f":"Questions!R27","v":""},{"$f":"Questions!S27","v":""},{"$f":"Questions!T27","v":""},{"$f":"Questions!U27","v":""},{"$f":"Questions!W27","v":""},{"$f":"Questions!V27","v":""}]
[null,{"$f":"Questions!O28","v":""},{"$f":"Questions!P28","v":""},{"$f":"Questions!Q28","v":""},{"$f":"Questions!R28","v":""},{"$f":"Questions!S28","v":""},{"$f":"Questions!T28","v":""},{"$f":"Questions!U28","v":""},{"$f":"Questions!W28","v":""},{"$f":"Questions!V28","v":""}]
[null,{"$f":"Questions!O29","v":""},{"$f":"Questions!P29","v":""},{"$f":"Questions!Q29","v":""},{"$f":"Questions!R29","v":""},{"$f":"Questions!S29","v":""},{"$f":"Questions!T29","v":""},{"$f":"Questions!U29","v":""},{"$f":"Questions!W29","v":""},{"$f":"Questions!V29","v":""}]
[null,{"$f":"Questions!O30","v":""},{"$f":"Questions!P30","v":""},{"$f":"Questions!Q30","v":""},{"$f":"Questions!R30","v":""},{"$f":"Questions!S30","v":""},{"$f":"Questions!T30","v":""},{"$f":"Questions!U30","v":""},{"$f":"Questions!W30","v":""},{"$f":"Questions!V30","v":""}]
[null,{"$f":"Questions!O31","v":""},{"$f":"Questions!P31","v":""},{"$f":"Questions!Q31","v":""},{"$f":"Questions!R31","v":""},{"$f":"Questions!S31","v":""},{"$f":"Questions!T31","v":""},{"$f":"Questions!U31","v":""},{"$f":"Questions!W31","v":""},{"$f":"Questions!V31","v":""}]
[null,{"$f":"Questions!O32","v":""},{"$f":"Questions!P32","v":""},{"$f":"Questions!Q32","v":""},{"$f":"Questions!R32","v":""},{"$f":"Questions!S32","v":""},{"$f":"Questions!T32","v":""},{"$f":"Questions!U32","v":""},{"$f":"Questions!W32","v":""},{"$f":"Questions!V32","v":""}]
[null,{"$f":"Questions!O33","v":""},{"$f":"Questions!P33","v":""},{"$f":"Questions!Q33","v":""},{"$f":"Questions!R33","v":""},{"$f":"Questions!S33","v":""},{"$f":"Questions!T33","v":""},{"$f":"Questions!U33","v":""},{"$f":"Questions!W33","v":""},{"$f":"Questions!V33","v":""}]
[null,{"$f":"Questions!O34","v":""},{"$f":"Questions!P34","v":""},{"$f":"Questions!Q34","v":""},{"$f":"Questions!R34","v":""},{"$f":"Questions!S34","v":""},{"$f":"Questions!T34","v":""},{"$f":"Questions!U34","v":""},{"$f":"Questions!W34","v":""},{"$f":"Questions!V34","v":""}]
[null,{"$f":"Questions!O35","v":""},{"$f":"Questions!P35","v":""},{"$f":"Questions!Q35","v":""},{"$f":"Questions!R35","v":""},{"$f":"Questions!S35","v":""},{"$f":"Questions!T35","v":""},{"$f":"Questions!U35","v":""},{"$f":"Questions!W35","v":""},{"$f":"Questions!V35","v":""}]
[null,{"$f":"Questions!O36","v":""},{"$f":"Questions!P36","v":""},{"$f":"Questions!Q36","v":""},{"$f":"Questions!R36","v":""},{"$f":"Questions!S36","v":""},{"$f":"Questions!T36","v":""},{"$f":"Questions!U36","v":""},{"$f":"Questions!W36","v":""},{"$f":"Questions!V36","v":""}]
[null,{"$f":"Questions!O37","v":""},{"$f":"Questions!P37","v":""},{"$f":"Questions!Q37","v":""},{"$f":"Questions!R37","v":""},{"$f":"Questions!S37","v":""},{"$f":"Questions!T37","v":""},{"$f":"Questions!U37","v":""},{"$f":"Questions!W37","v":""},{"$f":"Questions!V37","v":""}]
[null,{"$f":"Questions!O38","v":""},{"$f":"Questions!P38","v":""},{"$f":"Questions!Q38","v":""},{"$f":"Questions!R38","v":""},{"$f":"Questions!S38","v":""},{"$f":"Questions!T38","v":""},{"$f":"Questions!U38","v":""},{"$f":"Questions!W38","v":""},{"$f":"Questions!V38","v":""}]
[null,{"$f":"Questions!O39","v":""},{"$f":"Questions!P39","v":""},{"$f":"Questions!Q39","v":""},{"$f":"Questions!R39","v":""},{"$f":"Questions!S39","v":""},{"$f":"Questions!T39","v":""},{"$f":"Questions!U39","v":""},{"$f":"Questions!W39","v":""},{"$f":"Questions!V39","v":""}]
[null,{"$f":"Questions!O40","v":""},{"$f":"Questions!P40","v":""},{"$f":"Questions!Q40","v":""},{"$f":"Questions!R40","v":""},{"$f":"Questions!S40","v":""},{"$f":"Questions!T40","v":""},{"$f":"Questions!U40","v":""},{"$f":"Questions!W40","v":""},{"$f":"Questions!V40","v":""}]
[null,{"$f":"Questions!O41","v":""},{"$f":"Questions!P41","v":""},{"$f":"Questions!Q41","v":""},{"$f":"Questions!R41","v":""},{"$f":"Questions!S41","v":""},{"$f":"Questions!T41","v":""},{"$f":"Questions!U41","v":""},{"$f":"Questions!W41","v":""},{"$f":"Questions!V41","v":""}]
[null,{"$f":"Questions!O42","v":""},{"$f":"Questions!P42","v":""},{"$f":"Questions!Q42","v":""},{"$f":"Questions!R42","v":""},{"$f":"Questions!S42","v":""},{"$f":"Questions!T42","v":""},{"$f":"Questions!U42","v":""},{"$f":"Questions!W42","v":""},{"$f":"Questions!V42","v":""}]
[null,{"$f":"Questions!O43","v":""},{"$f":"Questions!P43","v":""},{"$f":"Questions!Q43","v":""},{"$f":"Questions!R43","v":""},{"$f":"Questions!S43","v":""},{"$f":"Questions!T43","v":""},{"$f":"Questions!U43","v":""},{"$f":"Questions!W43","v":""},{"$f":"Questions!V43","v":""}]
[null,{"$f":"Questions!O44","v":""},{"$f":"Questions!P44","v":""},{"$f":"Questions!Q44","v":""},{"$f":"Questions!R44","v":""},{"$f":"Questions!S44","v":""},{"$f":"Questions!T44","v":""},{"$f":"Questions!U44","v":""},{"$f":"Questions!W44","v":""},{"$f":"Questions!V44","v":""}]
[null,{"$f":"Questions!O45","v":""},{"$f":"Questions!P45","v":""},{"$f":"Questions!Q45","v":""},{"$f":"Questions!R45","v":""},{"$f":"Questions!S45","v":""},{"$f":"Questions!T45","v":""},{"$f":"Questions!U45","v":""},{"$f":"Questions!W45","v":""},{"$f":"Questions!V45","v":""}]
[null,{"$f":"Questions!O46","v":""},{"$f":"Questions!P46","v":""},{"$f":"Questions!Q46","v":""},{"$f":"Questions!R46","v":""},{"$f":"Questions!S46","v":""},{"$f":"Questions!T46","v":""},{"$f":"Questions!U46","v":""},{"$f":"Questions!W46","v":""},{"$f":"Questions!V46","v":""}]
[null,{"$f":"Questions!O47","v":""},{"$f":"Questions!P47","v":""},{"$f":"Questions!Q47","v":""},{"$f":"Questions!R47","v":""},{"$f":"Questions!S47","v":""},{"$f":"Questions!T47","v":""},{"$f":"Questions!U47","v":""},{"$f":"Questions!W47","v":""},{"$f":"Questions!V47","v":""}]
[null,{"$f":"Questions!O48","v":""},{"$f":"Questions!P48","v":""},{"$f":"Questions!Q48","v":""},{"$f":"Questions!R48","v":""},{"$f":"Questions!S48","v":""},{"$f":"Questions!T48","v":""},{"$f":"Questions!U48","v":""},{"$f":"Questions!W48","v":""},{"$f":"Questions!V48","v":""}]
[null,{"$f":"Questions!O49","v":""},{"$f":"Questions!P49","v":""},{"$f":"Questions!Q49","v":""},{"$f":"Questions!R49","v":""},{"$f":"Questions!S49","v":""},{"$f":"Questions!T49","v":""},{"$f":"Questions!U49","v":""},{"$f":"Questions!W49","v":""},{"$f":"Questions!V49","v":""}]
[null,{"$f":"Questions!O50","v":""},{"$f":"Questions!P50","v":""},{"$f":"Questions!Q50","v":""},{"$f":"Questions!R50","v":""},{"$f":"Questions!S50","v":""},{"$f":"Questions!T50","v":""},{"$f":"Questions!U50","v":""},{"$f":"Questions!W50","v":""},{"$f":"Questions!V50","v":""}]
[null,{"$f":"Questions!O51","v":""},{"$f":"Questions!P51","v":""},{"$f":"Questions!Q51","v":""},{"$f":"Questions!R51","v":""},{"$f":"Questions!S51","v":""},{"$f":"Questions!T51","v":""},{"$f":"Questions!U51","v":""},{"$f":"Questions!W51","v":""},{"$f":"Questions!V51","v":""}]
[null,{"$f":"Questions!O52","v":""},{"$f":"Questions!P52","v":""},{"$f":"Questions!Q52","v":""},{"$f":"Questions!R52","v":""},{"$f":"Questions!S52","v":""},{"$f":"Questions!T52","v":""},{"$f":"Questions!U52","v":""},{"$f":"Questions!W52","v":""},{"$f":"Questions!V52","v":""}]
[null,{"$f":"Questions!O53","v":""},{"$f":"Questions!P53","v":""},{"$f":"Questions!Q53","v":""},{"$f":"Questions!R53","v":""},{"$f":"Questions!S53","v":""},{"$f":"Questions!T53","v":""},{"$f":"Questions!U53","v":""},{"$f":"Questions!W53","v":""},{"$f":"Questions!V53","v":""}]
[null,{"$f":"Questions!O54","v":""},{"$f":"Questions!P54","v":""},{"$f":"Questions!Q54","v":""},{"$f":"Questions!R54","v":""},{"$f":"Questions!S54","v":""},{"$f":"Questions!T54","v":""},{"$f":"Questions!U54","v":""},{"$f":"Questions!W54","v":""},{"$f":"Questions!V54","v":""}]